{"text_format":"1","workbook":"xlsx","n_sheets":9,"sheets":["Formulario DS-03","Formulario DS-04","Formulario DS-05","Instructivo DS-06","Tipos de activos","Formulario DS-07","Instructivo DS-08","Formulario DS-09","clasificación internacional"],"not_rendered":{"charts":0,"images":1,"macros":1,"external_links":0,"defined_names":24,"comments":5,"pivot_tables":0},"unopened":[],"bounds":{"document_bytes":16777216,"sheet_cells":100000,"rows_first":2000,"rows_last":500,"rows_between":2000,"halvings":0,"cell_chars":16384,"cell_head_chars":4096},"cells_cut":0,"cells_raw":0,"read":"whole","date_system":"1900"}

{"sheet":"Formulario DS-03","index":0,"n_rows":41,"n_cols":7,"rows_kept":41,"cut":false,"hidden":false,"merged":[[40,4,40,5],[40,1,40,3],[41,1,41,3],[41,4,41,5],[50,1,50,3],[50,4,50,5],[45,1,45,3],[45,4,45,5],[46,1,46,3],[46,4,46,5],[47,1,47,3],[47,4,47,5],[48,1,48,3],[48,4,48,5],[49,1,49,3],[49,4,49,5],[42,1,42,3],[42,4,42,5],[43,1,43,3],[43,4,43,5],[44,1,44,3],[44,4,44,5],[31,6,31,7],[37,6,37,7],[7,0,7,7],[8,0,8,7],[9,0,9,7],[10,0,10,7],[26,6,26,7],[36,1,36,4]]}
[]
[]
[]
[]
[]
[]
[]
["Anexo No.2"]
["Formulario DS-03"]
["Acuerdo No.4 de 2011"]
["(Del 27 de junio de 2011)"]
["Los campos con asterisco (*) son obligatorios.                 Versión 1.1"]
["A. Datos Generales"]
[null,"Identificación de la Casa de Valores*:"]
[null,"Nombre del Ejecutivo Principal*:",null,null,null,null,"Apellido:"]
[null,"Teléfono de Contacto*:"]
[null,"Periodo que Reporta*:"]
[null,null,"Fecha de Inicio de Operaciones*:"]
[null,null,"Cierre Fiscal*:"]
[]
[]
["B. Relación de Solvencia"]
[null,"Monto de Fondos de Capital reportado*",null,null,null,{"$f":"IFERROR('Formulario DS-05'!$E$54,0)","v":0},"(Arroja el valor contenido en el Anexo No.4)"]
[null,"Valor de Exposición al Riesgo de Crédito*",null,null,null,{"$f":"IFERROR(SUM('Formulario DS-07'!$N$17:$N$1048576),0)","v":0},"(Arroja el valor contenido en el Anexo No.6)"]
[null,"Valor de Exposición al Riesgo de Liquidación / Entrega*",null,null,null,{"$f":"IFERROR(SUM('Formulario DS-09'!$I$25:$I$1048576),0)","v":0},"(Arroja el valor contenido en el Anexo No.8)"]
[null,"Relación de Solvencia (%)*",null,null,null,{"$f":"IF(ISERROR(F23/(F24+((100/8)*F25))),0,F23/(F24+((100/8)*F25)))","v":0},"(Celda automática)"]
[null,"Cumple con el Nivel de Exigencia de Fondos de Capital",null,null,null,{"$f":"IF(F26>=8%,\"SI CUMPLE\",\"NO CUMPLE\")","v":"NO CUMPLE"},"(Celda automática y condicional)"]
[]
["C. Fondos de Capital"]
[null,"Monto de Fondos de Capital Reportado*",null,null,null,{"$f":"IFERROR('Formulario DS-05'!$E$54,0)","v":0},"(Arroja el valor contenido en el Anexo No.4)"]
[null,"Monto de Fondos de Capital Exigido*",null,null,null,{"$f":"350000+IFERROR('Formulario DS-05'!E60,0)","v":350000},"(Celda automática)"]
[null,"Cumple con el Nivel de Fondos de Capital Exigido",null,null,null,{"$f":"IF(F30>=F31,\"SI CUMPLE\",\"NO CUMPLE\")","v":"NO CUMPLE"},"(Celda automática y condicional)"]
[]
["D. Coeficiente de Liquidez"]
[null,"Total de Pasivos Exigibles menores a un (1) año*",null,null,null,null,"(Ingresar manualmente del DS-02.1)"]
[null,"Mínimo de Coeficiente de Liquidez requerido (30%)*",null,null,null,{"$f":"F35*0.3","v":0},"(Celda automática)"]
[null,"Total de Activos aptos para el cumplimiento del Coeficiente de Liquidez*",null,null,null,null,"(Ingresar manualmente del DS-02.1)"]
[null,"Cumple con el Coeficiente de Liquidez Exigido",null,null,null,{"$f":"IF(F37>F36,\"SI CUMPLE\",\"NO CUMPLE\")","v":"NO CUMPLE"},"(Celda automática y condicional)"]
[]
[null,"Nombres de las subsidiarias o afiliadas que consolida en este reporte: (en caso de que aplique)"]
[null,"Nombre",null,null,"Teléfono"]

{"sheet":"Formulario DS-04","index":1,"n_rows":38,"n_cols":7,"rows_kept":38,"cut":false,"hidden":false,"merged":[[37,0,37,3],[6,0,6,6],[11,0,11,6],[9,0,9,6],[7,0,7,6],[8,0,8,6]]}
[]
[]
[]
[]
[]
[]
["Anexo No.3"]
["Formulario DS-04"]
["Acuerdo No.4 de 2011"]
["(Del 27 de junio de 2011)"]
[]
["REPORTE DIARIO"]
[]
["Primera Semana:",null,"Día 1 (hábil)","Día 2 (hábil)","Día 3 (hábil)","Día 4 (hábil)","Día 5 (hábil)"]
["Relación de Solvencia"]
["Fondos de Capital"]
["Coefiente de Liquidez"]
[]
["Segunda Semana:",null,"Día 1 (hábil)","Día 2 (hábil)","Día 3 (hábil)","Día 4 (hábil)","Día 5 (hábil)"]
["Relación de Solvencia"]
["Fondos de Capital"]
["Coefiente de Liquidez"]
[]
["Tercera Semana:",null,"Día 1 (hábil)","Día 2 (hábil)","Día 3 (hábil)","Día 4  (hábil)","Día 5 (hábil)"]
["Relación de Solvencia"]
["Fondos de Capital"]
["Coefiente de Liquidez"]
[]
["Cuarta Semana:",null,"Día 1 (hábil)","Día 2 (hábil)","Día 3 (hábil)","Día 4  (hábil)","Día 5 (hábil)"]
["Relación de Solvencia"]
["Fondos de Capital"]
["Coefiente de Liquidez"]
[]
["(*) Quinta Semana:",null,"Día 1 (hábil)","Día 2 (hábil)","Día 3 (hábil)","Día 4  (hábil)","Día 5 (hábil)"]
["Relación de Solvencia"]
["Fondos de Capital"]
["Coefiente de Liquidez"]
["(*) Solo aplica para los meses que tienen 5 semanas."]

{"sheet":"Formulario DS-05","index":2,"n_rows":60,"n_cols":6,"rows_kept":60,"cut":false,"hidden":false,"merged":[[6,0,6,4],[7,0,7,4],[8,0,8,4],[11,1,11,3],[4,0,4,4],[5,0,5,4],[58,2,58,3],[31,2,31,3],[50,1,50,3],[32,2,32,3],[37,1,37,3],[33,2,33,3],[57,2,57,3]]}
[]
[]
[]
[]
["Anexo No.4"]
["Formulario DS-05"]
["Acuerdo No.4 de 2011"]
["(Del 27 de junio de 2011)"]
["CÁLCULO DEL FONDO DE CAPITAL"]
[]
["A. CAPITAL PRIMARIO"]
[null,"Descripción",null,null,"Monto"]
[null,"1.","Capital suscrito y pagado*",null,{"$f":"SUM(E14:E15)","v":0}]
[null,null,"     ","Acciones comunes emitidas y totalmente pagadas"]
[null,null,null,"Acciones preferidas no acumulativas, emitidas y totalmente pagadas"]
[null,"2.","Reserva de Capital"]
[null,"3.","Prima en Colocación de acciones"]
[null,"4.","Utilidades Netas Acumuladas "]
[null,"TOTAL DE CAPITAL PRIMARIO (Sumatoria de 1 a 4)",null,null,{"$f":"E13+E16+E17+E18","v":0}]
[]
["B. DEDUCCIONES AL CAPITAL PRIMARIO"]
[null,"Descripción",null,null,"Monto"]
[null,"1.","Pérdidas netas de ejercicios anteriores"]
[null,null,"Pérdidas netas del ejercicio corriente o en curso"]
[null,"2.","Valor de los Activos Intangibles "]
[null,null,"Valor de los activos diferidos"]
[null,"3.","Propiedades Planta y Equipo, neto de depreciación"]
[null,"4.","Inversiones de Capital obligatorias y permanentes",null,{"$f":"SUM(E29:E31)","v":0}]
[null,null,null,"Bolsa de Valores de Panamá, S.A."]
[null,null,null,"Central Latinoamericana de Valores, S.A."]
[null,null,null,"Otras (Detallar, en caso que aplique)",null,"Detalle:"]
[null,"5.","Financiaciones a Terceros cuyo objeto sea la adquisición de acciones, aportaciones y otros valores computables como Fondos de Capital de la Casa de Valores. "]
[null,"6.","El 100% del saldo de las cuentas por cobrar a socios o accionistas y compañías relacionadas"]
[null,"7.","El 100% de los Activos clasificados en la cuenta de Otros Activos"]
[null,"TOTAL DE DEDUCCIONES AL CAPITAL PRIMARIO (Sumatoria de 1 a 7)",null,null,{"$f":"E23+E24+E25+E26+E27+E28+E32+E33+E34","v":0}]
[]
["C","CAPITAL PRIMARIO NETO "]
[null,"Descripción",null,null,"Monto"]
[null,"1.","TOTAL DE CAPITAL PRIMARIO",null,{"$f":"+E19","v":0}]
[null,2,"TOTAL DE DEDUCCIONES",null,{"$f":"+E35","v":0}]
[null,"CAPITAL PRIMARIO NETO DE DEDUCCIONES ",null,null,{"$f":"+E39-E40","v":0}]
[]
["D. CAPITAL SECUNDARIO"]
[null,"Descripción (Deben cumplir con las condiciones establecidas en el Acuerdo)",null,null,"Monto"]
[null,1,"Financiaciones subordinadas recibidas"]
[null,2,"Financiaciones de duración indeterminada"]
[null,3,"Bonos obligatoriamente convertibles en acciones"]
[null,"TOTAL DE CAPITAL SECUNDARIO (Sumatoria de 1 a 3)",null,null,{"$f":"+SUM(E45:E47)","v":0}]
[]
["E. TOTAL DE FONDO DE CAPITAL"]
[null,"Descripción",null,null,"Monto"]
[null,"1.","TOTAL DE CAPITAL PRIMARIO NETO DE DEDUCCIONES",null,{"$f":"+E41","v":0}]
[null,"2.","TOTAL DE CAPITAL SECUNDARIO",null,{"$f":"+E48","v":0}]
[null,"TOTAL DE FONDO DE CAPITAL",null,null,{"$f":"+E52+E53","v":0}]
[]
["F. REQUERIMIENTO DE CAPITAL ADICIONAL"]
[null,"Descripción",null,null,"Monto"]
[null,"1.","SERVICIO DE CUSTODIA FISICA (DIRECTA) o TRAVÉS DE UN CUSTODIO AUTORIZADO CON DOMICILIO EN JURISDICCIÓN NO RECONOCIDA (0.10%)"]
[null,"2.","SERVICIO DE CUSTODIA  A TRAVÉS DE UN TERCERO AUTORIZADO CON DOMICILIO EN JURISDICCIÓN RECONOCIDA (YA SEA DE FORMA FISICA O NO FISICA) (0.04%)"]
[null,"REQUERIIENTO DE CAPITAL ADICIONAL",null,null,{"$f":"+E58+E59","v":0}]

{"sheet":"Instructivo DS-06","index":3,"n_rows":36,"n_cols":4,"rows_kept":36,"cut":false,"hidden":false,"merged":[[8,1,8,3],[9,1,9,3],[7,0,7,4],[6,0,6,4]]}
[]
[]
[]
[]
[]
[]
["Anexo No.5"]
["Instructivo DS-06"]
[null,"Acuerdo No. 4 de 2011"]
[null,"(Del 27 de junio de 2011)"]
[]
[null,"Tema:",null,"Instructivo para la Evaluación o Medición del Riesgo de Crédito de Casas de Valores"]
[null,"Objetivo:",null,"Facilitar el proceso de evaluación de la exposición al riesgo de crédito asumido por la Casa de Valores, mediante la clasificación y ponderación de sus activos dentro de una de las tres categorías existente."]
[null,"Observaciones Generales:"]
[null,"a)",null,"Las Casas de Valores deberán ponderar cada una de las cuentas de su balance (activos) de acuerdo con los estados financieros trimestrales que transmiten a la Comisión Nacional de Valores."]
[null,"b)",null,"Los activos se ponderarán por su valor en libros (reportados en los estados financieros), netos de sus respectivas provisiones."]
[null,"c)",null,"No se deben ponderar aquellos activos que han sido deducidos en el cálculo de los fondos de capital (deducciones al capital primario), tales como: activos intangibles, activos diferidos, propiedad, planta y equipo, inversiones permanentes y obligatorias para ser miembro de la BVP y Latinclear, cuentas por cobrar a partes relacionadas (socios o accionistas) y la cuenta de otros activos."]
[null,"d)",null,"Los valores o cifras deberán reportarse en US$ dólares."]
[]
[null,"Columnas:"]
[null,"Columna 01:",null,"Debe reportarse el tipo o nombre del activo en cada una de las categorías.  Pueden agregarse más líneas o renglones, en caso de necesitarse."]
[null,"Columna 02:",null,"Debe reportarse el nombre de la contraparte. En el caso de depósitos a la vista o a plazo, deberá indicarse el nombre del Banco."]
[null,"Columna 03:",null,"Debe anotarse el nombre de la calificadora de riesgo que califica el instrumento financiero"]
[null,"Columna 04:",null,"Debe reportarse la calificación otorgada a la contraparte. (d)"]
[null,"Columna 05:",null,"Debe reportarse el monto en dólares del valor en libros del respectivo activo."]
[null,"Columna 06:",null,"Debe reportarse el monto en dólares de la provisión realizada sobre dicho activo / operación."]
[null,"Columna 07:",null,"Arroja la diferencia del Valor del Activo Bruto (Columna 05) menos la Provisión (Columna 06)."]
[null,"Columna 08:",null,"Debe reportarse el factor o porcentaje (%) de ponderación del activo. Para los activos en la Categoría I la ponderación será del 0%, la Categoría II del 20% y para la Categoría III depende del plazo (corto o largo) y la calificación otorgada."]
[null,"Columna 09:",null,"Multiplica el monto de la Columna 07 (Valor Neto) por el factor o porcentaje de ponderación."]
[]
[null,"Notas de Importancia:"]
[null,"a)",null,"Se debe verificar que las Columnas 05, 06, 07 y 09 esten sub-totalizadas."]
[null,"b)",null,"Se debe verficar que al final se reporte el Valor Total de la Exposición al Riesgo Crediticio, lo cual corresponde a la sumatoria de las cuatro categorías. Dicho resultado debe utilizarse para el cálculo de la Relación de Solvencia, establecido en el artículo 5 del presente Acuerdo."]
[null,"c)",null,"El formulario debe estar firmado por el Ejecutivo Principal o en su ausencia por el Oficial de Cumplimiento de la Casa de Valores."]
[null,"d)",null,"Tomar en cuenta que se obliga el reporte de calificación de riesgo  a los activos siguientes: CATEGORIA 1  los activos registrados  en el punto 1.4 del Articulo 9 del Texto Único del acuerdo 4-2011  y en la CATEGORIA 2 los activos  registrados en el punto 2.2 del Articulo 9 del Texto Único del acuerdo 4-2011  "]
[null,null,null,"La CATEGORIA 3 y CATEGORIA 4 no se obliga el reporte de las calificaciones de riesgo y queda a discreción del regulado el registro de la calificación  de riesgo del respectivo activo."]

{"sheet":"Tipos de activos","index":4,"n_rows":6,"n_cols":7,"rows_kept":6,"cut":false,"hidden":true,"merged":[]}
["Categoria_1","Categoria_2","Categoria_3","Categoria_4",null,"Tipos de Activos","Ponderacion"]
["Dinero en efectivo o fondos disponibles mantenidos en caja","Depositos a plazo fijo en establecimientos bancarios con licencia para operar en la Rep. de Panama.","Bonos, papeles comerciales, valores comerciales o cualquier otro instrumento de deuda","Todos los demas activos no contemplados en las categorias anteriores y no deducidos en el computo de fondos de capital.",null,"Categoria_I",0]
["Depositos a la vista en bancos con licencia para operar en la Rep. de Panama","Depositos a la vista y a plazo fijo en bancos o instituciones financieras con licencia para operar en jurisdicciones extranjeras","Acciones comunes y/o preferidas de emisores que se negocien en alguna entidad registrada",null,null,"Categoria_II",0.2]
["Inversiones en valores emitidos o garantizados por el Estado de la Rep. de Panama.","Depositos en cuentas de “money market”","Cuotas de participacion de sociedades de inversion",null,null,"Categoria_III",0.5]
["Inversiones en valores emitidos por Estados y bancos centrales extranjeros.","Inversiones en valores emitidos por entidades publicas de la Rep. de Panama.",null,null,null,"Categoria_IV",1]
[null,"Operaciones de reporto y creditos garantizados incondicionalmente con titulos emitidos por la Rep. de Panama."]

{"sheet":"Formulario DS-07","index":5,"n_rows":13988,"n_cols":14,"rows_kept":4500,"cut":true,"hidden":false,"merged":[[14,0,15,0],[14,1,14,4],[5,0,5,13],[8,0,8,13],[9,0,9,13],[6,0,6,13],[7,0,7,13]],"bounds":{"rows_first":2000,"rows_last":500,"rows_between":2000,"halvings":0}}
[]
[]
[]
[]
[]
[]
["Anexo No.6"]
["Formulario DS-07"]
["Acuerdo No. 4 de 2011"]
["(Del 27 de junio de 2011)"]
[]
[]
[]
["CATEGORÍA I - ACTIVOS DE MÁXIMA SEGURIDAD,  CATEGORÍA II - ACTIVOS DE ALTA SEGURIDAD,  CATEGORÍA III- ACTIVOS DE MEDIA SEGURIDAD, CATEGORÍA IV - OTROS ACTIVOS DE RIESGO"]
["Categoría*","COLUMNA 01",null,null,null,"COLUMNA 02","COLUMNA 03","COLUMNA 04","COLUMNA 05","COLUMNA 06","COLUMNA 07","COLUMNA 08","COLUMNA 09","COLUMNA 10"]
[null,"Tipo de Activo *","Plazo*","Cantidad*","Precio*","Contraparte (Emisor)","Nombre de la Calificadora*","Calificación Otorgada*","Valor del Activo - Bruto                       (En US$)","Provisión (Acumulada)","Valor del Activo Neto (En US$)*","Factor de Ponderación*","Detalle Factor de Ponderación","Valor de la Exposición*"]
[null,null,null,null,null,null,null,null,null,null,{"$f":"+I17-J17","v":0},0,null,{"$f":"+K17*L17","v":0}]
[null,null,null,null,null,null,null,null,null,null,0,0,null,0]
[null,null,null,null,null,null,null,null,null,null,0,0,null,0]
[null,null,null,null,null,null,null,null,null,null,0,0.2,null,{"$f":"+K20*L20","v":0}]
[null,null,null,null,null,null,null,null,null,null,0,1,null,0]
[null,null,null,null,null,null,null,null,null,null,0,1,null,0]
[null,null,null,null,null,null,null,null,null,null,0,1,null,0]
[null,null,null,null,null,null,null,null,null,null,0,1,null,0]
[null,null,null,null,null,null,null,null,null,null,0,0.2,null,0]
[null,null,null,null,null,null,null,null,null,null,{"$f":"+I26-J26","v":0},{"$f":"IFERROR(VLOOKUP(A26,'Tipos de activos'!$F$2:$G$5,2,0),0)","v":0},null,{"$f":"+K26*L26","v":0}]
[null,null,null,null,null,null,null,null,null,null,0,{"$f":"IFERROR(VLOOKUP(A27,'Tipos de activos'!$F$2:$G$5,2,0),0)","v":0},null,0]
[null,null,null,null,null,null,null,null,null,null,0,{"$f":"IFERROR(VLOOKUP(A28,'Tipos de activos'!$F$2:$G$5,2,0),0)","v":0},null,0]
[null,null,null,null,null,null,null,null,null,null,0,{"$f":"IFERROR(VLOOKUP(A29,'Tipos de activos'!$F$2:$G$5,2,0),0)","v":0},null,0]
[null,null,null,null,null,null,null,null,null,null,0,{"$f":"IFERROR(VLOOKUP(A30,'Tipos de activos'!$F$2:$G$5,2,0),0)","v":0},null,0]
[null,null,null,null,null,null,null,null,null,null,0,{"$f":"IFERROR(VLOOKUP(A31,'Tipos de activos'!$F$2:$G$5,2,0),0)","v":0},null,0]
[null,null,null,null,null,null,null,null,null,null,0,{"$f":"IFERROR(VLOOKUP(A32,'Tipos de activos'!$F$2:$G$5,2,0),0)","v":0},null,0]
[null,null,null,null,null,null,null,null,null,null,{"$f":"+I33-J33","v":0},{"$f":"IFERROR(VLOOKUP(A33,'Tipos de activos'!$F$2:$G$5,2,0),0)","v":0},null,{"$f":"+K33*L33","v":0}]
[null,null,null,null,null,null,null,null,null,null,0,{"$f":"IFERROR(VLOOKUP(A34,'Tipos de activos'!$F$2:$G$5,2,0),0)","v":0},null,{"$f":"+K34*L34","v":0}]
[null,null,null,null,null,null,null,null,null,null,0,{"$f":"IFERROR(VLOOKUP(A35,'Tipos de activos'!$F$2:$G$5,2,0),0)","v":0},null,0]
[null,null,null,null,null,null,null,null,null,null,0,{"$f":"IFERROR(VLOOKUP(A36,'Tipos de activos'!$F$2:$G$5,2,0),0)","v":0},null,0]
[null,null,null,null,null,null,null,null,null,null,0,{"$f":"IFERROR(VLOOKUP(A37,'Tipos de activos'!$F$2:$G$5,2,0),0)","v":0},null,0]
[null,null,null,null,null,null,null,null,null,null,0,{"$f":"IFERROR(VLOOKUP(A38,'Tipos de activos'!$F$2:$G$5,2,0),0)","v":0},null,0]
[null,null,null,null,null,null,null,null,null,null,0,{"$f":"IFERROR(VLOOKUP(A39,'Tipos de activos'!$F$2:$G$5,2,0),0)","v":0},null,0]
[null,null,null,null,null,null,null,null,null,null,0,{"$f":"IFERROR(VLOOKUP(A40,'Tipos de activos'!$F$2:$G$5,2,0),0)","v":0},null,0]
[null,null,null,null,null,null,null,null,null,null,0,{"$f":"IFERROR(VLOOKUP(A41,'Tipos de activos'!$F$2:$G$5,2,0),0)","v":0},null,0]
[null,null,null,null,null,null,null,null,null,null,0,{"$f":"IFERROR(VLOOKUP(A42,'Tipos de activos'!$F$2:$G$5,2,0),0)","v":0},null,0]
[null,null,null,null,null,null,null,null,null,null,0,{"$f":"IFERROR(VLOOKUP(A43,'Tipos de activos'!$F$2:$G$5,2,0),0)","v":0},null,0]
[null,null,null,null,null,null,null,null,null,null,0,{"$f":"IFERROR(VLOOKUP(A44,'Tipos de activos'!$F$2:$G$5,2,0),0)","v":0},null,0]
[null,null,null,null,null,null,null,null,null,null,0,{"$f":"IFERROR(VLOOKUP(A45,'Tipos de activos'!$F$2:$G$5,2,0),0)","v":0},null,0]
[null,null,null,null,null,null,null,null,null,null,0,{"$f":"IFERROR(VLOOKUP(A46,'Tipos de activos'!$F$2:$G$5,2,0),0)","v":0},null,0]
[null,null,null,null,null,null,null,null,null,null,0,{"$f":"IFERROR(VLOOKUP(A47,'Tipos de activos'!$F$2:$G$5,2,0),0)","v":0},null,0]
[null,null,null,null,null,null,null,null,null,null,0,{"$f":"IFERROR(VLOOKUP(A48,'Tipos de activos'!$F$2:$G$5,2,0),0)","v":0},null,0]
[null,null,null,null,null,null,null,null,null,null,0,{"$f":"IFERROR(VLOOKUP(A49,'Tipos de activos'!$F$2:$G$5,2,0),0)","v":0},null,0]
[null,null,null,null,null,null,null,null,null,null,0,{"$f":"IFERROR(VLOOKUP(A50,'Tipos de activos'!$F$2:$G$5,2,0),0)","v":0},null,0]
[null,null,null,null,null,null,null,null,null,null,0,{"$f":"IFERROR(VLOOKUP(A51,'Tipos de activos'!$F$2:$G$5,2,0),0)","v":0},null,0]
[null,null,null,null,null,null,null,null,null,null,0,{"$f":"IFERROR(VLOOKUP(A52,'Tipos de activos'!$F$2:$G$5,2,0),0)","v":0},null,0]
[null,null,null,null,null,null,null,null,null,null,0,{"$f":"IFERROR(VLOOKUP(A53,'Tipos de activos'!$F$2:$G$5,2,0),0)","v":0},null,0]
[null,null,null,null,null,null,null,null,null,null,0,{"$f":"IFERROR(VLOOKUP(A54,'Tipos de activos'!$F$2:$G$5,2,0),0)","v":0},null,0]
[null,null,null,null,null,null,null,null,null,null,0,{"$f":"IFERROR(VLOOKUP(A55,'Tipos de activos'!$F$2:$G$5,2,0),0)","v":0},null,0]
[null,null,null,null,null,null,null,null,null,null,0,{"$f":"IFERROR(VLOOKUP(A56,'Tipos de activos'!$F$2:$G$5,2,0),0)","v":0},null,0]
[null,null,null,null,null,null,null,null,null,null,0,{"$f":"IFERROR(VLOOKUP(A57,'Tipos de activos'!$F$2:$G$5,2,0),0)","v":0},null,0]
[null,null,null,null,null,null,null,null,null,null,0,{"$f":"IFERROR(VLOOKUP(A58,'Tipos de activos'!$F$2:$G$5,2,0),0)","v":0},null,0]
[null,null,null,null,null,null,null,null,null,null,0,{"$f":"IFERROR(VLOOKUP(A59,'Tipos de activos'!$F$2:$G$5,2,0),0)","v":0},null,0]
[null,null,null,null,null,null,null,null,null,null,0,{"$f":"IFERROR(VLOOKUP(A60,'Tipos de activos'!$F$2:$G$5,2,0),0)","v":0},null,0]
[null,null,null,null,null,null,null,null,null,null,0,{"$f":"IFERROR(VLOOKUP(A61,'Tipos de activos'!$F$2:$G$5,2,0),0)","v":0},null,0]
[null,null,null,null,null,null,null,null,null,null,0,{"$f":"IFERROR(VLOOKUP(A62,'Tipos de activos'!$F$2:$G$5,2,0),0)","v":0},null,0]
[null,null,null,null,null,null,null,null,null,null,0,{"$f":"IFERROR(VLOOKUP(A63,'Tipos de activos'!$F$2:$G$5,2,0),0)","v":0},null,0]
[null,null,null,null,null,null,null,null,null,null,0,{"$f":"IFERROR(VLOOKUP(A64,'Tipos de activos'!$F$2:$G$5,2,0),0)","v":0},null,0]
[null,null,null,null,null,null,null,null,null,null,0,{"$f":"IFERROR(VLOOKUP(A65,'Tipos de activos'!$F$2:$G$5,2,0),0)","v":0},null,0]
[null,null,null,null,null,null,null,null,null,null,0,{"$f":"IFERROR(VLOOKUP(A66,'Tipos de activos'!$F$2:$G$5,2,0),0)","v":0},null,0]
[null,null,null,null,null,null,null,null,null,null,0,{"$f":"IFERROR(VLOOKUP(A67,'Tipos de activos'!$F$2:$G$5,2,0),0)","v":0},null,0]
[null,null,null,null,null,null,null,null,null,null,0,{"$f":"IFERROR(VLOOKUP(A68,'Tipos de activos'!$F$2:$G$5,2,0),0)","v":0},null,0]
[null,null,null,null,null,null,null,null,null,null,0,{"$f":"IFERROR(VLOOKUP(A69,'Tipos de activos'!$F$2:$G$5,2,0),0)","v":0},null,0]
[null,null,null,null,null,null,null,null,null,null,0,{"$f":"IFERROR(VLOOKUP(A70,'Tipos de activos'!$F$2:$G$5,2,0),0)","v":0},null,0]
[null,null,null,null,null,null,null,null,null,null,0,{"$f":"IFERROR(VLOOKUP(A71,'Tipos de activos'!$F$2:$G$5,2,0),0)","v":0},null,0]
[null,null,null,null,null,null,null,null,null,null,0,{"$f":"IFERROR(VLOOKUP(A72,'Tipos de activos'!$F$2:$G$5,2,0),0)","v":0},null,0]
[null,null,null,null,null,null,null,null,null,null,0,{"$f":"IFERROR(VLOOKUP(A73,'Tipos de activos'!$F$2:$G$5,2,0),0)","v":0},null,0]
[null,null,null,null,null,null,null,null,null,null,0,{"$f":"IFERROR(VLOOKUP(A74,'Tipos de activos'!$F$2:$G$5,2,0),0)","v":0},null,0]
[null,null,null,null,null,null,null,null,null,null,0,{"$f":"IFERROR(VLOOKUP(A75,'Tipos de activos'!$F$2:$G$5,2,0),0)","v":0},null,0]
[null,null,null,null,null,null,null,null,null,null,0,{"$f":"IFERROR(VLOOKUP(A76,'Tipos de activos'!$F$2:$G$5,2,0),0)","v":0},null,0]
[null,null,null,null,null,null,null,null,null,null,0,{"$f":"IFERROR(VLOOKUP(A77,'Tipos de activos'!$F$2:$G$5,2,0),0)","v":0},null,0]
[null,null,null,null,null,null,null,null,null,null,0,{"$f":"IFERROR(VLOOKUP(A78,'Tipos de activos'!$F$2:$G$5,2,0),0)","v":0},null,0]
[null,null,null,null,null,null,null,null,null,null,0,{"$f":"IFERROR(VLOOKUP(A79,'Tipos de activos'!$F$2:$G$5,2,0),0)","v":0},null,0]
[null,null,null,null,null,null,null,null,null,null,0,{"$f":"IFERROR(VLOOKUP(A80,'Tipos de activos'!$F$2:$G$5,2,0),0)","v":0},null,0]
[null,null,null,null,null,null,null,null,null,null,0,{"$f":"IFERROR(VLOOKUP(A81,'Tipos de activos'!$F$2:$G$5,2,0),0)","v":0},null,{"$f":"+K81*L81","v":0}]
[null,null,null,null,null,null,null,null,null,null,0,{"$f":"IFERROR(VLOOKUP(A82,'Tipos de activos'!$F$2:$G$5,2,0),0)","v":0},null,0]
[null,null,null,null,null,null,null,null,null,null,0,{"$f":"IFERROR(VLOOKUP(A83,'Tipos de activos'!$F$2:$G$5,2,0),0)","v":0},null,0]
[null,null,null,null,null,null,null,null,null,null,0,{"$f":"IFERROR(VLOOKUP(A84,'Tipos de activos'!$F$2:$G$5,2,0),0)","v":0},null,0]
[null,null,null,null,null,null,null,null,null,null,0,{"$f":"IFERROR(VLOOKUP(A85,'Tipos de activos'!$F$2:$G$5,2,0),0)","v":0},null,0]
[null,null,null,null,null,null,null,null,null,null,0,{"$f":"IFERROR(VLOOKUP(A86,'Tipos de activos'!$F$2:$G$5,2,0),0)","v":0},null,0]
[null,null,null,null,null,null,null,null,null,null,0,{"$f":"IFERROR(VLOOKUP(A87,'Tipos de activos'!$F$2:$G$5,2,0),0)","v":0},null,0]
[null,null,null,null,null,null,null,null,null,null,0,{"$f":"IFERROR(VLOOKUP(A88,'Tipos de activos'!$F$2:$G$5,2,0),0)","v":0},null,0]
[null,null,null,null,null,null,null,null,null,null,{"$f":"+I89-J89","v":0},{"$f":"IFERROR(VLOOKUP(A89,'Tipos de activos'!$F$2:$G$5,2,0),0)","v":0},null,0]
[null,null,null,null,null,null,null,null,null,null,0,{"$f":"IFERROR(VLOOKUP(A90,'Tipos de activos'!$F$2:$G$5,2,0),0)","v":0},null,0]
[null,null,null,null,null,null,null,null,null,null,0,{"$f":"IFERROR(VLOOKUP(A91,'Tipos de activos'!$F$2:$G$5,2,0),0)","v":0},null,0]
[null,null,null,null,null,null,null,null,null,null,0,{"$f":"IFERROR(VLOOKUP(A92,'Tipos de activos'!$F$2:$G$5,2,0),0)","v":0},null,0]
[null,null,null,null,null,null,null,null,null,null,0,{"$f":"IFERROR(VLOOKUP(A93,'Tipos de activos'!$F$2:$G$5,2,0),0)","v":0},null,0]
[null,null,null,null,null,null,null,null,null,null,0,{"$f":"IFERROR(VLOOKUP(A94,'Tipos de activos'!$F$2:$G$5,2,0),0)","v":0},null,0]
[null,null,null,null,null,null,null,null,null,null,0,{"$f":"IFERROR(VLOOKUP(A95,'Tipos de activos'!$F$2:$G$5,2,0),0)","v":0},null,0]
[null,null,null,null,null,null,null,null,null,null,0,{"$f":"IFERROR(VLOOKUP(A96,'Tipos de activos'!$F$2:$G$5,2,0),0)","v":0},null,0]
[null,null,null,null,null,null,null,null,null,null,0,{"$f":"IFERROR(VLOOKUP(A97,'Tipos de activos'!$F$2:$G$5,2,0),0)","v":0},null,0]
[null,null,null,null,null,null,null,null,null,null,0,{"$f":"IFERROR(VLOOKUP(A98,'Tipos de activos'!$F$2:$G$5,2,0),0)","v":0},null,0]
[null,null,null,null,null,null,null,null,null,null,0,{"$f":"IFERROR(VLOOKUP(A99,'Tipos de activos'!$F$2:$G$5,2,0),0)","v":0},null,0]
[null,null,null,null,null,null,null,null,null,null,0,{"$f":"IFERROR(VLOOKUP(A100,'Tipos de activos'!$F$2:$G$5,2,0),0)","v":0},null,0]
[null,null,null,null,null,null,null,null,null,null,0,{"$f":"IFERROR(VLOOKUP(A101,'Tipos de activos'!$F$2:$G$5,2,0),0)","v":0},null,0]
[null,null,null,null,null,null,null,null,null,null,0,{"$f":"IFERROR(VLOOKUP(A102,'Tipos de activos'!$F$2:$G$5,2,0),0)","v":0},null,0]
[null,null,null,null,null,null,null,null,null,null,0,{"$f":"IFERROR(VLOOKUP(A103,'Tipos de activos'!$F$2:$G$5,2,0),0)","v":0},null,0]
[null,null,null,null,null,null,null,null,null,null,0,{"$f":"IFERROR(VLOOKUP(A104,'Tipos de activos'!$F$2:$G$5,2,0),0)","v":0},null,0]
[null,null,null,null,null,null,null,null,null,null,0,{"$f":"IFERROR(VLOOKUP(A105,'Tipos de activos'!$F$2:$G$5,2,0),0)","v":0},null,0]
[null,null,null,null,null,null,null,null,null,null,0,{"$f":"IFERROR(VLOOKUP(A106,'Tipos de activos'!$F$2:$G$5,2,0),0)","v":0},null,0]
[null,null,null,null,null,null,null,null,null,null,0,{"$f":"IFERROR(VLOOKUP(A107,'Tipos de activos'!$F$2:$G$5,2,0),0)","v":0},null,0]
[null,null,null,null,null,null,null,null,null,null,0,{"$f":"IFERROR(VLOOKUP(A108,'Tipos de activos'!$F$2:$G$5,2,0),0)","v":0},null,0]
[null,null,null,null,null,null,null,null,null,null,0,{"$f":"IFERROR(VLOOKUP(A109,'Tipos de activos'!$F$2:$G$5,2,0),0)","v":0},null,0]
[null,null,null,null,null,null,null,null,null,null,0,{"$f":"IFERROR(VLOOKUP(A110,'Tipos de activos'!$F$2:$G$5,2,0),0)","v":0},null,0]
[null,null,null,null,null,null,null,null,null,null,0,{"$f":"IFERROR(VLOOKUP(A111,'Tipos de activos'!$F$2:$G$5,2,0),0)","v":0},null,0]
[null,null,null,null,null,null,null,null,null,null,0,{"$f":"IFERROR(VLOOKUP(A112,'Tipos de activos'!$F$2:$G$5,2,0),0)","v":0},null,0]
[null,null,null,null,null,null,null,null,null,null,0,{"$f":"IFERROR(VLOOKUP(A113,'Tipos de activos'!$F$2:$G$5,2,0),0)","v":0},null,0]
[null,null,null,null,null,null,null,null,null,null,0,{"$f":"IFERROR(VLOOKUP(A114,'Tipos de activos'!$F$2:$G$5,2,0),0)","v":0},null,0]
[null,null,null,null,null,null,null,null,null,null,0,{"$f":"IFERROR(VLOOKUP(A115,'Tipos de activos'!$F$2:$G$5,2,0),0)","v":0},null,0]
[null,null,null,null,null,null,null,null,null,null,0,{"$f":"IFERROR(VLOOKUP(A116,'Tipos de activos'!$F$2:$G$5,2,0),0)","v":0},null,0]
[null,null,null,null,null,null,null,null,null,null,0,{"$f":"IFERROR(VLOOKUP(A117,'Tipos de activos'!$F$2:$G$5,2,0),0)","v":0},null,0]
[null,null,null,null,null,null,null,null,null,null,0,{"$f":"IFERROR(VLOOKUP(A118,'Tipos de activos'!$F$2:$G$5,2,0),0)","v":0},null,0]
[null,null,null,null,null,null,null,null,null,null,0,{"$f":"IFERROR(VLOOKUP(A119,'Tipos de activos'!$F$2:$G$5,2,0),0)","v":0},null,0]
[null,null,null,null,null,null,null,null,null,null,0,{"$f":"IFERROR(VLOOKUP(A120,'Tipos de activos'!$F$2:$G$5,2,0),0)","v":0},null,0]
[null,null,null,null,null,null,null,null,null,null,0,{"$f":"IFERROR(VLOOKUP(A121,'Tipos de activos'!$F$2:$G$5,2,0),0)","v":0},null,0]
[null,null,null,null,null,null,null,null,null,null,0,{"$f":"IFERROR(VLOOKUP(A122,'Tipos de activos'!$F$2:$G$5,2,0),0)","v":0},null,0]
[null,null,null,null,null,null,null,null,null,null,0,{"$f":"IFERROR(VLOOKUP(A123,'Tipos de activos'!$F$2:$G$5,2,0),0)","v":0},null,0]
[null,null,null,null,null,null,null,null,null,null,0,{"$f":"IFERROR(VLOOKUP(A124,'Tipos de activos'!$F$2:$G$5,2,0),0)","v":0},null,0]
[null,null,null,null,null,null,null,null,null,null,0,{"$f":"IFERROR(VLOOKUP(A125,'Tipos de activos'!$F$2:$G$5,2,0),0)","v":0},null,0]
[null,null,null,null,null,null,null,null,null,null,0,{"$f":"IFERROR(VLOOKUP(A126,'Tipos de activos'!$F$2:$G$5,2,0),0)","v":0},null,0]
[null,null,null,null,null,null,null,null,null,null,0,{"$f":"IFERROR(VLOOKUP(A127,'Tipos de activos'!$F$2:$G$5,2,0),0)","v":0},null,0]
[null,null,null,null,null,null,null,null,null,null,0,{"$f":"IFERROR(VLOOKUP(A128,'Tipos de activos'!$F$2:$G$5,2,0),0)","v":0},null,0]
[null,null,null,null,null,null,null,null,null,null,0,{"$f":"IFERROR(VLOOKUP(A129,'Tipos de activos'!$F$2:$G$5,2,0),0)","v":0},null,0]
[null,null,null,null,null,null,null,null,null,null,0,{"$f":"IFERROR(VLOOKUP(A130,'Tipos de activos'!$F$2:$G$5,2,0),0)","v":0},null,0]
[null,null,null,null,null,null,null,null,null,null,0,{"$f":"IFERROR(VLOOKUP(A131,'Tipos de activos'!$F$2:$G$5,2,0),0)","v":0},null,0]
[null,null,null,null,null,null,null,null,null,null,0,{"$f":"IFERROR(VLOOKUP(A132,'Tipos de activos'!$F$2:$G$5,2,0),0)","v":0},null,0]
[null,null,null,null,null,null,null,null,null,null,0,{"$f":"IFERROR(VLOOKUP(A133,'Tipos de activos'!$F$2:$G$5,2,0),0)","v":0},null,0]
[null,null,null,null,null,null,null,null,null,null,0,{"$f":"IFERROR(VLOOKUP(A134,'Tipos de activos'!$F$2:$G$5,2,0),0)","v":0},null,0]
[null,null,null,null,null,null,null,null,null,null,0,{"$f":"IFERROR(VLOOKUP(A135,'Tipos de activos'!$F$2:$G$5,2,0),0)","v":0},null,0]
[null,null,null,null,null,null,null,null,null,null,0,{"$f":"IFERROR(VLOOKUP(A136,'Tipos de activos'!$F$2:$G$5,2,0),0)","v":0},null,0]
[null,null,null,null,null,null,null,null,null,null,0,{"$f":"IFERROR(VLOOKUP(A137,'Tipos de activos'!$F$2:$G$5,2,0),0)","v":0},null,0]
[null,null,null,null,null,null,null,null,null,null,0,{"$f":"IFERROR(VLOOKUP(A138,'Tipos de activos'!$F$2:$G$5,2,0),0)","v":0},null,0]
[null,null,null,null,null,null,null,null,null,null,0,{"$f":"IFERROR(VLOOKUP(A139,'Tipos de activos'!$F$2:$G$5,2,0),0)","v":0},null,0]
[null,null,null,null,null,null,null,null,null,null,0,{"$f":"IFERROR(VLOOKUP(A140,'Tipos de activos'!$F$2:$G$5,2,0),0)","v":0},null,0]
[null,null,null,null,null,null,null,null,null,null,0,{"$f":"IFERROR(VLOOKUP(A141,'Tipos de activos'!$F$2:$G$5,2,0),0)","v":0},null,0]
[null,null,null,null,null,null,null,null,null,null,0,{"$f":"IFERROR(VLOOKUP(A142,'Tipos de activos'!$F$2:$G$5,2,0),0)","v":0},null,0]
[null,null,null,null,null,null,null,null,null,null,0,{"$f":"IFERROR(VLOOKUP(A143,'Tipos de activos'!$F$2:$G$5,2,0),0)","v":0},null,0]
[null,null,null,null,null,null,null,null,null,null,0,{"$f":"IFERROR(VLOOKUP(A144,'Tipos de activos'!$F$2:$G$5,2,0),0)","v":0},null,0]
[null,null,null,null,null,null,null,null,null,null,0,{"$f":"IFERROR(VLOOKUP(A145,'Tipos de activos'!$F$2:$G$5,2,0),0)","v":0},null,{"$f":"+K145*L145","v":0}]
[null,null,null,null,null,null,null,null,null,null,0,{"$f":"IFERROR(VLOOKUP(A146,'Tipos de activos'!$F$2:$G$5,2,0),0)","v":0},null,0]
[null,null,null,null,null,null,null,null,null,null,0,{"$f":"IFERROR(VLOOKUP(A147,'Tipos de activos'!$F$2:$G$5,2,0),0)","v":0},null,0]
[null,null,null,null,null,null,null,null,null,null,0,{"$f":"IFERROR(VLOOKUP(A148,'Tipos de activos'!$F$2:$G$5,2,0),0)","v":0},null,0]
[null,null,null,null,null,null,null,null,null,null,0,{"$f":"IFERROR(VLOOKUP(A149,'Tipos de activos'!$F$2:$G$5,2,0),0)","v":0},null,0]
[null,null,null,null,null,null,null,null,null,null,0,{"$f":"IFERROR(VLOOKUP(A150,'Tipos de activos'!$F$2:$G$5,2,0),0)","v":0},null,0]
[null,null,null,null,null,null,null,null,null,null,0,{"$f":"IFERROR(VLOOKUP(A151,'Tipos de activos'!$F$2:$G$5,2,0),0)","v":0},null,0]
[null,null,null,null,null,null,null,null,null,null,0,{"$f":"IFERROR(VLOOKUP(A152,'Tipos de activos'!$F$2:$G$5,2,0),0)","v":0},null,0]
[null,null,null,null,null,null,null,null,null,null,{"$f":"+I153-J153","v":0},{"$f":"IFERROR(VLOOKUP(A153,'Tipos de activos'!$F$2:$G$5,2,0),0)","v":0},null,0]
[null,null,null,null,null,null,null,null,null,null,0,{"$f":"IFERROR(VLOOKUP(A154,'Tipos de activos'!$F$2:$G$5,2,0),0)","v":0},null,0]
[null,null,null,null,null,null,null,null,null,null,0,{"$f":"IFERROR(VLOOKUP(A155,'Tipos de activos'!$F$2:$G$5,2,0),0)","v":0},null,0]
[null,null,null,null,null,null,null,null,null,null,0,{"$f":"IFERROR(VLOOKUP(A156,'Tipos de activos'!$F$2:$G$5,2,0),0)","v":0},null,0]
[null,null,null,null,null,null,null,null,null,null,0,{"$f":"IFERROR(VLOOKUP(A157,'Tipos de activos'!$F$2:$G$5,2,0),0)","v":0},null,0]
[null,null,null,null,null,null,null,null,null,null,0,{"$f":"IFERROR(VLOOKUP(A158,'Tipos de activos'!$F$2:$G$5,2,0),0)","v":0},null,0]
[null,null,null,null,null,null,null,null,null,null,0,{"$f":"IFERROR(VLOOKUP(A159,'Tipos de activos'!$F$2:$G$5,2,0),0)","v":0},null,0]
[null,null,null,null,null,null,null,null,null,null,0,{"$f":"IFERROR(VLOOKUP(A160,'Tipos de activos'!$F$2:$G$5,2,0),0)","v":0},null,0]
[null,null,null,null,null,null,null,null,null,null,0,{"$f":"IFERROR(VLOOKUP(A161,'Tipos de activos'!$F$2:$G$5,2,0),0)","v":0},null,0]
[null,null,null,null,null,null,null,null,null,null,0,{"$f":"IFERROR(VLOOKUP(A162,'Tipos de activos'!$F$2:$G$5,2,0),0)","v":0},null,0]
[null,null,null,null,null,null,null,null,null,null,0,{"$f":"IFERROR(VLOOKUP(A163,'Tipos de activos'!$F$2:$G$5,2,0),0)","v":0},null,0]
[null,null,null,null,null,null,null,null,null,null,0,{"$f":"IFERROR(VLOOKUP(A164,'Tipos de activos'!$F$2:$G$5,2,0),0)","v":0},null,0]
[null,null,null,null,null,null,null,null,null,null,0,{"$f":"IFERROR(VLOOKUP(A165,'Tipos de activos'!$F$2:$G$5,2,0),0)","v":0},null,0]
[null,null,null,null,null,null,null,null,null,null,0,{"$f":"IFERROR(VLOOKUP(A166,'Tipos de activos'!$F$2:$G$5,2,0),0)","v":0},null,0]
[null,null,null,null,null,null,null,null,null,null,0,{"$f":"IFERROR(VLOOKUP(A167,'Tipos de activos'!$F$2:$G$5,2,0),0)","v":0},null,0]
[null,null,null,null,null,null,null,null,null,null,0,{"$f":"IFERROR(VLOOKUP(A168,'Tipos de activos'!$F$2:$G$5,2,0),0)","v":0},null,0]
[null,null,null,null,null,null,null,null,null,null,0,{"$f":"IFERROR(VLOOKUP(A169,'Tipos de activos'!$F$2:$G$5,2,0),0)","v":0},null,0]
[null,null,null,null,null,null,null,null,null,null,0,{"$f":"IFERROR(VLOOKUP(A170,'Tipos de activos'!$F$2:$G$5,2,0),0)","v":0},null,0]
[null,null,null,null,null,null,null,null,null,null,0,{"$f":"IFERROR(VLOOKUP(A171,'Tipos de activos'!$F$2:$G$5,2,0),0)","v":0},null,0]
[null,null,null,null,null,null,null,null,null,null,0,{"$f":"IFERROR(VLOOKUP(A172,'Tipos de activos'!$F$2:$G$5,2,0),0)","v":0},null,0]
[null,null,null,null,null,null,null,null,null,null,0,{"$f":"IFERROR(VLOOKUP(A173,'Tipos de activos'!$F$2:$G$5,2,0),0)","v":0},null,0]
[null,null,null,null,null,null,null,null,null,null,0,{"$f":"IFERROR(VLOOKUP(A174,'Tipos de activos'!$F$2:$G$5,2,0),0)","v":0},null,0]
[null,null,null,null,null,null,null,null,null,null,0,{"$f":"IFERROR(VLOOKUP(A175,'Tipos de activos'!$F$2:$G$5,2,0),0)","v":0},null,0]
[null,null,null,null,null,null,null,null,null,null,0,{"$f":"IFERROR(VLOOKUP(A176,'Tipos de activos'!$F$2:$G$5,2,0),0)","v":0},null,0]
[null,null,null,null,null,null,null,null,null,null,0,{"$f":"IFERROR(VLOOKUP(A177,'Tipos de activos'!$F$2:$G$5,2,0),0)","v":0},null,0]
[null,null,null,null,null,null,null,null,null,null,0,{"$f":"IFERROR(VLOOKUP(A178,'Tipos de activos'!$F$2:$G$5,2,0),0)","v":0},null,0]
[null,null,null,null,null,null,null,null,null,null,0,{"$f":"IFERROR(VLOOKUP(A179,'Tipos de activos'!$F$2:$G$5,2,0),0)","v":0},null,0]
[null,null,null,null,null,null,null,null,null,null,0,{"$f":"IFERROR(VLOOKUP(A180,'Tipos de activos'!$F$2:$G$5,2,0),0)","v":0},null,0]
[null,null,null,null,null,null,null,null,null,null,0,{"$f":"IFERROR(VLOOKUP(A181,'Tipos de activos'!$F$2:$G$5,2,0),0)","v":0},null,0]
[null,null,null,null,null,null,null,null,null,null,0,{"$f":"IFERROR(VLOOKUP(A182,'Tipos de activos'!$F$2:$G$5,2,0),0)","v":0},null,0]
[null,null,null,null,null,null,null,null,null,null,0,{"$f":"IFERROR(VLOOKUP(A183,'Tipos de activos'!$F$2:$G$5,2,0),0)","v":0},null,0]
[null,null,null,null,null,null,null,null,null,null,0,{"$f":"IFERROR(VLOOKUP(A184,'Tipos de activos'!$F$2:$G$5,2,0),0)","v":0},null,0]
[null,null,null,null,null,null,null,null,null,null,0,{"$f":"IFERROR(VLOOKUP(A185,'Tipos de activos'!$F$2:$G$5,2,0),0)","v":0},null,0]
[null,null,null,null,null,null,null,null,null,null,0,{"$f":"IFERROR(VLOOKUP(A186,'Tipos de activos'!$F$2:$G$5,2,0),0)","v":0},null,0]
[null,null,null,null,null,null,null,null,null,null,0,{"$f":"IFERROR(VLOOKUP(A187,'Tipos de activos'!$F$2:$G$5,2,0),0)","v":0},null,0]
[null,null,null,null,null,null,null,null,null,null,0,{"$f":"IFERROR(VLOOKUP(A188,'Tipos de activos'!$F$2:$G$5,2,0),0)","v":0},null,0]
[null,null,null,null,null,null,null,null,null,null,0,{"$f":"IFERROR(VLOOKUP(A189,'Tipos de activos'!$F$2:$G$5,2,0),0)","v":0},null,0]
[null,null,null,null,null,null,null,null,null,null,0,{"$f":"IFERROR(VLOOKUP(A190,'Tipos de activos'!$F$2:$G$5,2,0),0)","v":0},null,0]
[null,null,null,null,null,null,null,null,null,null,0,{"$f":"IFERROR(VLOOKUP(A191,'Tipos de activos'!$F$2:$G$5,2,0),0)","v":0},null,0]
[null,null,null,null,null,null,null,null,null,null,0,{"$f":"IFERROR(VLOOKUP(A192,'Tipos de activos'!$F$2:$G$5,2,0),0)","v":0},null,0]
[null,null,null,null,null,null,null,null,null,null,0,{"$f":"IFERROR(VLOOKUP(A193,'Tipos de activos'!$F$2:$G$5,2,0),0)","v":0},null,0]
[null,null,null,null,null,null,null,null,null,null,0,{"$f":"IFERROR(VLOOKUP(A194,'Tipos de activos'!$F$2:$G$5,2,0),0)","v":0},null,0]
[null,null,null,null,null,null,null,null,null,null,0,{"$f":"IFERROR(VLOOKUP(A195,'Tipos de activos'!$F$2:$G$5,2,0),0)","v":0},null,0]
[null,null,null,null,null,null,null,null,null,null,0,{"$f":"IFERROR(VLOOKUP(A196,'Tipos de activos'!$F$2:$G$5,2,0),0)","v":0},null,0]
[null,null,null,null,null,null,null,null,null,null,0,{"$f":"IFERROR(VLOOKUP(A197,'Tipos de activos'!$F$2:$G$5,2,0),0)","v":0},null,0]
[null,null,null,null,null,null,null,null,null,null,0,{"$f":"IFERROR(VLOOKUP(A198,'Tipos de activos'!$F$2:$G$5,2,0),0)","v":0},null,0]
[null,null,null,null,null,null,null,null,null,null,0,{"$f":"IFERROR(VLOOKUP(A199,'Tipos de activos'!$F$2:$G$5,2,0),0)","v":0},null,0]
[null,null,null,null,null,null,null,null,null,null,0,{"$f":"IFERROR(VLOOKUP(A200,'Tipos de activos'!$F$2:$G$5,2,0),0)","v":0},null,0]
[null,null,null,null,null,null,null,null,null,null,0,{"$f":"IFERROR(VLOOKUP(A201,'Tipos de activos'!$F$2:$G$5,2,0),0)","v":0},null,0]
[null,null,null,null,null,null,null,null,null,null,0,{"$f":"IFERROR(VLOOKUP(A202,'Tipos de activos'!$F$2:$G$5,2,0),0)","v":0},null,0]
[null,null,null,null,null,null,null,null,null,null,0,{"$f":"IFERROR(VLOOKUP(A203,'Tipos de activos'!$F$2:$G$5,2,0),0)","v":0},null,0]
[null,null,null,null,null,null,null,null,null,null,0,{"$f":"IFERROR(VLOOKUP(A204,'Tipos de activos'!$F$2:$G$5,2,0),0)","v":0},null,0]
[null,null,null,null,null,null,null,null,null,null,0,{"$f":"IFERROR(VLOOKUP(A205,'Tipos de activos'!$F$2:$G$5,2,0),0)","v":0},null,0]
[null,null,null,null,null,null,null,null,null,null,0,{"$f":"IFERROR(VLOOKUP(A206,'Tipos de activos'!$F$2:$G$5,2,0),0)","v":0},null,0]
[null,null,null,null,null,null,null,null,null,null,0,{"$f":"IFERROR(VLOOKUP(A207,'Tipos de activos'!$F$2:$G$5,2,0),0)","v":0},null,0]
[null,null,null,null,null,null,null,null,null,null,0,{"$f":"IFERROR(VLOOKUP(A208,'Tipos de activos'!$F$2:$G$5,2,0),0)","v":0},null,0]
[null,null,null,null,null,null,null,null,null,null,0,{"$f":"IFERROR(VLOOKUP(A209,'Tipos de activos'!$F$2:$G$5,2,0),0)","v":0},null,{"$f":"+K209*L209","v":0}]
[null,null,null,null,null,null,null,null,null,null,0,{"$f":"IFERROR(VLOOKUP(A210,'Tipos de activos'!$F$2:$G$5,2,0),0)","v":0},null,0]
[null,null,null,null,null,null,null,null,null,null,0,{"$f":"IFERROR(VLOOKUP(A211,'Tipos de activos'!$F$2:$G$5,2,0),0)","v":0},null,0]
[null,null,null,null,null,null,null,null,null,null,0,{"$f":"IFERROR(VLOOKUP(A212,'Tipos de activos'!$F$2:$G$5,2,0),0)","v":0},null,0]
[null,null,null,null,null,null,null,null,null,null,0,{"$f":"IFERROR(VLOOKUP(A213,'Tipos de activos'!$F$2:$G$5,2,0),0)","v":0},null,0]
[null,null,null,null,null,null,null,null,null,null,0,{"$f":"IFERROR(VLOOKUP(A214,'Tipos de activos'!$F$2:$G$5,2,0),0)","v":0},null,0]
[null,null,null,null,null,null,null,null,null,null,0,{"$f":"IFERROR(VLOOKUP(A215,'Tipos de activos'!$F$2:$G$5,2,0),0)","v":0},null,0]
[null,null,null,null,null,null,null,null,null,null,0,{"$f":"IFERROR(VLOOKUP(A216,'Tipos de activos'!$F$2:$G$5,2,0),0)","v":0},null,0]
[null,null,null,null,null,null,null,null,null,null,{"$f":"+I217-J217","v":0},{"$f":"IFERROR(VLOOKUP(A217,'Tipos de activos'!$F$2:$G$5,2,0),0)","v":0},null,0]
[null,null,null,null,null,null,null,null,null,null,0,{"$f":"IFERROR(VLOOKUP(A218,'Tipos de activos'!$F$2:$G$5,2,0),0)","v":0},null,0]
[null,null,null,null,null,null,null,null,null,null,0,{"$f":"IFERROR(VLOOKUP(A219,'Tipos de activos'!$F$2:$G$5,2,0),0)","v":0},null,0]
[null,null,null,null,null,null,null,null,null,null,0,{"$f":"IFERROR(VLOOKUP(A220,'Tipos de activos'!$F$2:$G$5,2,0),0)","v":0},null,0]
[null,null,null,null,null,null,null,null,null,null,0,{"$f":"IFERROR(VLOOKUP(A221,'Tipos de activos'!$F$2:$G$5,2,0),0)","v":0},null,0]
[null,null,null,null,null,null,null,null,null,null,0,{"$f":"IFERROR(VLOOKUP(A222,'Tipos de activos'!$F$2:$G$5,2,0),0)","v":0},null,0]
[null,null,null,null,null,null,null,null,null,null,0,{"$f":"IFERROR(VLOOKUP(A223,'Tipos de activos'!$F$2:$G$5,2,0),0)","v":0},null,0]
[null,null,null,null,null,null,null,null,null,null,0,{"$f":"IFERROR(VLOOKUP(A224,'Tipos de activos'!$F$2:$G$5,2,0),0)","v":0},null,0]
[null,null,null,null,null,null,null,null,null,null,0,{"$f":"IFERROR(VLOOKUP(A225,'Tipos de activos'!$F$2:$G$5,2,0),0)","v":0},null,0]
[null,null,null,null,null,null,null,null,null,null,0,{"$f":"IFERROR(VLOOKUP(A226,'Tipos de activos'!$F$2:$G$5,2,0),0)","v":0},null,0]
[null,null,null,null,null,null,null,null,null,null,0,{"$f":"IFERROR(VLOOKUP(A227,'Tipos de activos'!$F$2:$G$5,2,0),0)","v":0},null,0]
[null,null,null,null,null,null,null,null,null,null,0,{"$f":"IFERROR(VLOOKUP(A228,'Tipos de activos'!$F$2:$G$5,2,0),0)","v":0},null,0]
[null,null,null,null,null,null,null,null,null,null,0,{"$f":"IFERROR(VLOOKUP(A229,'Tipos de activos'!$F$2:$G$5,2,0),0)","v":0},null,0]
[null,null,null,null,null,null,null,null,null,null,0,{"$f":"IFERROR(VLOOKUP(A230,'Tipos de activos'!$F$2:$G$5,2,0),0)","v":0},null,0]
[null,null,null,null,null,null,null,null,null,null,0,{"$f":"IFERROR(VLOOKUP(A231,'Tipos de activos'!$F$2:$G$5,2,0),0)","v":0},null,0]
[null,null,null,null,null,null,null,null,null,null,0,{"$f":"IFERROR(VLOOKUP(A232,'Tipos de activos'!$F$2:$G$5,2,0),0)","v":0},null,0]
[null,null,null,null,null,null,null,null,null,null,0,{"$f":"IFERROR(VLOOKUP(A233,'Tipos de activos'!$F$2:$G$5,2,0),0)","v":0},null,0]
[null,null,null,null,null,null,null,null,null,null,0,{"$f":"IFERROR(VLOOKUP(A234,'Tipos de activos'!$F$2:$G$5,2,0),0)","v":0},null,0]
[null,null,null,null,null,null,null,null,null,null,0,{"$f":"IFERROR(VLOOKUP(A235,'Tipos de activos'!$F$2:$G$5,2,0),0)","v":0},null,0]
[null,null,null,null,null,null,null,null,null,null,0,{"$f":"IFERROR(VLOOKUP(A236,'Tipos de activos'!$F$2:$G$5,2,0),0)","v":0},null,0]
[null,null,null,null,null,null,null,null,null,null,0,{"$f":"IFERROR(VLOOKUP(A237,'Tipos de activos'!$F$2:$G$5,2,0),0)","v":0},null,0]
[null,null,null,null,null,null,null,null,null,null,0,{"$f":"IFERROR(VLOOKUP(A238,'Tipos de activos'!$F$2:$G$5,2,0),0)","v":0},null,0]
[null,null,null,null,null,null,null,null,null,null,0,{"$f":"IFERROR(VLOOKUP(A239,'Tipos de activos'!$F$2:$G$5,2,0),0)","v":0},null,0]
[null,null,null,null,null,null,null,null,null,null,0,{"$f":"IFERROR(VLOOKUP(A240,'Tipos de activos'!$F$2:$G$5,2,0),0)","v":0},null,0]
[null,null,null,null,null,null,null,null,null,null,0,{"$f":"IFERROR(VLOOKUP(A241,'Tipos de activos'!$F$2:$G$5,2,0),0)","v":0},null,0]
[null,null,null,null,null,null,null,null,null,null,0,{"$f":"IFERROR(VLOOKUP(A242,'Tipos de activos'!$F$2:$G$5,2,0),0)","v":0},null,0]
[null,null,null,null,null,null,null,null,null,null,0,{"$f":"IFERROR(VLOOKUP(A243,'Tipos de activos'!$F$2:$G$5,2,0),0)","v":0},null,0]
[null,null,null,null,null,null,null,null,null,null,0,{"$f":"IFERROR(VLOOKUP(A244,'Tipos de activos'!$F$2:$G$5,2,0),0)","v":0},null,0]
[null,null,null,null,null,null,null,null,null,null,0,{"$f":"IFERROR(VLOOKUP(A245,'Tipos de activos'!$F$2:$G$5,2,0),0)","v":0},null,0]
[null,null,null,null,null,null,null,null,null,null,0,{"$f":"IFERROR(VLOOKUP(A246,'Tipos de activos'!$F$2:$G$5,2,0),0)","v":0},null,0]
[null,null,null,null,null,null,null,null,null,null,0,{"$f":"IFERROR(VLOOKUP(A247,'Tipos de activos'!$F$2:$G$5,2,0),0)","v":0},null,0]
[null,null,null,null,null,null,null,null,null,null,0,{"$f":"IFERROR(VLOOKUP(A248,'Tipos de activos'!$F$2:$G$5,2,0),0)","v":0},null,0]
[null,null,null,null,null,null,null,null,null,null,0,{"$f":"IFERROR(VLOOKUP(A249,'Tipos de activos'!$F$2:$G$5,2,0),0)","v":0},null,0]
[null,null,null,null,null,null,null,null,null,null,0,{"$f":"IFERROR(VLOOKUP(A250,'Tipos de activos'!$F$2:$G$5,2,0),0)","v":0},null,0]
[null,null,null,null,null,null,null,null,null,null,0,{"$f":"IFERROR(VLOOKUP(A251,'Tipos de activos'!$F$2:$G$5,2,0),0)","v":0},null,0]
[null,null,null,null,null,null,null,null,null,null,0,{"$f":"IFERROR(VLOOKUP(A252,'Tipos de activos'!$F$2:$G$5,2,0),0)","v":0},null,0]
[null,null,null,null,null,null,null,null,null,null,0,{"$f":"IFERROR(VLOOKUP(A253,'Tipos de activos'!$F$2:$G$5,2,0),0)","v":0},null,0]
[null,null,null,null,null,null,null,null,null,null,0,{"$f":"IFERROR(VLOOKUP(A254,'Tipos de activos'!$F$2:$G$5,2,0),0)","v":0},null,0]
[null,null,null,null,null,null,null,null,null,null,0,{"$f":"IFERROR(VLOOKUP(A255,'Tipos de activos'!$F$2:$G$5,2,0),0)","v":0},null,0]
[null,null,null,null,null,null,null,null,null,null,0,{"$f":"IFERROR(VLOOKUP(A256,'Tipos de activos'!$F$2:$G$5,2,0),0)","v":0},null,0]
[null,null,null,null,null,null,null,null,null,null,0,{"$f":"IFERROR(VLOOKUP(A257,'Tipos de activos'!$F$2:$G$5,2,0),0)","v":0},null,0]
[null,null,null,null,null,null,null,null,null,null,0,{"$f":"IFERROR(VLOOKUP(A258,'Tipos de activos'!$F$2:$G$5,2,0),0)","v":0},null,0]
[null,null,null,null,null,null,null,null,null,null,0,{"$f":"IFERROR(VLOOKUP(A259,'Tipos de activos'!$F$2:$G$5,2,0),0)","v":0},null,0]
[null,null,null,null,null,null,null,null,null,null,0,{"$f":"IFERROR(VLOOKUP(A260,'Tipos de activos'!$F$2:$G$5,2,0),0)","v":0},null,0]
[null,null,null,null,null,null,null,null,null,null,0,{"$f":"IFERROR(VLOOKUP(A261,'Tipos de activos'!$F$2:$G$5,2,0),0)","v":0},null,0]
[null,null,null,null,null,null,null,null,null,null,0,{"$f":"IFERROR(VLOOKUP(A262,'Tipos de activos'!$F$2:$G$5,2,0),0)","v":0},null,0]
[null,null,null,null,null,null,null,null,null,null,0,{"$f":"IFERROR(VLOOKUP(A263,'Tipos de activos'!$F$2:$G$5,2,0),0)","v":0},null,0]
[null,null,null,null,null,null,null,null,null,null,0,{"$f":"IFERROR(VLOOKUP(A264,'Tipos de activos'!$F$2:$G$5,2,0),0)","v":0},null,0]
[null,null,null,null,null,null,null,null,null,null,0,{"$f":"IFERROR(VLOOKUP(A265,'Tipos de activos'!$F$2:$G$5,2,0),0)","v":0},null,0]
[null,null,null,null,null,null,null,null,null,null,0,{"$f":"IFERROR(VLOOKUP(A266,'Tipos de activos'!$F$2:$G$5,2,0),0)","v":0},null,0]
[null,null,null,null,null,null,null,null,null,null,0,{"$f":"IFERROR(VLOOKUP(A267,'Tipos de activos'!$F$2:$G$5,2,0),0)","v":0},null,0]
[null,null,null,null,null,null,null,null,null,null,0,{"$f":"IFERROR(VLOOKUP(A268,'Tipos de activos'!$F$2:$G$5,2,0),0)","v":0},null,0]
[null,null,null,null,null,null,null,null,null,null,0,{"$f":"IFERROR(VLOOKUP(A269,'Tipos de activos'!$F$2:$G$5,2,0),0)","v":0},null,0]
[null,null,null,null,null,null,null,null,null,null,0,{"$f":"IFERROR(VLOOKUP(A270,'Tipos de activos'!$F$2:$G$5,2,0),0)","v":0},null,0]
[null,null,null,null,null,null,null,null,null,null,0,{"$f":"IFERROR(VLOOKUP(A271,'Tipos de activos'!$F$2:$G$5,2,0),0)","v":0},null,0]
[null,null,null,null,null,null,null,null,null,null,0,{"$f":"IFERROR(VLOOKUP(A272,'Tipos de activos'!$F$2:$G$5,2,0),0)","v":0},null,0]
[null,null,null,null,null,null,null,null,null,null,0,{"$f":"IFERROR(VLOOKUP(A273,'Tipos de activos'!$F$2:$G$5,2,0),0)","v":0},null,{"$f":"+K273*L273","v":0}]
[null,null,null,null,null,null,null,null,null,null,0,{"$f":"IFERROR(VLOOKUP(A274,'Tipos de activos'!$F$2:$G$5,2,0),0)","v":0},null,0]
[null,null,null,null,null,null,null,null,null,null,0,{"$f":"IFERROR(VLOOKUP(A275,'Tipos de activos'!$F$2:$G$5,2,0),0)","v":0},null,0]
[null,null,null,null,null,null,null,null,null,null,0,{"$f":"IFERROR(VLOOKUP(A276,'Tipos de activos'!$F$2:$G$5,2,0),0)","v":0},null,0]
[null,null,null,null,null,null,null,null,null,null,0,{"$f":"IFERROR(VLOOKUP(A277,'Tipos de activos'!$F$2:$G$5,2,0),0)","v":0},null,0]
[null,null,null,null,null,null,null,null,null,null,0,{"$f":"IFERROR(VLOOKUP(A278,'Tipos de activos'!$F$2:$G$5,2,0),0)","v":0},null,0]
[null,null,null,null,null,null,null,null,null,null,0,{"$f":"IFERROR(VLOOKUP(A279,'Tipos de activos'!$F$2:$G$5,2,0),0)","v":0},null,0]
[null,null,null,null,null,null,null,null,null,null,0,{"$f":"IFERROR(VLOOKUP(A280,'Tipos de activos'!$F$2:$G$5,2,0),0)","v":0},null,0]
[null,null,null,null,null,null,null,null,null,null,{"$f":"+I281-J281","v":0},{"$f":"IFERROR(VLOOKUP(A281,'Tipos de activos'!$F$2:$G$5,2,0),0)","v":0},null,0]
[null,null,null,null,null,null,null,null,null,null,0,{"$f":"IFERROR(VLOOKUP(A282,'Tipos de activos'!$F$2:$G$5,2,0),0)","v":0},null,0]
[null,null,null,null,null,null,null,null,null,null,0,{"$f":"IFERROR(VLOOKUP(A283,'Tipos de activos'!$F$2:$G$5,2,0),0)","v":0},null,0]
[null,null,null,null,null,null,null,null,null,null,0,{"$f":"IFERROR(VLOOKUP(A284,'Tipos de activos'!$F$2:$G$5,2,0),0)","v":0},null,0]
[null,null,null,null,null,null,null,null,null,null,0,{"$f":"IFERROR(VLOOKUP(A285,'Tipos de activos'!$F$2:$G$5,2,0),0)","v":0},null,0]
[null,null,null,null,null,null,null,null,null,null,0,{"$f":"IFERROR(VLOOKUP(A286,'Tipos de activos'!$F$2:$G$5,2,0),0)","v":0},null,0]
[null,null,null,null,null,null,null,null,null,null,0,{"$f":"IFERROR(VLOOKUP(A287,'Tipos de activos'!$F$2:$G$5,2,0),0)","v":0},null,0]
[null,null,null,null,null,null,null,null,null,null,0,{"$f":"IFERROR(VLOOKUP(A288,'Tipos de activos'!$F$2:$G$5,2,0),0)","v":0},null,0]
[null,null,null,null,null,null,null,null,null,null,0,{"$f":"IFERROR(VLOOKUP(A289,'Tipos de activos'!$F$2:$G$5,2,0),0)","v":0},null,0]
[null,null,null,null,null,null,null,null,null,null,0,{"$f":"IFERROR(VLOOKUP(A290,'Tipos de activos'!$F$2:$G$5,2,0),0)","v":0},null,0]
[null,null,null,null,null,null,null,null,null,null,0,{"$f":"IFERROR(VLOOKUP(A291,'Tipos de activos'!$F$2:$G$5,2,0),0)","v":0},null,0]
[null,null,null,null,null,null,null,null,null,null,0,{"$f":"IFERROR(VLOOKUP(A292,'Tipos de activos'!$F$2:$G$5,2,0),0)","v":0},null,0]
[null,null,null,null,null,null,null,null,null,null,0,{"$f":"IFERROR(VLOOKUP(A293,'Tipos de activos'!$F$2:$G$5,2,0),0)","v":0},null,0]
[null,null,null,null,null,null,null,null,null,null,0,{"$f":"IFERROR(VLOOKUP(A294,'Tipos de activos'!$F$2:$G$5,2,0),0)","v":0},null,0]
[null,null,null,null,null,null,null,null,null,null,0,{"$f":"IFERROR(VLOOKUP(A295,'Tipos de activos'!$F$2:$G$5,2,0),0)","v":0},null,0]
[null,null,null,null,null,null,null,null,null,null,0,{"$f":"IFERROR(VLOOKUP(A296,'Tipos de activos'!$F$2:$G$5,2,0),0)","v":0},null,0]
[null,null,null,null,null,null,null,null,null,null,0,{"$f":"IFERROR(VLOOKUP(A297,'Tipos de activos'!$F$2:$G$5,2,0),0)","v":0},null,0]
[null,null,null,null,null,null,null,null,null,null,0,{"$f":"IFERROR(VLOOKUP(A298,'Tipos de activos'!$F$2:$G$5,2,0),0)","v":0},null,0]
[null,null,null,null,null,null,null,null,null,null,0,{"$f":"IFERROR(VLOOKUP(A299,'Tipos de activos'!$F$2:$G$5,2,0),0)","v":0},null,0]
[null,null,null,null,null,null,null,null,null,null,0,{"$f":"IFERROR(VLOOKUP(A300,'Tipos de activos'!$F$2:$G$5,2,0),0)","v":0},null,0]
[null,null,null,null,null,null,null,null,null,null,0,{"$f":"IFERROR(VLOOKUP(A301,'Tipos de activos'!$F$2:$G$5,2,0),0)","v":0},null,0]
[null,null,null,null,null,null,null,null,null,null,0,{"$f":"IFERROR(VLOOKUP(A302,'Tipos de activos'!$F$2:$G$5,2,0),0)","v":0},null,0]
[null,null,null,null,null,null,null,null,null,null,0,{"$f":"IFERROR(VLOOKUP(A303,'Tipos de activos'!$F$2:$G$5,2,0),0)","v":0},null,0]
[null,null,null,null,null,null,null,null,null,null,0,{"$f":"IFERROR(VLOOKUP(A304,'Tipos de activos'!$F$2:$G$5,2,0),0)","v":0},null,0]
[null,null,null,null,null,null,null,null,null,null,0,{"$f":"IFERROR(VLOOKUP(A305,'Tipos de activos'!$F$2:$G$5,2,0),0)","v":0},null,0]
[null,null,null,null,null,null,null,null,null,null,0,{"$f":"IFERROR(VLOOKUP(A306,'Tipos de activos'!$F$2:$G$5,2,0),0)","v":0},null,0]
[null,null,null,null,null,null,null,null,null,null,0,{"$f":"IFERROR(VLOOKUP(A307,'Tipos de activos'!$F$2:$G$5,2,0),0)","v":0},null,0]
[null,null,null,null,null,null,null,null,null,null,0,{"$f":"IFERROR(VLOOKUP(A308,'Tipos de activos'!$F$2:$G$5,2,0),0)","v":0},null,0]
[null,null,null,null,null,null,null,null,null,null,0,{"$f":"IFERROR(VLOOKUP(A309,'Tipos de activos'!$F$2:$G$5,2,0),0)","v":0},null,0]
[null,null,null,null,null,null,null,null,null,null,0,{"$f":"IFERROR(VLOOKUP(A310,'Tipos de activos'!$F$2:$G$5,2,0),0)","v":0},null,0]
[null,null,null,null,null,null,null,null,null,null,0,{"$f":"IFERROR(VLOOKUP(A311,'Tipos de activos'!$F$2:$G$5,2,0),0)","v":0},null,0]
[null,null,null,null,null,null,null,null,null,null,0,{"$f":"IFERROR(VLOOKUP(A312,'Tipos de activos'!$F$2:$G$5,2,0),0)","v":0},null,0]
[null,null,null,null,null,null,null,null,null,null,0,{"$f":"IFERROR(VLOOKUP(A313,'Tipos de activos'!$F$2:$G$5,2,0),0)","v":0},null,0]
[null,null,null,null,null,null,null,null,null,null,0,{"$f":"IFERROR(VLOOKUP(A314,'Tipos de activos'!$F$2:$G$5,2,0),0)","v":0},null,0]
[null,null,null,null,null,null,null,null,null,null,0,{"$f":"IFERROR(VLOOKUP(A315,'Tipos de activos'!$F$2:$G$5,2,0),0)","v":0},null,0]
[null,null,null,null,null,null,null,null,null,null,0,{"$f":"IFERROR(VLOOKUP(A316,'Tipos de activos'!$F$2:$G$5,2,0),0)","v":0},null,0]
[null,null,null,null,null,null,null,null,null,null,0,{"$f":"IFERROR(VLOOKUP(A317,'Tipos de activos'!$F$2:$G$5,2,0),0)","v":0},null,0]
[null,null,null,null,null,null,null,null,null,null,0,{"$f":"IFERROR(VLOOKUP(A318,'Tipos de activos'!$F$2:$G$5,2,0),0)","v":0},null,0]
[null,null,null,null,null,null,null,null,null,null,0,{"$f":"IFERROR(VLOOKUP(A319,'Tipos de activos'!$F$2:$G$5,2,0),0)","v":0},null,0]
[null,null,null,null,null,null,null,null,null,null,0,{"$f":"IFERROR(VLOOKUP(A320,'Tipos de activos'!$F$2:$G$5,2,0),0)","v":0},null,0]
[null,null,null,null,null,null,null,null,null,null,0,{"$f":"IFERROR(VLOOKUP(A321,'Tipos de activos'!$F$2:$G$5,2,0),0)","v":0},null,0]
[null,null,null,null,null,null,null,null,null,null,0,{"$f":"IFERROR(VLOOKUP(A322,'Tipos de activos'!$F$2:$G$5,2,0),0)","v":0},null,0]
[null,null,null,null,null,null,null,null,null,null,0,{"$f":"IFERROR(VLOOKUP(A323,'Tipos de activos'!$F$2:$G$5,2,0),0)","v":0},null,0]
[null,null,null,null,null,null,null,null,null,null,0,{"$f":"IFERROR(VLOOKUP(A324,'Tipos de activos'!$F$2:$G$5,2,0),0)","v":0},null,0]
[null,null,null,null,null,null,null,null,null,null,0,{"$f":"IFERROR(VLOOKUP(A325,'Tipos de activos'!$F$2:$G$5,2,0),0)","v":0},null,0]
[null,null,null,null,null,null,null,null,null,null,0,{"$f":"IFERROR(VLOOKUP(A326,'Tipos de activos'!$F$2:$G$5,2,0),0)","v":0},null,0]
[null,null,null,null,null,null,null,null,null,null,0,{"$f":"IFERROR(VLOOKUP(A327,'Tipos de activos'!$F$2:$G$5,2,0),0)","v":0},null,0]
[null,null,null,null,null,null,null,null,null,null,0,{"$f":"IFERROR(VLOOKUP(A328,'Tipos de activos'!$F$2:$G$5,2,0),0)","v":0},null,0]
[null,null,null,null,null,null,null,null,null,null,0,{"$f":"IFERROR(VLOOKUP(A329,'Tipos de activos'!$F$2:$G$5,2,0),0)","v":0},null,0]
[null,null,null,null,null,null,null,null,null,null,0,{"$f":"IFERROR(VLOOKUP(A330,'Tipos de activos'!$F$2:$G$5,2,0),0)","v":0},null,0]
[null,null,null,null,null,null,null,null,null,null,0,{"$f":"IFERROR(VLOOKUP(A331,'Tipos de activos'!$F$2:$G$5,2,0),0)","v":0},null,0]
[null,null,null,null,null,null,null,null,null,null,0,{"$f":"IFERROR(VLOOKUP(A332,'Tipos de activos'!$F$2:$G$5,2,0),0)","v":0},null,0]
[null,null,null,null,null,null,null,null,null,null,0,{"$f":"IFERROR(VLOOKUP(A333,'Tipos de activos'!$F$2:$G$5,2,0),0)","v":0},null,0]
[null,null,null,null,null,null,null,null,null,null,0,{"$f":"IFERROR(VLOOKUP(A334,'Tipos de activos'!$F$2:$G$5,2,0),0)","v":0},null,0]
[null,null,null,null,null,null,null,null,null,null,0,{"$f":"IFERROR(VLOOKUP(A335,'Tipos de activos'!$F$2:$G$5,2,0),0)","v":0},null,0]
[null,null,null,null,null,null,null,null,null,null,0,{"$f":"IFERROR(VLOOKUP(A336,'Tipos de activos'!$F$2:$G$5,2,0),0)","v":0},null,0]
[null,null,null,null,null,null,null,null,null,null,0,{"$f":"IFERROR(VLOOKUP(A337,'Tipos de activos'!$F$2:$G$5,2,0),0)","v":0},null,{"$f":"+K337*L337","v":0}]
[null,null,null,null,null,null,null,null,null,null,0,{"$f":"IFERROR(VLOOKUP(A338,'Tipos de activos'!$F$2:$G$5,2,0),0)","v":0},null,0]
[null,null,null,null,null,null,null,null,null,null,0,{"$f":"IFERROR(VLOOKUP(A339,'Tipos de activos'!$F$2:$G$5,2,0),0)","v":0},null,0]
[null,null,null,null,null,null,null,null,null,null,0,{"$f":"IFERROR(VLOOKUP(A340,'Tipos de activos'!$F$2:$G$5,2,0),0)","v":0},null,0]
[null,null,null,null,null,null,null,null,null,null,0,{"$f":"IFERROR(VLOOKUP(A341,'Tipos de activos'!$F$2:$G$5,2,0),0)","v":0},null,0]
[null,null,null,null,null,null,null,null,null,null,0,{"$f":"IFERROR(VLOOKUP(A342,'Tipos de activos'!$F$2:$G$5,2,0),0)","v":0},null,0]
[null,null,null,null,null,null,null,null,null,null,0,{"$f":"IFERROR(VLOOKUP(A343,'Tipos de activos'!$F$2:$G$5,2,0),0)","v":0},null,0]
[null,null,null,null,null,null,null,null,null,null,0,{"$f":"IFERROR(VLOOKUP(A344,'Tipos de activos'!$F$2:$G$5,2,0),0)","v":0},null,0]
[null,null,null,null,null,null,null,null,null,null,{"$f":"+I345-J345","v":0},{"$f":"IFERROR(VLOOKUP(A345,'Tipos de activos'!$F$2:$G$5,2,0),0)","v":0},null,0]
[null,null,null,null,null,null,null,null,null,null,0,{"$f":"IFERROR(VLOOKUP(A346,'Tipos de activos'!$F$2:$G$5,2,0),0)","v":0},null,0]
[null,null,null,null,null,null,null,null,null,null,0,{"$f":"IFERROR(VLOOKUP(A347,'Tipos de activos'!$F$2:$G$5,2,0),0)","v":0},null,0]
[null,null,null,null,null,null,null,null,null,null,0,{"$f":"IFERROR(VLOOKUP(A348,'Tipos de activos'!$F$2:$G$5,2,0),0)","v":0},null,0]
[null,null,null,null,null,null,null,null,null,null,0,{"$f":"IFERROR(VLOOKUP(A349,'Tipos de activos'!$F$2:$G$5,2,0),0)","v":0},null,0]
[null,null,null,null,null,null,null,null,null,null,0,{"$f":"IFERROR(VLOOKUP(A350,'Tipos de activos'!$F$2:$G$5,2,0),0)","v":0},null,0]
[null,null,null,null,null,null,null,null,null,null,0,{"$f":"IFERROR(VLOOKUP(A351,'Tipos de activos'!$F$2:$G$5,2,0),0)","v":0},null,0]
[null,null,null,null,null,null,null,null,null,null,0,{"$f":"IFERROR(VLOOKUP(A352,'Tipos de activos'!$F$2:$G$5,2,0),0)","v":0},null,0]
[null,null,null,null,null,null,null,null,null,null,0,{"$f":"IFERROR(VLOOKUP(A353,'Tipos de activos'!$F$2:$G$5,2,0),0)","v":0},null,0]
[null,null,null,null,null,null,null,null,null,null,0,{"$f":"IFERROR(VLOOKUP(A354,'Tipos de activos'!$F$2:$G$5,2,0),0)","v":0},null,0]
[null,null,null,null,null,null,null,null,null,null,0,{"$f":"IFERROR(VLOOKUP(A355,'Tipos de activos'!$F$2:$G$5,2,0),0)","v":0},null,0]
[null,null,null,null,null,null,null,null,null,null,0,{"$f":"IFERROR(VLOOKUP(A356,'Tipos de activos'!$F$2:$G$5,2,0),0)","v":0},null,0]
[null,null,null,null,null,null,null,null,null,null,0,{"$f":"IFERROR(VLOOKUP(A357,'Tipos de activos'!$F$2:$G$5,2,0),0)","v":0},null,0]
[null,null,null,null,null,null,null,null,null,null,0,{"$f":"IFERROR(VLOOKUP(A358,'Tipos de activos'!$F$2:$G$5,2,0),0)","v":0},null,0]
[null,null,null,null,null,null,null,null,null,null,0,{"$f":"IFERROR(VLOOKUP(A359,'Tipos de activos'!$F$2:$G$5,2,0),0)","v":0},null,0]
[null,null,null,null,null,null,null,null,null,null,0,{"$f":"IFERROR(VLOOKUP(A360,'Tipos de activos'!$F$2:$G$5,2,0),0)","v":0},null,0]
[null,null,null,null,null,null,null,null,null,null,0,{"$f":"IFERROR(VLOOKUP(A361,'Tipos de activos'!$F$2:$G$5,2,0),0)","v":0},null,0]
[null,null,null,null,null,null,null,null,null,null,0,{"$f":"IFERROR(VLOOKUP(A362,'Tipos de activos'!$F$2:$G$5,2,0),0)","v":0},null,0]
[null,null,null,null,null,null,null,null,null,null,0,{"$f":"IFERROR(VLOOKUP(A363,'Tipos de activos'!$F$2:$G$5,2,0),0)","v":0},null,0]
[null,null,null,null,null,null,null,null,null,null,0,{"$f":"IFERROR(VLOOKUP(A364,'Tipos de activos'!$F$2:$G$5,2,0),0)","v":0},null,0]
[null,null,null,null,null,null,null,null,null,null,0,{"$f":"IFERROR(VLOOKUP(A365,'Tipos de activos'!$F$2:$G$5,2,0),0)","v":0},null,0]
[null,null,null,null,null,null,null,null,null,null,0,{"$f":"IFERROR(VLOOKUP(A366,'Tipos de activos'!$F$2:$G$5,2,0),0)","v":0},null,0]
[null,null,null,null,null,null,null,null,null,null,0,{"$f":"IFERROR(VLOOKUP(A367,'Tipos de activos'!$F$2:$G$5,2,0),0)","v":0},null,0]
[null,null,null,null,null,null,null,null,null,null,0,{"$f":"IFERROR(VLOOKUP(A368,'Tipos de activos'!$F$2:$G$5,2,0),0)","v":0},null,0]
[null,null,null,null,null,null,null,null,null,null,0,{"$f":"IFERROR(VLOOKUP(A369,'Tipos de activos'!$F$2:$G$5,2,0),0)","v":0},null,0]
[null,null,null,null,null,null,null,null,null,null,0,{"$f":"IFERROR(VLOOKUP(A370,'Tipos de activos'!$F$2:$G$5,2,0),0)","v":0},null,0]
[null,null,null,null,null,null,null,null,null,null,0,{"$f":"IFERROR(VLOOKUP(A371,'Tipos de activos'!$F$2:$G$5,2,0),0)","v":0},null,0]
[null,null,null,null,null,null,null,null,null,null,0,{"$f":"IFERROR(VLOOKUP(A372,'Tipos de activos'!$F$2:$G$5,2,0),0)","v":0},null,0]
[null,null,null,null,null,null,null,null,null,null,0,{"$f":"IFERROR(VLOOKUP(A373,'Tipos de activos'!$F$2:$G$5,2,0),0)","v":0},null,0]
[null,null,null,null,null,null,null,null,null,null,0,{"$f":"IFERROR(VLOOKUP(A374,'Tipos de activos'!$F$2:$G$5,2,0),0)","v":0},null,0]
[null,null,null,null,null,null,null,null,null,null,0,{"$f":"IFERROR(VLOOKUP(A375,'Tipos de activos'!$F$2:$G$5,2,0),0)","v":0},null,0]
[null,null,null,null,null,null,null,null,null,null,0,{"$f":"IFERROR(VLOOKUP(A376,'Tipos de activos'!$F$2:$G$5,2,0),0)","v":0},null,0]
[null,null,null,null,null,null,null,null,null,null,0,{"$f":"IFERROR(VLOOKUP(A377,'Tipos de activos'!$F$2:$G$5,2,0),0)","v":0},null,0]
[null,null,null,null,null,null,null,null,null,null,0,{"$f":"IFERROR(VLOOKUP(A378,'Tipos de activos'!$F$2:$G$5,2,0),0)","v":0},null,0]
[null,null,null,null,null,null,null,null,null,null,0,{"$f":"IFERROR(VLOOKUP(A379,'Tipos de activos'!$F$2:$G$5,2,0),0)","v":0},null,0]
[null,null,null,null,null,null,null,null,null,null,0,{"$f":"IFERROR(VLOOKUP(A380,'Tipos de activos'!$F$2:$G$5,2,0),0)","v":0},null,0]
[null,null,null,null,null,null,null,null,null,null,0,{"$f":"IFERROR(VLOOKUP(A381,'Tipos de activos'!$F$2:$G$5,2,0),0)","v":0},null,0]
[null,null,null,null,null,null,null,null,null,null,0,{"$f":"IFERROR(VLOOKUP(A382,'Tipos de activos'!$F$2:$G$5,2,0),0)","v":0},null,0]
[null,null,null,null,null,null,null,null,null,null,0,{"$f":"IFERROR(VLOOKUP(A383,'Tipos de activos'!$F$2:$G$5,2,0),0)","v":0},null,0]
[null,null,null,null,null,null,null,null,null,null,0,{"$f":"IFERROR(VLOOKUP(A384,'Tipos de activos'!$F$2:$G$5,2,0),0)","v":0},null,0]
[null,null,null,null,null,null,null,null,null,null,0,{"$f":"IFERROR(VLOOKUP(A385,'Tipos de activos'!$F$2:$G$5,2,0),0)","v":0},null,0]
[null,null,null,null,null,null,null,null,null,null,0,{"$f":"IFERROR(VLOOKUP(A386,'Tipos de activos'!$F$2:$G$5,2,0),0)","v":0},null,0]
[null,null,null,null,null,null,null,null,null,null,0,{"$f":"IFERROR(VLOOKUP(A387,'Tipos de activos'!$F$2:$G$5,2,0),0)","v":0},null,0]
[null,null,null,null,null,null,null,null,null,null,0,{"$f":"IFERROR(VLOOKUP(A388,'Tipos de activos'!$F$2:$G$5,2,0),0)","v":0},null,0]
[null,null,null,null,null,null,null,null,null,null,0,{"$f":"IFERROR(VLOOKUP(A389,'Tipos de activos'!$F$2:$G$5,2,0),0)","v":0},null,0]
[null,null,null,null,null,null,null,null,null,null,0,{"$f":"IFERROR(VLOOKUP(A390,'Tipos de activos'!$F$2:$G$5,2,0),0)","v":0},null,0]
[null,null,null,null,null,null,null,null,null,null,0,{"$f":"IFERROR(VLOOKUP(A391,'Tipos de activos'!$F$2:$G$5,2,0),0)","v":0},null,0]
[null,null,null,null,null,null,null,null,null,null,0,{"$f":"IFERROR(VLOOKUP(A392,'Tipos de activos'!$F$2:$G$5,2,0),0)","v":0},null,0]
[null,null,null,null,null,null,null,null,null,null,0,{"$f":"IFERROR(VLOOKUP(A393,'Tipos de activos'!$F$2:$G$5,2,0),0)","v":0},null,0]
[null,null,null,null,null,null,null,null,null,null,0,{"$f":"IFERROR(VLOOKUP(A394,'Tipos de activos'!$F$2:$G$5,2,0),0)","v":0},null,0]
[null,null,null,null,null,null,null,null,null,null,0,{"$f":"IFERROR(VLOOKUP(A395,'Tipos de activos'!$F$2:$G$5,2,0),0)","v":0},null,0]
[null,null,null,null,null,null,null,null,null,null,0,{"$f":"IFERROR(VLOOKUP(A396,'Tipos de activos'!$F$2:$G$5,2,0),0)","v":0},null,0]
[null,null,null,null,null,null,null,null,null,null,0,{"$f":"IFERROR(VLOOKUP(A397,'Tipos de activos'!$F$2:$G$5,2,0),0)","v":0},null,0]
[null,null,null,null,null,null,null,null,null,null,0,{"$f":"IFERROR(VLOOKUP(A398,'Tipos de activos'!$F$2:$G$5,2,0),0)","v":0},null,0]
[null,null,null,null,null,null,null,null,null,null,0,{"$f":"IFERROR(VLOOKUP(A399,'Tipos de activos'!$F$2:$G$5,2,0),0)","v":0},null,0]
[null,null,null,null,null,null,null,null,null,null,0,{"$f":"IFERROR(VLOOKUP(A400,'Tipos de activos'!$F$2:$G$5,2,0),0)","v":0},null,0]
[null,null,null,null,null,null,null,null,null,null,0,{"$f":"IFERROR(VLOOKUP(A401,'Tipos de activos'!$F$2:$G$5,2,0),0)","v":0},null,{"$f":"+K401*L401","v":0}]
[null,null,null,null,null,null,null,null,null,null,0,{"$f":"IFERROR(VLOOKUP(A402,'Tipos de activos'!$F$2:$G$5,2,0),0)","v":0},null,0]
[null,null,null,null,null,null,null,null,null,null,0,{"$f":"IFERROR(VLOOKUP(A403,'Tipos de activos'!$F$2:$G$5,2,0),0)","v":0},null,0]
[null,null,null,null,null,null,null,null,null,null,0,{"$f":"IFERROR(VLOOKUP(A404,'Tipos de activos'!$F$2:$G$5,2,0),0)","v":0},null,0]
[null,null,null,null,null,null,null,null,null,null,0,{"$f":"IFERROR(VLOOKUP(A405,'Tipos de activos'!$F$2:$G$5,2,0),0)","v":0},null,0]
[null,null,null,null,null,null,null,null,null,null,0,{"$f":"IFERROR(VLOOKUP(A406,'Tipos de activos'!$F$2:$G$5,2,0),0)","v":0},null,0]
[null,null,null,null,null,null,null,null,null,null,0,{"$f":"IFERROR(VLOOKUP(A407,'Tipos de activos'!$F$2:$G$5,2,0),0)","v":0},null,0]
[null,null,null,null,null,null,null,null,null,null,0,{"$f":"IFERROR(VLOOKUP(A408,'Tipos de activos'!$F$2:$G$5,2,0),0)","v":0},null,0]
[null,null,null,null,null,null,null,null,null,null,{"$f":"+I409-J409","v":0},{"$f":"IFERROR(VLOOKUP(A409,'Tipos de activos'!$F$2:$G$5,2,0),0)","v":0},null,0]
[null,null,null,null,null,null,null,null,null,null,0,{"$f":"IFERROR(VLOOKUP(A410,'Tipos de activos'!$F$2:$G$5,2,0),0)","v":0},null,0]
[null,null,null,null,null,null,null,null,null,null,0,{"$f":"IFERROR(VLOOKUP(A411,'Tipos de activos'!$F$2:$G$5,2,0),0)","v":0},null,0]
[null,null,null,null,null,null,null,null,null,null,0,{"$f":"IFERROR(VLOOKUP(A412,'Tipos de activos'!$F$2:$G$5,2,0),0)","v":0},null,0]
[null,null,null,null,null,null,null,null,null,null,0,{"$f":"IFERROR(VLOOKUP(A413,'Tipos de activos'!$F$2:$G$5,2,0),0)","v":0},null,0]
[null,null,null,null,null,null,null,null,null,null,0,{"$f":"IFERROR(VLOOKUP(A414,'Tipos de activos'!$F$2:$G$5,2,0),0)","v":0},null,0]
[null,null,null,null,null,null,null,null,null,null,0,{"$f":"IFERROR(VLOOKUP(A415,'Tipos de activos'!$F$2:$G$5,2,0),0)","v":0},null,0]
[null,null,null,null,null,null,null,null,null,null,0,{"$f":"IFERROR(VLOOKUP(A416,'Tipos de activos'!$F$2:$G$5,2,0),0)","v":0},null,0]
[null,null,null,null,null,null,null,null,null,null,0,{"$f":"IFERROR(VLOOKUP(A417,'Tipos de activos'!$F$2:$G$5,2,0),0)","v":0},null,0]
[null,null,null,null,null,null,null,null,null,null,0,{"$f":"IFERROR(VLOOKUP(A418,'Tipos de activos'!$F$2:$G$5,2,0),0)","v":0},null,0]
[null,null,null,null,null,null,null,null,null,null,0,{"$f":"IFERROR(VLOOKUP(A419,'Tipos de activos'!$F$2:$G$5,2,0),0)","v":0},null,0]
[null,null,null,null,null,null,null,null,null,null,0,{"$f":"IFERROR(VLOOKUP(A420,'Tipos de activos'!$F$2:$G$5,2,0),0)","v":0},null,0]
[null,null,null,null,null,null,null,null,null,null,0,{"$f":"IFERROR(VLOOKUP(A421,'Tipos de activos'!$F$2:$G$5,2,0),0)","v":0},null,0]
[null,null,null,null,null,null,null,null,null,null,0,{"$f":"IFERROR(VLOOKUP(A422,'Tipos de activos'!$F$2:$G$5,2,0),0)","v":0},null,0]
[null,null,null,null,null,null,null,null,null,null,0,{"$f":"IFERROR(VLOOKUP(A423,'Tipos de activos'!$F$2:$G$5,2,0),0)","v":0},null,0]
[null,null,null,null,null,null,null,null,null,null,0,{"$f":"IFERROR(VLOOKUP(A424,'Tipos de activos'!$F$2:$G$5,2,0),0)","v":0},null,0]
[null,null,null,null,null,null,null,null,null,null,0,{"$f":"IFERROR(VLOOKUP(A425,'Tipos de activos'!$F$2:$G$5,2,0),0)","v":0},null,0]
[null,null,null,null,null,null,null,null,null,null,0,{"$f":"IFERROR(VLOOKUP(A426,'Tipos de activos'!$F$2:$G$5,2,0),0)","v":0},null,0]
[null,null,null,null,null,null,null,null,null,null,0,{"$f":"IFERROR(VLOOKUP(A427,'Tipos de activos'!$F$2:$G$5,2,0),0)","v":0},null,0]
[null,null,null,null,null,null,null,null,null,null,0,{"$f":"IFERROR(VLOOKUP(A428,'Tipos de activos'!$F$2:$G$5,2,0),0)","v":0},null,0]
[null,null,null,null,null,null,null,null,null,null,0,{"$f":"IFERROR(VLOOKUP(A429,'Tipos de activos'!$F$2:$G$5,2,0),0)","v":0},null,0]
[null,null,null,null,null,null,null,null,null,null,0,{"$f":"IFERROR(VLOOKUP(A430,'Tipos de activos'!$F$2:$G$5,2,0),0)","v":0},null,0]
[null,null,null,null,null,null,null,null,null,null,0,{"$f":"IFERROR(VLOOKUP(A431,'Tipos de activos'!$F$2:$G$5,2,0),0)","v":0},null,0]
[null,null,null,null,null,null,null,null,null,null,0,{"$f":"IFERROR(VLOOKUP(A432,'Tipos de activos'!$F$2:$G$5,2,0),0)","v":0},null,0]
[null,null,null,null,null,null,null,null,null,null,0,{"$f":"IFERROR(VLOOKUP(A433,'Tipos de activos'!$F$2:$G$5,2,0),0)","v":0},null,0]
[null,null,null,null,null,null,null,null,null,null,0,{"$f":"IFERROR(VLOOKUP(A434,'Tipos de activos'!$F$2:$G$5,2,0),0)","v":0},null,0]
[null,null,null,null,null,null,null,null,null,null,0,{"$f":"IFERROR(VLOOKUP(A435,'Tipos de activos'!$F$2:$G$5,2,0),0)","v":0},null,0]
[null,null,null,null,null,null,null,null,null,null,0,{"$f":"IFERROR(VLOOKUP(A436,'Tipos de activos'!$F$2:$G$5,2,0),0)","v":0},null,0]
[null,null,null,null,null,null,null,null,null,null,0,{"$f":"IFERROR(VLOOKUP(A437,'Tipos de activos'!$F$2:$G$5,2,0),0)","v":0},null,0]
[null,null,null,null,null,null,null,null,null,null,0,{"$f":"IFERROR(VLOOKUP(A438,'Tipos de activos'!$F$2:$G$5,2,0),0)","v":0},null,0]
[null,null,null,null,null,null,null,null,null,null,0,{"$f":"IFERROR(VLOOKUP(A439,'Tipos de activos'!$F$2:$G$5,2,0),0)","v":0},null,0]
[null,null,null,null,null,null,null,null,null,null,0,{"$f":"IFERROR(VLOOKUP(A440,'Tipos de activos'!$F$2:$G$5,2,0),0)","v":0},null,0]
[null,null,null,null,null,null,null,null,null,null,0,{"$f":"IFERROR(VLOOKUP(A441,'Tipos de activos'!$F$2:$G$5,2,0),0)","v":0},null,0]
[null,null,null,null,null,null,null,null,null,null,0,{"$f":"IFERROR(VLOOKUP(A442,'Tipos de activos'!$F$2:$G$5,2,0),0)","v":0},null,0]
[null,null,null,null,null,null,null,null,null,null,0,{"$f":"IFERROR(VLOOKUP(A443,'Tipos de activos'!$F$2:$G$5,2,0),0)","v":0},null,0]
[null,null,null,null,null,null,null,null,null,null,0,{"$f":"IFERROR(VLOOKUP(A444,'Tipos de activos'!$F$2:$G$5,2,0),0)","v":0},null,0]
[null,null,null,null,null,null,null,null,null,null,0,{"$f":"IFERROR(VLOOKUP(A445,'Tipos de activos'!$F$2:$G$5,2,0),0)","v":0},null,0]
[null,null,null,null,null,null,null,null,null,null,0,{"$f":"IFERROR(VLOOKUP(A446,'Tipos de activos'!$F$2:$G$5,2,0),0)","v":0},null,0]
[null,null,null,null,null,null,null,null,null,null,0,{"$f":"IFERROR(VLOOKUP(A447,'Tipos de activos'!$F$2:$G$5,2,0),0)","v":0},null,0]
[null,null,null,null,null,null,null,null,null,null,0,{"$f":"IFERROR(VLOOKUP(A448,'Tipos de activos'!$F$2:$G$5,2,0),0)","v":0},null,0]
[null,null,null,null,null,null,null,null,null,null,0,{"$f":"IFERROR(VLOOKUP(A449,'Tipos de activos'!$F$2:$G$5,2,0),0)","v":0},null,0]
[null,null,null,null,null,null,null,null,null,null,0,{"$f":"IFERROR(VLOOKUP(A450,'Tipos de activos'!$F$2:$G$5,2,0),0)","v":0},null,0]
[null,null,null,null,null,null,null,null,null,null,0,{"$f":"IFERROR(VLOOKUP(A451,'Tipos de activos'!$F$2:$G$5,2,0),0)","v":0},null,0]
[null,null,null,null,null,null,null,null,null,null,0,{"$f":"IFERROR(VLOOKUP(A452,'Tipos de activos'!$F$2:$G$5,2,0),0)","v":0},null,0]
[null,null,null,null,null,null,null,null,null,null,0,{"$f":"IFERROR(VLOOKUP(A453,'Tipos de activos'!$F$2:$G$5,2,0),0)","v":0},null,0]
[null,null,null,null,null,null,null,null,null,null,0,{"$f":"IFERROR(VLOOKUP(A454,'Tipos de activos'!$F$2:$G$5,2,0),0)","v":0},null,0]
[null,null,null,null,null,null,null,null,null,null,0,{"$f":"IFERROR(VLOOKUP(A455,'Tipos de activos'!$F$2:$G$5,2,0),0)","v":0},null,0]
[null,null,null,null,null,null,null,null,null,null,0,{"$f":"IFERROR(VLOOKUP(A456,'Tipos de activos'!$F$2:$G$5,2,0),0)","v":0},null,0]
[null,null,null,null,null,null,null,null,null,null,0,{"$f":"IFERROR(VLOOKUP(A457,'Tipos de activos'!$F$2:$G$5,2,0),0)","v":0},null,0]
[null,null,null,null,null,null,null,null,null,null,0,{"$f":"IFERROR(VLOOKUP(A458,'Tipos de activos'!$F$2:$G$5,2,0),0)","v":0},null,0]
[null,null,null,null,null,null,null,null,null,null,0,{"$f":"IFERROR(VLOOKUP(A459,'Tipos de activos'!$F$2:$G$5,2,0),0)","v":0},null,0]
[null,null,null,null,null,null,null,null,null,null,0,{"$f":"IFERROR(VLOOKUP(A460,'Tipos de activos'!$F$2:$G$5,2,0),0)","v":0},null,0]
[null,null,null,null,null,null,null,null,null,null,0,{"$f":"IFERROR(VLOOKUP(A461,'Tipos de activos'!$F$2:$G$5,2,0),0)","v":0},null,0]
[null,null,null,null,null,null,null,null,null,null,0,{"$f":"IFERROR(VLOOKUP(A462,'Tipos de activos'!$F$2:$G$5,2,0),0)","v":0},null,0]
[null,null,null,null,null,null,null,null,null,null,0,{"$f":"IFERROR(VLOOKUP(A463,'Tipos de activos'!$F$2:$G$5,2,0),0)","v":0},null,0]
[null,null,null,null,null,null,null,null,null,null,0,{"$f":"IFERROR(VLOOKUP(A464,'Tipos de activos'!$F$2:$G$5,2,0),0)","v":0},null,0]
[null,null,null,null,null,null,null,null,null,null,0,{"$f":"IFERROR(VLOOKUP(A465,'Tipos de activos'!$F$2:$G$5,2,0),0)","v":0},null,{"$f":"+K465*L465","v":0}]
[null,null,null,null,null,null,null,null,null,null,0,{"$f":"IFERROR(VLOOKUP(A466,'Tipos de activos'!$F$2:$G$5,2,0),0)","v":0},null,0]
[null,null,null,null,null,null,null,null,null,null,0,{"$f":"IFERROR(VLOOKUP(A467,'Tipos de activos'!$F$2:$G$5,2,0),0)","v":0},null,0]
[null,null,null,null,null,null,null,null,null,null,0,{"$f":"IFERROR(VLOOKUP(A468,'Tipos de activos'!$F$2:$G$5,2,0),0)","v":0},null,0]
[null,null,null,null,null,null,null,null,null,null,0,{"$f":"IFERROR(VLOOKUP(A469,'Tipos de activos'!$F$2:$G$5,2,0),0)","v":0},null,0]
[null,null,null,null,null,null,null,null,null,null,0,{"$f":"IFERROR(VLOOKUP(A470,'Tipos de activos'!$F$2:$G$5,2,0),0)","v":0},null,0]
[null,null,null,null,null,null,null,null,null,null,0,{"$f":"IFERROR(VLOOKUP(A471,'Tipos de activos'!$F$2:$G$5,2,0),0)","v":0},null,0]
[null,null,null,null,null,null,null,null,null,null,0,{"$f":"IFERROR(VLOOKUP(A472,'Tipos de activos'!$F$2:$G$5,2,0),0)","v":0},null,0]
[null,null,null,null,null,null,null,null,null,null,{"$f":"+I473-J473","v":0},{"$f":"IFERROR(VLOOKUP(A473,'Tipos de activos'!$F$2:$G$5,2,0),0)","v":0},null,0]
[null,null,null,null,null,null,null,null,null,null,0,{"$f":"IFERROR(VLOOKUP(A474,'Tipos de activos'!$F$2:$G$5,2,0),0)","v":0},null,0]
[null,null,null,null,null,null,null,null,null,null,0,{"$f":"IFERROR(VLOOKUP(A475,'Tipos de activos'!$F$2:$G$5,2,0),0)","v":0},null,0]
[null,null,null,null,null,null,null,null,null,null,0,{"$f":"IFERROR(VLOOKUP(A476,'Tipos de activos'!$F$2:$G$5,2,0),0)","v":0},null,0]
[null,null,null,null,null,null,null,null,null,null,0,{"$f":"IFERROR(VLOOKUP(A477,'Tipos de activos'!$F$2:$G$5,2,0),0)","v":0},null,0]
[null,null,null,null,null,null,null,null,null,null,0,{"$f":"IFERROR(VLOOKUP(A478,'Tipos de activos'!$F$2:$G$5,2,0),0)","v":0},null,0]
[null,null,null,null,null,null,null,null,null,null,0,{"$f":"IFERROR(VLOOKUP(A479,'Tipos de activos'!$F$2:$G$5,2,0),0)","v":0},null,0]
[null,null,null,null,null,null,null,null,null,null,0,{"$f":"IFERROR(VLOOKUP(A480,'Tipos de activos'!$F$2:$G$5,2,0),0)","v":0},null,0]
[null,null,null,null,null,null,null,null,null,null,0,{"$f":"IFERROR(VLOOKUP(A481,'Tipos de activos'!$F$2:$G$5,2,0),0)","v":0},null,0]
[null,null,null,null,null,null,null,null,null,null,0,{"$f":"IFERROR(VLOOKUP(A482,'Tipos de activos'!$F$2:$G$5,2,0),0)","v":0},null,0]
[null,null,null,null,null,null,null,null,null,null,0,{"$f":"IFERROR(VLOOKUP(A483,'Tipos de activos'!$F$2:$G$5,2,0),0)","v":0},null,0]
[null,null,null,null,null,null,null,null,null,null,0,{"$f":"IFERROR(VLOOKUP(A484,'Tipos de activos'!$F$2:$G$5,2,0),0)","v":0},null,0]
[null,null,null,null,null,null,null,null,null,null,0,{"$f":"IFERROR(VLOOKUP(A485,'Tipos de activos'!$F$2:$G$5,2,0),0)","v":0},null,0]
[null,null,null,null,null,null,null,null,null,null,0,{"$f":"IFERROR(VLOOKUP(A486,'Tipos de activos'!$F$2:$G$5,2,0),0)","v":0},null,0]
[null,null,null,null,null,null,null,null,null,null,0,{"$f":"IFERROR(VLOOKUP(A487,'Tipos de activos'!$F$2:$G$5,2,0),0)","v":0},null,0]
[null,null,null,null,null,null,null,null,null,null,0,{"$f":"IFERROR(VLOOKUP(A488,'Tipos de activos'!$F$2:$G$5,2,0),0)","v":0},null,0]
[null,null,null,null,null,null,null,null,null,null,0,{"$f":"IFERROR(VLOOKUP(A489,'Tipos de activos'!$F$2:$G$5,2,0),0)","v":0},null,0]
[null,null,null,null,null,null,null,null,null,null,0,{"$f":"IFERROR(VLOOKUP(A490,'Tipos de activos'!$F$2:$G$5,2,0),0)","v":0},null,0]
[null,null,null,null,null,null,null,null,null,null,0,{"$f":"IFERROR(VLOOKUP(A491,'Tipos de activos'!$F$2:$G$5,2,0),0)","v":0},null,0]
[null,null,null,null,null,null,null,null,null,null,0,{"$f":"IFERROR(VLOOKUP(A492,'Tipos de activos'!$F$2:$G$5,2,0),0)","v":0},null,0]
[null,null,null,null,null,null,null,null,null,null,0,{"$f":"IFERROR(VLOOKUP(A493,'Tipos de activos'!$F$2:$G$5,2,0),0)","v":0},null,0]
[null,null,null,null,null,null,null,null,null,null,0,{"$f":"IFERROR(VLOOKUP(A494,'Tipos de activos'!$F$2:$G$5,2,0),0)","v":0},null,0]
[null,null,null,null,null,null,null,null,null,null,0,{"$f":"IFERROR(VLOOKUP(A495,'Tipos de activos'!$F$2:$G$5,2,0),0)","v":0},null,0]
[null,null,null,null,null,null,null,null,null,null,0,{"$f":"IFERROR(VLOOKUP(A496,'Tipos de activos'!$F$2:$G$5,2,0),0)","v":0},null,0]
[null,null,null,null,null,null,null,null,null,null,0,{"$f":"IFERROR(VLOOKUP(A497,'Tipos de activos'!$F$2:$G$5,2,0),0)","v":0},null,0]
[null,null,null,null,null,null,null,null,null,null,0,{"$f":"IFERROR(VLOOKUP(A498,'Tipos de activos'!$F$2:$G$5,2,0),0)","v":0},null,0]
[null,null,null,null,null,null,null,null,null,null,0,{"$f":"IFERROR(VLOOKUP(A499,'Tipos de activos'!$F$2:$G$5,2,0),0)","v":0},null,0]
[null,null,null,null,null,null,null,null,null,null,0,{"$f":"IFERROR(VLOOKUP(A500,'Tipos de activos'!$F$2:$G$5,2,0),0)","v":0},null,0]
[null,null,null,null,null,null,null,null,null,null,0,{"$f":"IFERROR(VLOOKUP(A501,'Tipos de activos'!$F$2:$G$5,2,0),0)","v":0},null,0]
[null,null,null,null,null,null,null,null,null,null,0,{"$f":"IFERROR(VLOOKUP(A502,'Tipos de activos'!$F$2:$G$5,2,0),0)","v":0},null,0]
[null,null,null,null,null,null,null,null,null,null,0,{"$f":"IFERROR(VLOOKUP(A503,'Tipos de activos'!$F$2:$G$5,2,0),0)","v":0},null,0]
[null,null,null,null,null,null,null,null,null,null,0,{"$f":"IFERROR(VLOOKUP(A504,'Tipos de activos'!$F$2:$G$5,2,0),0)","v":0},null,0]
[null,null,null,null,null,null,null,null,null,null,0,{"$f":"IFERROR(VLOOKUP(A505,'Tipos de activos'!$F$2:$G$5,2,0),0)","v":0},null,0]
[null,null,null,null,null,null,null,null,null,null,0,{"$f":"IFERROR(VLOOKUP(A506,'Tipos de activos'!$F$2:$G$5,2,0),0)","v":0},null,0]
[null,null,null,null,null,null,null,null,null,null,0,{"$f":"IFERROR(VLOOKUP(A507,'Tipos de activos'!$F$2:$G$5,2,0),0)","v":0},null,0]
[null,null,null,null,null,null,null,null,null,null,0,{"$f":"IFERROR(VLOOKUP(A508,'Tipos de activos'!$F$2:$G$5,2,0),0)","v":0},null,0]
[null,null,null,null,null,null,null,null,null,null,0,{"$f":"IFERROR(VLOOKUP(A509,'Tipos de activos'!$F$2:$G$5,2,0),0)","v":0},null,0]
[null,null,null,null,null,null,null,null,null,null,0,{"$f":"IFERROR(VLOOKUP(A510,'Tipos de activos'!$F$2:$G$5,2,0),0)","v":0},null,0]
[null,null,null,null,null,null,null,null,null,null,0,{"$f":"IFERROR(VLOOKUP(A511,'Tipos de activos'!$F$2:$G$5,2,0),0)","v":0},null,0]
[null,null,null,null,null,null,null,null,null,null,0,{"$f":"IFERROR(VLOOKUP(A512,'Tipos de activos'!$F$2:$G$5,2,0),0)","v":0},null,0]
[null,null,null,null,null,null,null,null,null,null,0,{"$f":"IFERROR(VLOOKUP(A513,'Tipos de activos'!$F$2:$G$5,2,0),0)","v":0},null,0]
[null,null,null,null,null,null,null,null,null,null,0,{"$f":"IFERROR(VLOOKUP(A514,'Tipos de activos'!$F$2:$G$5,2,0),0)","v":0},null,0]
[null,null,null,null,null,null,null,null,null,null,0,{"$f":"IFERROR(VLOOKUP(A515,'Tipos de activos'!$F$2:$G$5,2,0),0)","v":0},null,0]
[null,null,null,null,null,null,null,null,null,null,0,{"$f":"IFERROR(VLOOKUP(A516,'Tipos de activos'!$F$2:$G$5,2,0),0)","v":0},null,0]
[null,null,null,null,null,null,null,null,null,null,0,{"$f":"IFERROR(VLOOKUP(A517,'Tipos de activos'!$F$2:$G$5,2,0),0)","v":0},null,0]
[null,null,null,null,null,null,null,null,null,null,0,{"$f":"IFERROR(VLOOKUP(A518,'Tipos de activos'!$F$2:$G$5,2,0),0)","v":0},null,0]
[null,null,null,null,null,null,null,null,null,null,0,{"$f":"IFERROR(VLOOKUP(A519,'Tipos de activos'!$F$2:$G$5,2,0),0)","v":0},null,0]
[null,null,null,null,null,null,null,null,null,null,0,{"$f":"IFERROR(VLOOKUP(A520,'Tipos de activos'!$F$2:$G$5,2,0),0)","v":0},null,0]
[null,null,null,null,null,null,null,null,null,null,0,{"$f":"IFERROR(VLOOKUP(A521,'Tipos de activos'!$F$2:$G$5,2,0),0)","v":0},null,0]
[null,null,null,null,null,null,null,null,null,null,0,{"$f":"IFERROR(VLOOKUP(A522,'Tipos de activos'!$F$2:$G$5,2,0),0)","v":0},null,0]
[null,null,null,null,null,null,null,null,null,null,0,{"$f":"IFERROR(VLOOKUP(A523,'Tipos de activos'!$F$2:$G$5,2,0),0)","v":0},null,0]
[null,null,null,null,null,null,null,null,null,null,0,{"$f":"IFERROR(VLOOKUP(A524,'Tipos de activos'!$F$2:$G$5,2,0),0)","v":0},null,0]
[null,null,null,null,null,null,null,null,null,null,0,{"$f":"IFERROR(VLOOKUP(A525,'Tipos de activos'!$F$2:$G$5,2,0),0)","v":0},null,0]
[null,null,null,null,null,null,null,null,null,null,0,{"$f":"IFERROR(VLOOKUP(A526,'Tipos de activos'!$F$2:$G$5,2,0),0)","v":0},null,0]
[null,null,null,null,null,null,null,null,null,null,0,{"$f":"IFERROR(VLOOKUP(A527,'Tipos de activos'!$F$2:$G$5,2,0),0)","v":0},null,0]
[null,null,null,null,null,null,null,null,null,null,0,{"$f":"IFERROR(VLOOKUP(A528,'Tipos de activos'!$F$2:$G$5,2,0),0)","v":0},null,0]
[null,null,null,null,null,null,null,null,null,null,0,{"$f":"IFERROR(VLOOKUP(A529,'Tipos de activos'!$F$2:$G$5,2,0),0)","v":0},null,{"$f":"+K529*L529","v":0}]
[null,null,null,null,null,null,null,null,null,null,0,{"$f":"IFERROR(VLOOKUP(A530,'Tipos de activos'!$F$2:$G$5,2,0),0)","v":0},null,0]
[null,null,null,null,null,null,null,null,null,null,0,{"$f":"IFERROR(VLOOKUP(A531,'Tipos de activos'!$F$2:$G$5,2,0),0)","v":0},null,0]
[null,null,null,null,null,null,null,null,null,null,0,{"$f":"IFERROR(VLOOKUP(A532,'Tipos de activos'!$F$2:$G$5,2,0),0)","v":0},null,0]
[null,null,null,null,null,null,null,null,null,null,0,{"$f":"IFERROR(VLOOKUP(A533,'Tipos de activos'!$F$2:$G$5,2,0),0)","v":0},null,0]
[null,null,null,null,null,null,null,null,null,null,0,{"$f":"IFERROR(VLOOKUP(A534,'Tipos de activos'!$F$2:$G$5,2,0),0)","v":0},null,0]
[null,null,null,null,null,null,null,null,null,null,0,{"$f":"IFERROR(VLOOKUP(A535,'Tipos de activos'!$F$2:$G$5,2,0),0)","v":0},null,0]
[null,null,null,null,null,null,null,null,null,null,0,{"$f":"IFERROR(VLOOKUP(A536,'Tipos de activos'!$F$2:$G$5,2,0),0)","v":0},null,0]
[null,null,null,null,null,null,null,null,null,null,{"$f":"+I537-J537","v":0},{"$f":"IFERROR(VLOOKUP(A537,'Tipos de activos'!$F$2:$G$5,2,0),0)","v":0},null,0]
[null,null,null,null,null,null,null,null,null,null,0,{"$f":"IFERROR(VLOOKUP(A538,'Tipos de activos'!$F$2:$G$5,2,0),0)","v":0},null,0]
[null,null,null,null,null,null,null,null,null,null,0,{"$f":"IFERROR(VLOOKUP(A539,'Tipos de activos'!$F$2:$G$5,2,0),0)","v":0},null,0]
[null,null,null,null,null,null,null,null,null,null,0,{"$f":"IFERROR(VLOOKUP(A540,'Tipos de activos'!$F$2:$G$5,2,0),0)","v":0},null,0]
[null,null,null,null,null,null,null,null,null,null,0,{"$f":"IFERROR(VLOOKUP(A541,'Tipos de activos'!$F$2:$G$5,2,0),0)","v":0},null,0]
[null,null,null,null,null,null,null,null,null,null,0,{"$f":"IFERROR(VLOOKUP(A542,'Tipos de activos'!$F$2:$G$5,2,0),0)","v":0},null,0]
[null,null,null,null,null,null,null,null,null,null,0,{"$f":"IFERROR(VLOOKUP(A543,'Tipos de activos'!$F$2:$G$5,2,0),0)","v":0},null,0]
[null,null,null,null,null,null,null,null,null,null,0,{"$f":"IFERROR(VLOOKUP(A544,'Tipos de activos'!$F$2:$G$5,2,0),0)","v":0},null,0]
[null,null,null,null,null,null,null,null,null,null,0,{"$f":"IFERROR(VLOOKUP(A545,'Tipos de activos'!$F$2:$G$5,2,0),0)","v":0},null,0]
[null,null,null,null,null,null,null,null,null,null,0,{"$f":"IFERROR(VLOOKUP(A546,'Tipos de activos'!$F$2:$G$5,2,0),0)","v":0},null,0]
[null,null,null,null,null,null,null,null,null,null,0,{"$f":"IFERROR(VLOOKUP(A547,'Tipos de activos'!$F$2:$G$5,2,0),0)","v":0},null,0]
[null,null,null,null,null,null,null,null,null,null,0,{"$f":"IFERROR(VLOOKUP(A548,'Tipos de activos'!$F$2:$G$5,2,0),0)","v":0},null,0]
[null,null,null,null,null,null,null,null,null,null,0,{"$f":"IFERROR(VLOOKUP(A549,'Tipos de activos'!$F$2:$G$5,2,0),0)","v":0},null,0]
[null,null,null,null,null,null,null,null,null,null,0,{"$f":"IFERROR(VLOOKUP(A550,'Tipos de activos'!$F$2:$G$5,2,0),0)","v":0},null,0]
[null,null,null,null,null,null,null,null,null,null,0,{"$f":"IFERROR(VLOOKUP(A551,'Tipos de activos'!$F$2:$G$5,2,0),0)","v":0},null,0]
[null,null,null,null,null,null,null,null,null,null,0,{"$f":"IFERROR(VLOOKUP(A552,'Tipos de activos'!$F$2:$G$5,2,0),0)","v":0},null,0]
[null,null,null,null,null,null,null,null,null,null,0,{"$f":"IFERROR(VLOOKUP(A553,'Tipos de activos'!$F$2:$G$5,2,0),0)","v":0},null,0]
[null,null,null,null,null,null,null,null,null,null,0,{"$f":"IFERROR(VLOOKUP(A554,'Tipos de activos'!$F$2:$G$5,2,0),0)","v":0},null,0]
[null,null,null,null,null,null,null,null,null,null,0,{"$f":"IFERROR(VLOOKUP(A555,'Tipos de activos'!$F$2:$G$5,2,0),0)","v":0},null,0]
[null,null,null,null,null,null,null,null,null,null,0,{"$f":"IFERROR(VLOOKUP(A556,'Tipos de activos'!$F$2:$G$5,2,0),0)","v":0},null,0]
[null,null,null,null,null,null,null,null,null,null,0,{"$f":"IFERROR(VLOOKUP(A557,'Tipos de activos'!$F$2:$G$5,2,0),0)","v":0},null,0]
[null,null,null,null,null,null,null,null,null,null,0,{"$f":"IFERROR(VLOOKUP(A558,'Tipos de activos'!$F$2:$G$5,2,0),0)","v":0},null,0]
[null,null,null,null,null,null,null,null,null,null,0,{"$f":"IFERROR(VLOOKUP(A559,'Tipos de activos'!$F$2:$G$5,2,0),0)","v":0},null,0]
[null,null,null,null,null,null,null,null,null,null,0,{"$f":"IFERROR(VLOOKUP(A560,'Tipos de activos'!$F$2:$G$5,2,0),0)","v":0},null,0]
[null,null,null,null,null,null,null,null,null,null,0,{"$f":"IFERROR(VLOOKUP(A561,'Tipos de activos'!$F$2:$G$5,2,0),0)","v":0},null,0]
[null,null,null,null,null,null,null,null,null,null,0,{"$f":"IFERROR(VLOOKUP(A562,'Tipos de activos'!$F$2:$G$5,2,0),0)","v":0},null,0]
[null,null,null,null,null,null,null,null,null,null,0,{"$f":"IFERROR(VLOOKUP(A563,'Tipos de activos'!$F$2:$G$5,2,0),0)","v":0},null,0]
[null,null,null,null,null,null,null,null,null,null,0,{"$f":"IFERROR(VLOOKUP(A564,'Tipos de activos'!$F$2:$G$5,2,0),0)","v":0},null,0]
[null,null,null,null,null,null,null,null,null,null,0,{"$f":"IFERROR(VLOOKUP(A565,'Tipos de activos'!$F$2:$G$5,2,0),0)","v":0},null,0]
[null,null,null,null,null,null,null,null,null,null,0,{"$f":"IFERROR(VLOOKUP(A566,'Tipos de activos'!$F$2:$G$5,2,0),0)","v":0},null,0]
[null,null,null,null,null,null,null,null,null,null,0,{"$f":"IFERROR(VLOOKUP(A567,'Tipos de activos'!$F$2:$G$5,2,0),0)","v":0},null,0]
[null,null,null,null,null,null,null,null,null,null,0,{"$f":"IFERROR(VLOOKUP(A568,'Tipos de activos'!$F$2:$G$5,2,0),0)","v":0},null,0]
[null,null,null,null,null,null,null,null,null,null,0,{"$f":"IFERROR(VLOOKUP(A569,'Tipos de activos'!$F$2:$G$5,2,0),0)","v":0},null,0]
[null,null,null,null,null,null,null,null,null,null,0,{"$f":"IFERROR(VLOOKUP(A570,'Tipos de activos'!$F$2:$G$5,2,0),0)","v":0},null,0]
[null,null,null,null,null,null,null,null,null,null,0,{"$f":"IFERROR(VLOOKUP(A571,'Tipos de activos'!$F$2:$G$5,2,0),0)","v":0},null,0]
[null,null,null,null,null,null,null,null,null,null,0,{"$f":"IFERROR(VLOOKUP(A572,'Tipos de activos'!$F$2:$G$5,2,0),0)","v":0},null,0]
[null,null,null,null,null,null,null,null,null,null,0,{"$f":"IFERROR(VLOOKUP(A573,'Tipos de activos'!$F$2:$G$5,2,0),0)","v":0},null,0]
[null,null,null,null,null,null,null,null,null,null,0,{"$f":"IFERROR(VLOOKUP(A574,'Tipos de activos'!$F$2:$G$5,2,0),0)","v":0},null,0]
[null,null,null,null,null,null,null,null,null,null,0,{"$f":"IFERROR(VLOOKUP(A575,'Tipos de activos'!$F$2:$G$5,2,0),0)","v":0},null,0]
[null,null,null,null,null,null,null,null,null,null,0,{"$f":"IFERROR(VLOOKUP(A576,'Tipos de activos'!$F$2:$G$5,2,0),0)","v":0},null,0]
[null,null,null,null,null,null,null,null,null,null,0,{"$f":"IFERROR(VLOOKUP(A577,'Tipos de activos'!$F$2:$G$5,2,0),0)","v":0},null,0]
[null,null,null,null,null,null,null,null,null,null,0,{"$f":"IFERROR(VLOOKUP(A578,'Tipos de activos'!$F$2:$G$5,2,0),0)","v":0},null,0]
[null,null,null,null,null,null,null,null,null,null,0,{"$f":"IFERROR(VLOOKUP(A579,'Tipos de activos'!$F$2:$G$5,2,0),0)","v":0},null,0]
[null,null,null,null,null,null,null,null,null,null,0,{"$f":"IFERROR(VLOOKUP(A580,'Tipos de activos'!$F$2:$G$5,2,0),0)","v":0},null,0]
[null,null,null,null,null,null,null,null,null,null,0,{"$f":"IFERROR(VLOOKUP(A581,'Tipos de activos'!$F$2:$G$5,2,0),0)","v":0},null,0]
[null,null,null,null,null,null,null,null,null,null,0,{"$f":"IFERROR(VLOOKUP(A582,'Tipos de activos'!$F$2:$G$5,2,0),0)","v":0},null,0]
[null,null,null,null,null,null,null,null,null,null,0,{"$f":"IFERROR(VLOOKUP(A583,'Tipos de activos'!$F$2:$G$5,2,0),0)","v":0},null,0]
[null,null,null,null,null,null,null,null,null,null,0,{"$f":"IFERROR(VLOOKUP(A584,'Tipos de activos'!$F$2:$G$5,2,0),0)","v":0},null,0]
[null,null,null,null,null,null,null,null,null,null,0,{"$f":"IFERROR(VLOOKUP(A585,'Tipos de activos'!$F$2:$G$5,2,0),0)","v":0},null,0]
[null,null,null,null,null,null,null,null,null,null,0,{"$f":"IFERROR(VLOOKUP(A586,'Tipos de activos'!$F$2:$G$5,2,0),0)","v":0},null,0]
[null,null,null,null,null,null,null,null,null,null,0,{"$f":"IFERROR(VLOOKUP(A587,'Tipos de activos'!$F$2:$G$5,2,0),0)","v":0},null,0]
[null,null,null,null,null,null,null,null,null,null,0,{"$f":"IFERROR(VLOOKUP(A588,'Tipos de activos'!$F$2:$G$5,2,0),0)","v":0},null,0]
[null,null,null,null,null,null,null,null,null,null,0,{"$f":"IFERROR(VLOOKUP(A589,'Tipos de activos'!$F$2:$G$5,2,0),0)","v":0},null,0]
[null,null,null,null,null,null,null,null,null,null,0,{"$f":"IFERROR(VLOOKUP(A590,'Tipos de activos'!$F$2:$G$5,2,0),0)","v":0},null,0]
[null,null,null,null,null,null,null,null,null,null,0,{"$f":"IFERROR(VLOOKUP(A591,'Tipos de activos'!$F$2:$G$5,2,0),0)","v":0},null,0]
[null,null,null,null,null,null,null,null,null,null,0,{"$f":"IFERROR(VLOOKUP(A592,'Tipos de activos'!$F$2:$G$5,2,0),0)","v":0},null,0]
[null,null,null,null,null,null,null,null,null,null,0,{"$f":"IFERROR(VLOOKUP(A593,'Tipos de activos'!$F$2:$G$5,2,0),0)","v":0},null,{"$f":"+K593*L593","v":0}]
[null,null,null,null,null,null,null,null,null,null,0,{"$f":"IFERROR(VLOOKUP(A594,'Tipos de activos'!$F$2:$G$5,2,0),0)","v":0},null,0]
[null,null,null,null,null,null,null,null,null,null,0,{"$f":"IFERROR(VLOOKUP(A595,'Tipos de activos'!$F$2:$G$5,2,0),0)","v":0},null,0]
[null,null,null,null,null,null,null,null,null,null,0,{"$f":"IFERROR(VLOOKUP(A596,'Tipos de activos'!$F$2:$G$5,2,0),0)","v":0},null,0]
[null,null,null,null,null,null,null,null,null,null,0,{"$f":"IFERROR(VLOOKUP(A597,'Tipos de activos'!$F$2:$G$5,2,0),0)","v":0},null,0]
[null,null,null,null,null,null,null,null,null,null,0,{"$f":"IFERROR(VLOOKUP(A598,'Tipos de activos'!$F$2:$G$5,2,0),0)","v":0},null,0]
[null,null,null,null,null,null,null,null,null,null,0,{"$f":"IFERROR(VLOOKUP(A599,'Tipos de activos'!$F$2:$G$5,2,0),0)","v":0},null,0]
[null,null,null,null,null,null,null,null,null,null,0,{"$f":"IFERROR(VLOOKUP(A600,'Tipos de activos'!$F$2:$G$5,2,0),0)","v":0},null,0]
[null,null,null,null,null,null,null,null,null,null,{"$f":"+I601-J601","v":0},{"$f":"IFERROR(VLOOKUP(A601,'Tipos de activos'!$F$2:$G$5,2,0),0)","v":0},null,0]
[null,null,null,null,null,null,null,null,null,null,0,{"$f":"IFERROR(VLOOKUP(A602,'Tipos de activos'!$F$2:$G$5,2,0),0)","v":0},null,0]
[null,null,null,null,null,null,null,null,null,null,0,{"$f":"IFERROR(VLOOKUP(A603,'Tipos de activos'!$F$2:$G$5,2,0),0)","v":0},null,0]
[null,null,null,null,null,null,null,null,null,null,0,{"$f":"IFERROR(VLOOKUP(A604,'Tipos de activos'!$F$2:$G$5,2,0),0)","v":0},null,0]
[null,null,null,null,null,null,null,null,null,null,0,{"$f":"IFERROR(VLOOKUP(A605,'Tipos de activos'!$F$2:$G$5,2,0),0)","v":0},null,0]
[null,null,null,null,null,null,null,null,null,null,0,{"$f":"IFERROR(VLOOKUP(A606,'Tipos de activos'!$F$2:$G$5,2,0),0)","v":0},null,0]
[null,null,null,null,null,null,null,null,null,null,0,{"$f":"IFERROR(VLOOKUP(A607,'Tipos de activos'!$F$2:$G$5,2,0),0)","v":0},null,0]
[null,null,null,null,null,null,null,null,null,null,0,{"$f":"IFERROR(VLOOKUP(A608,'Tipos de activos'!$F$2:$G$5,2,0),0)","v":0},null,0]
[null,null,null,null,null,null,null,null,null,null,0,{"$f":"IFERROR(VLOOKUP(A609,'Tipos de activos'!$F$2:$G$5,2,0),0)","v":0},null,0]
[null,null,null,null,null,null,null,null,null,null,0,{"$f":"IFERROR(VLOOKUP(A610,'Tipos de activos'!$F$2:$G$5,2,0),0)","v":0},null,0]
[null,null,null,null,null,null,null,null,null,null,0,{"$f":"IFERROR(VLOOKUP(A611,'Tipos de activos'!$F$2:$G$5,2,0),0)","v":0},null,0]
[null,null,null,null,null,null,null,null,null,null,0,{"$f":"IFERROR(VLOOKUP(A612,'Tipos de activos'!$F$2:$G$5,2,0),0)","v":0},null,0]
[null,null,null,null,null,null,null,null,null,null,0,{"$f":"IFERROR(VLOOKUP(A613,'Tipos de activos'!$F$2:$G$5,2,0),0)","v":0},null,0]
[null,null,null,null,null,null,null,null,null,null,0,{"$f":"IFERROR(VLOOKUP(A614,'Tipos de activos'!$F$2:$G$5,2,0),0)","v":0},null,0]
[null,null,null,null,null,null,null,null,null,null,0,{"$f":"IFERROR(VLOOKUP(A615,'Tipos de activos'!$F$2:$G$5,2,0),0)","v":0},null,0]
[null,null,null,null,null,null,null,null,null,null,0,{"$f":"IFERROR(VLOOKUP(A616,'Tipos de activos'!$F$2:$G$5,2,0),0)","v":0},null,0]
[null,null,null,null,null,null,null,null,null,null,0,{"$f":"IFERROR(VLOOKUP(A617,'Tipos de activos'!$F$2:$G$5,2,0),0)","v":0},null,0]
[null,null,null,null,null,null,null,null,null,null,0,{"$f":"IFERROR(VLOOKUP(A618,'Tipos de activos'!$F$2:$G$5,2,0),0)","v":0},null,0]
[null,null,null,null,null,null,null,null,null,null,0,{"$f":"IFERROR(VLOOKUP(A619,'Tipos de activos'!$F$2:$G$5,2,0),0)","v":0},null,0]
[null,null,null,null,null,null,null,null,null,null,0,{"$f":"IFERROR(VLOOKUP(A620,'Tipos de activos'!$F$2:$G$5,2,0),0)","v":0},null,0]
[null,null,null,null,null,null,null,null,null,null,0,{"$f":"IFERROR(VLOOKUP(A621,'Tipos de activos'!$F$2:$G$5,2,0),0)","v":0},null,0]
[null,null,null,null,null,null,null,null,null,null,0,{"$f":"IFERROR(VLOOKUP(A622,'Tipos de activos'!$F$2:$G$5,2,0),0)","v":0},null,0]
[null,null,null,null,null,null,null,null,null,null,0,{"$f":"IFERROR(VLOOKUP(A623,'Tipos de activos'!$F$2:$G$5,2,0),0)","v":0},null,0]
[null,null,null,null,null,null,null,null,null,null,0,{"$f":"IFERROR(VLOOKUP(A624,'Tipos de activos'!$F$2:$G$5,2,0),0)","v":0},null,0]
[null,null,null,null,null,null,null,null,null,null,0,{"$f":"IFERROR(VLOOKUP(A625,'Tipos de activos'!$F$2:$G$5,2,0),0)","v":0},null,0]
[null,null,null,null,null,null,null,null,null,null,0,{"$f":"IFERROR(VLOOKUP(A626,'Tipos de activos'!$F$2:$G$5,2,0),0)","v":0},null,0]
[null,null,null,null,null,null,null,null,null,null,0,{"$f":"IFERROR(VLOOKUP(A627,'Tipos de activos'!$F$2:$G$5,2,0),0)","v":0},null,0]
[null,null,null,null,null,null,null,null,null,null,0,{"$f":"IFERROR(VLOOKUP(A628,'Tipos de activos'!$F$2:$G$5,2,0),0)","v":0},null,0]
[null,null,null,null,null,null,null,null,null,null,0,{"$f":"IFERROR(VLOOKUP(A629,'Tipos de activos'!$F$2:$G$5,2,0),0)","v":0},null,0]
[null,null,null,null,null,null,null,null,null,null,0,{"$f":"IFERROR(VLOOKUP(A630,'Tipos de activos'!$F$2:$G$5,2,0),0)","v":0},null,0]
[null,null,null,null,null,null,null,null,null,null,0,{"$f":"IFERROR(VLOOKUP(A631,'Tipos de activos'!$F$2:$G$5,2,0),0)","v":0},null,0]
[null,null,null,null,null,null,null,null,null,null,0,{"$f":"IFERROR(VLOOKUP(A632,'Tipos de activos'!$F$2:$G$5,2,0),0)","v":0},null,0]
[null,null,null,null,null,null,null,null,null,null,0,{"$f":"IFERROR(VLOOKUP(A633,'Tipos de activos'!$F$2:$G$5,2,0),0)","v":0},null,0]
[null,null,null,null,null,null,null,null,null,null,0,{"$f":"IFERROR(VLOOKUP(A634,'Tipos de activos'!$F$2:$G$5,2,0),0)","v":0},null,0]
[null,null,null,null,null,null,null,null,null,null,0,{"$f":"IFERROR(VLOOKUP(A635,'Tipos de activos'!$F$2:$G$5,2,0),0)","v":0},null,0]
[null,null,null,null,null,null,null,null,null,null,0,{"$f":"IFERROR(VLOOKUP(A636,'Tipos de activos'!$F$2:$G$5,2,0),0)","v":0},null,0]
[null,null,null,null,null,null,null,null,null,null,0,{"$f":"IFERROR(VLOOKUP(A637,'Tipos de activos'!$F$2:$G$5,2,0),0)","v":0},null,0]
[null,null,null,null,null,null,null,null,null,null,0,{"$f":"IFERROR(VLOOKUP(A638,'Tipos de activos'!$F$2:$G$5,2,0),0)","v":0},null,0]
[null,null,null,null,null,null,null,null,null,null,0,{"$f":"IFERROR(VLOOKUP(A639,'Tipos de activos'!$F$2:$G$5,2,0),0)","v":0},null,0]
[null,null,null,null,null,null,null,null,null,null,0,{"$f":"IFERROR(VLOOKUP(A640,'Tipos de activos'!$F$2:$G$5,2,0),0)","v":0},null,0]
[null,null,null,null,null,null,null,null,null,null,0,{"$f":"IFERROR(VLOOKUP(A641,'Tipos de activos'!$F$2:$G$5,2,0),0)","v":0},null,0]
[null,null,null,null,null,null,null,null,null,null,0,{"$f":"IFERROR(VLOOKUP(A642,'Tipos de activos'!$F$2:$G$5,2,0),0)","v":0},null,0]
[null,null,null,null,null,null,null,null,null,null,0,{"$f":"IFERROR(VLOOKUP(A643,'Tipos de activos'!$F$2:$G$5,2,0),0)","v":0},null,0]
[null,null,null,null,null,null,null,null,null,null,0,{"$f":"IFERROR(VLOOKUP(A644,'Tipos de activos'!$F$2:$G$5,2,0),0)","v":0},null,0]
[null,null,null,null,null,null,null,null,null,null,0,{"$f":"IFERROR(VLOOKUP(A645,'Tipos de activos'!$F$2:$G$5,2,0),0)","v":0},null,0]
[null,null,null,null,null,null,null,null,null,null,0,{"$f":"IFERROR(VLOOKUP(A646,'Tipos de activos'!$F$2:$G$5,2,0),0)","v":0},null,0]
[null,null,null,null,null,null,null,null,null,null,0,{"$f":"IFERROR(VLOOKUP(A647,'Tipos de activos'!$F$2:$G$5,2,0),0)","v":0},null,0]
[null,null,null,null,null,null,null,null,null,null,0,{"$f":"IFERROR(VLOOKUP(A648,'Tipos de activos'!$F$2:$G$5,2,0),0)","v":0},null,0]
[null,null,null,null,null,null,null,null,null,null,0,{"$f":"IFERROR(VLOOKUP(A649,'Tipos de activos'!$F$2:$G$5,2,0),0)","v":0},null,0]
[null,null,null,null,null,null,null,null,null,null,0,{"$f":"IFERROR(VLOOKUP(A650,'Tipos de activos'!$F$2:$G$5,2,0),0)","v":0},null,0]
[null,null,null,null,null,null,null,null,null,null,0,{"$f":"IFERROR(VLOOKUP(A651,'Tipos de activos'!$F$2:$G$5,2,0),0)","v":0},null,0]
[null,null,null,null,null,null,null,null,null,null,0,{"$f":"IFERROR(VLOOKUP(A652,'Tipos de activos'!$F$2:$G$5,2,0),0)","v":0},null,0]
[null,null,null,null,null,null,null,null,null,null,0,{"$f":"IFERROR(VLOOKUP(A653,'Tipos de activos'!$F$2:$G$5,2,0),0)","v":0},null,0]
[null,null,null,null,null,null,null,null,null,null,0,{"$f":"IFERROR(VLOOKUP(A654,'Tipos de activos'!$F$2:$G$5,2,0),0)","v":0},null,0]
[null,null,null,null,null,null,null,null,null,null,0,{"$f":"IFERROR(VLOOKUP(A655,'Tipos de activos'!$F$2:$G$5,2,0),0)","v":0},null,0]
[null,null,null,null,null,null,null,null,null,null,0,{"$f":"IFERROR(VLOOKUP(A656,'Tipos de activos'!$F$2:$G$5,2,0),0)","v":0},null,0]
[null,null,null,null,null,null,null,null,null,null,0,{"$f":"IFERROR(VLOOKUP(A657,'Tipos de activos'!$F$2:$G$5,2,0),0)","v":0},null,{"$f":"+K657*L657","v":0}]
[null,null,null,null,null,null,null,null,null,null,0,{"$f":"IFERROR(VLOOKUP(A658,'Tipos de activos'!$F$2:$G$5,2,0),0)","v":0},null,0]
[null,null,null,null,null,null,null,null,null,null,0,{"$f":"IFERROR(VLOOKUP(A659,'Tipos de activos'!$F$2:$G$5,2,0),0)","v":0},null,0]
[null,null,null,null,null,null,null,null,null,null,0,{"$f":"IFERROR(VLOOKUP(A660,'Tipos de activos'!$F$2:$G$5,2,0),0)","v":0},null,0]
[null,null,null,null,null,null,null,null,null,null,0,{"$f":"IFERROR(VLOOKUP(A661,'Tipos de activos'!$F$2:$G$5,2,0),0)","v":0},null,0]
[null,null,null,null,null,null,null,null,null,null,0,{"$f":"IFERROR(VLOOKUP(A662,'Tipos de activos'!$F$2:$G$5,2,0),0)","v":0},null,0]
[null,null,null,null,null,null,null,null,null,null,0,{"$f":"IFERROR(VLOOKUP(A663,'Tipos de activos'!$F$2:$G$5,2,0),0)","v":0},null,0]
[null,null,null,null,null,null,null,null,null,null,0,{"$f":"IFERROR(VLOOKUP(A664,'Tipos de activos'!$F$2:$G$5,2,0),0)","v":0},null,0]
[null,null,null,null,null,null,null,null,null,null,{"$f":"+I665-J665","v":0},{"$f":"IFERROR(VLOOKUP(A665,'Tipos de activos'!$F$2:$G$5,2,0),0)","v":0},null,0]
[null,null,null,null,null,null,null,null,null,null,0,{"$f":"IFERROR(VLOOKUP(A666,'Tipos de activos'!$F$2:$G$5,2,0),0)","v":0},null,0]
[null,null,null,null,null,null,null,null,null,null,0,{"$f":"IFERROR(VLOOKUP(A667,'Tipos de activos'!$F$2:$G$5,2,0),0)","v":0},null,0]
[null,null,null,null,null,null,null,null,null,null,0,{"$f":"IFERROR(VLOOKUP(A668,'Tipos de activos'!$F$2:$G$5,2,0),0)","v":0},null,0]
[null,null,null,null,null,null,null,null,null,null,0,{"$f":"IFERROR(VLOOKUP(A669,'Tipos de activos'!$F$2:$G$5,2,0),0)","v":0},null,0]
[null,null,null,null,null,null,null,null,null,null,0,{"$f":"IFERROR(VLOOKUP(A670,'Tipos de activos'!$F$2:$G$5,2,0),0)","v":0},null,0]
[null,null,null,null,null,null,null,null,null,null,0,{"$f":"IFERROR(VLOOKUP(A671,'Tipos de activos'!$F$2:$G$5,2,0),0)","v":0},null,0]
[null,null,null,null,null,null,null,null,null,null,0,{"$f":"IFERROR(VLOOKUP(A672,'Tipos de activos'!$F$2:$G$5,2,0),0)","v":0},null,0]
[null,null,null,null,null,null,null,null,null,null,0,{"$f":"IFERROR(VLOOKUP(A673,'Tipos de activos'!$F$2:$G$5,2,0),0)","v":0},null,0]
[null,null,null,null,null,null,null,null,null,null,0,{"$f":"IFERROR(VLOOKUP(A674,'Tipos de activos'!$F$2:$G$5,2,0),0)","v":0},null,0]
[null,null,null,null,null,null,null,null,null,null,0,{"$f":"IFERROR(VLOOKUP(A675,'Tipos de activos'!$F$2:$G$5,2,0),0)","v":0},null,0]
[null,null,null,null,null,null,null,null,null,null,0,{"$f":"IFERROR(VLOOKUP(A676,'Tipos de activos'!$F$2:$G$5,2,0),0)","v":0},null,0]
[null,null,null,null,null,null,null,null,null,null,0,{"$f":"IFERROR(VLOOKUP(A677,'Tipos de activos'!$F$2:$G$5,2,0),0)","v":0},null,0]
[null,null,null,null,null,null,null,null,null,null,0,{"$f":"IFERROR(VLOOKUP(A678,'Tipos de activos'!$F$2:$G$5,2,0),0)","v":0},null,0]
[null,null,null,null,null,null,null,null,null,null,0,{"$f":"IFERROR(VLOOKUP(A679,'Tipos de activos'!$F$2:$G$5,2,0),0)","v":0},null,0]
[null,null,null,null,null,null,null,null,null,null,0,{"$f":"IFERROR(VLOOKUP(A680,'Tipos de activos'!$F$2:$G$5,2,0),0)","v":0},null,0]
[null,null,null,null,null,null,null,null,null,null,0,{"$f":"IFERROR(VLOOKUP(A681,'Tipos de activos'!$F$2:$G$5,2,0),0)","v":0},null,0]
[null,null,null,null,null,null,null,null,null,null,0,{"$f":"IFERROR(VLOOKUP(A682,'Tipos de activos'!$F$2:$G$5,2,0),0)","v":0},null,0]
[null,null,null,null,null,null,null,null,null,null,0,{"$f":"IFERROR(VLOOKUP(A683,'Tipos de activos'!$F$2:$G$5,2,0),0)","v":0},null,0]
[null,null,null,null,null,null,null,null,null,null,0,{"$f":"IFERROR(VLOOKUP(A684,'Tipos de activos'!$F$2:$G$5,2,0),0)","v":0},null,0]
[null,null,null,null,null,null,null,null,null,null,0,{"$f":"IFERROR(VLOOKUP(A685,'Tipos de activos'!$F$2:$G$5,2,0),0)","v":0},null,0]
[null,null,null,null,null,null,null,null,null,null,0,{"$f":"IFERROR(VLOOKUP(A686,'Tipos de activos'!$F$2:$G$5,2,0),0)","v":0},null,0]
[null,null,null,null,null,null,null,null,null,null,0,{"$f":"IFERROR(VLOOKUP(A687,'Tipos de activos'!$F$2:$G$5,2,0),0)","v":0},null,0]
[null,null,null,null,null,null,null,null,null,null,0,{"$f":"IFERROR(VLOOKUP(A688,'Tipos de activos'!$F$2:$G$5,2,0),0)","v":0},null,0]
[null,null,null,null,null,null,null,null,null,null,0,{"$f":"IFERROR(VLOOKUP(A689,'Tipos de activos'!$F$2:$G$5,2,0),0)","v":0},null,0]
[null,null,null,null,null,null,null,null,null,null,0,{"$f":"IFERROR(VLOOKUP(A690,'Tipos de activos'!$F$2:$G$5,2,0),0)","v":0},null,0]
[null,null,null,null,null,null,null,null,null,null,0,{"$f":"IFERROR(VLOOKUP(A691,'Tipos de activos'!$F$2:$G$5,2,0),0)","v":0},null,0]
[null,null,null,null,null,null,null,null,null,null,0,{"$f":"IFERROR(VLOOKUP(A692,'Tipos de activos'!$F$2:$G$5,2,0),0)","v":0},null,0]
[null,null,null,null,null,null,null,null,null,null,0,{"$f":"IFERROR(VLOOKUP(A693,'Tipos de activos'!$F$2:$G$5,2,0),0)","v":0},null,0]
[null,null,null,null,null,null,null,null,null,null,0,{"$f":"IFERROR(VLOOKUP(A694,'Tipos de activos'!$F$2:$G$5,2,0),0)","v":0},null,0]
[null,null,null,null,null,null,null,null,null,null,0,{"$f":"IFERROR(VLOOKUP(A695,'Tipos de activos'!$F$2:$G$5,2,0),0)","v":0},null,0]
[null,null,null,null,null,null,null,null,null,null,0,{"$f":"IFERROR(VLOOKUP(A696,'Tipos de activos'!$F$2:$G$5,2,0),0)","v":0},null,0]
[null,null,null,null,null,null,null,null,null,null,0,{"$f":"IFERROR(VLOOKUP(A697,'Tipos de activos'!$F$2:$G$5,2,0),0)","v":0},null,0]
[null,null,null,null,null,null,null,null,null,null,0,{"$f":"IFERROR(VLOOKUP(A698,'Tipos de activos'!$F$2:$G$5,2,0),0)","v":0},null,0]
[null,null,null,null,null,null,null,null,null,null,0,{"$f":"IFERROR(VLOOKUP(A699,'Tipos de activos'!$F$2:$G$5,2,0),0)","v":0},null,0]
[null,null,null,null,null,null,null,null,null,null,0,{"$f":"IFERROR(VLOOKUP(A700,'Tipos de activos'!$F$2:$G$5,2,0),0)","v":0},null,0]
[null,null,null,null,null,null,null,null,null,null,0,{"$f":"IFERROR(VLOOKUP(A701,'Tipos de activos'!$F$2:$G$5,2,0),0)","v":0},null,0]
[null,null,null,null,null,null,null,null,null,null,0,{"$f":"IFERROR(VLOOKUP(A702,'Tipos de activos'!$F$2:$G$5,2,0),0)","v":0},null,0]
[null,null,null,null,null,null,null,null,null,null,0,{"$f":"IFERROR(VLOOKUP(A703,'Tipos de activos'!$F$2:$G$5,2,0),0)","v":0},null,0]
[null,null,null,null,null,null,null,null,null,null,0,{"$f":"IFERROR(VLOOKUP(A704,'Tipos de activos'!$F$2:$G$5,2,0),0)","v":0},null,0]
[null,null,null,null,null,null,null,null,null,null,0,{"$f":"IFERROR(VLOOKUP(A705,'Tipos de activos'!$F$2:$G$5,2,0),0)","v":0},null,0]
[null,null,null,null,null,null,null,null,null,null,0,{"$f":"IFERROR(VLOOKUP(A706,'Tipos de activos'!$F$2:$G$5,2,0),0)","v":0},null,0]
[null,null,null,null,null,null,null,null,null,null,0,{"$f":"IFERROR(VLOOKUP(A707,'Tipos de activos'!$F$2:$G$5,2,0),0)","v":0},null,0]
[null,null,null,null,null,null,null,null,null,null,0,{"$f":"IFERROR(VLOOKUP(A708,'Tipos de activos'!$F$2:$G$5,2,0),0)","v":0},null,0]
[null,null,null,null,null,null,null,null,null,null,0,{"$f":"IFERROR(VLOOKUP(A709,'Tipos de activos'!$F$2:$G$5,2,0),0)","v":0},null,0]
[null,null,null,null,null,null,null,null,null,null,0,{"$f":"IFERROR(VLOOKUP(A710,'Tipos de activos'!$F$2:$G$5,2,0),0)","v":0},null,0]
[null,null,null,null,null,null,null,null,null,null,0,{"$f":"IFERROR(VLOOKUP(A711,'Tipos de activos'!$F$2:$G$5,2,0),0)","v":0},null,0]
[null,null,null,null,null,null,null,null,null,null,0,{"$f":"IFERROR(VLOOKUP(A712,'Tipos de activos'!$F$2:$G$5,2,0),0)","v":0},null,0]
[null,null,null,null,null,null,null,null,null,null,0,{"$f":"IFERROR(VLOOKUP(A713,'Tipos de activos'!$F$2:$G$5,2,0),0)","v":0},null,0]
[null,null,null,null,null,null,null,null,null,null,0,{"$f":"IFERROR(VLOOKUP(A714,'Tipos de activos'!$F$2:$G$5,2,0),0)","v":0},null,0]
[null,null,null,null,null,null,null,null,null,null,0,{"$f":"IFERROR(VLOOKUP(A715,'Tipos de activos'!$F$2:$G$5,2,0),0)","v":0},null,0]
[null,null,null,null,null,null,null,null,null,null,0,{"$f":"IFERROR(VLOOKUP(A716,'Tipos de activos'!$F$2:$G$5,2,0),0)","v":0},null,0]
[null,null,null,null,null,null,null,null,null,null,0,{"$f":"IFERROR(VLOOKUP(A717,'Tipos de activos'!$F$2:$G$5,2,0),0)","v":0},null,0]
[null,null,null,null,null,null,null,null,null,null,0,{"$f":"IFERROR(VLOOKUP(A718,'Tipos de activos'!$F$2:$G$5,2,0),0)","v":0},null,0]
[null,null,null,null,null,null,null,null,null,null,0,{"$f":"IFERROR(VLOOKUP(A719,'Tipos de activos'!$F$2:$G$5,2,0),0)","v":0},null,0]
[null,null,null,null,null,null,null,null,null,null,0,{"$f":"IFERROR(VLOOKUP(A720,'Tipos de activos'!$F$2:$G$5,2,0),0)","v":0},null,0]
[null,null,null,null,null,null,null,null,null,null,0,{"$f":"IFERROR(VLOOKUP(A721,'Tipos de activos'!$F$2:$G$5,2,0),0)","v":0},null,{"$f":"+K721*L721","v":0}]
[null,null,null,null,null,null,null,null,null,null,0,{"$f":"IFERROR(VLOOKUP(A722,'Tipos de activos'!$F$2:$G$5,2,0),0)","v":0},null,0]
[null,null,null,null,null,null,null,null,null,null,0,{"$f":"IFERROR(VLOOKUP(A723,'Tipos de activos'!$F$2:$G$5,2,0),0)","v":0},null,0]
[null,null,null,null,null,null,null,null,null,null,0,{"$f":"IFERROR(VLOOKUP(A724,'Tipos de activos'!$F$2:$G$5,2,0),0)","v":0},null,0]
[null,null,null,null,null,null,null,null,null,null,0,{"$f":"IFERROR(VLOOKUP(A725,'Tipos de activos'!$F$2:$G$5,2,0),0)","v":0},null,0]
[null,null,null,null,null,null,null,null,null,null,0,{"$f":"IFERROR(VLOOKUP(A726,'Tipos de activos'!$F$2:$G$5,2,0),0)","v":0},null,0]
[null,null,null,null,null,null,null,null,null,null,0,{"$f":"IFERROR(VLOOKUP(A727,'Tipos de activos'!$F$2:$G$5,2,0),0)","v":0},null,0]
[null,null,null,null,null,null,null,null,null,null,0,{"$f":"IFERROR(VLOOKUP(A728,'Tipos de activos'!$F$2:$G$5,2,0),0)","v":0},null,0]
[null,null,null,null,null,null,null,null,null,null,{"$f":"+I729-J729","v":0},{"$f":"IFERROR(VLOOKUP(A729,'Tipos de activos'!$F$2:$G$5,2,0),0)","v":0},null,0]
[null,null,null,null,null,null,null,null,null,null,0,{"$f":"IFERROR(VLOOKUP(A730,'Tipos de activos'!$F$2:$G$5,2,0),0)","v":0},null,0]
[null,null,null,null,null,null,null,null,null,null,0,{"$f":"IFERROR(VLOOKUP(A731,'Tipos de activos'!$F$2:$G$5,2,0),0)","v":0},null,0]
[null,null,null,null,null,null,null,null,null,null,0,{"$f":"IFERROR(VLOOKUP(A732,'Tipos de activos'!$F$2:$G$5,2,0),0)","v":0},null,0]
[null,null,null,null,null,null,null,null,null,null,0,{"$f":"IFERROR(VLOOKUP(A733,'Tipos de activos'!$F$2:$G$5,2,0),0)","v":0},null,0]
[null,null,null,null,null,null,null,null,null,null,0,{"$f":"IFERROR(VLOOKUP(A734,'Tipos de activos'!$F$2:$G$5,2,0),0)","v":0},null,0]
[null,null,null,null,null,null,null,null,null,null,0,{"$f":"IFERROR(VLOOKUP(A735,'Tipos de activos'!$F$2:$G$5,2,0),0)","v":0},null,0]
[null,null,null,null,null,null,null,null,null,null,0,{"$f":"IFERROR(VLOOKUP(A736,'Tipos de activos'!$F$2:$G$5,2,0),0)","v":0},null,0]
[null,null,null,null,null,null,null,null,null,null,0,{"$f":"IFERROR(VLOOKUP(A737,'Tipos de activos'!$F$2:$G$5,2,0),0)","v":0},null,0]
[null,null,null,null,null,null,null,null,null,null,0,{"$f":"IFERROR(VLOOKUP(A738,'Tipos de activos'!$F$2:$G$5,2,0),0)","v":0},null,0]
[null,null,null,null,null,null,null,null,null,null,0,{"$f":"IFERROR(VLOOKUP(A739,'Tipos de activos'!$F$2:$G$5,2,0),0)","v":0},null,0]
[null,null,null,null,null,null,null,null,null,null,0,{"$f":"IFERROR(VLOOKUP(A740,'Tipos de activos'!$F$2:$G$5,2,0),0)","v":0},null,0]
[null,null,null,null,null,null,null,null,null,null,0,{"$f":"IFERROR(VLOOKUP(A741,'Tipos de activos'!$F$2:$G$5,2,0),0)","v":0},null,0]
[null,null,null,null,null,null,null,null,null,null,0,{"$f":"IFERROR(VLOOKUP(A742,'Tipos de activos'!$F$2:$G$5,2,0),0)","v":0},null,0]
[null,null,null,null,null,null,null,null,null,null,0,{"$f":"IFERROR(VLOOKUP(A743,'Tipos de activos'!$F$2:$G$5,2,0),0)","v":0},null,0]
[null,null,null,null,null,null,null,null,null,null,0,{"$f":"IFERROR(VLOOKUP(A744,'Tipos de activos'!$F$2:$G$5,2,0),0)","v":0},null,0]
[null,null,null,null,null,null,null,null,null,null,0,{"$f":"IFERROR(VLOOKUP(A745,'Tipos de activos'!$F$2:$G$5,2,0),0)","v":0},null,0]
[null,null,null,null,null,null,null,null,null,null,0,{"$f":"IFERROR(VLOOKUP(A746,'Tipos de activos'!$F$2:$G$5,2,0),0)","v":0},null,0]
[null,null,null,null,null,null,null,null,null,null,0,{"$f":"IFERROR(VLOOKUP(A747,'Tipos de activos'!$F$2:$G$5,2,0),0)","v":0},null,0]
[null,null,null,null,null,null,null,null,null,null,0,{"$f":"IFERROR(VLOOKUP(A748,'Tipos de activos'!$F$2:$G$5,2,0),0)","v":0},null,0]
[null,null,null,null,null,null,null,null,null,null,0,{"$f":"IFERROR(VLOOKUP(A749,'Tipos de activos'!$F$2:$G$5,2,0),0)","v":0},null,0]
[null,null,null,null,null,null,null,null,null,null,0,{"$f":"IFERROR(VLOOKUP(A750,'Tipos de activos'!$F$2:$G$5,2,0),0)","v":0},null,0]
[null,null,null,null,null,null,null,null,null,null,0,{"$f":"IFERROR(VLOOKUP(A751,'Tipos de activos'!$F$2:$G$5,2,0),0)","v":0},null,0]
[null,null,null,null,null,null,null,null,null,null,0,{"$f":"IFERROR(VLOOKUP(A752,'Tipos de activos'!$F$2:$G$5,2,0),0)","v":0},null,0]
[null,null,null,null,null,null,null,null,null,null,0,{"$f":"IFERROR(VLOOKUP(A753,'Tipos de activos'!$F$2:$G$5,2,0),0)","v":0},null,0]
[null,null,null,null,null,null,null,null,null,null,0,{"$f":"IFERROR(VLOOKUP(A754,'Tipos de activos'!$F$2:$G$5,2,0),0)","v":0},null,0]
[null,null,null,null,null,null,null,null,null,null,0,{"$f":"IFERROR(VLOOKUP(A755,'Tipos de activos'!$F$2:$G$5,2,0),0)","v":0},null,0]
[null,null,null,null,null,null,null,null,null,null,0,{"$f":"IFERROR(VLOOKUP(A756,'Tipos de activos'!$F$2:$G$5,2,0),0)","v":0},null,0]
[null,null,null,null,null,null,null,null,null,null,0,{"$f":"IFERROR(VLOOKUP(A757,'Tipos de activos'!$F$2:$G$5,2,0),0)","v":0},null,0]
[null,null,null,null,null,null,null,null,null,null,0,{"$f":"IFERROR(VLOOKUP(A758,'Tipos de activos'!$F$2:$G$5,2,0),0)","v":0},null,0]
[null,null,null,null,null,null,null,null,null,null,0,{"$f":"IFERROR(VLOOKUP(A759,'Tipos de activos'!$F$2:$G$5,2,0),0)","v":0},null,0]
[null,null,null,null,null,null,null,null,null,null,0,{"$f":"IFERROR(VLOOKUP(A760,'Tipos de activos'!$F$2:$G$5,2,0),0)","v":0},null,0]
[null,null,null,null,null,null,null,null,null,null,0,{"$f":"IFERROR(VLOOKUP(A761,'Tipos de activos'!$F$2:$G$5,2,0),0)","v":0},null,0]
[null,null,null,null,null,null,null,null,null,null,0,{"$f":"IFERROR(VLOOKUP(A762,'Tipos de activos'!$F$2:$G$5,2,0),0)","v":0},null,0]
[null,null,null,null,null,null,null,null,null,null,0,{"$f":"IFERROR(VLOOKUP(A763,'Tipos de activos'!$F$2:$G$5,2,0),0)","v":0},null,0]
[null,null,null,null,null,null,null,null,null,null,0,{"$f":"IFERROR(VLOOKUP(A764,'Tipos de activos'!$F$2:$G$5,2,0),0)","v":0},null,0]
[null,null,null,null,null,null,null,null,null,null,0,{"$f":"IFERROR(VLOOKUP(A765,'Tipos de activos'!$F$2:$G$5,2,0),0)","v":0},null,0]
[null,null,null,null,null,null,null,null,null,null,0,{"$f":"IFERROR(VLOOKUP(A766,'Tipos de activos'!$F$2:$G$5,2,0),0)","v":0},null,0]
[null,null,null,null,null,null,null,null,null,null,0,{"$f":"IFERROR(VLOOKUP(A767,'Tipos de activos'!$F$2:$G$5,2,0),0)","v":0},null,0]
[null,null,null,null,null,null,null,null,null,null,0,{"$f":"IFERROR(VLOOKUP(A768,'Tipos de activos'!$F$2:$G$5,2,0),0)","v":0},null,0]
[null,null,null,null,null,null,null,null,null,null,0,{"$f":"IFERROR(VLOOKUP(A769,'Tipos de activos'!$F$2:$G$5,2,0),0)","v":0},null,0]
[null,null,null,null,null,null,null,null,null,null,0,{"$f":"IFERROR(VLOOKUP(A770,'Tipos de activos'!$F$2:$G$5,2,0),0)","v":0},null,0]
[null,null,null,null,null,null,null,null,null,null,0,{"$f":"IFERROR(VLOOKUP(A771,'Tipos de activos'!$F$2:$G$5,2,0),0)","v":0},null,0]
[null,null,null,null,null,null,null,null,null,null,0,{"$f":"IFERROR(VLOOKUP(A772,'Tipos de activos'!$F$2:$G$5,2,0),0)","v":0},null,0]
[null,null,null,null,null,null,null,null,null,null,0,{"$f":"IFERROR(VLOOKUP(A773,'Tipos de activos'!$F$2:$G$5,2,0),0)","v":0},null,0]
[null,null,null,null,null,null,null,null,null,null,0,{"$f":"IFERROR(VLOOKUP(A774,'Tipos de activos'!$F$2:$G$5,2,0),0)","v":0},null,0]
[null,null,null,null,null,null,null,null,null,null,0,{"$f":"IFERROR(VLOOKUP(A775,'Tipos de activos'!$F$2:$G$5,2,0),0)","v":0},null,0]
[null,null,null,null,null,null,null,null,null,null,0,{"$f":"IFERROR(VLOOKUP(A776,'Tipos de activos'!$F$2:$G$5,2,0),0)","v":0},null,0]
[null,null,null,null,null,null,null,null,null,null,0,{"$f":"IFERROR(VLOOKUP(A777,'Tipos de activos'!$F$2:$G$5,2,0),0)","v":0},null,0]
[null,null,null,null,null,null,null,null,null,null,0,{"$f":"IFERROR(VLOOKUP(A778,'Tipos de activos'!$F$2:$G$5,2,0),0)","v":0},null,0]
[null,null,null,null,null,null,null,null,null,null,0,{"$f":"IFERROR(VLOOKUP(A779,'Tipos de activos'!$F$2:$G$5,2,0),0)","v":0},null,0]
[null,null,null,null,null,null,null,null,null,null,0,{"$f":"IFERROR(VLOOKUP(A780,'Tipos de activos'!$F$2:$G$5,2,0),0)","v":0},null,0]
[null,null,null,null,null,null,null,null,null,null,0,{"$f":"IFERROR(VLOOKUP(A781,'Tipos de activos'!$F$2:$G$5,2,0),0)","v":0},null,0]
[null,null,null,null,null,null,null,null,null,null,0,{"$f":"IFERROR(VLOOKUP(A782,'Tipos de activos'!$F$2:$G$5,2,0),0)","v":0},null,0]
[null,null,null,null,null,null,null,null,null,null,0,{"$f":"IFERROR(VLOOKUP(A783,'Tipos de activos'!$F$2:$G$5,2,0),0)","v":0},null,0]
[null,null,null,null,null,null,null,null,null,null,0,{"$f":"IFERROR(VLOOKUP(A784,'Tipos de activos'!$F$2:$G$5,2,0),0)","v":0},null,0]
[null,null,null,null,null,null,null,null,null,null,0,{"$f":"IFERROR(VLOOKUP(A785,'Tipos de activos'!$F$2:$G$5,2,0),0)","v":0},null,{"$f":"+K785*L785","v":0}]
[null,null,null,null,null,null,null,null,null,null,0,{"$f":"IFERROR(VLOOKUP(A786,'Tipos de activos'!$F$2:$G$5,2,0),0)","v":0},null,0]
[null,null,null,null,null,null,null,null,null,null,0,{"$f":"IFERROR(VLOOKUP(A787,'Tipos de activos'!$F$2:$G$5,2,0),0)","v":0},null,0]
[null,null,null,null,null,null,null,null,null,null,0,{"$f":"IFERROR(VLOOKUP(A788,'Tipos de activos'!$F$2:$G$5,2,0),0)","v":0},null,0]
[null,null,null,null,null,null,null,null,null,null,0,{"$f":"IFERROR(VLOOKUP(A789,'Tipos de activos'!$F$2:$G$5,2,0),0)","v":0},null,0]
[null,null,null,null,null,null,null,null,null,null,0,{"$f":"IFERROR(VLOOKUP(A790,'Tipos de activos'!$F$2:$G$5,2,0),0)","v":0},null,0]
[null,null,null,null,null,null,null,null,null,null,0,{"$f":"IFERROR(VLOOKUP(A791,'Tipos de activos'!$F$2:$G$5,2,0),0)","v":0},null,0]
[null,null,null,null,null,null,null,null,null,null,0,{"$f":"IFERROR(VLOOKUP(A792,'Tipos de activos'!$F$2:$G$5,2,0),0)","v":0},null,0]
[null,null,null,null,null,null,null,null,null,null,{"$f":"+I793-J793","v":0},{"$f":"IFERROR(VLOOKUP(A793,'Tipos de activos'!$F$2:$G$5,2,0),0)","v":0},null,0]
[null,null,null,null,null,null,null,null,null,null,0,{"$f":"IFERROR(VLOOKUP(A794,'Tipos de activos'!$F$2:$G$5,2,0),0)","v":0},null,0]
[null,null,null,null,null,null,null,null,null,null,0,{"$f":"IFERROR(VLOOKUP(A795,'Tipos de activos'!$F$2:$G$5,2,0),0)","v":0},null,0]
[null,null,null,null,null,null,null,null,null,null,0,{"$f":"IFERROR(VLOOKUP(A796,'Tipos de activos'!$F$2:$G$5,2,0),0)","v":0},null,0]
[null,null,null,null,null,null,null,null,null,null,0,{"$f":"IFERROR(VLOOKUP(A797,'Tipos de activos'!$F$2:$G$5,2,0),0)","v":0},null,0]
[null,null,null,null,null,null,null,null,null,null,0,{"$f":"IFERROR(VLOOKUP(A798,'Tipos de activos'!$F$2:$G$5,2,0),0)","v":0},null,0]
[null,null,null,null,null,null,null,null,null,null,0,{"$f":"IFERROR(VLOOKUP(A799,'Tipos de activos'!$F$2:$G$5,2,0),0)","v":0},null,0]
[null,null,null,null,null,null,null,null,null,null,0,{"$f":"IFERROR(VLOOKUP(A800,'Tipos de activos'!$F$2:$G$5,2,0),0)","v":0},null,0]
[null,null,null,null,null,null,null,null,null,null,0,{"$f":"IFERROR(VLOOKUP(A801,'Tipos de activos'!$F$2:$G$5,2,0),0)","v":0},null,0]
[null,null,null,null,null,null,null,null,null,null,0,{"$f":"IFERROR(VLOOKUP(A802,'Tipos de activos'!$F$2:$G$5,2,0),0)","v":0},null,0]
[null,null,null,null,null,null,null,null,null,null,0,{"$f":"IFERROR(VLOOKUP(A803,'Tipos de activos'!$F$2:$G$5,2,0),0)","v":0},null,0]
[null,null,null,null,null,null,null,null,null,null,0,{"$f":"IFERROR(VLOOKUP(A804,'Tipos de activos'!$F$2:$G$5,2,0),0)","v":0},null,0]
[null,null,null,null,null,null,null,null,null,null,0,{"$f":"IFERROR(VLOOKUP(A805,'Tipos de activos'!$F$2:$G$5,2,0),0)","v":0},null,0]
[null,null,null,null,null,null,null,null,null,null,0,{"$f":"IFERROR(VLOOKUP(A806,'Tipos de activos'!$F$2:$G$5,2,0),0)","v":0},null,0]
[null,null,null,null,null,null,null,null,null,null,0,{"$f":"IFERROR(VLOOKUP(A807,'Tipos de activos'!$F$2:$G$5,2,0),0)","v":0},null,0]
[null,null,null,null,null,null,null,null,null,null,0,{"$f":"IFERROR(VLOOKUP(A808,'Tipos de activos'!$F$2:$G$5,2,0),0)","v":0},null,0]
[null,null,null,null,null,null,null,null,null,null,0,{"$f":"IFERROR(VLOOKUP(A809,'Tipos de activos'!$F$2:$G$5,2,0),0)","v":0},null,0]
[null,null,null,null,null,null,null,null,null,null,0,{"$f":"IFERROR(VLOOKUP(A810,'Tipos de activos'!$F$2:$G$5,2,0),0)","v":0},null,0]
[null,null,null,null,null,null,null,null,null,null,0,{"$f":"IFERROR(VLOOKUP(A811,'Tipos de activos'!$F$2:$G$5,2,0),0)","v":0},null,0]
[null,null,null,null,null,null,null,null,null,null,0,{"$f":"IFERROR(VLOOKUP(A812,'Tipos de activos'!$F$2:$G$5,2,0),0)","v":0},null,0]
[null,null,null,null,null,null,null,null,null,null,0,{"$f":"IFERROR(VLOOKUP(A813,'Tipos de activos'!$F$2:$G$5,2,0),0)","v":0},null,0]
[null,null,null,null,null,null,null,null,null,null,0,{"$f":"IFERROR(VLOOKUP(A814,'Tipos de activos'!$F$2:$G$5,2,0),0)","v":0},null,0]
[null,null,null,null,null,null,null,null,null,null,0,{"$f":"IFERROR(VLOOKUP(A815,'Tipos de activos'!$F$2:$G$5,2,0),0)","v":0},null,0]
[null,null,null,null,null,null,null,null,null,null,0,{"$f":"IFERROR(VLOOKUP(A816,'Tipos de activos'!$F$2:$G$5,2,0),0)","v":0},null,0]
[null,null,null,null,null,null,null,null,null,null,0,{"$f":"IFERROR(VLOOKUP(A817,'Tipos de activos'!$F$2:$G$5,2,0),0)","v":0},null,0]
[null,null,null,null,null,null,null,null,null,null,0,{"$f":"IFERROR(VLOOKUP(A818,'Tipos de activos'!$F$2:$G$5,2,0),0)","v":0},null,0]
[null,null,null,null,null,null,null,null,null,null,0,{"$f":"IFERROR(VLOOKUP(A819,'Tipos de activos'!$F$2:$G$5,2,0),0)","v":0},null,0]
[null,null,null,null,null,null,null,null,null,null,0,{"$f":"IFERROR(VLOOKUP(A820,'Tipos de activos'!$F$2:$G$5,2,0),0)","v":0},null,0]
[null,null,null,null,null,null,null,null,null,null,0,{"$f":"IFERROR(VLOOKUP(A821,'Tipos de activos'!$F$2:$G$5,2,0),0)","v":0},null,0]
[null,null,null,null,null,null,null,null,null,null,0,{"$f":"IFERROR(VLOOKUP(A822,'Tipos de activos'!$F$2:$G$5,2,0),0)","v":0},null,0]
[null,null,null,null,null,null,null,null,null,null,0,{"$f":"IFERROR(VLOOKUP(A823,'Tipos de activos'!$F$2:$G$5,2,0),0)","v":0},null,0]
[null,null,null,null,null,null,null,null,null,null,0,{"$f":"IFERROR(VLOOKUP(A824,'Tipos de activos'!$F$2:$G$5,2,0),0)","v":0},null,0]
[null,null,null,null,null,null,null,null,null,null,0,{"$f":"IFERROR(VLOOKUP(A825,'Tipos de activos'!$F$2:$G$5,2,0),0)","v":0},null,0]
[null,null,null,null,null,null,null,null,null,null,0,{"$f":"IFERROR(VLOOKUP(A826,'Tipos de activos'!$F$2:$G$5,2,0),0)","v":0},null,0]
[null,null,null,null,null,null,null,null,null,null,0,{"$f":"IFERROR(VLOOKUP(A827,'Tipos de activos'!$F$2:$G$5,2,0),0)","v":0},null,0]
[null,null,null,null,null,null,null,null,null,null,0,{"$f":"IFERROR(VLOOKUP(A828,'Tipos de activos'!$F$2:$G$5,2,0),0)","v":0},null,0]
[null,null,null,null,null,null,null,null,null,null,0,{"$f":"IFERROR(VLOOKUP(A829,'Tipos de activos'!$F$2:$G$5,2,0),0)","v":0},null,0]
[null,null,null,null,null,null,null,null,null,null,0,{"$f":"IFERROR(VLOOKUP(A830,'Tipos de activos'!$F$2:$G$5,2,0),0)","v":0},null,0]
[null,null,null,null,null,null,null,null,null,null,0,{"$f":"IFERROR(VLOOKUP(A831,'Tipos de activos'!$F$2:$G$5,2,0),0)","v":0},null,0]
[null,null,null,null,null,null,null,null,null,null,0,{"$f":"IFERROR(VLOOKUP(A832,'Tipos de activos'!$F$2:$G$5,2,0),0)","v":0},null,0]
[null,null,null,null,null,null,null,null,null,null,0,{"$f":"IFERROR(VLOOKUP(A833,'Tipos de activos'!$F$2:$G$5,2,0),0)","v":0},null,0]
[null,null,null,null,null,null,null,null,null,null,0,{"$f":"IFERROR(VLOOKUP(A834,'Tipos de activos'!$F$2:$G$5,2,0),0)","v":0},null,0]
[null,null,null,null,null,null,null,null,null,null,0,{"$f":"IFERROR(VLOOKUP(A835,'Tipos de activos'!$F$2:$G$5,2,0),0)","v":0},null,0]
[null,null,null,null,null,null,null,null,null,null,0,{"$f":"IFERROR(VLOOKUP(A836,'Tipos de activos'!$F$2:$G$5,2,0),0)","v":0},null,0]
[null,null,null,null,null,null,null,null,null,null,0,{"$f":"IFERROR(VLOOKUP(A837,'Tipos de activos'!$F$2:$G$5,2,0),0)","v":0},null,0]
[null,null,null,null,null,null,null,null,null,null,0,{"$f":"IFERROR(VLOOKUP(A838,'Tipos de activos'!$F$2:$G$5,2,0),0)","v":0},null,0]
[null,null,null,null,null,null,null,null,null,null,0,{"$f":"IFERROR(VLOOKUP(A839,'Tipos de activos'!$F$2:$G$5,2,0),0)","v":0},null,0]
[null,null,null,null,null,null,null,null,null,null,0,{"$f":"IFERROR(VLOOKUP(A840,'Tipos de activos'!$F$2:$G$5,2,0),0)","v":0},null,0]
[null,null,null,null,null,null,null,null,null,null,0,{"$f":"IFERROR(VLOOKUP(A841,'Tipos de activos'!$F$2:$G$5,2,0),0)","v":0},null,0]
[null,null,null,null,null,null,null,null,null,null,0,{"$f":"IFERROR(VLOOKUP(A842,'Tipos de activos'!$F$2:$G$5,2,0),0)","v":0},null,0]
[null,null,null,null,null,null,null,null,null,null,0,{"$f":"IFERROR(VLOOKUP(A843,'Tipos de activos'!$F$2:$G$5,2,0),0)","v":0},null,0]
[null,null,null,null,null,null,null,null,null,null,0,{"$f":"IFERROR(VLOOKUP(A844,'Tipos de activos'!$F$2:$G$5,2,0),0)","v":0},null,0]
[null,null,null,null,null,null,null,null,null,null,0,{"$f":"IFERROR(VLOOKUP(A845,'Tipos de activos'!$F$2:$G$5,2,0),0)","v":0},null,0]
[null,null,null,null,null,null,null,null,null,null,0,{"$f":"IFERROR(VLOOKUP(A846,'Tipos de activos'!$F$2:$G$5,2,0),0)","v":0},null,0]
[null,null,null,null,null,null,null,null,null,null,0,{"$f":"IFERROR(VLOOKUP(A847,'Tipos de activos'!$F$2:$G$5,2,0),0)","v":0},null,0]
[null,null,null,null,null,null,null,null,null,null,0,{"$f":"IFERROR(VLOOKUP(A848,'Tipos de activos'!$F$2:$G$5,2,0),0)","v":0},null,0]
[null,null,null,null,null,null,null,null,null,null,0,{"$f":"IFERROR(VLOOKUP(A849,'Tipos de activos'!$F$2:$G$5,2,0),0)","v":0},null,{"$f":"+K849*L849","v":0}]
[null,null,null,null,null,null,null,null,null,null,0,{"$f":"IFERROR(VLOOKUP(A850,'Tipos de activos'!$F$2:$G$5,2,0),0)","v":0},null,0]
[null,null,null,null,null,null,null,null,null,null,0,{"$f":"IFERROR(VLOOKUP(A851,'Tipos de activos'!$F$2:$G$5,2,0),0)","v":0},null,0]
[null,null,null,null,null,null,null,null,null,null,0,{"$f":"IFERROR(VLOOKUP(A852,'Tipos de activos'!$F$2:$G$5,2,0),0)","v":0},null,0]
[null,null,null,null,null,null,null,null,null,null,0,{"$f":"IFERROR(VLOOKUP(A853,'Tipos de activos'!$F$2:$G$5,2,0),0)","v":0},null,0]
[null,null,null,null,null,null,null,null,null,null,0,{"$f":"IFERROR(VLOOKUP(A854,'Tipos de activos'!$F$2:$G$5,2,0),0)","v":0},null,0]
[null,null,null,null,null,null,null,null,null,null,0,{"$f":"IFERROR(VLOOKUP(A855,'Tipos de activos'!$F$2:$G$5,2,0),0)","v":0},null,0]
[null,null,null,null,null,null,null,null,null,null,0,{"$f":"IFERROR(VLOOKUP(A856,'Tipos de activos'!$F$2:$G$5,2,0),0)","v":0},null,0]
[null,null,null,null,null,null,null,null,null,null,{"$f":"+I857-J857","v":0},{"$f":"IFERROR(VLOOKUP(A857,'Tipos de activos'!$F$2:$G$5,2,0),0)","v":0},null,0]
[null,null,null,null,null,null,null,null,null,null,0,{"$f":"IFERROR(VLOOKUP(A858,'Tipos de activos'!$F$2:$G$5,2,0),0)","v":0},null,0]
[null,null,null,null,null,null,null,null,null,null,0,{"$f":"IFERROR(VLOOKUP(A859,'Tipos de activos'!$F$2:$G$5,2,0),0)","v":0},null,0]
[null,null,null,null,null,null,null,null,null,null,0,{"$f":"IFERROR(VLOOKUP(A860,'Tipos de activos'!$F$2:$G$5,2,0),0)","v":0},null,0]
[null,null,null,null,null,null,null,null,null,null,0,{"$f":"IFERROR(VLOOKUP(A861,'Tipos de activos'!$F$2:$G$5,2,0),0)","v":0},null,0]
[null,null,null,null,null,null,null,null,null,null,0,{"$f":"IFERROR(VLOOKUP(A862,'Tipos de activos'!$F$2:$G$5,2,0),0)","v":0},null,0]
[null,null,null,null,null,null,null,null,null,null,0,{"$f":"IFERROR(VLOOKUP(A863,'Tipos de activos'!$F$2:$G$5,2,0),0)","v":0},null,0]
[null,null,null,null,null,null,null,null,null,null,0,{"$f":"IFERROR(VLOOKUP(A864,'Tipos de activos'!$F$2:$G$5,2,0),0)","v":0},null,0]
[null,null,null,null,null,null,null,null,null,null,0,{"$f":"IFERROR(VLOOKUP(A865,'Tipos de activos'!$F$2:$G$5,2,0),0)","v":0},null,0]
[null,null,null,null,null,null,null,null,null,null,0,{"$f":"IFERROR(VLOOKUP(A866,'Tipos de activos'!$F$2:$G$5,2,0),0)","v":0},null,0]
[null,null,null,null,null,null,null,null,null,null,0,{"$f":"IFERROR(VLOOKUP(A867,'Tipos de activos'!$F$2:$G$5,2,0),0)","v":0},null,0]
[null,null,null,null,null,null,null,null,null,null,0,{"$f":"IFERROR(VLOOKUP(A868,'Tipos de activos'!$F$2:$G$5,2,0),0)","v":0},null,0]
[null,null,null,null,null,null,null,null,null,null,0,{"$f":"IFERROR(VLOOKUP(A869,'Tipos de activos'!$F$2:$G$5,2,0),0)","v":0},null,0]
[null,null,null,null,null,null,null,null,null,null,0,{"$f":"IFERROR(VLOOKUP(A870,'Tipos de activos'!$F$2:$G$5,2,0),0)","v":0},null,0]
[null,null,null,null,null,null,null,null,null,null,0,{"$f":"IFERROR(VLOOKUP(A871,'Tipos de activos'!$F$2:$G$5,2,0),0)","v":0},null,0]
[null,null,null,null,null,null,null,null,null,null,0,{"$f":"IFERROR(VLOOKUP(A872,'Tipos de activos'!$F$2:$G$5,2,0),0)","v":0},null,0]
[null,null,null,null,null,null,null,null,null,null,0,{"$f":"IFERROR(VLOOKUP(A873,'Tipos de activos'!$F$2:$G$5,2,0),0)","v":0},null,0]
[null,null,null,null,null,null,null,null,null,null,0,{"$f":"IFERROR(VLOOKUP(A874,'Tipos de activos'!$F$2:$G$5,2,0),0)","v":0},null,0]
[null,null,null,null,null,null,null,null,null,null,0,{"$f":"IFERROR(VLOOKUP(A875,'Tipos de activos'!$F$2:$G$5,2,0),0)","v":0},null,0]
[null,null,null,null,null,null,null,null,null,null,0,{"$f":"IFERROR(VLOOKUP(A876,'Tipos de activos'!$F$2:$G$5,2,0),0)","v":0},null,0]
[null,null,null,null,null,null,null,null,null,null,0,{"$f":"IFERROR(VLOOKUP(A877,'Tipos de activos'!$F$2:$G$5,2,0),0)","v":0},null,0]
[null,null,null,null,null,null,null,null,null,null,0,{"$f":"IFERROR(VLOOKUP(A878,'Tipos de activos'!$F$2:$G$5,2,0),0)","v":0},null,0]
[null,null,null,null,null,null,null,null,null,null,0,{"$f":"IFERROR(VLOOKUP(A879,'Tipos de activos'!$F$2:$G$5,2,0),0)","v":0},null,0]
[null,null,null,null,null,null,null,null,null,null,0,{"$f":"IFERROR(VLOOKUP(A880,'Tipos de activos'!$F$2:$G$5,2,0),0)","v":0},null,0]
[null,null,null,null,null,null,null,null,null,null,0,{"$f":"IFERROR(VLOOKUP(A881,'Tipos de activos'!$F$2:$G$5,2,0),0)","v":0},null,0]
[null,null,null,null,null,null,null,null,null,null,0,{"$f":"IFERROR(VLOOKUP(A882,'Tipos de activos'!$F$2:$G$5,2,0),0)","v":0},null,0]
[null,null,null,null,null,null,null,null,null,null,0,{"$f":"IFERROR(VLOOKUP(A883,'Tipos de activos'!$F$2:$G$5,2,0),0)","v":0},null,0]
[null,null,null,null,null,null,null,null,null,null,0,{"$f":"IFERROR(VLOOKUP(A884,'Tipos de activos'!$F$2:$G$5,2,0),0)","v":0},null,0]
[null,null,null,null,null,null,null,null,null,null,0,{"$f":"IFERROR(VLOOKUP(A885,'Tipos de activos'!$F$2:$G$5,2,0),0)","v":0},null,0]
[null,null,null,null,null,null,null,null,null,null,0,{"$f":"IFERROR(VLOOKUP(A886,'Tipos de activos'!$F$2:$G$5,2,0),0)","v":0},null,0]
[null,null,null,null,null,null,null,null,null,null,0,{"$f":"IFERROR(VLOOKUP(A887,'Tipos de activos'!$F$2:$G$5,2,0),0)","v":0},null,0]
[null,null,null,null,null,null,null,null,null,null,0,{"$f":"IFERROR(VLOOKUP(A888,'Tipos de activos'!$F$2:$G$5,2,0),0)","v":0},null,0]
[null,null,null,null,null,null,null,null,null,null,0,{"$f":"IFERROR(VLOOKUP(A889,'Tipos de activos'!$F$2:$G$5,2,0),0)","v":0},null,0]
[null,null,null,null,null,null,null,null,null,null,0,{"$f":"IFERROR(VLOOKUP(A890,'Tipos de activos'!$F$2:$G$5,2,0),0)","v":0},null,0]
[null,null,null,null,null,null,null,null,null,null,0,{"$f":"IFERROR(VLOOKUP(A891,'Tipos de activos'!$F$2:$G$5,2,0),0)","v":0},null,0]
[null,null,null,null,null,null,null,null,null,null,0,{"$f":"IFERROR(VLOOKUP(A892,'Tipos de activos'!$F$2:$G$5,2,0),0)","v":0},null,0]
[null,null,null,null,null,null,null,null,null,null,0,{"$f":"IFERROR(VLOOKUP(A893,'Tipos de activos'!$F$2:$G$5,2,0),0)","v":0},null,0]
[null,null,null,null,null,null,null,null,null,null,0,{"$f":"IFERROR(VLOOKUP(A894,'Tipos de activos'!$F$2:$G$5,2,0),0)","v":0},null,0]
[null,null,null,null,null,null,null,null,null,null,0,{"$f":"IFERROR(VLOOKUP(A895,'Tipos de activos'!$F$2:$G$5,2,0),0)","v":0},null,0]
[null,null,null,null,null,null,null,null,null,null,0,{"$f":"IFERROR(VLOOKUP(A896,'Tipos de activos'!$F$2:$G$5,2,0),0)","v":0},null,0]
[null,null,null,null,null,null,null,null,null,null,0,{"$f":"IFERROR(VLOOKUP(A897,'Tipos de activos'!$F$2:$G$5,2,0),0)","v":0},null,0]
[null,null,null,null,null,null,null,null,null,null,0,{"$f":"IFERROR(VLOOKUP(A898,'Tipos de activos'!$F$2:$G$5,2,0),0)","v":0},null,0]
[null,null,null,null,null,null,null,null,null,null,0,{"$f":"IFERROR(VLOOKUP(A899,'Tipos de activos'!$F$2:$G$5,2,0),0)","v":0},null,0]
[null,null,null,null,null,null,null,null,null,null,0,{"$f":"IFERROR(VLOOKUP(A900,'Tipos de activos'!$F$2:$G$5,2,0),0)","v":0},null,0]
[null,null,null,null,null,null,null,null,null,null,0,{"$f":"IFERROR(VLOOKUP(A901,'Tipos de activos'!$F$2:$G$5,2,0),0)","v":0},null,0]
[null,null,null,null,null,null,null,null,null,null,0,{"$f":"IFERROR(VLOOKUP(A902,'Tipos de activos'!$F$2:$G$5,2,0),0)","v":0},null,0]
[null,null,null,null,null,null,null,null,null,null,0,{"$f":"IFERROR(VLOOKUP(A903,'Tipos de activos'!$F$2:$G$5,2,0),0)","v":0},null,0]
[null,null,null,null,null,null,null,null,null,null,0,{"$f":"IFERROR(VLOOKUP(A904,'Tipos de activos'!$F$2:$G$5,2,0),0)","v":0},null,0]
[null,null,null,null,null,null,null,null,null,null,0,{"$f":"IFERROR(VLOOKUP(A905,'Tipos de activos'!$F$2:$G$5,2,0),0)","v":0},null,0]
[null,null,null,null,null,null,null,null,null,null,0,{"$f":"IFERROR(VLOOKUP(A906,'Tipos de activos'!$F$2:$G$5,2,0),0)","v":0},null,0]
[null,null,null,null,null,null,null,null,null,null,0,{"$f":"IFERROR(VLOOKUP(A907,'Tipos de activos'!$F$2:$G$5,2,0),0)","v":0},null,0]
[null,null,null,null,null,null,null,null,null,null,0,{"$f":"IFERROR(VLOOKUP(A908,'Tipos de activos'!$F$2:$G$5,2,0),0)","v":0},null,0]
[null,null,null,null,null,null,null,null,null,null,0,{"$f":"IFERROR(VLOOKUP(A909,'Tipos de activos'!$F$2:$G$5,2,0),0)","v":0},null,0]
[null,null,null,null,null,null,null,null,null,null,0,{"$f":"IFERROR(VLOOKUP(A910,'Tipos de activos'!$F$2:$G$5,2,0),0)","v":0},null,0]
[null,null,null,null,null,null,null,null,null,null,0,{"$f":"IFERROR(VLOOKUP(A911,'Tipos de activos'!$F$2:$G$5,2,0),0)","v":0},null,0]
[null,null,null,null,null,null,null,null,null,null,0,{"$f":"IFERROR(VLOOKUP(A912,'Tipos de activos'!$F$2:$G$5,2,0),0)","v":0},null,0]
[null,null,null,null,null,null,null,null,null,null,0,{"$f":"IFERROR(VLOOKUP(A913,'Tipos de activos'!$F$2:$G$5,2,0),0)","v":0},null,{"$f":"+K913*L913","v":0}]
[null,null,null,null,null,null,null,null,null,null,0,{"$f":"IFERROR(VLOOKUP(A914,'Tipos de activos'!$F$2:$G$5,2,0),0)","v":0},null,0]
[null,null,null,null,null,null,null,null,null,null,0,{"$f":"IFERROR(VLOOKUP(A915,'Tipos de activos'!$F$2:$G$5,2,0),0)","v":0},null,0]
[null,null,null,null,null,null,null,null,null,null,0,{"$f":"IFERROR(VLOOKUP(A916,'Tipos de activos'!$F$2:$G$5,2,0),0)","v":0},null,0]
[null,null,null,null,null,null,null,null,null,null,0,{"$f":"IFERROR(VLOOKUP(A917,'Tipos de activos'!$F$2:$G$5,2,0),0)","v":0},null,0]
[null,null,null,null,null,null,null,null,null,null,0,{"$f":"IFERROR(VLOOKUP(A918,'Tipos de activos'!$F$2:$G$5,2,0),0)","v":0},null,0]
[null,null,null,null,null,null,null,null,null,null,0,{"$f":"IFERROR(VLOOKUP(A919,'Tipos de activos'!$F$2:$G$5,2,0),0)","v":0},null,0]
[null,null,null,null,null,null,null,null,null,null,0,{"$f":"IFERROR(VLOOKUP(A920,'Tipos de activos'!$F$2:$G$5,2,0),0)","v":0},null,0]
[null,null,null,null,null,null,null,null,null,null,{"$f":"+I921-J921","v":0},{"$f":"IFERROR(VLOOKUP(A921,'Tipos de activos'!$F$2:$G$5,2,0),0)","v":0},null,0]
[null,null,null,null,null,null,null,null,null,null,0,{"$f":"IFERROR(VLOOKUP(A922,'Tipos de activos'!$F$2:$G$5,2,0),0)","v":0},null,0]
[null,null,null,null,null,null,null,null,null,null,0,{"$f":"IFERROR(VLOOKUP(A923,'Tipos de activos'!$F$2:$G$5,2,0),0)","v":0},null,0]
[null,null,null,null,null,null,null,null,null,null,0,{"$f":"IFERROR(VLOOKUP(A924,'Tipos de activos'!$F$2:$G$5,2,0),0)","v":0},null,0]
[null,null,null,null,null,null,null,null,null,null,0,{"$f":"IFERROR(VLOOKUP(A925,'Tipos de activos'!$F$2:$G$5,2,0),0)","v":0},null,0]
[null,null,null,null,null,null,null,null,null,null,0,{"$f":"IFERROR(VLOOKUP(A926,'Tipos de activos'!$F$2:$G$5,2,0),0)","v":0},null,0]
[null,null,null,null,null,null,null,null,null,null,0,{"$f":"IFERROR(VLOOKUP(A927,'Tipos de activos'!$F$2:$G$5,2,0),0)","v":0},null,0]
[null,null,null,null,null,null,null,null,null,null,0,{"$f":"IFERROR(VLOOKUP(A928,'Tipos de activos'!$F$2:$G$5,2,0),0)","v":0},null,0]
[null,null,null,null,null,null,null,null,null,null,0,{"$f":"IFERROR(VLOOKUP(A929,'Tipos de activos'!$F$2:$G$5,2,0),0)","v":0},null,0]
[null,null,null,null,null,null,null,null,null,null,0,{"$f":"IFERROR(VLOOKUP(A930,'Tipos de activos'!$F$2:$G$5,2,0),0)","v":0},null,0]
[null,null,null,null,null,null,null,null,null,null,0,{"$f":"IFERROR(VLOOKUP(A931,'Tipos de activos'!$F$2:$G$5,2,0),0)","v":0},null,0]
[null,null,null,null,null,null,null,null,null,null,0,{"$f":"IFERROR(VLOOKUP(A932,'Tipos de activos'!$F$2:$G$5,2,0),0)","v":0},null,0]
[null,null,null,null,null,null,null,null,null,null,0,{"$f":"IFERROR(VLOOKUP(A933,'Tipos de activos'!$F$2:$G$5,2,0),0)","v":0},null,0]
[null,null,null,null,null,null,null,null,null,null,0,{"$f":"IFERROR(VLOOKUP(A934,'Tipos de activos'!$F$2:$G$5,2,0),0)","v":0},null,0]
[null,null,null,null,null,null,null,null,null,null,0,{"$f":"IFERROR(VLOOKUP(A935,'Tipos de activos'!$F$2:$G$5,2,0),0)","v":0},null,0]
[null,null,null,null,null,null,null,null,null,null,0,{"$f":"IFERROR(VLOOKUP(A936,'Tipos de activos'!$F$2:$G$5,2,0),0)","v":0},null,0]
[null,null,null,null,null,null,null,null,null,null,0,{"$f":"IFERROR(VLOOKUP(A937,'Tipos de activos'!$F$2:$G$5,2,0),0)","v":0},null,0]
[null,null,null,null,null,null,null,null,null,null,0,{"$f":"IFERROR(VLOOKUP(A938,'Tipos de activos'!$F$2:$G$5,2,0),0)","v":0},null,0]
[null,null,null,null,null,null,null,null,null,null,0,{"$f":"IFERROR(VLOOKUP(A939,'Tipos de activos'!$F$2:$G$5,2,0),0)","v":0},null,0]
[null,null,null,null,null,null,null,null,null,null,0,{"$f":"IFERROR(VLOOKUP(A940,'Tipos de activos'!$F$2:$G$5,2,0),0)","v":0},null,0]
[null,null,null,null,null,null,null,null,null,null,0,{"$f":"IFERROR(VLOOKUP(A941,'Tipos de activos'!$F$2:$G$5,2,0),0)","v":0},null,0]
[null,null,null,null,null,null,null,null,null,null,0,{"$f":"IFERROR(VLOOKUP(A942,'Tipos de activos'!$F$2:$G$5,2,0),0)","v":0},null,0]
[null,null,null,null,null,null,null,null,null,null,0,{"$f":"IFERROR(VLOOKUP(A943,'Tipos de activos'!$F$2:$G$5,2,0),0)","v":0},null,0]
[null,null,null,null,null,null,null,null,null,null,0,{"$f":"IFERROR(VLOOKUP(A944,'Tipos de activos'!$F$2:$G$5,2,0),0)","v":0},null,0]
[null,null,null,null,null,null,null,null,null,null,0,{"$f":"IFERROR(VLOOKUP(A945,'Tipos de activos'!$F$2:$G$5,2,0),0)","v":0},null,0]
[null,null,null,null,null,null,null,null,null,null,0,{"$f":"IFERROR(VLOOKUP(A946,'Tipos de activos'!$F$2:$G$5,2,0),0)","v":0},null,0]
[null,null,null,null,null,null,null,null,null,null,0,{"$f":"IFERROR(VLOOKUP(A947,'Tipos de activos'!$F$2:$G$5,2,0),0)","v":0},null,0]
[null,null,null,null,null,null,null,null,null,null,0,{"$f":"IFERROR(VLOOKUP(A948,'Tipos de activos'!$F$2:$G$5,2,0),0)","v":0},null,0]
[null,null,null,null,null,null,null,null,null,null,0,{"$f":"IFERROR(VLOOKUP(A949,'Tipos de activos'!$F$2:$G$5,2,0),0)","v":0},null,0]
[null,null,null,null,null,null,null,null,null,null,0,{"$f":"IFERROR(VLOOKUP(A950,'Tipos de activos'!$F$2:$G$5,2,0),0)","v":0},null,0]
[null,null,null,null,null,null,null,null,null,null,0,{"$f":"IFERROR(VLOOKUP(A951,'Tipos de activos'!$F$2:$G$5,2,0),0)","v":0},null,0]
[null,null,null,null,null,null,null,null,null,null,0,{"$f":"IFERROR(VLOOKUP(A952,'Tipos de activos'!$F$2:$G$5,2,0),0)","v":0},null,0]
[null,null,null,null,null,null,null,null,null,null,0,{"$f":"IFERROR(VLOOKUP(A953,'Tipos de activos'!$F$2:$G$5,2,0),0)","v":0},null,0]
[null,null,null,null,null,null,null,null,null,null,0,{"$f":"IFERROR(VLOOKUP(A954,'Tipos de activos'!$F$2:$G$5,2,0),0)","v":0},null,0]
[null,null,null,null,null,null,null,null,null,null,0,{"$f":"IFERROR(VLOOKUP(A955,'Tipos de activos'!$F$2:$G$5,2,0),0)","v":0},null,0]
[null,null,null,null,null,null,null,null,null,null,0,{"$f":"IFERROR(VLOOKUP(A956,'Tipos de activos'!$F$2:$G$5,2,0),0)","v":0},null,0]
[null,null,null,null,null,null,null,null,null,null,0,{"$f":"IFERROR(VLOOKUP(A957,'Tipos de activos'!$F$2:$G$5,2,0),0)","v":0},null,0]
[null,null,null,null,null,null,null,null,null,null,0,{"$f":"IFERROR(VLOOKUP(A958,'Tipos de activos'!$F$2:$G$5,2,0),0)","v":0},null,0]
[null,null,null,null,null,null,null,null,null,null,0,{"$f":"IFERROR(VLOOKUP(A959,'Tipos de activos'!$F$2:$G$5,2,0),0)","v":0},null,0]
[null,null,null,null,null,null,null,null,null,null,0,{"$f":"IFERROR(VLOOKUP(A960,'Tipos de activos'!$F$2:$G$5,2,0),0)","v":0},null,0]
[null,null,null,null,null,null,null,null,null,null,0,{"$f":"IFERROR(VLOOKUP(A961,'Tipos de activos'!$F$2:$G$5,2,0),0)","v":0},null,0]
[null,null,null,null,null,null,null,null,null,null,0,{"$f":"IFERROR(VLOOKUP(A962,'Tipos de activos'!$F$2:$G$5,2,0),0)","v":0},null,0]
[null,null,null,null,null,null,null,null,null,null,0,{"$f":"IFERROR(VLOOKUP(A963,'Tipos de activos'!$F$2:$G$5,2,0),0)","v":0},null,0]
[null,null,null,null,null,null,null,null,null,null,0,{"$f":"IFERROR(VLOOKUP(A964,'Tipos de activos'!$F$2:$G$5,2,0),0)","v":0},null,0]
[null,null,null,null,null,null,null,null,null,null,0,{"$f":"IFERROR(VLOOKUP(A965,'Tipos de activos'!$F$2:$G$5,2,0),0)","v":0},null,0]
[null,null,null,null,null,null,null,null,null,null,0,{"$f":"IFERROR(VLOOKUP(A966,'Tipos de activos'!$F$2:$G$5,2,0),0)","v":0},null,0]
[null,null,null,null,null,null,null,null,null,null,0,{"$f":"IFERROR(VLOOKUP(A967,'Tipos de activos'!$F$2:$G$5,2,0),0)","v":0},null,0]
[null,null,null,null,null,null,null,null,null,null,0,{"$f":"IFERROR(VLOOKUP(A968,'Tipos de activos'!$F$2:$G$5,2,0),0)","v":0},null,0]
[null,null,null,null,null,null,null,null,null,null,0,{"$f":"IFERROR(VLOOKUP(A969,'Tipos de activos'!$F$2:$G$5,2,0),0)","v":0},null,0]
[null,null,null,null,null,null,null,null,null,null,0,{"$f":"IFERROR(VLOOKUP(A970,'Tipos de activos'!$F$2:$G$5,2,0),0)","v":0},null,0]
[null,null,null,null,null,null,null,null,null,null,0,{"$f":"IFERROR(VLOOKUP(A971,'Tipos de activos'!$F$2:$G$5,2,0),0)","v":0},null,0]
[null,null,null,null,null,null,null,null,null,null,0,{"$f":"IFERROR(VLOOKUP(A972,'Tipos de activos'!$F$2:$G$5,2,0),0)","v":0},null,0]
[null,null,null,null,null,null,null,null,null,null,0,{"$f":"IFERROR(VLOOKUP(A973,'Tipos de activos'!$F$2:$G$5,2,0),0)","v":0},null,0]
[null,null,null,null,null,null,null,null,null,null,0,{"$f":"IFERROR(VLOOKUP(A974,'Tipos de activos'!$F$2:$G$5,2,0),0)","v":0},null,0]
[null,null,null,null,null,null,null,null,null,null,0,{"$f":"IFERROR(VLOOKUP(A975,'Tipos de activos'!$F$2:$G$5,2,0),0)","v":0},null,0]
[null,null,null,null,null,null,null,null,null,null,0,{"$f":"IFERROR(VLOOKUP(A976,'Tipos de activos'!$F$2:$G$5,2,0),0)","v":0},null,0]
[null,null,null,null,null,null,null,null,null,null,0,{"$f":"IFERROR(VLOOKUP(A977,'Tipos de activos'!$F$2:$G$5,2,0),0)","v":0},null,{"$f":"+K977*L977","v":0}]
[null,null,null,null,null,null,null,null,null,null,0,{"$f":"IFERROR(VLOOKUP(A978,'Tipos de activos'!$F$2:$G$5,2,0),0)","v":0},null,0]
[null,null,null,null,null,null,null,null,null,null,0,{"$f":"IFERROR(VLOOKUP(A979,'Tipos de activos'!$F$2:$G$5,2,0),0)","v":0},null,0]
[null,null,null,null,null,null,null,null,null,null,0,{"$f":"IFERROR(VLOOKUP(A980,'Tipos de activos'!$F$2:$G$5,2,0),0)","v":0},null,0]
[null,null,null,null,null,null,null,null,null,null,0,{"$f":"IFERROR(VLOOKUP(A981,'Tipos de activos'!$F$2:$G$5,2,0),0)","v":0},null,0]
[null,null,null,null,null,null,null,null,null,null,0,{"$f":"IFERROR(VLOOKUP(A982,'Tipos de activos'!$F$2:$G$5,2,0),0)","v":0},null,0]
[null,null,null,null,null,null,null,null,null,null,0,{"$f":"IFERROR(VLOOKUP(A983,'Tipos de activos'!$F$2:$G$5,2,0),0)","v":0},null,0]
[null,null,null,null,null,null,null,null,null,null,0,{"$f":"IFERROR(VLOOKUP(A984,'Tipos de activos'!$F$2:$G$5,2,0),0)","v":0},null,0]
[null,null,null,null,null,null,null,null,null,null,{"$f":"+I985-J985","v":0},{"$f":"IFERROR(VLOOKUP(A985,'Tipos de activos'!$F$2:$G$5,2,0),0)","v":0},null,0]
[null,null,null,null,null,null,null,null,null,null,0,{"$f":"IFERROR(VLOOKUP(A986,'Tipos de activos'!$F$2:$G$5,2,0),0)","v":0},null,0]
[null,null,null,null,null,null,null,null,null,null,0,{"$f":"IFERROR(VLOOKUP(A987,'Tipos de activos'!$F$2:$G$5,2,0),0)","v":0},null,0]
[null,null,null,null,null,null,null,null,null,null,0,{"$f":"IFERROR(VLOOKUP(A988,'Tipos de activos'!$F$2:$G$5,2,0),0)","v":0},null,0]
[null,null,null,null,null,null,null,null,null,null,0,{"$f":"IFERROR(VLOOKUP(A989,'Tipos de activos'!$F$2:$G$5,2,0),0)","v":0},null,0]
[null,null,null,null,null,null,null,null,null,null,0,{"$f":"IFERROR(VLOOKUP(A990,'Tipos de activos'!$F$2:$G$5,2,0),0)","v":0},null,0]
[null,null,null,null,null,null,null,null,null,null,0,{"$f":"IFERROR(VLOOKUP(A991,'Tipos de activos'!$F$2:$G$5,2,0),0)","v":0},null,0]
[null,null,null,null,null,null,null,null,null,null,0,{"$f":"IFERROR(VLOOKUP(A992,'Tipos de activos'!$F$2:$G$5,2,0),0)","v":0},null,0]
[null,null,null,null,null,null,null,null,null,null,0,{"$f":"IFERROR(VLOOKUP(A993,'Tipos de activos'!$F$2:$G$5,2,0),0)","v":0},null,0]
[null,null,null,null,null,null,null,null,null,null,0,{"$f":"IFERROR(VLOOKUP(A994,'Tipos de activos'!$F$2:$G$5,2,0),0)","v":0},null,0]
[null,null,null,null,null,null,null,null,null,null,0,{"$f":"IFERROR(VLOOKUP(A995,'Tipos de activos'!$F$2:$G$5,2,0),0)","v":0},null,0]
[null,null,null,null,null,null,null,null,null,null,0,{"$f":"IFERROR(VLOOKUP(A996,'Tipos de activos'!$F$2:$G$5,2,0),0)","v":0},null,0]
[null,null,null,null,null,null,null,null,null,null,0,{"$f":"IFERROR(VLOOKUP(A997,'Tipos de activos'!$F$2:$G$5,2,0),0)","v":0},null,0]
[null,null,null,null,null,null,null,null,null,null,0,{"$f":"IFERROR(VLOOKUP(A998,'Tipos de activos'!$F$2:$G$5,2,0),0)","v":0},null,0]
[null,null,null,null,null,null,null,null,null,null,0,{"$f":"IFERROR(VLOOKUP(A999,'Tipos de activos'!$F$2:$G$5,2,0),0)","v":0},null,0]
[null,null,null,null,null,null,null,null,null,null,0,{"$f":"IFERROR(VLOOKUP(A1000,'Tipos de activos'!$F$2:$G$5,2,0),0)","v":0},null,0]
[null,null,null,null,null,null,null,null,null,null,0,{"$f":"IFERROR(VLOOKUP(A1001,'Tipos de activos'!$F$2:$G$5,2,0),0)","v":0},null,0]
[null,null,null,null,null,null,null,null,null,null,0,{"$f":"IFERROR(VLOOKUP(A1002,'Tipos de activos'!$F$2:$G$5,2,0),0)","v":0},null,0]
[null,null,null,null,null,null,null,null,null,null,0,{"$f":"IFERROR(VLOOKUP(A1003,'Tipos de activos'!$F$2:$G$5,2,0),0)","v":0},null,0]
[null,null,null,null,null,null,null,null,null,null,0,{"$f":"IFERROR(VLOOKUP(A1004,'Tipos de activos'!$F$2:$G$5,2,0),0)","v":0},null,0]
[null,null,null,null,null,null,null,null,null,null,0,{"$f":"IFERROR(VLOOKUP(A1005,'Tipos de activos'!$F$2:$G$5,2,0),0)","v":0},null,0]
[null,null,null,null,null,null,null,null,null,null,0,{"$f":"IFERROR(VLOOKUP(A1006,'Tipos de activos'!$F$2:$G$5,2,0),0)","v":0},null,0]
[null,null,null,null,null,null,null,null,null,null,0,{"$f":"IFERROR(VLOOKUP(A1007,'Tipos de activos'!$F$2:$G$5,2,0),0)","v":0},null,0]
[null,null,null,null,null,null,null,null,null,null,0,{"$f":"IFERROR(VLOOKUP(A1008,'Tipos de activos'!$F$2:$G$5,2,0),0)","v":0},null,0]
[null,null,null,null,null,null,null,null,null,null,0,{"$f":"IFERROR(VLOOKUP(A1009,'Tipos de activos'!$F$2:$G$5,2,0),0)","v":0},null,0]
[null,null,null,null,null,null,null,null,null,null,0,{"$f":"IFERROR(VLOOKUP(A1010,'Tipos de activos'!$F$2:$G$5,2,0),0)","v":0},null,0]
[null,null,null,null,null,null,null,null,null,null,0,{"$f":"IFERROR(VLOOKUP(A1011,'Tipos de activos'!$F$2:$G$5,2,0),0)","v":0},null,0]
[null,null,null,null,null,null,null,null,null,null,0,{"$f":"IFERROR(VLOOKUP(A1012,'Tipos de activos'!$F$2:$G$5,2,0),0)","v":0},null,0]
[null,null,null,null,null,null,null,null,null,null,0,{"$f":"IFERROR(VLOOKUP(A1013,'Tipos de activos'!$F$2:$G$5,2,0),0)","v":0},null,0]
[null,null,null,null,null,null,null,null,null,null,0,{"$f":"IFERROR(VLOOKUP(A1014,'Tipos de activos'!$F$2:$G$5,2,0),0)","v":0},null,0]
[null,null,null,null,null,null,null,null,null,null,0,{"$f":"IFERROR(VLOOKUP(A1015,'Tipos de activos'!$F$2:$G$5,2,0),0)","v":0},null,0]
[null,null,null,null,null,null,null,null,null,null,0,{"$f":"IFERROR(VLOOKUP(A1016,'Tipos de activos'!$F$2:$G$5,2,0),0)","v":0},null,0]
[null,null,null,null,null,null,null,null,null,null,0,{"$f":"IFERROR(VLOOKUP(A1017,'Tipos de activos'!$F$2:$G$5,2,0),0)","v":0},null,0]
[null,null,null,null,null,null,null,null,null,null,0,{"$f":"IFERROR(VLOOKUP(A1018,'Tipos de activos'!$F$2:$G$5,2,0),0)","v":0},null,0]
[null,null,null,null,null,null,null,null,null,null,0,{"$f":"IFERROR(VLOOKUP(A1019,'Tipos de activos'!$F$2:$G$5,2,0),0)","v":0},null,0]
[null,null,null,null,null,null,null,null,null,null,0,{"$f":"IFERROR(VLOOKUP(A1020,'Tipos de activos'!$F$2:$G$5,2,0),0)","v":0},null,0]
[null,null,null,null,null,null,null,null,null,null,0,{"$f":"IFERROR(VLOOKUP(A1021,'Tipos de activos'!$F$2:$G$5,2,0),0)","v":0},null,0]
[null,null,null,null,null,null,null,null,null,null,0,{"$f":"IFERROR(VLOOKUP(A1022,'Tipos de activos'!$F$2:$G$5,2,0),0)","v":0},null,0]
[null,null,null,null,null,null,null,null,null,null,0,{"$f":"IFERROR(VLOOKUP(A1023,'Tipos de activos'!$F$2:$G$5,2,0),0)","v":0},null,0]
[null,null,null,null,null,null,null,null,null,null,0,{"$f":"IFERROR(VLOOKUP(A1024,'Tipos de activos'!$F$2:$G$5,2,0),0)","v":0},null,0]
[null,null,null,null,null,null,null,null,null,null,0,{"$f":"IFERROR(VLOOKUP(A1025,'Tipos de activos'!$F$2:$G$5,2,0),0)","v":0},null,0]
[null,null,null,null,null,null,null,null,null,null,0,{"$f":"IFERROR(VLOOKUP(A1026,'Tipos de activos'!$F$2:$G$5,2,0),0)","v":0},null,0]
[null,null,null,null,null,null,null,null,null,null,0,{"$f":"IFERROR(VLOOKUP(A1027,'Tipos de activos'!$F$2:$G$5,2,0),0)","v":0},null,0]
[null,null,null,null,null,null,null,null,null,null,0,{"$f":"IFERROR(VLOOKUP(A1028,'Tipos de activos'!$F$2:$G$5,2,0),0)","v":0},null,0]
[null,null,null,null,null,null,null,null,null,null,0,{"$f":"IFERROR(VLOOKUP(A1029,'Tipos de activos'!$F$2:$G$5,2,0),0)","v":0},null,0]
[null,null,null,null,null,null,null,null,null,null,0,{"$f":"IFERROR(VLOOKUP(A1030,'Tipos de activos'!$F$2:$G$5,2,0),0)","v":0},null,0]
[null,null,null,null,null,null,null,null,null,null,0,{"$f":"IFERROR(VLOOKUP(A1031,'Tipos de activos'!$F$2:$G$5,2,0),0)","v":0},null,0]
[null,null,null,null,null,null,null,null,null,null,0,{"$f":"IFERROR(VLOOKUP(A1032,'Tipos de activos'!$F$2:$G$5,2,0),0)","v":0},null,0]
[null,null,null,null,null,null,null,null,null,null,0,{"$f":"IFERROR(VLOOKUP(A1033,'Tipos de activos'!$F$2:$G$5,2,0),0)","v":0},null,0]
[null,null,null,null,null,null,null,null,null,null,0,{"$f":"IFERROR(VLOOKUP(A1034,'Tipos de activos'!$F$2:$G$5,2,0),0)","v":0},null,0]
[null,null,null,null,null,null,null,null,null,null,0,{"$f":"IFERROR(VLOOKUP(A1035,'Tipos de activos'!$F$2:$G$5,2,0),0)","v":0},null,0]
[null,null,null,null,null,null,null,null,null,null,0,{"$f":"IFERROR(VLOOKUP(A1036,'Tipos de activos'!$F$2:$G$5,2,0),0)","v":0},null,0]
[null,null,null,null,null,null,null,null,null,null,0,{"$f":"IFERROR(VLOOKUP(A1037,'Tipos de activos'!$F$2:$G$5,2,0),0)","v":0},null,0]
[null,null,null,null,null,null,null,null,null,null,0,{"$f":"IFERROR(VLOOKUP(A1038,'Tipos de activos'!$F$2:$G$5,2,0),0)","v":0},null,0]
[null,null,null,null,null,null,null,null,null,null,0,{"$f":"IFERROR(VLOOKUP(A1039,'Tipos de activos'!$F$2:$G$5,2,0),0)","v":0},null,0]
[null,null,null,null,null,null,null,null,null,null,0,{"$f":"IFERROR(VLOOKUP(A1040,'Tipos de activos'!$F$2:$G$5,2,0),0)","v":0},null,0]
[null,null,null,null,null,null,null,null,null,null,0,{"$f":"IFERROR(VLOOKUP(A1041,'Tipos de activos'!$F$2:$G$5,2,0),0)","v":0},null,{"$f":"+K1041*L1041","v":0}]
[null,null,null,null,null,null,null,null,null,null,0,{"$f":"IFERROR(VLOOKUP(A1042,'Tipos de activos'!$F$2:$G$5,2,0),0)","v":0},null,0]
[null,null,null,null,null,null,null,null,null,null,0,{"$f":"IFERROR(VLOOKUP(A1043,'Tipos de activos'!$F$2:$G$5,2,0),0)","v":0},null,0]
[null,null,null,null,null,null,null,null,null,null,0,{"$f":"IFERROR(VLOOKUP(A1044,'Tipos de activos'!$F$2:$G$5,2,0),0)","v":0},null,0]
[null,null,null,null,null,null,null,null,null,null,0,{"$f":"IFERROR(VLOOKUP(A1045,'Tipos de activos'!$F$2:$G$5,2,0),0)","v":0},null,0]
[null,null,null,null,null,null,null,null,null,null,0,{"$f":"IFERROR(VLOOKUP(A1046,'Tipos de activos'!$F$2:$G$5,2,0),0)","v":0},null,0]
[null,null,null,null,null,null,null,null,null,null,0,{"$f":"IFERROR(VLOOKUP(A1047,'Tipos de activos'!$F$2:$G$5,2,0),0)","v":0},null,0]
[null,null,null,null,null,null,null,null,null,null,0,{"$f":"IFERROR(VLOOKUP(A1048,'Tipos de activos'!$F$2:$G$5,2,0),0)","v":0},null,0]
[null,null,null,null,null,null,null,null,null,null,{"$f":"+I1049-J1049","v":0},{"$f":"IFERROR(VLOOKUP(A1049,'Tipos de activos'!$F$2:$G$5,2,0),0)","v":0},null,0]
[null,null,null,null,null,null,null,null,null,null,0,{"$f":"IFERROR(VLOOKUP(A1050,'Tipos de activos'!$F$2:$G$5,2,0),0)","v":0},null,0]
[null,null,null,null,null,null,null,null,null,null,0,{"$f":"IFERROR(VLOOKUP(A1051,'Tipos de activos'!$F$2:$G$5,2,0),0)","v":0},null,0]
[null,null,null,null,null,null,null,null,null,null,0,{"$f":"IFERROR(VLOOKUP(A1052,'Tipos de activos'!$F$2:$G$5,2,0),0)","v":0},null,0]
[null,null,null,null,null,null,null,null,null,null,0,{"$f":"IFERROR(VLOOKUP(A1053,'Tipos de activos'!$F$2:$G$5,2,0),0)","v":0},null,0]
[null,null,null,null,null,null,null,null,null,null,0,{"$f":"IFERROR(VLOOKUP(A1054,'Tipos de activos'!$F$2:$G$5,2,0),0)","v":0},null,0]
[null,null,null,null,null,null,null,null,null,null,0,{"$f":"IFERROR(VLOOKUP(A1055,'Tipos de activos'!$F$2:$G$5,2,0),0)","v":0},null,0]
[null,null,null,null,null,null,null,null,null,null,0,{"$f":"IFERROR(VLOOKUP(A1056,'Tipos de activos'!$F$2:$G$5,2,0),0)","v":0},null,0]
[null,null,null,null,null,null,null,null,null,null,0,{"$f":"IFERROR(VLOOKUP(A1057,'Tipos de activos'!$F$2:$G$5,2,0),0)","v":0},null,0]
[null,null,null,null,null,null,null,null,null,null,0,{"$f":"IFERROR(VLOOKUP(A1058,'Tipos de activos'!$F$2:$G$5,2,0),0)","v":0},null,0]
[null,null,null,null,null,null,null,null,null,null,0,{"$f":"IFERROR(VLOOKUP(A1059,'Tipos de activos'!$F$2:$G$5,2,0),0)","v":0},null,0]
[null,null,null,null,null,null,null,null,null,null,0,{"$f":"IFERROR(VLOOKUP(A1060,'Tipos de activos'!$F$2:$G$5,2,0),0)","v":0},null,0]
[null,null,null,null,null,null,null,null,null,null,0,{"$f":"IFERROR(VLOOKUP(A1061,'Tipos de activos'!$F$2:$G$5,2,0),0)","v":0},null,0]
[null,null,null,null,null,null,null,null,null,null,0,{"$f":"IFERROR(VLOOKUP(A1062,'Tipos de activos'!$F$2:$G$5,2,0),0)","v":0},null,0]
[null,null,null,null,null,null,null,null,null,null,0,{"$f":"IFERROR(VLOOKUP(A1063,'Tipos de activos'!$F$2:$G$5,2,0),0)","v":0},null,0]
[null,null,null,null,null,null,null,null,null,null,0,{"$f":"IFERROR(VLOOKUP(A1064,'Tipos de activos'!$F$2:$G$5,2,0),0)","v":0},null,0]
[null,null,null,null,null,null,null,null,null,null,0,{"$f":"IFERROR(VLOOKUP(A1065,'Tipos de activos'!$F$2:$G$5,2,0),0)","v":0},null,0]
[null,null,null,null,null,null,null,null,null,null,0,{"$f":"IFERROR(VLOOKUP(A1066,'Tipos de activos'!$F$2:$G$5,2,0),0)","v":0},null,0]
[null,null,null,null,null,null,null,null,null,null,0,{"$f":"IFERROR(VLOOKUP(A1067,'Tipos de activos'!$F$2:$G$5,2,0),0)","v":0},null,0]
[null,null,null,null,null,null,null,null,null,null,0,{"$f":"IFERROR(VLOOKUP(A1068,'Tipos de activos'!$F$2:$G$5,2,0),0)","v":0},null,0]
[null,null,null,null,null,null,null,null,null,null,0,{"$f":"IFERROR(VLOOKUP(A1069,'Tipos de activos'!$F$2:$G$5,2,0),0)","v":0},null,0]
[null,null,null,null,null,null,null,null,null,null,0,{"$f":"IFERROR(VLOOKUP(A1070,'Tipos de activos'!$F$2:$G$5,2,0),0)","v":0},null,0]
[null,null,null,null,null,null,null,null,null,null,0,{"$f":"IFERROR(VLOOKUP(A1071,'Tipos de activos'!$F$2:$G$5,2,0),0)","v":0},null,0]
[null,null,null,null,null,null,null,null,null,null,0,{"$f":"IFERROR(VLOOKUP(A1072,'Tipos de activos'!$F$2:$G$5,2,0),0)","v":0},null,0]
[null,null,null,null,null,null,null,null,null,null,0,{"$f":"IFERROR(VLOOKUP(A1073,'Tipos de activos'!$F$2:$G$5,2,0),0)","v":0},null,0]
[null,null,null,null,null,null,null,null,null,null,0,{"$f":"IFERROR(VLOOKUP(A1074,'Tipos de activos'!$F$2:$G$5,2,0),0)","v":0},null,0]
[null,null,null,null,null,null,null,null,null,null,0,{"$f":"IFERROR(VLOOKUP(A1075,'Tipos de activos'!$F$2:$G$5,2,0),0)","v":0},null,0]
[null,null,null,null,null,null,null,null,null,null,0,{"$f":"IFERROR(VLOOKUP(A1076,'Tipos de activos'!$F$2:$G$5,2,0),0)","v":0},null,0]
[null,null,null,null,null,null,null,null,null,null,0,{"$f":"IFERROR(VLOOKUP(A1077,'Tipos de activos'!$F$2:$G$5,2,0),0)","v":0},null,0]
[null,null,null,null,null,null,null,null,null,null,0,{"$f":"IFERROR(VLOOKUP(A1078,'Tipos de activos'!$F$2:$G$5,2,0),0)","v":0},null,0]
[null,null,null,null,null,null,null,null,null,null,0,{"$f":"IFERROR(VLOOKUP(A1079,'Tipos de activos'!$F$2:$G$5,2,0),0)","v":0},null,0]
[null,null,null,null,null,null,null,null,null,null,0,{"$f":"IFERROR(VLOOKUP(A1080,'Tipos de activos'!$F$2:$G$5,2,0),0)","v":0},null,0]
[null,null,null,null,null,null,null,null,null,null,0,{"$f":"IFERROR(VLOOKUP(A1081,'Tipos de activos'!$F$2:$G$5,2,0),0)","v":0},null,0]
[null,null,null,null,null,null,null,null,null,null,0,{"$f":"IFERROR(VLOOKUP(A1082,'Tipos de activos'!$F$2:$G$5,2,0),0)","v":0},null,0]
[null,null,null,null,null,null,null,null,null,null,0,{"$f":"IFERROR(VLOOKUP(A1083,'Tipos de activos'!$F$2:$G$5,2,0),0)","v":0},null,0]
[null,null,null,null,null,null,null,null,null,null,0,{"$f":"IFERROR(VLOOKUP(A1084,'Tipos de activos'!$F$2:$G$5,2,0),0)","v":0},null,0]
[null,null,null,null,null,null,null,null,null,null,0,{"$f":"IFERROR(VLOOKUP(A1085,'Tipos de activos'!$F$2:$G$5,2,0),0)","v":0},null,0]
[null,null,null,null,null,null,null,null,null,null,0,{"$f":"IFERROR(VLOOKUP(A1086,'Tipos de activos'!$F$2:$G$5,2,0),0)","v":0},null,0]
[null,null,null,null,null,null,null,null,null,null,0,{"$f":"IFERROR(VLOOKUP(A1087,'Tipos de activos'!$F$2:$G$5,2,0),0)","v":0},null,0]
[null,null,null,null,null,null,null,null,null,null,0,{"$f":"IFERROR(VLOOKUP(A1088,'Tipos de activos'!$F$2:$G$5,2,0),0)","v":0},null,0]
[null,null,null,null,null,null,null,null,null,null,0,{"$f":"IFERROR(VLOOKUP(A1089,'Tipos de activos'!$F$2:$G$5,2,0),0)","v":0},null,0]
[null,null,null,null,null,null,null,null,null,null,0,{"$f":"IFERROR(VLOOKUP(A1090,'Tipos de activos'!$F$2:$G$5,2,0),0)","v":0},null,0]
[null,null,null,null,null,null,null,null,null,null,0,{"$f":"IFERROR(VLOOKUP(A1091,'Tipos de activos'!$F$2:$G$5,2,0),0)","v":0},null,0]
[null,null,null,null,null,null,null,null,null,null,0,{"$f":"IFERROR(VLOOKUP(A1092,'Tipos de activos'!$F$2:$G$5,2,0),0)","v":0},null,0]
[null,null,null,null,null,null,null,null,null,null,0,{"$f":"IFERROR(VLOOKUP(A1093,'Tipos de activos'!$F$2:$G$5,2,0),0)","v":0},null,0]
[null,null,null,null,null,null,null,null,null,null,0,{"$f":"IFERROR(VLOOKUP(A1094,'Tipos de activos'!$F$2:$G$5,2,0),0)","v":0},null,0]
[null,null,null,null,null,null,null,null,null,null,0,{"$f":"IFERROR(VLOOKUP(A1095,'Tipos de activos'!$F$2:$G$5,2,0),0)","v":0},null,0]
[null,null,null,null,null,null,null,null,null,null,0,{"$f":"IFERROR(VLOOKUP(A1096,'Tipos de activos'!$F$2:$G$5,2,0),0)","v":0},null,0]
[null,null,null,null,null,null,null,null,null,null,0,{"$f":"IFERROR(VLOOKUP(A1097,'Tipos de activos'!$F$2:$G$5,2,0),0)","v":0},null,0]
[null,null,null,null,null,null,null,null,null,null,0,{"$f":"IFERROR(VLOOKUP(A1098,'Tipos de activos'!$F$2:$G$5,2,0),0)","v":0},null,0]
[null,null,null,null,null,null,null,null,null,null,0,{"$f":"IFERROR(VLOOKUP(A1099,'Tipos de activos'!$F$2:$G$5,2,0),0)","v":0},null,0]
[null,null,null,null,null,null,null,null,null,null,0,{"$f":"IFERROR(VLOOKUP(A1100,'Tipos de activos'!$F$2:$G$5,2,0),0)","v":0},null,0]
[null,null,null,null,null,null,null,null,null,null,0,{"$f":"IFERROR(VLOOKUP(A1101,'Tipos de activos'!$F$2:$G$5,2,0),0)","v":0},null,0]
[null,null,null,null,null,null,null,null,null,null,0,{"$f":"IFERROR(VLOOKUP(A1102,'Tipos de activos'!$F$2:$G$5,2,0),0)","v":0},null,0]
[null,null,null,null,null,null,null,null,null,null,0,{"$f":"IFERROR(VLOOKUP(A1103,'Tipos de activos'!$F$2:$G$5,2,0),0)","v":0},null,0]
[null,null,null,null,null,null,null,null,null,null,0,{"$f":"IFERROR(VLOOKUP(A1104,'Tipos de activos'!$F$2:$G$5,2,0),0)","v":0},null,0]
[null,null,null,null,null,null,null,null,null,null,0,{"$f":"IFERROR(VLOOKUP(A1105,'Tipos de activos'!$F$2:$G$5,2,0),0)","v":0},null,{"$f":"+K1105*L1105","v":0}]
[null,null,null,null,null,null,null,null,null,null,0,{"$f":"IFERROR(VLOOKUP(A1106,'Tipos de activos'!$F$2:$G$5,2,0),0)","v":0},null,0]
[null,null,null,null,null,null,null,null,null,null,0,{"$f":"IFERROR(VLOOKUP(A1107,'Tipos de activos'!$F$2:$G$5,2,0),0)","v":0},null,0]
[null,null,null,null,null,null,null,null,null,null,0,{"$f":"IFERROR(VLOOKUP(A1108,'Tipos de activos'!$F$2:$G$5,2,0),0)","v":0},null,0]
[null,null,null,null,null,null,null,null,null,null,0,{"$f":"IFERROR(VLOOKUP(A1109,'Tipos de activos'!$F$2:$G$5,2,0),0)","v":0},null,0]
[null,null,null,null,null,null,null,null,null,null,0,{"$f":"IFERROR(VLOOKUP(A1110,'Tipos de activos'!$F$2:$G$5,2,0),0)","v":0},null,0]
[null,null,null,null,null,null,null,null,null,null,0,{"$f":"IFERROR(VLOOKUP(A1111,'Tipos de activos'!$F$2:$G$5,2,0),0)","v":0},null,0]
[null,null,null,null,null,null,null,null,null,null,0,{"$f":"IFERROR(VLOOKUP(A1112,'Tipos de activos'!$F$2:$G$5,2,0),0)","v":0},null,0]
[null,null,null,null,null,null,null,null,null,null,{"$f":"+I1113-J1113","v":0},{"$f":"IFERROR(VLOOKUP(A1113,'Tipos de activos'!$F$2:$G$5,2,0),0)","v":0},null,0]
[null,null,null,null,null,null,null,null,null,null,0,{"$f":"IFERROR(VLOOKUP(A1114,'Tipos de activos'!$F$2:$G$5,2,0),0)","v":0},null,0]
[null,null,null,null,null,null,null,null,null,null,0,{"$f":"IFERROR(VLOOKUP(A1115,'Tipos de activos'!$F$2:$G$5,2,0),0)","v":0},null,0]
[null,null,null,null,null,null,null,null,null,null,0,{"$f":"IFERROR(VLOOKUP(A1116,'Tipos de activos'!$F$2:$G$5,2,0),0)","v":0},null,0]
[null,null,null,null,null,null,null,null,null,null,0,{"$f":"IFERROR(VLOOKUP(A1117,'Tipos de activos'!$F$2:$G$5,2,0),0)","v":0},null,0]
[null,null,null,null,null,null,null,null,null,null,0,{"$f":"IFERROR(VLOOKUP(A1118,'Tipos de activos'!$F$2:$G$5,2,0),0)","v":0},null,0]
[null,null,null,null,null,null,null,null,null,null,0,{"$f":"IFERROR(VLOOKUP(A1119,'Tipos de activos'!$F$2:$G$5,2,0),0)","v":0},null,0]
[null,null,null,null,null,null,null,null,null,null,0,{"$f":"IFERROR(VLOOKUP(A1120,'Tipos de activos'!$F$2:$G$5,2,0),0)","v":0},null,0]
[null,null,null,null,null,null,null,null,null,null,0,{"$f":"IFERROR(VLOOKUP(A1121,'Tipos de activos'!$F$2:$G$5,2,0),0)","v":0},null,0]
[null,null,null,null,null,null,null,null,null,null,0,{"$f":"IFERROR(VLOOKUP(A1122,'Tipos de activos'!$F$2:$G$5,2,0),0)","v":0},null,0]
[null,null,null,null,null,null,null,null,null,null,0,{"$f":"IFERROR(VLOOKUP(A1123,'Tipos de activos'!$F$2:$G$5,2,0),0)","v":0},null,0]
[null,null,null,null,null,null,null,null,null,null,0,{"$f":"IFERROR(VLOOKUP(A1124,'Tipos de activos'!$F$2:$G$5,2,0),0)","v":0},null,0]
[null,null,null,null,null,null,null,null,null,null,0,{"$f":"IFERROR(VLOOKUP(A1125,'Tipos de activos'!$F$2:$G$5,2,0),0)","v":0},null,0]
[null,null,null,null,null,null,null,null,null,null,0,{"$f":"IFERROR(VLOOKUP(A1126,'Tipos de activos'!$F$2:$G$5,2,0),0)","v":0},null,0]
[null,null,null,null,null,null,null,null,null,null,0,{"$f":"IFERROR(VLOOKUP(A1127,'Tipos de activos'!$F$2:$G$5,2,0),0)","v":0},null,0]
[null,null,null,null,null,null,null,null,null,null,0,{"$f":"IFERROR(VLOOKUP(A1128,'Tipos de activos'!$F$2:$G$5,2,0),0)","v":0},null,0]
[null,null,null,null,null,null,null,null,null,null,0,{"$f":"IFERROR(VLOOKUP(A1129,'Tipos de activos'!$F$2:$G$5,2,0),0)","v":0},null,0]
[null,null,null,null,null,null,null,null,null,null,0,{"$f":"IFERROR(VLOOKUP(A1130,'Tipos de activos'!$F$2:$G$5,2,0),0)","v":0},null,0]
[null,null,null,null,null,null,null,null,null,null,0,{"$f":"IFERROR(VLOOKUP(A1131,'Tipos de activos'!$F$2:$G$5,2,0),0)","v":0},null,0]
[null,null,null,null,null,null,null,null,null,null,0,{"$f":"IFERROR(VLOOKUP(A1132,'Tipos de activos'!$F$2:$G$5,2,0),0)","v":0},null,0]
[null,null,null,null,null,null,null,null,null,null,0,{"$f":"IFERROR(VLOOKUP(A1133,'Tipos de activos'!$F$2:$G$5,2,0),0)","v":0},null,0]
[null,null,null,null,null,null,null,null,null,null,0,{"$f":"IFERROR(VLOOKUP(A1134,'Tipos de activos'!$F$2:$G$5,2,0),0)","v":0},null,0]
[null,null,null,null,null,null,null,null,null,null,0,{"$f":"IFERROR(VLOOKUP(A1135,'Tipos de activos'!$F$2:$G$5,2,0),0)","v":0},null,0]
[null,null,null,null,null,null,null,null,null,null,0,{"$f":"IFERROR(VLOOKUP(A1136,'Tipos de activos'!$F$2:$G$5,2,0),0)","v":0},null,0]
[null,null,null,null,null,null,null,null,null,null,0,{"$f":"IFERROR(VLOOKUP(A1137,'Tipos de activos'!$F$2:$G$5,2,0),0)","v":0},null,0]
[null,null,null,null,null,null,null,null,null,null,0,{"$f":"IFERROR(VLOOKUP(A1138,'Tipos de activos'!$F$2:$G$5,2,0),0)","v":0},null,0]
[null,null,null,null,null,null,null,null,null,null,0,{"$f":"IFERROR(VLOOKUP(A1139,'Tipos de activos'!$F$2:$G$5,2,0),0)","v":0},null,0]
[null,null,null,null,null,null,null,null,null,null,0,{"$f":"IFERROR(VLOOKUP(A1140,'Tipos de activos'!$F$2:$G$5,2,0),0)","v":0},null,0]
[null,null,null,null,null,null,null,null,null,null,0,{"$f":"IFERROR(VLOOKUP(A1141,'Tipos de activos'!$F$2:$G$5,2,0),0)","v":0},null,0]
[null,null,null,null,null,null,null,null,null,null,0,{"$f":"IFERROR(VLOOKUP(A1142,'Tipos de activos'!$F$2:$G$5,2,0),0)","v":0},null,0]
[null,null,null,null,null,null,null,null,null,null,0,{"$f":"IFERROR(VLOOKUP(A1143,'Tipos de activos'!$F$2:$G$5,2,0),0)","v":0},null,0]
[null,null,null,null,null,null,null,null,null,null,0,{"$f":"IFERROR(VLOOKUP(A1144,'Tipos de activos'!$F$2:$G$5,2,0),0)","v":0},null,0]
[null,null,null,null,null,null,null,null,null,null,0,{"$f":"IFERROR(VLOOKUP(A1145,'Tipos de activos'!$F$2:$G$5,2,0),0)","v":0},null,0]
[null,null,null,null,null,null,null,null,null,null,0,{"$f":"IFERROR(VLOOKUP(A1146,'Tipos de activos'!$F$2:$G$5,2,0),0)","v":0},null,0]
[null,null,null,null,null,null,null,null,null,null,0,{"$f":"IFERROR(VLOOKUP(A1147,'Tipos de activos'!$F$2:$G$5,2,0),0)","v":0},null,0]
[null,null,null,null,null,null,null,null,null,null,0,{"$f":"IFERROR(VLOOKUP(A1148,'Tipos de activos'!$F$2:$G$5,2,0),0)","v":0},null,0]
[null,null,null,null,null,null,null,null,null,null,0,{"$f":"IFERROR(VLOOKUP(A1149,'Tipos de activos'!$F$2:$G$5,2,0),0)","v":0},null,0]
[null,null,null,null,null,null,null,null,null,null,0,{"$f":"IFERROR(VLOOKUP(A1150,'Tipos de activos'!$F$2:$G$5,2,0),0)","v":0},null,0]
[null,null,null,null,null,null,null,null,null,null,0,{"$f":"IFERROR(VLOOKUP(A1151,'Tipos de activos'!$F$2:$G$5,2,0),0)","v":0},null,0]
[null,null,null,null,null,null,null,null,null,null,0,{"$f":"IFERROR(VLOOKUP(A1152,'Tipos de activos'!$F$2:$G$5,2,0),0)","v":0},null,0]
[null,null,null,null,null,null,null,null,null,null,0,{"$f":"IFERROR(VLOOKUP(A1153,'Tipos de activos'!$F$2:$G$5,2,0),0)","v":0},null,0]
[null,null,null,null,null,null,null,null,null,null,0,{"$f":"IFERROR(VLOOKUP(A1154,'Tipos de activos'!$F$2:$G$5,2,0),0)","v":0},null,0]
[null,null,null,null,null,null,null,null,null,null,0,{"$f":"IFERROR(VLOOKUP(A1155,'Tipos de activos'!$F$2:$G$5,2,0),0)","v":0},null,0]
[null,null,null,null,null,null,null,null,null,null,0,{"$f":"IFERROR(VLOOKUP(A1156,'Tipos de activos'!$F$2:$G$5,2,0),0)","v":0},null,0]
[null,null,null,null,null,null,null,null,null,null,0,{"$f":"IFERROR(VLOOKUP(A1157,'Tipos de activos'!$F$2:$G$5,2,0),0)","v":0},null,0]
[null,null,null,null,null,null,null,null,null,null,0,{"$f":"IFERROR(VLOOKUP(A1158,'Tipos de activos'!$F$2:$G$5,2,0),0)","v":0},null,0]
[null,null,null,null,null,null,null,null,null,null,0,{"$f":"IFERROR(VLOOKUP(A1159,'Tipos de activos'!$F$2:$G$5,2,0),0)","v":0},null,0]
[null,null,null,null,null,null,null,null,null,null,0,{"$f":"IFERROR(VLOOKUP(A1160,'Tipos de activos'!$F$2:$G$5,2,0),0)","v":0},null,0]
[null,null,null,null,null,null,null,null,null,null,0,{"$f":"IFERROR(VLOOKUP(A1161,'Tipos de activos'!$F$2:$G$5,2,0),0)","v":0},null,0]
[null,null,null,null,null,null,null,null,null,null,0,{"$f":"IFERROR(VLOOKUP(A1162,'Tipos de activos'!$F$2:$G$5,2,0),0)","v":0},null,0]
[null,null,null,null,null,null,null,null,null,null,0,{"$f":"IFERROR(VLOOKUP(A1163,'Tipos de activos'!$F$2:$G$5,2,0),0)","v":0},null,0]
[null,null,null,null,null,null,null,null,null,null,0,{"$f":"IFERROR(VLOOKUP(A1164,'Tipos de activos'!$F$2:$G$5,2,0),0)","v":0},null,0]
[null,null,null,null,null,null,null,null,null,null,0,{"$f":"IFERROR(VLOOKUP(A1165,'Tipos de activos'!$F$2:$G$5,2,0),0)","v":0},null,0]
[null,null,null,null,null,null,null,null,null,null,0,{"$f":"IFERROR(VLOOKUP(A1166,'Tipos de activos'!$F$2:$G$5,2,0),0)","v":0},null,0]
[null,null,null,null,null,null,null,null,null,null,0,{"$f":"IFERROR(VLOOKUP(A1167,'Tipos de activos'!$F$2:$G$5,2,0),0)","v":0},null,0]
[null,null,null,null,null,null,null,null,null,null,0,{"$f":"IFERROR(VLOOKUP(A1168,'Tipos de activos'!$F$2:$G$5,2,0),0)","v":0},null,0]
[null,null,null,null,null,null,null,null,null,null,0,{"$f":"IFERROR(VLOOKUP(A1169,'Tipos de activos'!$F$2:$G$5,2,0),0)","v":0},null,{"$f":"+K1169*L1169","v":0}]
[null,null,null,null,null,null,null,null,null,null,0,{"$f":"IFERROR(VLOOKUP(A1170,'Tipos de activos'!$F$2:$G$5,2,0),0)","v":0},null,0]
[null,null,null,null,null,null,null,null,null,null,0,{"$f":"IFERROR(VLOOKUP(A1171,'Tipos de activos'!$F$2:$G$5,2,0),0)","v":0},null,0]
[null,null,null,null,null,null,null,null,null,null,0,{"$f":"IFERROR(VLOOKUP(A1172,'Tipos de activos'!$F$2:$G$5,2,0),0)","v":0},null,0]
[null,null,null,null,null,null,null,null,null,null,0,{"$f":"IFERROR(VLOOKUP(A1173,'Tipos de activos'!$F$2:$G$5,2,0),0)","v":0},null,0]
[null,null,null,null,null,null,null,null,null,null,0,{"$f":"IFERROR(VLOOKUP(A1174,'Tipos de activos'!$F$2:$G$5,2,0),0)","v":0},null,0]
[null,null,null,null,null,null,null,null,null,null,0,{"$f":"IFERROR(VLOOKUP(A1175,'Tipos de activos'!$F$2:$G$5,2,0),0)","v":0},null,0]
[null,null,null,null,null,null,null,null,null,null,0,{"$f":"IFERROR(VLOOKUP(A1176,'Tipos de activos'!$F$2:$G$5,2,0),0)","v":0},null,0]
[null,null,null,null,null,null,null,null,null,null,{"$f":"+I1177-J1177","v":0},{"$f":"IFERROR(VLOOKUP(A1177,'Tipos de activos'!$F$2:$G$5,2,0),0)","v":0},null,0]
[null,null,null,null,null,null,null,null,null,null,0,{"$f":"IFERROR(VLOOKUP(A1178,'Tipos de activos'!$F$2:$G$5,2,0),0)","v":0},null,0]
[null,null,null,null,null,null,null,null,null,null,0,{"$f":"IFERROR(VLOOKUP(A1179,'Tipos de activos'!$F$2:$G$5,2,0),0)","v":0},null,0]
[null,null,null,null,null,null,null,null,null,null,0,{"$f":"IFERROR(VLOOKUP(A1180,'Tipos de activos'!$F$2:$G$5,2,0),0)","v":0},null,0]
[null,null,null,null,null,null,null,null,null,null,0,{"$f":"IFERROR(VLOOKUP(A1181,'Tipos de activos'!$F$2:$G$5,2,0),0)","v":0},null,0]
[null,null,null,null,null,null,null,null,null,null,0,{"$f":"IFERROR(VLOOKUP(A1182,'Tipos de activos'!$F$2:$G$5,2,0),0)","v":0},null,0]
[null,null,null,null,null,null,null,null,null,null,0,{"$f":"IFERROR(VLOOKUP(A1183,'Tipos de activos'!$F$2:$G$5,2,0),0)","v":0},null,0]
[null,null,null,null,null,null,null,null,null,null,0,{"$f":"IFERROR(VLOOKUP(A1184,'Tipos de activos'!$F$2:$G$5,2,0),0)","v":0},null,0]
[null,null,null,null,null,null,null,null,null,null,0,{"$f":"IFERROR(VLOOKUP(A1185,'Tipos de activos'!$F$2:$G$5,2,0),0)","v":0},null,0]
[null,null,null,null,null,null,null,null,null,null,0,{"$f":"IFERROR(VLOOKUP(A1186,'Tipos de activos'!$F$2:$G$5,2,0),0)","v":0},null,0]
[null,null,null,null,null,null,null,null,null,null,0,{"$f":"IFERROR(VLOOKUP(A1187,'Tipos de activos'!$F$2:$G$5,2,0),0)","v":0},null,0]
[null,null,null,null,null,null,null,null,null,null,0,{"$f":"IFERROR(VLOOKUP(A1188,'Tipos de activos'!$F$2:$G$5,2,0),0)","v":0},null,0]
[null,null,null,null,null,null,null,null,null,null,0,{"$f":"IFERROR(VLOOKUP(A1189,'Tipos de activos'!$F$2:$G$5,2,0),0)","v":0},null,0]
[null,null,null,null,null,null,null,null,null,null,0,{"$f":"IFERROR(VLOOKUP(A1190,'Tipos de activos'!$F$2:$G$5,2,0),0)","v":0},null,0]
[null,null,null,null,null,null,null,null,null,null,0,{"$f":"IFERROR(VLOOKUP(A1191,'Tipos de activos'!$F$2:$G$5,2,0),0)","v":0},null,0]
[null,null,null,null,null,null,null,null,null,null,0,{"$f":"IFERROR(VLOOKUP(A1192,'Tipos de activos'!$F$2:$G$5,2,0),0)","v":0},null,0]
[null,null,null,null,null,null,null,null,null,null,0,{"$f":"IFERROR(VLOOKUP(A1193,'Tipos de activos'!$F$2:$G$5,2,0),0)","v":0},null,0]
[null,null,null,null,null,null,null,null,null,null,0,{"$f":"IFERROR(VLOOKUP(A1194,'Tipos de activos'!$F$2:$G$5,2,0),0)","v":0},null,0]
[null,null,null,null,null,null,null,null,null,null,0,{"$f":"IFERROR(VLOOKUP(A1195,'Tipos de activos'!$F$2:$G$5,2,0),0)","v":0},null,0]
[null,null,null,null,null,null,null,null,null,null,0,{"$f":"IFERROR(VLOOKUP(A1196,'Tipos de activos'!$F$2:$G$5,2,0),0)","v":0},null,0]
[null,null,null,null,null,null,null,null,null,null,0,{"$f":"IFERROR(VLOOKUP(A1197,'Tipos de activos'!$F$2:$G$5,2,0),0)","v":0},null,0]
[null,null,null,null,null,null,null,null,null,null,0,{"$f":"IFERROR(VLOOKUP(A1198,'Tipos de activos'!$F$2:$G$5,2,0),0)","v":0},null,0]
[null,null,null,null,null,null,null,null,null,null,0,{"$f":"IFERROR(VLOOKUP(A1199,'Tipos de activos'!$F$2:$G$5,2,0),0)","v":0},null,0]
[null,null,null,null,null,null,null,null,null,null,0,{"$f":"IFERROR(VLOOKUP(A1200,'Tipos de activos'!$F$2:$G$5,2,0),0)","v":0},null,0]
[null,null,null,null,null,null,null,null,null,null,0,{"$f":"IFERROR(VLOOKUP(A1201,'Tipos de activos'!$F$2:$G$5,2,0),0)","v":0},null,0]
[null,null,null,null,null,null,null,null,null,null,0,{"$f":"IFERROR(VLOOKUP(A1202,'Tipos de activos'!$F$2:$G$5,2,0),0)","v":0},null,0]
[null,null,null,null,null,null,null,null,null,null,0,{"$f":"IFERROR(VLOOKUP(A1203,'Tipos de activos'!$F$2:$G$5,2,0),0)","v":0},null,0]
[null,null,null,null,null,null,null,null,null,null,0,{"$f":"IFERROR(VLOOKUP(A1204,'Tipos de activos'!$F$2:$G$5,2,0),0)","v":0},null,0]
[null,null,null,null,null,null,null,null,null,null,0,{"$f":"IFERROR(VLOOKUP(A1205,'Tipos de activos'!$F$2:$G$5,2,0),0)","v":0},null,0]
[null,null,null,null,null,null,null,null,null,null,0,{"$f":"IFERROR(VLOOKUP(A1206,'Tipos de activos'!$F$2:$G$5,2,0),0)","v":0},null,0]
[null,null,null,null,null,null,null,null,null,null,0,{"$f":"IFERROR(VLOOKUP(A1207,'Tipos de activos'!$F$2:$G$5,2,0),0)","v":0},null,0]
[null,null,null,null,null,null,null,null,null,null,0,{"$f":"IFERROR(VLOOKUP(A1208,'Tipos de activos'!$F$2:$G$5,2,0),0)","v":0},null,0]
[null,null,null,null,null,null,null,null,null,null,0,{"$f":"IFERROR(VLOOKUP(A1209,'Tipos de activos'!$F$2:$G$5,2,0),0)","v":0},null,0]
[null,null,null,null,null,null,null,null,null,null,0,{"$f":"IFERROR(VLOOKUP(A1210,'Tipos de activos'!$F$2:$G$5,2,0),0)","v":0},null,0]
[null,null,null,null,null,null,null,null,null,null,0,{"$f":"IFERROR(VLOOKUP(A1211,'Tipos de activos'!$F$2:$G$5,2,0),0)","v":0},null,0]
[null,null,null,null,null,null,null,null,null,null,0,{"$f":"IFERROR(VLOOKUP(A1212,'Tipos de activos'!$F$2:$G$5,2,0),0)","v":0},null,0]
[null,null,null,null,null,null,null,null,null,null,0,{"$f":"IFERROR(VLOOKUP(A1213,'Tipos de activos'!$F$2:$G$5,2,0),0)","v":0},null,0]
[null,null,null,null,null,null,null,null,null,null,0,{"$f":"IFERROR(VLOOKUP(A1214,'Tipos de activos'!$F$2:$G$5,2,0),0)","v":0},null,0]
[null,null,null,null,null,null,null,null,null,null,0,{"$f":"IFERROR(VLOOKUP(A1215,'Tipos de activos'!$F$2:$G$5,2,0),0)","v":0},null,0]
[null,null,null,null,null,null,null,null,null,null,0,{"$f":"IFERROR(VLOOKUP(A1216,'Tipos de activos'!$F$2:$G$5,2,0),0)","v":0},null,0]
[null,null,null,null,null,null,null,null,null,null,0,{"$f":"IFERROR(VLOOKUP(A1217,'Tipos de activos'!$F$2:$G$5,2,0),0)","v":0},null,0]
[null,null,null,null,null,null,null,null,null,null,0,{"$f":"IFERROR(VLOOKUP(A1218,'Tipos de activos'!$F$2:$G$5,2,0),0)","v":0},null,0]
[null,null,null,null,null,null,null,null,null,null,0,{"$f":"IFERROR(VLOOKUP(A1219,'Tipos de activos'!$F$2:$G$5,2,0),0)","v":0},null,0]
[null,null,null,null,null,null,null,null,null,null,0,{"$f":"IFERROR(VLOOKUP(A1220,'Tipos de activos'!$F$2:$G$5,2,0),0)","v":0},null,0]
[null,null,null,null,null,null,null,null,null,null,0,{"$f":"IFERROR(VLOOKUP(A1221,'Tipos de activos'!$F$2:$G$5,2,0),0)","v":0},null,0]
[null,null,null,null,null,null,null,null,null,null,0,{"$f":"IFERROR(VLOOKUP(A1222,'Tipos de activos'!$F$2:$G$5,2,0),0)","v":0},null,0]
[null,null,null,null,null,null,null,null,null,null,0,{"$f":"IFERROR(VLOOKUP(A1223,'Tipos de activos'!$F$2:$G$5,2,0),0)","v":0},null,0]
[null,null,null,null,null,null,null,null,null,null,0,{"$f":"IFERROR(VLOOKUP(A1224,'Tipos de activos'!$F$2:$G$5,2,0),0)","v":0},null,0]
[null,null,null,null,null,null,null,null,null,null,0,{"$f":"IFERROR(VLOOKUP(A1225,'Tipos de activos'!$F$2:$G$5,2,0),0)","v":0},null,0]
[null,null,null,null,null,null,null,null,null,null,0,{"$f":"IFERROR(VLOOKUP(A1226,'Tipos de activos'!$F$2:$G$5,2,0),0)","v":0},null,0]
[null,null,null,null,null,null,null,null,null,null,0,{"$f":"IFERROR(VLOOKUP(A1227,'Tipos de activos'!$F$2:$G$5,2,0),0)","v":0},null,0]
[null,null,null,null,null,null,null,null,null,null,0,{"$f":"IFERROR(VLOOKUP(A1228,'Tipos de activos'!$F$2:$G$5,2,0),0)","v":0},null,0]
[null,null,null,null,null,null,null,null,null,null,0,{"$f":"IFERROR(VLOOKUP(A1229,'Tipos de activos'!$F$2:$G$5,2,0),0)","v":0},null,0]
[null,null,null,null,null,null,null,null,null,null,0,{"$f":"IFERROR(VLOOKUP(A1230,'Tipos de activos'!$F$2:$G$5,2,0),0)","v":0},null,0]
[null,null,null,null,null,null,null,null,null,null,0,{"$f":"IFERROR(VLOOKUP(A1231,'Tipos de activos'!$F$2:$G$5,2,0),0)","v":0},null,0]
[null,null,null,null,null,null,null,null,null,null,0,{"$f":"IFERROR(VLOOKUP(A1232,'Tipos de activos'!$F$2:$G$5,2,0),0)","v":0},null,0]
[null,null,null,null,null,null,null,null,null,null,0,{"$f":"IFERROR(VLOOKUP(A1233,'Tipos de activos'!$F$2:$G$5,2,0),0)","v":0},null,{"$f":"+K1233*L1233","v":0}]
[null,null,null,null,null,null,null,null,null,null,0,{"$f":"IFERROR(VLOOKUP(A1234,'Tipos de activos'!$F$2:$G$5,2,0),0)","v":0},null,0]
[null,null,null,null,null,null,null,null,null,null,0,{"$f":"IFERROR(VLOOKUP(A1235,'Tipos de activos'!$F$2:$G$5,2,0),0)","v":0},null,0]
[null,null,null,null,null,null,null,null,null,null,0,{"$f":"IFERROR(VLOOKUP(A1236,'Tipos de activos'!$F$2:$G$5,2,0),0)","v":0},null,0]
[null,null,null,null,null,null,null,null,null,null,0,{"$f":"IFERROR(VLOOKUP(A1237,'Tipos de activos'!$F$2:$G$5,2,0),0)","v":0},null,0]
[null,null,null,null,null,null,null,null,null,null,0,{"$f":"IFERROR(VLOOKUP(A1238,'Tipos de activos'!$F$2:$G$5,2,0),0)","v":0},null,0]
[null,null,null,null,null,null,null,null,null,null,0,{"$f":"IFERROR(VLOOKUP(A1239,'Tipos de activos'!$F$2:$G$5,2,0),0)","v":0},null,0]
[null,null,null,null,null,null,null,null,null,null,0,{"$f":"IFERROR(VLOOKUP(A1240,'Tipos de activos'!$F$2:$G$5,2,0),0)","v":0},null,0]
[null,null,null,null,null,null,null,null,null,null,{"$f":"+I1241-J1241","v":0},{"$f":"IFERROR(VLOOKUP(A1241,'Tipos de activos'!$F$2:$G$5,2,0),0)","v":0},null,0]
[null,null,null,null,null,null,null,null,null,null,0,{"$f":"IFERROR(VLOOKUP(A1242,'Tipos de activos'!$F$2:$G$5,2,0),0)","v":0},null,0]
[null,null,null,null,null,null,null,null,null,null,0,{"$f":"IFERROR(VLOOKUP(A1243,'Tipos de activos'!$F$2:$G$5,2,0),0)","v":0},null,0]
[null,null,null,null,null,null,null,null,null,null,0,{"$f":"IFERROR(VLOOKUP(A1244,'Tipos de activos'!$F$2:$G$5,2,0),0)","v":0},null,0]
[null,null,null,null,null,null,null,null,null,null,0,{"$f":"IFERROR(VLOOKUP(A1245,'Tipos de activos'!$F$2:$G$5,2,0),0)","v":0},null,0]
[null,null,null,null,null,null,null,null,null,null,0,{"$f":"IFERROR(VLOOKUP(A1246,'Tipos de activos'!$F$2:$G$5,2,0),0)","v":0},null,0]
[null,null,null,null,null,null,null,null,null,null,0,{"$f":"IFERROR(VLOOKUP(A1247,'Tipos de activos'!$F$2:$G$5,2,0),0)","v":0},null,0]
[null,null,null,null,null,null,null,null,null,null,0,{"$f":"IFERROR(VLOOKUP(A1248,'Tipos de activos'!$F$2:$G$5,2,0),0)","v":0},null,0]
[null,null,null,null,null,null,null,null,null,null,0,{"$f":"IFERROR(VLOOKUP(A1249,'Tipos de activos'!$F$2:$G$5,2,0),0)","v":0},null,0]
[null,null,null,null,null,null,null,null,null,null,0,{"$f":"IFERROR(VLOOKUP(A1250,'Tipos de activos'!$F$2:$G$5,2,0),0)","v":0},null,0]
[null,null,null,null,null,null,null,null,null,null,0,{"$f":"IFERROR(VLOOKUP(A1251,'Tipos de activos'!$F$2:$G$5,2,0),0)","v":0},null,0]
[null,null,null,null,null,null,null,null,null,null,0,{"$f":"IFERROR(VLOOKUP(A1252,'Tipos de activos'!$F$2:$G$5,2,0),0)","v":0},null,0]
[null,null,null,null,null,null,null,null,null,null,0,{"$f":"IFERROR(VLOOKUP(A1253,'Tipos de activos'!$F$2:$G$5,2,0),0)","v":0},null,0]
[null,null,null,null,null,null,null,null,null,null,0,{"$f":"IFERROR(VLOOKUP(A1254,'Tipos de activos'!$F$2:$G$5,2,0),0)","v":0},null,0]
[null,null,null,null,null,null,null,null,null,null,0,{"$f":"IFERROR(VLOOKUP(A1255,'Tipos de activos'!$F$2:$G$5,2,0),0)","v":0},null,0]
[null,null,null,null,null,null,null,null,null,null,0,{"$f":"IFERROR(VLOOKUP(A1256,'Tipos de activos'!$F$2:$G$5,2,0),0)","v":0},null,0]
[null,null,null,null,null,null,null,null,null,null,0,{"$f":"IFERROR(VLOOKUP(A1257,'Tipos de activos'!$F$2:$G$5,2,0),0)","v":0},null,0]
[null,null,null,null,null,null,null,null,null,null,0,{"$f":"IFERROR(VLOOKUP(A1258,'Tipos de activos'!$F$2:$G$5,2,0),0)","v":0},null,0]
[null,null,null,null,null,null,null,null,null,null,0,{"$f":"IFERROR(VLOOKUP(A1259,'Tipos de activos'!$F$2:$G$5,2,0),0)","v":0},null,0]
[null,null,null,null,null,null,null,null,null,null,0,{"$f":"IFERROR(VLOOKUP(A1260,'Tipos de activos'!$F$2:$G$5,2,0),0)","v":0},null,0]
[null,null,null,null,null,null,null,null,null,null,0,{"$f":"IFERROR(VLOOKUP(A1261,'Tipos de activos'!$F$2:$G$5,2,0),0)","v":0},null,0]
[null,null,null,null,null,null,null,null,null,null,0,{"$f":"IFERROR(VLOOKUP(A1262,'Tipos de activos'!$F$2:$G$5,2,0),0)","v":0},null,0]
[null,null,null,null,null,null,null,null,null,null,0,{"$f":"IFERROR(VLOOKUP(A1263,'Tipos de activos'!$F$2:$G$5,2,0),0)","v":0},null,0]
[null,null,null,null,null,null,null,null,null,null,0,{"$f":"IFERROR(VLOOKUP(A1264,'Tipos de activos'!$F$2:$G$5,2,0),0)","v":0},null,0]
[null,null,null,null,null,null,null,null,null,null,0,{"$f":"IFERROR(VLOOKUP(A1265,'Tipos de activos'!$F$2:$G$5,2,0),0)","v":0},null,0]
[null,null,null,null,null,null,null,null,null,null,0,{"$f":"IFERROR(VLOOKUP(A1266,'Tipos de activos'!$F$2:$G$5,2,0),0)","v":0},null,0]
[null,null,null,null,null,null,null,null,null,null,0,{"$f":"IFERROR(VLOOKUP(A1267,'Tipos de activos'!$F$2:$G$5,2,0),0)","v":0},null,0]
[null,null,null,null,null,null,null,null,null,null,0,{"$f":"IFERROR(VLOOKUP(A1268,'Tipos de activos'!$F$2:$G$5,2,0),0)","v":0},null,0]
[null,null,null,null,null,null,null,null,null,null,0,{"$f":"IFERROR(VLOOKUP(A1269,'Tipos de activos'!$F$2:$G$5,2,0),0)","v":0},null,0]
[null,null,null,null,null,null,null,null,null,null,0,{"$f":"IFERROR(VLOOKUP(A1270,'Tipos de activos'!$F$2:$G$5,2,0),0)","v":0},null,0]
[null,null,null,null,null,null,null,null,null,null,0,{"$f":"IFERROR(VLOOKUP(A1271,'Tipos de activos'!$F$2:$G$5,2,0),0)","v":0},null,0]
[null,null,null,null,null,null,null,null,null,null,0,{"$f":"IFERROR(VLOOKUP(A1272,'Tipos de activos'!$F$2:$G$5,2,0),0)","v":0},null,0]
[null,null,null,null,null,null,null,null,null,null,0,{"$f":"IFERROR(VLOOKUP(A1273,'Tipos de activos'!$F$2:$G$5,2,0),0)","v":0},null,0]
[null,null,null,null,null,null,null,null,null,null,0,{"$f":"IFERROR(VLOOKUP(A1274,'Tipos de activos'!$F$2:$G$5,2,0),0)","v":0},null,0]
[null,null,null,null,null,null,null,null,null,null,0,{"$f":"IFERROR(VLOOKUP(A1275,'Tipos de activos'!$F$2:$G$5,2,0),0)","v":0},null,0]
[null,null,null,null,null,null,null,null,null,null,0,{"$f":"IFERROR(VLOOKUP(A1276,'Tipos de activos'!$F$2:$G$5,2,0),0)","v":0},null,0]
[null,null,null,null,null,null,null,null,null,null,0,{"$f":"IFERROR(VLOOKUP(A1277,'Tipos de activos'!$F$2:$G$5,2,0),0)","v":0},null,0]
[null,null,null,null,null,null,null,null,null,null,0,{"$f":"IFERROR(VLOOKUP(A1278,'Tipos de activos'!$F$2:$G$5,2,0),0)","v":0},null,0]
[null,null,null,null,null,null,null,null,null,null,0,{"$f":"IFERROR(VLOOKUP(A1279,'Tipos de activos'!$F$2:$G$5,2,0),0)","v":0},null,0]
[null,null,null,null,null,null,null,null,null,null,0,{"$f":"IFERROR(VLOOKUP(A1280,'Tipos de activos'!$F$2:$G$5,2,0),0)","v":0},null,0]
[null,null,null,null,null,null,null,null,null,null,0,{"$f":"IFERROR(VLOOKUP(A1281,'Tipos de activos'!$F$2:$G$5,2,0),0)","v":0},null,0]
[null,null,null,null,null,null,null,null,null,null,0,{"$f":"IFERROR(VLOOKUP(A1282,'Tipos de activos'!$F$2:$G$5,2,0),0)","v":0},null,0]
[null,null,null,null,null,null,null,null,null,null,0,{"$f":"IFERROR(VLOOKUP(A1283,'Tipos de activos'!$F$2:$G$5,2,0),0)","v":0},null,0]
[null,null,null,null,null,null,null,null,null,null,0,{"$f":"IFERROR(VLOOKUP(A1284,'Tipos de activos'!$F$2:$G$5,2,0),0)","v":0},null,0]
[null,null,null,null,null,null,null,null,null,null,0,{"$f":"IFERROR(VLOOKUP(A1285,'Tipos de activos'!$F$2:$G$5,2,0),0)","v":0},null,0]
[null,null,null,null,null,null,null,null,null,null,0,{"$f":"IFERROR(VLOOKUP(A1286,'Tipos de activos'!$F$2:$G$5,2,0),0)","v":0},null,0]
[null,null,null,null,null,null,null,null,null,null,0,{"$f":"IFERROR(VLOOKUP(A1287,'Tipos de activos'!$F$2:$G$5,2,0),0)","v":0},null,0]
[null,null,null,null,null,null,null,null,null,null,0,{"$f":"IFERROR(VLOOKUP(A1288,'Tipos de activos'!$F$2:$G$5,2,0),0)","v":0},null,0]
[null,null,null,null,null,null,null,null,null,null,0,{"$f":"IFERROR(VLOOKUP(A1289,'Tipos de activos'!$F$2:$G$5,2,0),0)","v":0},null,0]
[null,null,null,null,null,null,null,null,null,null,0,{"$f":"IFERROR(VLOOKUP(A1290,'Tipos de activos'!$F$2:$G$5,2,0),0)","v":0},null,0]
[null,null,null,null,null,null,null,null,null,null,0,{"$f":"IFERROR(VLOOKUP(A1291,'Tipos de activos'!$F$2:$G$5,2,0),0)","v":0},null,0]
[null,null,null,null,null,null,null,null,null,null,0,{"$f":"IFERROR(VLOOKUP(A1292,'Tipos de activos'!$F$2:$G$5,2,0),0)","v":0},null,0]
[null,null,null,null,null,null,null,null,null,null,0,{"$f":"IFERROR(VLOOKUP(A1293,'Tipos de activos'!$F$2:$G$5,2,0),0)","v":0},null,0]
[null,null,null,null,null,null,null,null,null,null,0,{"$f":"IFERROR(VLOOKUP(A1294,'Tipos de activos'!$F$2:$G$5,2,0),0)","v":0},null,0]
[null,null,null,null,null,null,null,null,null,null,0,{"$f":"IFERROR(VLOOKUP(A1295,'Tipos de activos'!$F$2:$G$5,2,0),0)","v":0},null,0]
[null,null,null,null,null,null,null,null,null,null,0,{"$f":"IFERROR(VLOOKUP(A1296,'Tipos de activos'!$F$2:$G$5,2,0),0)","v":0},null,0]
[null,null,null,null,null,null,null,null,null,null,0,{"$f":"IFERROR(VLOOKUP(A1297,'Tipos de activos'!$F$2:$G$5,2,0),0)","v":0},null,{"$f":"+K1297*L1297","v":0}]
[null,null,null,null,null,null,null,null,null,null,0,{"$f":"IFERROR(VLOOKUP(A1298,'Tipos de activos'!$F$2:$G$5,2,0),0)","v":0},null,0]
[null,null,null,null,null,null,null,null,null,null,0,{"$f":"IFERROR(VLOOKUP(A1299,'Tipos de activos'!$F$2:$G$5,2,0),0)","v":0},null,0]
[null,null,null,null,null,null,null,null,null,null,0,{"$f":"IFERROR(VLOOKUP(A1300,'Tipos de activos'!$F$2:$G$5,2,0),0)","v":0},null,0]
[null,null,null,null,null,null,null,null,null,null,0,{"$f":"IFERROR(VLOOKUP(A1301,'Tipos de activos'!$F$2:$G$5,2,0),0)","v":0},null,0]
[null,null,null,null,null,null,null,null,null,null,0,{"$f":"IFERROR(VLOOKUP(A1302,'Tipos de activos'!$F$2:$G$5,2,0),0)","v":0},null,0]
[null,null,null,null,null,null,null,null,null,null,0,{"$f":"IFERROR(VLOOKUP(A1303,'Tipos de activos'!$F$2:$G$5,2,0),0)","v":0},null,0]
[null,null,null,null,null,null,null,null,null,null,0,{"$f":"IFERROR(VLOOKUP(A1304,'Tipos de activos'!$F$2:$G$5,2,0),0)","v":0},null,0]
[null,null,null,null,null,null,null,null,null,null,{"$f":"+I1305-J1305","v":0},{"$f":"IFERROR(VLOOKUP(A1305,'Tipos de activos'!$F$2:$G$5,2,0),0)","v":0},null,0]
[null,null,null,null,null,null,null,null,null,null,0,{"$f":"IFERROR(VLOOKUP(A1306,'Tipos de activos'!$F$2:$G$5,2,0),0)","v":0},null,0]
[null,null,null,null,null,null,null,null,null,null,0,{"$f":"IFERROR(VLOOKUP(A1307,'Tipos de activos'!$F$2:$G$5,2,0),0)","v":0},null,0]
[null,null,null,null,null,null,null,null,null,null,0,{"$f":"IFERROR(VLOOKUP(A1308,'Tipos de activos'!$F$2:$G$5,2,0),0)","v":0},null,0]
[null,null,null,null,null,null,null,null,null,null,0,{"$f":"IFERROR(VLOOKUP(A1309,'Tipos de activos'!$F$2:$G$5,2,0),0)","v":0},null,0]
[null,null,null,null,null,null,null,null,null,null,0,{"$f":"IFERROR(VLOOKUP(A1310,'Tipos de activos'!$F$2:$G$5,2,0),0)","v":0},null,0]
[null,null,null,null,null,null,null,null,null,null,0,{"$f":"IFERROR(VLOOKUP(A1311,'Tipos de activos'!$F$2:$G$5,2,0),0)","v":0},null,0]
[null,null,null,null,null,null,null,null,null,null,0,{"$f":"IFERROR(VLOOKUP(A1312,'Tipos de activos'!$F$2:$G$5,2,0),0)","v":0},null,0]
[null,null,null,null,null,null,null,null,null,null,0,{"$f":"IFERROR(VLOOKUP(A1313,'Tipos de activos'!$F$2:$G$5,2,0),0)","v":0},null,0]
[null,null,null,null,null,null,null,null,null,null,0,{"$f":"IFERROR(VLOOKUP(A1314,'Tipos de activos'!$F$2:$G$5,2,0),0)","v":0},null,0]
[null,null,null,null,null,null,null,null,null,null,0,{"$f":"IFERROR(VLOOKUP(A1315,'Tipos de activos'!$F$2:$G$5,2,0),0)","v":0},null,0]
[null,null,null,null,null,null,null,null,null,null,0,{"$f":"IFERROR(VLOOKUP(A1316,'Tipos de activos'!$F$2:$G$5,2,0),0)","v":0},null,0]
[null,null,null,null,null,null,null,null,null,null,0,{"$f":"IFERROR(VLOOKUP(A1317,'Tipos de activos'!$F$2:$G$5,2,0),0)","v":0},null,0]
[null,null,null,null,null,null,null,null,null,null,0,{"$f":"IFERROR(VLOOKUP(A1318,'Tipos de activos'!$F$2:$G$5,2,0),0)","v":0},null,0]
[null,null,null,null,null,null,null,null,null,null,0,{"$f":"IFERROR(VLOOKUP(A1319,'Tipos de activos'!$F$2:$G$5,2,0),0)","v":0},null,0]
[null,null,null,null,null,null,null,null,null,null,0,{"$f":"IFERROR(VLOOKUP(A1320,'Tipos de activos'!$F$2:$G$5,2,0),0)","v":0},null,0]
[null,null,null,null,null,null,null,null,null,null,0,{"$f":"IFERROR(VLOOKUP(A1321,'Tipos de activos'!$F$2:$G$5,2,0),0)","v":0},null,0]
[null,null,null,null,null,null,null,null,null,null,0,{"$f":"IFERROR(VLOOKUP(A1322,'Tipos de activos'!$F$2:$G$5,2,0),0)","v":0},null,0]
[null,null,null,null,null,null,null,null,null,null,0,{"$f":"IFERROR(VLOOKUP(A1323,'Tipos de activos'!$F$2:$G$5,2,0),0)","v":0},null,0]
[null,null,null,null,null,null,null,null,null,null,0,{"$f":"IFERROR(VLOOKUP(A1324,'Tipos de activos'!$F$2:$G$5,2,0),0)","v":0},null,0]
[null,null,null,null,null,null,null,null,null,null,0,{"$f":"IFERROR(VLOOKUP(A1325,'Tipos de activos'!$F$2:$G$5,2,0),0)","v":0},null,0]
[null,null,null,null,null,null,null,null,null,null,0,{"$f":"IFERROR(VLOOKUP(A1326,'Tipos de activos'!$F$2:$G$5,2,0),0)","v":0},null,0]
[null,null,null,null,null,null,null,null,null,null,0,{"$f":"IFERROR(VLOOKUP(A1327,'Tipos de activos'!$F$2:$G$5,2,0),0)","v":0},null,0]
[null,null,null,null,null,null,null,null,null,null,0,{"$f":"IFERROR(VLOOKUP(A1328,'Tipos de activos'!$F$2:$G$5,2,0),0)","v":0},null,0]
[null,null,null,null,null,null,null,null,null,null,0,{"$f":"IFERROR(VLOOKUP(A1329,'Tipos de activos'!$F$2:$G$5,2,0),0)","v":0},null,0]
[null,null,null,null,null,null,null,null,null,null,0,{"$f":"IFERROR(VLOOKUP(A1330,'Tipos de activos'!$F$2:$G$5,2,0),0)","v":0},null,0]
[null,null,null,null,null,null,null,null,null,null,0,{"$f":"IFERROR(VLOOKUP(A1331,'Tipos de activos'!$F$2:$G$5,2,0),0)","v":0},null,0]
[null,null,null,null,null,null,null,null,null,null,0,{"$f":"IFERROR(VLOOKUP(A1332,'Tipos de activos'!$F$2:$G$5,2,0),0)","v":0},null,0]
[null,null,null,null,null,null,null,null,null,null,0,{"$f":"IFERROR(VLOOKUP(A1333,'Tipos de activos'!$F$2:$G$5,2,0),0)","v":0},null,0]
[null,null,null,null,null,null,null,null,null,null,0,{"$f":"IFERROR(VLOOKUP(A1334,'Tipos de activos'!$F$2:$G$5,2,0),0)","v":0},null,0]
[null,null,null,null,null,null,null,null,null,null,0,{"$f":"IFERROR(VLOOKUP(A1335,'Tipos de activos'!$F$2:$G$5,2,0),0)","v":0},null,0]
[null,null,null,null,null,null,null,null,null,null,0,{"$f":"IFERROR(VLOOKUP(A1336,'Tipos de activos'!$F$2:$G$5,2,0),0)","v":0},null,0]
[null,null,null,null,null,null,null,null,null,null,0,{"$f":"IFERROR(VLOOKUP(A1337,'Tipos de activos'!$F$2:$G$5,2,0),0)","v":0},null,0]
[null,null,null,null,null,null,null,null,null,null,0,{"$f":"IFERROR(VLOOKUP(A1338,'Tipos de activos'!$F$2:$G$5,2,0),0)","v":0},null,0]
[null,null,null,null,null,null,null,null,null,null,0,{"$f":"IFERROR(VLOOKUP(A1339,'Tipos de activos'!$F$2:$G$5,2,0),0)","v":0},null,0]
[null,null,null,null,null,null,null,null,null,null,0,{"$f":"IFERROR(VLOOKUP(A1340,'Tipos de activos'!$F$2:$G$5,2,0),0)","v":0},null,0]
[null,null,null,null,null,null,null,null,null,null,0,{"$f":"IFERROR(VLOOKUP(A1341,'Tipos de activos'!$F$2:$G$5,2,0),0)","v":0},null,0]
[null,null,null,null,null,null,null,null,null,null,0,{"$f":"IFERROR(VLOOKUP(A1342,'Tipos de activos'!$F$2:$G$5,2,0),0)","v":0},null,0]
[null,null,null,null,null,null,null,null,null,null,0,{"$f":"IFERROR(VLOOKUP(A1343,'Tipos de activos'!$F$2:$G$5,2,0),0)","v":0},null,0]
[null,null,null,null,null,null,null,null,null,null,0,{"$f":"IFERROR(VLOOKUP(A1344,'Tipos de activos'!$F$2:$G$5,2,0),0)","v":0},null,0]
[null,null,null,null,null,null,null,null,null,null,0,{"$f":"IFERROR(VLOOKUP(A1345,'Tipos de activos'!$F$2:$G$5,2,0),0)","v":0},null,0]
[null,null,null,null,null,null,null,null,null,null,0,{"$f":"IFERROR(VLOOKUP(A1346,'Tipos de activos'!$F$2:$G$5,2,0),0)","v":0},null,0]
[null,null,null,null,null,null,null,null,null,null,0,{"$f":"IFERROR(VLOOKUP(A1347,'Tipos de activos'!$F$2:$G$5,2,0),0)","v":0},null,0]
[null,null,null,null,null,null,null,null,null,null,0,{"$f":"IFERROR(VLOOKUP(A1348,'Tipos de activos'!$F$2:$G$5,2,0),0)","v":0},null,0]
[null,null,null,null,null,null,null,null,null,null,0,{"$f":"IFERROR(VLOOKUP(A1349,'Tipos de activos'!$F$2:$G$5,2,0),0)","v":0},null,0]
[null,null,null,null,null,null,null,null,null,null,0,{"$f":"IFERROR(VLOOKUP(A1350,'Tipos de activos'!$F$2:$G$5,2,0),0)","v":0},null,0]
[null,null,null,null,null,null,null,null,null,null,0,{"$f":"IFERROR(VLOOKUP(A1351,'Tipos de activos'!$F$2:$G$5,2,0),0)","v":0},null,0]
[null,null,null,null,null,null,null,null,null,null,0,{"$f":"IFERROR(VLOOKUP(A1352,'Tipos de activos'!$F$2:$G$5,2,0),0)","v":0},null,0]
[null,null,null,null,null,null,null,null,null,null,0,{"$f":"IFERROR(VLOOKUP(A1353,'Tipos de activos'!$F$2:$G$5,2,0),0)","v":0},null,0]
[null,null,null,null,null,null,null,null,null,null,0,{"$f":"IFERROR(VLOOKUP(A1354,'Tipos de activos'!$F$2:$G$5,2,0),0)","v":0},null,0]
[null,null,null,null,null,null,null,null,null,null,0,{"$f":"IFERROR(VLOOKUP(A1355,'Tipos de activos'!$F$2:$G$5,2,0),0)","v":0},null,0]
[null,null,null,null,null,null,null,null,null,null,0,{"$f":"IFERROR(VLOOKUP(A1356,'Tipos de activos'!$F$2:$G$5,2,0),0)","v":0},null,0]
[null,null,null,null,null,null,null,null,null,null,0,{"$f":"IFERROR(VLOOKUP(A1357,'Tipos de activos'!$F$2:$G$5,2,0),0)","v":0},null,0]
[null,null,null,null,null,null,null,null,null,null,0,{"$f":"IFERROR(VLOOKUP(A1358,'Tipos de activos'!$F$2:$G$5,2,0),0)","v":0},null,0]
[null,null,null,null,null,null,null,null,null,null,0,{"$f":"IFERROR(VLOOKUP(A1359,'Tipos de activos'!$F$2:$G$5,2,0),0)","v":0},null,0]
[null,null,null,null,null,null,null,null,null,null,0,{"$f":"IFERROR(VLOOKUP(A1360,'Tipos de activos'!$F$2:$G$5,2,0),0)","v":0},null,0]
[null,null,null,null,null,null,null,null,null,null,0,{"$f":"IFERROR(VLOOKUP(A1361,'Tipos de activos'!$F$2:$G$5,2,0),0)","v":0},null,{"$f":"+K1361*L1361","v":0}]
[null,null,null,null,null,null,null,null,null,null,0,{"$f":"IFERROR(VLOOKUP(A1362,'Tipos de activos'!$F$2:$G$5,2,0),0)","v":0},null,0]
[null,null,null,null,null,null,null,null,null,null,0,{"$f":"IFERROR(VLOOKUP(A1363,'Tipos de activos'!$F$2:$G$5,2,0),0)","v":0},null,0]
[null,null,null,null,null,null,null,null,null,null,0,{"$f":"IFERROR(VLOOKUP(A1364,'Tipos de activos'!$F$2:$G$5,2,0),0)","v":0},null,0]
[null,null,null,null,null,null,null,null,null,null,0,{"$f":"IFERROR(VLOOKUP(A1365,'Tipos de activos'!$F$2:$G$5,2,0),0)","v":0},null,0]
[null,null,null,null,null,null,null,null,null,null,0,{"$f":"IFERROR(VLOOKUP(A1366,'Tipos de activos'!$F$2:$G$5,2,0),0)","v":0},null,0]
[null,null,null,null,null,null,null,null,null,null,0,{"$f":"IFERROR(VLOOKUP(A1367,'Tipos de activos'!$F$2:$G$5,2,0),0)","v":0},null,0]
[null,null,null,null,null,null,null,null,null,null,0,{"$f":"IFERROR(VLOOKUP(A1368,'Tipos de activos'!$F$2:$G$5,2,0),0)","v":0},null,0]
[null,null,null,null,null,null,null,null,null,null,{"$f":"+I1369-J1369","v":0},{"$f":"IFERROR(VLOOKUP(A1369,'Tipos de activos'!$F$2:$G$5,2,0),0)","v":0},null,0]
[null,null,null,null,null,null,null,null,null,null,0,{"$f":"IFERROR(VLOOKUP(A1370,'Tipos de activos'!$F$2:$G$5,2,0),0)","v":0},null,0]
[null,null,null,null,null,null,null,null,null,null,0,{"$f":"IFERROR(VLOOKUP(A1371,'Tipos de activos'!$F$2:$G$5,2,0),0)","v":0},null,0]
[null,null,null,null,null,null,null,null,null,null,0,{"$f":"IFERROR(VLOOKUP(A1372,'Tipos de activos'!$F$2:$G$5,2,0),0)","v":0},null,0]
[null,null,null,null,null,null,null,null,null,null,0,{"$f":"IFERROR(VLOOKUP(A1373,'Tipos de activos'!$F$2:$G$5,2,0),0)","v":0},null,0]
[null,null,null,null,null,null,null,null,null,null,0,{"$f":"IFERROR(VLOOKUP(A1374,'Tipos de activos'!$F$2:$G$5,2,0),0)","v":0},null,0]
[null,null,null,null,null,null,null,null,null,null,0,{"$f":"IFERROR(VLOOKUP(A1375,'Tipos de activos'!$F$2:$G$5,2,0),0)","v":0},null,0]
[null,null,null,null,null,null,null,null,null,null,0,{"$f":"IFERROR(VLOOKUP(A1376,'Tipos de activos'!$F$2:$G$5,2,0),0)","v":0},null,0]
[null,null,null,null,null,null,null,null,null,null,0,{"$f":"IFERROR(VLOOKUP(A1377,'Tipos de activos'!$F$2:$G$5,2,0),0)","v":0},null,0]
[null,null,null,null,null,null,null,null,null,null,0,{"$f":"IFERROR(VLOOKUP(A1378,'Tipos de activos'!$F$2:$G$5,2,0),0)","v":0},null,0]
[null,null,null,null,null,null,null,null,null,null,0,{"$f":"IFERROR(VLOOKUP(A1379,'Tipos de activos'!$F$2:$G$5,2,0),0)","v":0},null,0]
[null,null,null,null,null,null,null,null,null,null,0,{"$f":"IFERROR(VLOOKUP(A1380,'Tipos de activos'!$F$2:$G$5,2,0),0)","v":0},null,0]
[null,null,null,null,null,null,null,null,null,null,0,{"$f":"IFERROR(VLOOKUP(A1381,'Tipos de activos'!$F$2:$G$5,2,0),0)","v":0},null,0]
[null,null,null,null,null,null,null,null,null,null,0,{"$f":"IFERROR(VLOOKUP(A1382,'Tipos de activos'!$F$2:$G$5,2,0),0)","v":0},null,0]
[null,null,null,null,null,null,null,null,null,null,0,{"$f":"IFERROR(VLOOKUP(A1383,'Tipos de activos'!$F$2:$G$5,2,0),0)","v":0},null,0]
[null,null,null,null,null,null,null,null,null,null,0,{"$f":"IFERROR(VLOOKUP(A1384,'Tipos de activos'!$F$2:$G$5,2,0),0)","v":0},null,0]
[null,null,null,null,null,null,null,null,null,null,0,{"$f":"IFERROR(VLOOKUP(A1385,'Tipos de activos'!$F$2:$G$5,2,0),0)","v":0},null,0]
[null,null,null,null,null,null,null,null,null,null,0,{"$f":"IFERROR(VLOOKUP(A1386,'Tipos de activos'!$F$2:$G$5,2,0),0)","v":0},null,0]
[null,null,null,null,null,null,null,null,null,null,0,{"$f":"IFERROR(VLOOKUP(A1387,'Tipos de activos'!$F$2:$G$5,2,0),0)","v":0},null,0]
[null,null,null,null,null,null,null,null,null,null,0,{"$f":"IFERROR(VLOOKUP(A1388,'Tipos de activos'!$F$2:$G$5,2,0),0)","v":0},null,0]
[null,null,null,null,null,null,null,null,null,null,0,{"$f":"IFERROR(VLOOKUP(A1389,'Tipos de activos'!$F$2:$G$5,2,0),0)","v":0},null,0]
[null,null,null,null,null,null,null,null,null,null,0,{"$f":"IFERROR(VLOOKUP(A1390,'Tipos de activos'!$F$2:$G$5,2,0),0)","v":0},null,0]
[null,null,null,null,null,null,null,null,null,null,0,{"$f":"IFERROR(VLOOKUP(A1391,'Tipos de activos'!$F$2:$G$5,2,0),0)","v":0},null,0]
[null,null,null,null,null,null,null,null,null,null,0,{"$f":"IFERROR(VLOOKUP(A1392,'Tipos de activos'!$F$2:$G$5,2,0),0)","v":0},null,0]
[null,null,null,null,null,null,null,null,null,null,0,{"$f":"IFERROR(VLOOKUP(A1393,'Tipos de activos'!$F$2:$G$5,2,0),0)","v":0},null,0]
[null,null,null,null,null,null,null,null,null,null,0,{"$f":"IFERROR(VLOOKUP(A1394,'Tipos de activos'!$F$2:$G$5,2,0),0)","v":0},null,0]
[null,null,null,null,null,null,null,null,null,null,0,{"$f":"IFERROR(VLOOKUP(A1395,'Tipos de activos'!$F$2:$G$5,2,0),0)","v":0},null,0]
[null,null,null,null,null,null,null,null,null,null,0,{"$f":"IFERROR(VLOOKUP(A1396,'Tipos de activos'!$F$2:$G$5,2,0),0)","v":0},null,0]
[null,null,null,null,null,null,null,null,null,null,0,{"$f":"IFERROR(VLOOKUP(A1397,'Tipos de activos'!$F$2:$G$5,2,0),0)","v":0},null,0]
[null,null,null,null,null,null,null,null,null,null,0,{"$f":"IFERROR(VLOOKUP(A1398,'Tipos de activos'!$F$2:$G$5,2,0),0)","v":0},null,0]
[null,null,null,null,null,null,null,null,null,null,0,{"$f":"IFERROR(VLOOKUP(A1399,'Tipos de activos'!$F$2:$G$5,2,0),0)","v":0},null,0]
[null,null,null,null,null,null,null,null,null,null,0,{"$f":"IFERROR(VLOOKUP(A1400,'Tipos de activos'!$F$2:$G$5,2,0),0)","v":0},null,0]
[null,null,null,null,null,null,null,null,null,null,0,{"$f":"IFERROR(VLOOKUP(A1401,'Tipos de activos'!$F$2:$G$5,2,0),0)","v":0},null,0]
[null,null,null,null,null,null,null,null,null,null,0,{"$f":"IFERROR(VLOOKUP(A1402,'Tipos de activos'!$F$2:$G$5,2,0),0)","v":0},null,0]
[null,null,null,null,null,null,null,null,null,null,0,{"$f":"IFERROR(VLOOKUP(A1403,'Tipos de activos'!$F$2:$G$5,2,0),0)","v":0},null,0]
[null,null,null,null,null,null,null,null,null,null,0,{"$f":"IFERROR(VLOOKUP(A1404,'Tipos de activos'!$F$2:$G$5,2,0),0)","v":0},null,0]
[null,null,null,null,null,null,null,null,null,null,0,{"$f":"IFERROR(VLOOKUP(A1405,'Tipos de activos'!$F$2:$G$5,2,0),0)","v":0},null,0]
[null,null,null,null,null,null,null,null,null,null,0,{"$f":"IFERROR(VLOOKUP(A1406,'Tipos de activos'!$F$2:$G$5,2,0),0)","v":0},null,0]
[null,null,null,null,null,null,null,null,null,null,0,{"$f":"IFERROR(VLOOKUP(A1407,'Tipos de activos'!$F$2:$G$5,2,0),0)","v":0},null,0]
[null,null,null,null,null,null,null,null,null,null,0,{"$f":"IFERROR(VLOOKUP(A1408,'Tipos de activos'!$F$2:$G$5,2,0),0)","v":0},null,0]
[null,null,null,null,null,null,null,null,null,null,0,{"$f":"IFERROR(VLOOKUP(A1409,'Tipos de activos'!$F$2:$G$5,2,0),0)","v":0},null,0]
[null,null,null,null,null,null,null,null,null,null,0,{"$f":"IFERROR(VLOOKUP(A1410,'Tipos de activos'!$F$2:$G$5,2,0),0)","v":0},null,0]
[null,null,null,null,null,null,null,null,null,null,0,{"$f":"IFERROR(VLOOKUP(A1411,'Tipos de activos'!$F$2:$G$5,2,0),0)","v":0},null,0]
[null,null,null,null,null,null,null,null,null,null,0,{"$f":"IFERROR(VLOOKUP(A1412,'Tipos de activos'!$F$2:$G$5,2,0),0)","v":0},null,0]
[null,null,null,null,null,null,null,null,null,null,0,{"$f":"IFERROR(VLOOKUP(A1413,'Tipos de activos'!$F$2:$G$5,2,0),0)","v":0},null,0]
[null,null,null,null,null,null,null,null,null,null,0,{"$f":"IFERROR(VLOOKUP(A1414,'Tipos de activos'!$F$2:$G$5,2,0),0)","v":0},null,0]
[null,null,null,null,null,null,null,null,null,null,0,{"$f":"IFERROR(VLOOKUP(A1415,'Tipos de activos'!$F$2:$G$5,2,0),0)","v":0},null,0]
[null,null,null,null,null,null,null,null,null,null,0,{"$f":"IFERROR(VLOOKUP(A1416,'Tipos de activos'!$F$2:$G$5,2,0),0)","v":0},null,0]
[null,null,null,null,null,null,null,null,null,null,0,{"$f":"IFERROR(VLOOKUP(A1417,'Tipos de activos'!$F$2:$G$5,2,0),0)","v":0},null,0]
[null,null,null,null,null,null,null,null,null,null,0,{"$f":"IFERROR(VLOOKUP(A1418,'Tipos de activos'!$F$2:$G$5,2,0),0)","v":0},null,0]
[null,null,null,null,null,null,null,null,null,null,0,{"$f":"IFERROR(VLOOKUP(A1419,'Tipos de activos'!$F$2:$G$5,2,0),0)","v":0},null,0]
[null,null,null,null,null,null,null,null,null,null,0,{"$f":"IFERROR(VLOOKUP(A1420,'Tipos de activos'!$F$2:$G$5,2,0),0)","v":0},null,0]
[null,null,null,null,null,null,null,null,null,null,0,{"$f":"IFERROR(VLOOKUP(A1421,'Tipos de activos'!$F$2:$G$5,2,0),0)","v":0},null,0]
[null,null,null,null,null,null,null,null,null,null,0,{"$f":"IFERROR(VLOOKUP(A1422,'Tipos de activos'!$F$2:$G$5,2,0),0)","v":0},null,0]
[null,null,null,null,null,null,null,null,null,null,0,{"$f":"IFERROR(VLOOKUP(A1423,'Tipos de activos'!$F$2:$G$5,2,0),0)","v":0},null,0]
[null,null,null,null,null,null,null,null,null,null,0,{"$f":"IFERROR(VLOOKUP(A1424,'Tipos de activos'!$F$2:$G$5,2,0),0)","v":0},null,0]
[null,null,null,null,null,null,null,null,null,null,0,{"$f":"IFERROR(VLOOKUP(A1425,'Tipos de activos'!$F$2:$G$5,2,0),0)","v":0},null,{"$f":"+K1425*L1425","v":0}]
[null,null,null,null,null,null,null,null,null,null,0,{"$f":"IFERROR(VLOOKUP(A1426,'Tipos de activos'!$F$2:$G$5,2,0),0)","v":0},null,0]
[null,null,null,null,null,null,null,null,null,null,0,{"$f":"IFERROR(VLOOKUP(A1427,'Tipos de activos'!$F$2:$G$5,2,0),0)","v":0},null,0]
[null,null,null,null,null,null,null,null,null,null,0,{"$f":"IFERROR(VLOOKUP(A1428,'Tipos de activos'!$F$2:$G$5,2,0),0)","v":0},null,0]
[null,null,null,null,null,null,null,null,null,null,0,{"$f":"IFERROR(VLOOKUP(A1429,'Tipos de activos'!$F$2:$G$5,2,0),0)","v":0},null,0]
[null,null,null,null,null,null,null,null,null,null,0,{"$f":"IFERROR(VLOOKUP(A1430,'Tipos de activos'!$F$2:$G$5,2,0),0)","v":0},null,0]
[null,null,null,null,null,null,null,null,null,null,0,{"$f":"IFERROR(VLOOKUP(A1431,'Tipos de activos'!$F$2:$G$5,2,0),0)","v":0},null,0]
[null,null,null,null,null,null,null,null,null,null,0,{"$f":"IFERROR(VLOOKUP(A1432,'Tipos de activos'!$F$2:$G$5,2,0),0)","v":0},null,0]
[null,null,null,null,null,null,null,null,null,null,{"$f":"+I1433-J1433","v":0},{"$f":"IFERROR(VLOOKUP(A1433,'Tipos de activos'!$F$2:$G$5,2,0),0)","v":0},null,0]
[null,null,null,null,null,null,null,null,null,null,0,{"$f":"IFERROR(VLOOKUP(A1434,'Tipos de activos'!$F$2:$G$5,2,0),0)","v":0},null,0]
[null,null,null,null,null,null,null,null,null,null,0,{"$f":"IFERROR(VLOOKUP(A1435,'Tipos de activos'!$F$2:$G$5,2,0),0)","v":0},null,0]
[null,null,null,null,null,null,null,null,null,null,0,{"$f":"IFERROR(VLOOKUP(A1436,'Tipos de activos'!$F$2:$G$5,2,0),0)","v":0},null,0]
[null,null,null,null,null,null,null,null,null,null,0,{"$f":"IFERROR(VLOOKUP(A1437,'Tipos de activos'!$F$2:$G$5,2,0),0)","v":0},null,0]
[null,null,null,null,null,null,null,null,null,null,0,{"$f":"IFERROR(VLOOKUP(A1438,'Tipos de activos'!$F$2:$G$5,2,0),0)","v":0},null,0]
[null,null,null,null,null,null,null,null,null,null,0,{"$f":"IFERROR(VLOOKUP(A1439,'Tipos de activos'!$F$2:$G$5,2,0),0)","v":0},null,0]
[null,null,null,null,null,null,null,null,null,null,0,{"$f":"IFERROR(VLOOKUP(A1440,'Tipos de activos'!$F$2:$G$5,2,0),0)","v":0},null,0]
[null,null,null,null,null,null,null,null,null,null,0,{"$f":"IFERROR(VLOOKUP(A1441,'Tipos de activos'!$F$2:$G$5,2,0),0)","v":0},null,0]
[null,null,null,null,null,null,null,null,null,null,0,{"$f":"IFERROR(VLOOKUP(A1442,'Tipos de activos'!$F$2:$G$5,2,0),0)","v":0},null,0]
[null,null,null,null,null,null,null,null,null,null,0,{"$f":"IFERROR(VLOOKUP(A1443,'Tipos de activos'!$F$2:$G$5,2,0),0)","v":0},null,0]
[null,null,null,null,null,null,null,null,null,null,0,{"$f":"IFERROR(VLOOKUP(A1444,'Tipos de activos'!$F$2:$G$5,2,0),0)","v":0},null,0]
[null,null,null,null,null,null,null,null,null,null,0,{"$f":"IFERROR(VLOOKUP(A1445,'Tipos de activos'!$F$2:$G$5,2,0),0)","v":0},null,0]
[null,null,null,null,null,null,null,null,null,null,0,{"$f":"IFERROR(VLOOKUP(A1446,'Tipos de activos'!$F$2:$G$5,2,0),0)","v":0},null,0]
[null,null,null,null,null,null,null,null,null,null,0,{"$f":"IFERROR(VLOOKUP(A1447,'Tipos de activos'!$F$2:$G$5,2,0),0)","v":0},null,0]
[null,null,null,null,null,null,null,null,null,null,0,{"$f":"IFERROR(VLOOKUP(A1448,'Tipos de activos'!$F$2:$G$5,2,0),0)","v":0},null,0]
[null,null,null,null,null,null,null,null,null,null,0,{"$f":"IFERROR(VLOOKUP(A1449,'Tipos de activos'!$F$2:$G$5,2,0),0)","v":0},null,0]
[null,null,null,null,null,null,null,null,null,null,0,{"$f":"IFERROR(VLOOKUP(A1450,'Tipos de activos'!$F$2:$G$5,2,0),0)","v":0},null,0]
[null,null,null,null,null,null,null,null,null,null,0,{"$f":"IFERROR(VLOOKUP(A1451,'Tipos de activos'!$F$2:$G$5,2,0),0)","v":0},null,0]
[null,null,null,null,null,null,null,null,null,null,0,{"$f":"IFERROR(VLOOKUP(A1452,'Tipos de activos'!$F$2:$G$5,2,0),0)","v":0},null,0]
[null,null,null,null,null,null,null,null,null,null,0,{"$f":"IFERROR(VLOOKUP(A1453,'Tipos de activos'!$F$2:$G$5,2,0),0)","v":0},null,0]
[null,null,null,null,null,null,null,null,null,null,0,{"$f":"IFERROR(VLOOKUP(A1454,'Tipos de activos'!$F$2:$G$5,2,0),0)","v":0},null,0]
[null,null,null,null,null,null,null,null,null,null,0,{"$f":"IFERROR(VLOOKUP(A1455,'Tipos de activos'!$F$2:$G$5,2,0),0)","v":0},null,0]
[null,null,null,null,null,null,null,null,null,null,0,{"$f":"IFERROR(VLOOKUP(A1456,'Tipos de activos'!$F$2:$G$5,2,0),0)","v":0},null,0]
[null,null,null,null,null,null,null,null,null,null,0,{"$f":"IFERROR(VLOOKUP(A1457,'Tipos de activos'!$F$2:$G$5,2,0),0)","v":0},null,0]
[null,null,null,null,null,null,null,null,null,null,0,{"$f":"IFERROR(VLOOKUP(A1458,'Tipos de activos'!$F$2:$G$5,2,0),0)","v":0},null,0]
[null,null,null,null,null,null,null,null,null,null,0,{"$f":"IFERROR(VLOOKUP(A1459,'Tipos de activos'!$F$2:$G$5,2,0),0)","v":0},null,0]
[null,null,null,null,null,null,null,null,null,null,0,{"$f":"IFERROR(VLOOKUP(A1460,'Tipos de activos'!$F$2:$G$5,2,0),0)","v":0},null,0]
[null,null,null,null,null,null,null,null,null,null,0,{"$f":"IFERROR(VLOOKUP(A1461,'Tipos de activos'!$F$2:$G$5,2,0),0)","v":0},null,0]
[null,null,null,null,null,null,null,null,null,null,0,{"$f":"IFERROR(VLOOKUP(A1462,'Tipos de activos'!$F$2:$G$5,2,0),0)","v":0},null,0]
[null,null,null,null,null,null,null,null,null,null,0,{"$f":"IFERROR(VLOOKUP(A1463,'Tipos de activos'!$F$2:$G$5,2,0),0)","v":0},null,0]
[null,null,null,null,null,null,null,null,null,null,0,{"$f":"IFERROR(VLOOKUP(A1464,'Tipos de activos'!$F$2:$G$5,2,0),0)","v":0},null,0]
[null,null,null,null,null,null,null,null,null,null,0,{"$f":"IFERROR(VLOOKUP(A1465,'Tipos de activos'!$F$2:$G$5,2,0),0)","v":0},null,0]
[null,null,null,null,null,null,null,null,null,null,0,{"$f":"IFERROR(VLOOKUP(A1466,'Tipos de activos'!$F$2:$G$5,2,0),0)","v":0},null,0]
[null,null,null,null,null,null,null,null,null,null,0,{"$f":"IFERROR(VLOOKUP(A1467,'Tipos de activos'!$F$2:$G$5,2,0),0)","v":0},null,0]
[null,null,null,null,null,null,null,null,null,null,0,{"$f":"IFERROR(VLOOKUP(A1468,'Tipos de activos'!$F$2:$G$5,2,0),0)","v":0},null,0]
[null,null,null,null,null,null,null,null,null,null,0,{"$f":"IFERROR(VLOOKUP(A1469,'Tipos de activos'!$F$2:$G$5,2,0),0)","v":0},null,0]
[null,null,null,null,null,null,null,null,null,null,0,{"$f":"IFERROR(VLOOKUP(A1470,'Tipos de activos'!$F$2:$G$5,2,0),0)","v":0},null,0]
[null,null,null,null,null,null,null,null,null,null,0,{"$f":"IFERROR(VLOOKUP(A1471,'Tipos de activos'!$F$2:$G$5,2,0),0)","v":0},null,0]
[null,null,null,null,null,null,null,null,null,null,0,{"$f":"IFERROR(VLOOKUP(A1472,'Tipos de activos'!$F$2:$G$5,2,0),0)","v":0},null,0]
[null,null,null,null,null,null,null,null,null,null,0,{"$f":"IFERROR(VLOOKUP(A1473,'Tipos de activos'!$F$2:$G$5,2,0),0)","v":0},null,0]
[null,null,null,null,null,null,null,null,null,null,0,{"$f":"IFERROR(VLOOKUP(A1474,'Tipos de activos'!$F$2:$G$5,2,0),0)","v":0},null,0]
[null,null,null,null,null,null,null,null,null,null,0,{"$f":"IFERROR(VLOOKUP(A1475,'Tipos de activos'!$F$2:$G$5,2,0),0)","v":0},null,0]
[null,null,null,null,null,null,null,null,null,null,0,{"$f":"IFERROR(VLOOKUP(A1476,'Tipos de activos'!$F$2:$G$5,2,0),0)","v":0},null,0]
[null,null,null,null,null,null,null,null,null,null,0,{"$f":"IFERROR(VLOOKUP(A1477,'Tipos de activos'!$F$2:$G$5,2,0),0)","v":0},null,0]
[null,null,null,null,null,null,null,null,null,null,0,{"$f":"IFERROR(VLOOKUP(A1478,'Tipos de activos'!$F$2:$G$5,2,0),0)","v":0},null,0]
[null,null,null,null,null,null,null,null,null,null,0,{"$f":"IFERROR(VLOOKUP(A1479,'Tipos de activos'!$F$2:$G$5,2,0),0)","v":0},null,0]
[null,null,null,null,null,null,null,null,null,null,0,{"$f":"IFERROR(VLOOKUP(A1480,'Tipos de activos'!$F$2:$G$5,2,0),0)","v":0},null,0]
[null,null,null,null,null,null,null,null,null,null,0,{"$f":"IFERROR(VLOOKUP(A1481,'Tipos de activos'!$F$2:$G$5,2,0),0)","v":0},null,0]
[null,null,null,null,null,null,null,null,null,null,0,{"$f":"IFERROR(VLOOKUP(A1482,'Tipos de activos'!$F$2:$G$5,2,0),0)","v":0},null,0]
[null,null,null,null,null,null,null,null,null,null,0,{"$f":"IFERROR(VLOOKUP(A1483,'Tipos de activos'!$F$2:$G$5,2,0),0)","v":0},null,0]
[null,null,null,null,null,null,null,null,null,null,0,{"$f":"IFERROR(VLOOKUP(A1484,'Tipos de activos'!$F$2:$G$5,2,0),0)","v":0},null,0]
[null,null,null,null,null,null,null,null,null,null,0,{"$f":"IFERROR(VLOOKUP(A1485,'Tipos de activos'!$F$2:$G$5,2,0),0)","v":0},null,0]
[null,null,null,null,null,null,null,null,null,null,0,{"$f":"IFERROR(VLOOKUP(A1486,'Tipos de activos'!$F$2:$G$5,2,0),0)","v":0},null,0]
[null,null,null,null,null,null,null,null,null,null,0,{"$f":"IFERROR(VLOOKUP(A1487,'Tipos de activos'!$F$2:$G$5,2,0),0)","v":0},null,0]
[null,null,null,null,null,null,null,null,null,null,0,{"$f":"IFERROR(VLOOKUP(A1488,'Tipos de activos'!$F$2:$G$5,2,0),0)","v":0},null,0]
[null,null,null,null,null,null,null,null,null,null,0,{"$f":"IFERROR(VLOOKUP(A1489,'Tipos de activos'!$F$2:$G$5,2,0),0)","v":0},null,{"$f":"+K1489*L1489","v":0}]
[null,null,null,null,null,null,null,null,null,null,0,{"$f":"IFERROR(VLOOKUP(A1490,'Tipos de activos'!$F$2:$G$5,2,0),0)","v":0},null,0]
[null,null,null,null,null,null,null,null,null,null,0,{"$f":"IFERROR(VLOOKUP(A1491,'Tipos de activos'!$F$2:$G$5,2,0),0)","v":0},null,0]
[null,null,null,null,null,null,null,null,null,null,0,{"$f":"IFERROR(VLOOKUP(A1492,'Tipos de activos'!$F$2:$G$5,2,0),0)","v":0},null,0]
[null,null,null,null,null,null,null,null,null,null,0,{"$f":"IFERROR(VLOOKUP(A1493,'Tipos de activos'!$F$2:$G$5,2,0),0)","v":0},null,0]
[null,null,null,null,null,null,null,null,null,null,0,{"$f":"IFERROR(VLOOKUP(A1494,'Tipos de activos'!$F$2:$G$5,2,0),0)","v":0},null,0]
[null,null,null,null,null,null,null,null,null,null,0,{"$f":"IFERROR(VLOOKUP(A1495,'Tipos de activos'!$F$2:$G$5,2,0),0)","v":0},null,0]
[null,null,null,null,null,null,null,null,null,null,0,{"$f":"IFERROR(VLOOKUP(A1496,'Tipos de activos'!$F$2:$G$5,2,0),0)","v":0},null,0]
[null,null,null,null,null,null,null,null,null,null,{"$f":"+I1497-J1497","v":0},{"$f":"IFERROR(VLOOKUP(A1497,'Tipos de activos'!$F$2:$G$5,2,0),0)","v":0},null,0]
[null,null,null,null,null,null,null,null,null,null,0,{"$f":"IFERROR(VLOOKUP(A1498,'Tipos de activos'!$F$2:$G$5,2,0),0)","v":0},null,0]
[null,null,null,null,null,null,null,null,null,null,0,{"$f":"IFERROR(VLOOKUP(A1499,'Tipos de activos'!$F$2:$G$5,2,0),0)","v":0},null,0]
[null,null,null,null,null,null,null,null,null,null,0,{"$f":"IFERROR(VLOOKUP(A1500,'Tipos de activos'!$F$2:$G$5,2,0),0)","v":0},null,0]
[null,null,null,null,null,null,null,null,null,null,0,{"$f":"IFERROR(VLOOKUP(A1501,'Tipos de activos'!$F$2:$G$5,2,0),0)","v":0},null,0]
[null,null,null,null,null,null,null,null,null,null,0,{"$f":"IFERROR(VLOOKUP(A1502,'Tipos de activos'!$F$2:$G$5,2,0),0)","v":0},null,0]
[null,null,null,null,null,null,null,null,null,null,0,{"$f":"IFERROR(VLOOKUP(A1503,'Tipos de activos'!$F$2:$G$5,2,0),0)","v":0},null,0]
[null,null,null,null,null,null,null,null,null,null,0,{"$f":"IFERROR(VLOOKUP(A1504,'Tipos de activos'!$F$2:$G$5,2,0),0)","v":0},null,0]
[null,null,null,null,null,null,null,null,null,null,0,{"$f":"IFERROR(VLOOKUP(A1505,'Tipos de activos'!$F$2:$G$5,2,0),0)","v":0},null,0]
[null,null,null,null,null,null,null,null,null,null,0,{"$f":"IFERROR(VLOOKUP(A1506,'Tipos de activos'!$F$2:$G$5,2,0),0)","v":0},null,0]
[null,null,null,null,null,null,null,null,null,null,0,{"$f":"IFERROR(VLOOKUP(A1507,'Tipos de activos'!$F$2:$G$5,2,0),0)","v":0},null,0]
[null,null,null,null,null,null,null,null,null,null,0,{"$f":"IFERROR(VLOOKUP(A1508,'Tipos de activos'!$F$2:$G$5,2,0),0)","v":0},null,0]
[null,null,null,null,null,null,null,null,null,null,0,{"$f":"IFERROR(VLOOKUP(A1509,'Tipos de activos'!$F$2:$G$5,2,0),0)","v":0},null,0]
[null,null,null,null,null,null,null,null,null,null,0,{"$f":"IFERROR(VLOOKUP(A1510,'Tipos de activos'!$F$2:$G$5,2,0),0)","v":0},null,0]
[null,null,null,null,null,null,null,null,null,null,0,{"$f":"IFERROR(VLOOKUP(A1511,'Tipos de activos'!$F$2:$G$5,2,0),0)","v":0},null,0]
[null,null,null,null,null,null,null,null,null,null,0,{"$f":"IFERROR(VLOOKUP(A1512,'Tipos de activos'!$F$2:$G$5,2,0),0)","v":0},null,0]
[null,null,null,null,null,null,null,null,null,null,0,{"$f":"IFERROR(VLOOKUP(A1513,'Tipos de activos'!$F$2:$G$5,2,0),0)","v":0},null,0]
[null,null,null,null,null,null,null,null,null,null,0,{"$f":"IFERROR(VLOOKUP(A1514,'Tipos de activos'!$F$2:$G$5,2,0),0)","v":0},null,0]
[null,null,null,null,null,null,null,null,null,null,0,{"$f":"IFERROR(VLOOKUP(A1515,'Tipos de activos'!$F$2:$G$5,2,0),0)","v":0},null,0]
[null,null,null,null,null,null,null,null,null,null,0,{"$f":"IFERROR(VLOOKUP(A1516,'Tipos de activos'!$F$2:$G$5,2,0),0)","v":0},null,0]
[null,null,null,null,null,null,null,null,null,null,0,{"$f":"IFERROR(VLOOKUP(A1517,'Tipos de activos'!$F$2:$G$5,2,0),0)","v":0},null,0]
[null,null,null,null,null,null,null,null,null,null,0,{"$f":"IFERROR(VLOOKUP(A1518,'Tipos de activos'!$F$2:$G$5,2,0),0)","v":0},null,0]
[null,null,null,null,null,null,null,null,null,null,0,{"$f":"IFERROR(VLOOKUP(A1519,'Tipos de activos'!$F$2:$G$5,2,0),0)","v":0},null,0]
[null,null,null,null,null,null,null,null,null,null,0,{"$f":"IFERROR(VLOOKUP(A1520,'Tipos de activos'!$F$2:$G$5,2,0),0)","v":0},null,0]
[null,null,null,null,null,null,null,null,null,null,0,{"$f":"IFERROR(VLOOKUP(A1521,'Tipos de activos'!$F$2:$G$5,2,0),0)","v":0},null,0]
[null,null,null,null,null,null,null,null,null,null,0,{"$f":"IFERROR(VLOOKUP(A1522,'Tipos de activos'!$F$2:$G$5,2,0),0)","v":0},null,0]
[null,null,null,null,null,null,null,null,null,null,0,{"$f":"IFERROR(VLOOKUP(A1523,'Tipos de activos'!$F$2:$G$5,2,0),0)","v":0},null,0]
[null,null,null,null,null,null,null,null,null,null,0,{"$f":"IFERROR(VLOOKUP(A1524,'Tipos de activos'!$F$2:$G$5,2,0),0)","v":0},null,0]
[null,null,null,null,null,null,null,null,null,null,0,{"$f":"IFERROR(VLOOKUP(A1525,'Tipos de activos'!$F$2:$G$5,2,0),0)","v":0},null,0]
[null,null,null,null,null,null,null,null,null,null,0,{"$f":"IFERROR(VLOOKUP(A1526,'Tipos de activos'!$F$2:$G$5,2,0),0)","v":0},null,0]
[null,null,null,null,null,null,null,null,null,null,0,{"$f":"IFERROR(VLOOKUP(A1527,'Tipos de activos'!$F$2:$G$5,2,0),0)","v":0},null,0]
[null,null,null,null,null,null,null,null,null,null,0,{"$f":"IFERROR(VLOOKUP(A1528,'Tipos de activos'!$F$2:$G$5,2,0),0)","v":0},null,0]
[null,null,null,null,null,null,null,null,null,null,0,{"$f":"IFERROR(VLOOKUP(A1529,'Tipos de activos'!$F$2:$G$5,2,0),0)","v":0},null,0]
[null,null,null,null,null,null,null,null,null,null,0,{"$f":"IFERROR(VLOOKUP(A1530,'Tipos de activos'!$F$2:$G$5,2,0),0)","v":0},null,0]
[null,null,null,null,null,null,null,null,null,null,0,{"$f":"IFERROR(VLOOKUP(A1531,'Tipos de activos'!$F$2:$G$5,2,0),0)","v":0},null,0]
[null,null,null,null,null,null,null,null,null,null,0,{"$f":"IFERROR(VLOOKUP(A1532,'Tipos de activos'!$F$2:$G$5,2,0),0)","v":0},null,0]
[null,null,null,null,null,null,null,null,null,null,0,{"$f":"IFERROR(VLOOKUP(A1533,'Tipos de activos'!$F$2:$G$5,2,0),0)","v":0},null,0]
[null,null,null,null,null,null,null,null,null,null,0,{"$f":"IFERROR(VLOOKUP(A1534,'Tipos de activos'!$F$2:$G$5,2,0),0)","v":0},null,0]
[null,null,null,null,null,null,null,null,null,null,0,{"$f":"IFERROR(VLOOKUP(A1535,'Tipos de activos'!$F$2:$G$5,2,0),0)","v":0},null,0]
[null,null,null,null,null,null,null,null,null,null,0,{"$f":"IFERROR(VLOOKUP(A1536,'Tipos de activos'!$F$2:$G$5,2,0),0)","v":0},null,0]
[null,null,null,null,null,null,null,null,null,null,0,{"$f":"IFERROR(VLOOKUP(A1537,'Tipos de activos'!$F$2:$G$5,2,0),0)","v":0},null,0]
[null,null,null,null,null,null,null,null,null,null,0,{"$f":"IFERROR(VLOOKUP(A1538,'Tipos de activos'!$F$2:$G$5,2,0),0)","v":0},null,0]
[null,null,null,null,null,null,null,null,null,null,0,{"$f":"IFERROR(VLOOKUP(A1539,'Tipos de activos'!$F$2:$G$5,2,0),0)","v":0},null,0]
[null,null,null,null,null,null,null,null,null,null,0,{"$f":"IFERROR(VLOOKUP(A1540,'Tipos de activos'!$F$2:$G$5,2,0),0)","v":0},null,0]
[null,null,null,null,null,null,null,null,null,null,0,{"$f":"IFERROR(VLOOKUP(A1541,'Tipos de activos'!$F$2:$G$5,2,0),0)","v":0},null,0]
[null,null,null,null,null,null,null,null,null,null,0,{"$f":"IFERROR(VLOOKUP(A1542,'Tipos de activos'!$F$2:$G$5,2,0),0)","v":0},null,0]
[null,null,null,null,null,null,null,null,null,null,0,{"$f":"IFERROR(VLOOKUP(A1543,'Tipos de activos'!$F$2:$G$5,2,0),0)","v":0},null,0]
[null,null,null,null,null,null,null,null,null,null,0,{"$f":"IFERROR(VLOOKUP(A1544,'Tipos de activos'!$F$2:$G$5,2,0),0)","v":0},null,0]
[null,null,null,null,null,null,null,null,null,null,0,{"$f":"IFERROR(VLOOKUP(A1545,'Tipos de activos'!$F$2:$G$5,2,0),0)","v":0},null,0]
[null,null,null,null,null,null,null,null,null,null,0,{"$f":"IFERROR(VLOOKUP(A1546,'Tipos de activos'!$F$2:$G$5,2,0),0)","v":0},null,0]
[null,null,null,null,null,null,null,null,null,null,0,{"$f":"IFERROR(VLOOKUP(A1547,'Tipos de activos'!$F$2:$G$5,2,0),0)","v":0},null,0]
[null,null,null,null,null,null,null,null,null,null,0,{"$f":"IFERROR(VLOOKUP(A1548,'Tipos de activos'!$F$2:$G$5,2,0),0)","v":0},null,0]
[null,null,null,null,null,null,null,null,null,null,0,{"$f":"IFERROR(VLOOKUP(A1549,'Tipos de activos'!$F$2:$G$5,2,0),0)","v":0},null,0]
[null,null,null,null,null,null,null,null,null,null,0,{"$f":"IFERROR(VLOOKUP(A1550,'Tipos de activos'!$F$2:$G$5,2,0),0)","v":0},null,0]
[null,null,null,null,null,null,null,null,null,null,0,{"$f":"IFERROR(VLOOKUP(A1551,'Tipos de activos'!$F$2:$G$5,2,0),0)","v":0},null,0]
[null,null,null,null,null,null,null,null,null,null,0,{"$f":"IFERROR(VLOOKUP(A1552,'Tipos de activos'!$F$2:$G$5,2,0),0)","v":0},null,0]
[null,null,null,null,null,null,null,null,null,null,0,{"$f":"IFERROR(VLOOKUP(A1553,'Tipos de activos'!$F$2:$G$5,2,0),0)","v":0},null,{"$f":"+K1553*L1553","v":0}]
[null,null,null,null,null,null,null,null,null,null,0,{"$f":"IFERROR(VLOOKUP(A1554,'Tipos de activos'!$F$2:$G$5,2,0),0)","v":0},null,0]
[null,null,null,null,null,null,null,null,null,null,0,{"$f":"IFERROR(VLOOKUP(A1555,'Tipos de activos'!$F$2:$G$5,2,0),0)","v":0},null,0]
[null,null,null,null,null,null,null,null,null,null,0,{"$f":"IFERROR(VLOOKUP(A1556,'Tipos de activos'!$F$2:$G$5,2,0),0)","v":0},null,0]
[null,null,null,null,null,null,null,null,null,null,0,{"$f":"IFERROR(VLOOKUP(A1557,'Tipos de activos'!$F$2:$G$5,2,0),0)","v":0},null,0]
[null,null,null,null,null,null,null,null,null,null,0,{"$f":"IFERROR(VLOOKUP(A1558,'Tipos de activos'!$F$2:$G$5,2,0),0)","v":0},null,0]
[null,null,null,null,null,null,null,null,null,null,0,{"$f":"IFERROR(VLOOKUP(A1559,'Tipos de activos'!$F$2:$G$5,2,0),0)","v":0},null,0]
[null,null,null,null,null,null,null,null,null,null,0,{"$f":"IFERROR(VLOOKUP(A1560,'Tipos de activos'!$F$2:$G$5,2,0),0)","v":0},null,0]
[null,null,null,null,null,null,null,null,null,null,{"$f":"+I1561-J1561","v":0},{"$f":"IFERROR(VLOOKUP(A1561,'Tipos de activos'!$F$2:$G$5,2,0),0)","v":0},null,0]
[null,null,null,null,null,null,null,null,null,null,0,{"$f":"IFERROR(VLOOKUP(A1562,'Tipos de activos'!$F$2:$G$5,2,0),0)","v":0},null,0]
[null,null,null,null,null,null,null,null,null,null,0,{"$f":"IFERROR(VLOOKUP(A1563,'Tipos de activos'!$F$2:$G$5,2,0),0)","v":0},null,0]
[null,null,null,null,null,null,null,null,null,null,0,{"$f":"IFERROR(VLOOKUP(A1564,'Tipos de activos'!$F$2:$G$5,2,0),0)","v":0},null,0]
[null,null,null,null,null,null,null,null,null,null,0,{"$f":"IFERROR(VLOOKUP(A1565,'Tipos de activos'!$F$2:$G$5,2,0),0)","v":0},null,0]
[null,null,null,null,null,null,null,null,null,null,0,{"$f":"IFERROR(VLOOKUP(A1566,'Tipos de activos'!$F$2:$G$5,2,0),0)","v":0},null,0]
[null,null,null,null,null,null,null,null,null,null,0,{"$f":"IFERROR(VLOOKUP(A1567,'Tipos de activos'!$F$2:$G$5,2,0),0)","v":0},null,0]
[null,null,null,null,null,null,null,null,null,null,0,{"$f":"IFERROR(VLOOKUP(A1568,'Tipos de activos'!$F$2:$G$5,2,0),0)","v":0},null,0]
[null,null,null,null,null,null,null,null,null,null,0,{"$f":"IFERROR(VLOOKUP(A1569,'Tipos de activos'!$F$2:$G$5,2,0),0)","v":0},null,0]
[null,null,null,null,null,null,null,null,null,null,0,{"$f":"IFERROR(VLOOKUP(A1570,'Tipos de activos'!$F$2:$G$5,2,0),0)","v":0},null,0]
[null,null,null,null,null,null,null,null,null,null,0,{"$f":"IFERROR(VLOOKUP(A1571,'Tipos de activos'!$F$2:$G$5,2,0),0)","v":0},null,0]
[null,null,null,null,null,null,null,null,null,null,0,{"$f":"IFERROR(VLOOKUP(A1572,'Tipos de activos'!$F$2:$G$5,2,0),0)","v":0},null,0]
[null,null,null,null,null,null,null,null,null,null,0,{"$f":"IFERROR(VLOOKUP(A1573,'Tipos de activos'!$F$2:$G$5,2,0),0)","v":0},null,0]
[null,null,null,null,null,null,null,null,null,null,0,{"$f":"IFERROR(VLOOKUP(A1574,'Tipos de activos'!$F$2:$G$5,2,0),0)","v":0},null,0]
[null,null,null,null,null,null,null,null,null,null,0,{"$f":"IFERROR(VLOOKUP(A1575,'Tipos de activos'!$F$2:$G$5,2,0),0)","v":0},null,0]
[null,null,null,null,null,null,null,null,null,null,0,{"$f":"IFERROR(VLOOKUP(A1576,'Tipos de activos'!$F$2:$G$5,2,0),0)","v":0},null,0]
[null,null,null,null,null,null,null,null,null,null,0,{"$f":"IFERROR(VLOOKUP(A1577,'Tipos de activos'!$F$2:$G$5,2,0),0)","v":0},null,0]
[null,null,null,null,null,null,null,null,null,null,0,{"$f":"IFERROR(VLOOKUP(A1578,'Tipos de activos'!$F$2:$G$5,2,0),0)","v":0},null,0]
[null,null,null,null,null,null,null,null,null,null,0,{"$f":"IFERROR(VLOOKUP(A1579,'Tipos de activos'!$F$2:$G$5,2,0),0)","v":0},null,0]
[null,null,null,null,null,null,null,null,null,null,0,{"$f":"IFERROR(VLOOKUP(A1580,'Tipos de activos'!$F$2:$G$5,2,0),0)","v":0},null,0]
[null,null,null,null,null,null,null,null,null,null,0,{"$f":"IFERROR(VLOOKUP(A1581,'Tipos de activos'!$F$2:$G$5,2,0),0)","v":0},null,0]
[null,null,null,null,null,null,null,null,null,null,0,{"$f":"IFERROR(VLOOKUP(A1582,'Tipos de activos'!$F$2:$G$5,2,0),0)","v":0},null,0]
[null,null,null,null,null,null,null,null,null,null,0,{"$f":"IFERROR(VLOOKUP(A1583,'Tipos de activos'!$F$2:$G$5,2,0),0)","v":0},null,0]
[null,null,null,null,null,null,null,null,null,null,0,{"$f":"IFERROR(VLOOKUP(A1584,'Tipos de activos'!$F$2:$G$5,2,0),0)","v":0},null,0]
[null,null,null,null,null,null,null,null,null,null,0,{"$f":"IFERROR(VLOOKUP(A1585,'Tipos de activos'!$F$2:$G$5,2,0),0)","v":0},null,0]
[null,null,null,null,null,null,null,null,null,null,0,{"$f":"IFERROR(VLOOKUP(A1586,'Tipos de activos'!$F$2:$G$5,2,0),0)","v":0},null,0]
[null,null,null,null,null,null,null,null,null,null,0,{"$f":"IFERROR(VLOOKUP(A1587,'Tipos de activos'!$F$2:$G$5,2,0),0)","v":0},null,0]
[null,null,null,null,null,null,null,null,null,null,0,{"$f":"IFERROR(VLOOKUP(A1588,'Tipos de activos'!$F$2:$G$5,2,0),0)","v":0},null,0]
[null,null,null,null,null,null,null,null,null,null,0,{"$f":"IFERROR(VLOOKUP(A1589,'Tipos de activos'!$F$2:$G$5,2,0),0)","v":0},null,0]
[null,null,null,null,null,null,null,null,null,null,0,{"$f":"IFERROR(VLOOKUP(A1590,'Tipos de activos'!$F$2:$G$5,2,0),0)","v":0},null,0]
[null,null,null,null,null,null,null,null,null,null,0,{"$f":"IFERROR(VLOOKUP(A1591,'Tipos de activos'!$F$2:$G$5,2,0),0)","v":0},null,0]
[null,null,null,null,null,null,null,null,null,null,0,{"$f":"IFERROR(VLOOKUP(A1592,'Tipos de activos'!$F$2:$G$5,2,0),0)","v":0},null,0]
[null,null,null,null,null,null,null,null,null,null,0,{"$f":"IFERROR(VLOOKUP(A1593,'Tipos de activos'!$F$2:$G$5,2,0),0)","v":0},null,0]
[null,null,null,null,null,null,null,null,null,null,0,{"$f":"IFERROR(VLOOKUP(A1594,'Tipos de activos'!$F$2:$G$5,2,0),0)","v":0},null,0]
[null,null,null,null,null,null,null,null,null,null,0,{"$f":"IFERROR(VLOOKUP(A1595,'Tipos de activos'!$F$2:$G$5,2,0),0)","v":0},null,0]
[null,null,null,null,null,null,null,null,null,null,0,{"$f":"IFERROR(VLOOKUP(A1596,'Tipos de activos'!$F$2:$G$5,2,0),0)","v":0},null,0]
[null,null,null,null,null,null,null,null,null,null,0,{"$f":"IFERROR(VLOOKUP(A1597,'Tipos de activos'!$F$2:$G$5,2,0),0)","v":0},null,0]
[null,null,null,null,null,null,null,null,null,null,0,{"$f":"IFERROR(VLOOKUP(A1598,'Tipos de activos'!$F$2:$G$5,2,0),0)","v":0},null,0]
[null,null,null,null,null,null,null,null,null,null,0,{"$f":"IFERROR(VLOOKUP(A1599,'Tipos de activos'!$F$2:$G$5,2,0),0)","v":0},null,0]
[null,null,null,null,null,null,null,null,null,null,0,{"$f":"IFERROR(VLOOKUP(A1600,'Tipos de activos'!$F$2:$G$5,2,0),0)","v":0},null,0]
[null,null,null,null,null,null,null,null,null,null,0,{"$f":"IFERROR(VLOOKUP(A1601,'Tipos de activos'!$F$2:$G$5,2,0),0)","v":0},null,0]
[null,null,null,null,null,null,null,null,null,null,0,{"$f":"IFERROR(VLOOKUP(A1602,'Tipos de activos'!$F$2:$G$5,2,0),0)","v":0},null,0]
[null,null,null,null,null,null,null,null,null,null,0,{"$f":"IFERROR(VLOOKUP(A1603,'Tipos de activos'!$F$2:$G$5,2,0),0)","v":0},null,0]
[null,null,null,null,null,null,null,null,null,null,0,{"$f":"IFERROR(VLOOKUP(A1604,'Tipos de activos'!$F$2:$G$5,2,0),0)","v":0},null,0]
[null,null,null,null,null,null,null,null,null,null,0,{"$f":"IFERROR(VLOOKUP(A1605,'Tipos de activos'!$F$2:$G$5,2,0),0)","v":0},null,0]
[null,null,null,null,null,null,null,null,null,null,0,{"$f":"IFERROR(VLOOKUP(A1606,'Tipos de activos'!$F$2:$G$5,2,0),0)","v":0},null,0]
[null,null,null,null,null,null,null,null,null,null,0,{"$f":"IFERROR(VLOOKUP(A1607,'Tipos de activos'!$F$2:$G$5,2,0),0)","v":0},null,0]
[null,null,null,null,null,null,null,null,null,null,0,{"$f":"IFERROR(VLOOKUP(A1608,'Tipos de activos'!$F$2:$G$5,2,0),0)","v":0},null,0]
[null,null,null,null,null,null,null,null,null,null,0,{"$f":"IFERROR(VLOOKUP(A1609,'Tipos de activos'!$F$2:$G$5,2,0),0)","v":0},null,0]
[null,null,null,null,null,null,null,null,null,null,0,{"$f":"IFERROR(VLOOKUP(A1610,'Tipos de activos'!$F$2:$G$5,2,0),0)","v":0},null,0]
[null,null,null,null,null,null,null,null,null,null,0,{"$f":"IFERROR(VLOOKUP(A1611,'Tipos de activos'!$F$2:$G$5,2,0),0)","v":0},null,0]
[null,null,null,null,null,null,null,null,null,null,0,{"$f":"IFERROR(VLOOKUP(A1612,'Tipos de activos'!$F$2:$G$5,2,0),0)","v":0},null,0]
[null,null,null,null,null,null,null,null,null,null,0,{"$f":"IFERROR(VLOOKUP(A1613,'Tipos de activos'!$F$2:$G$5,2,0),0)","v":0},null,0]
[null,null,null,null,null,null,null,null,null,null,0,{"$f":"IFERROR(VLOOKUP(A1614,'Tipos de activos'!$F$2:$G$5,2,0),0)","v":0},null,0]
[null,null,null,null,null,null,null,null,null,null,0,{"$f":"IFERROR(VLOOKUP(A1615,'Tipos de activos'!$F$2:$G$5,2,0),0)","v":0},null,0]
[null,null,null,null,null,null,null,null,null,null,0,{"$f":"IFERROR(VLOOKUP(A1616,'Tipos de activos'!$F$2:$G$5,2,0),0)","v":0},null,0]
[null,null,null,null,null,null,null,null,null,null,0,{"$f":"IFERROR(VLOOKUP(A1617,'Tipos de activos'!$F$2:$G$5,2,0),0)","v":0},null,{"$f":"+K1617*L1617","v":0}]
[null,null,null,null,null,null,null,null,null,null,0,{"$f":"IFERROR(VLOOKUP(A1618,'Tipos de activos'!$F$2:$G$5,2,0),0)","v":0},null,0]
[null,null,null,null,null,null,null,null,null,null,0,{"$f":"IFERROR(VLOOKUP(A1619,'Tipos de activos'!$F$2:$G$5,2,0),0)","v":0},null,0]
[null,null,null,null,null,null,null,null,null,null,0,{"$f":"IFERROR(VLOOKUP(A1620,'Tipos de activos'!$F$2:$G$5,2,0),0)","v":0},null,0]
[null,null,null,null,null,null,null,null,null,null,0,{"$f":"IFERROR(VLOOKUP(A1621,'Tipos de activos'!$F$2:$G$5,2,0),0)","v":0},null,0]
[null,null,null,null,null,null,null,null,null,null,0,{"$f":"IFERROR(VLOOKUP(A1622,'Tipos de activos'!$F$2:$G$5,2,0),0)","v":0},null,0]
[null,null,null,null,null,null,null,null,null,null,0,{"$f":"IFERROR(VLOOKUP(A1623,'Tipos de activos'!$F$2:$G$5,2,0),0)","v":0},null,0]
[null,null,null,null,null,null,null,null,null,null,0,{"$f":"IFERROR(VLOOKUP(A1624,'Tipos de activos'!$F$2:$G$5,2,0),0)","v":0},null,0]
[null,null,null,null,null,null,null,null,null,null,{"$f":"+I1625-J1625","v":0},{"$f":"IFERROR(VLOOKUP(A1625,'Tipos de activos'!$F$2:$G$5,2,0),0)","v":0},null,0]
[null,null,null,null,null,null,null,null,null,null,0,{"$f":"IFERROR(VLOOKUP(A1626,'Tipos de activos'!$F$2:$G$5,2,0),0)","v":0},null,0]
[null,null,null,null,null,null,null,null,null,null,0,{"$f":"IFERROR(VLOOKUP(A1627,'Tipos de activos'!$F$2:$G$5,2,0),0)","v":0},null,0]
[null,null,null,null,null,null,null,null,null,null,0,{"$f":"IFERROR(VLOOKUP(A1628,'Tipos de activos'!$F$2:$G$5,2,0),0)","v":0},null,0]
[null,null,null,null,null,null,null,null,null,null,0,{"$f":"IFERROR(VLOOKUP(A1629,'Tipos de activos'!$F$2:$G$5,2,0),0)","v":0},null,0]
[null,null,null,null,null,null,null,null,null,null,0,{"$f":"IFERROR(VLOOKUP(A1630,'Tipos de activos'!$F$2:$G$5,2,0),0)","v":0},null,0]
[null,null,null,null,null,null,null,null,null,null,0,{"$f":"IFERROR(VLOOKUP(A1631,'Tipos de activos'!$F$2:$G$5,2,0),0)","v":0},null,0]
[null,null,null,null,null,null,null,null,null,null,0,{"$f":"IFERROR(VLOOKUP(A1632,'Tipos de activos'!$F$2:$G$5,2,0),0)","v":0},null,0]
[null,null,null,null,null,null,null,null,null,null,0,{"$f":"IFERROR(VLOOKUP(A1633,'Tipos de activos'!$F$2:$G$5,2,0),0)","v":0},null,0]
[null,null,null,null,null,null,null,null,null,null,0,{"$f":"IFERROR(VLOOKUP(A1634,'Tipos de activos'!$F$2:$G$5,2,0),0)","v":0},null,0]
[null,null,null,null,null,null,null,null,null,null,0,{"$f":"IFERROR(VLOOKUP(A1635,'Tipos de activos'!$F$2:$G$5,2,0),0)","v":0},null,0]
[null,null,null,null,null,null,null,null,null,null,0,{"$f":"IFERROR(VLOOKUP(A1636,'Tipos de activos'!$F$2:$G$5,2,0),0)","v":0},null,0]
[null,null,null,null,null,null,null,null,null,null,0,{"$f":"IFERROR(VLOOKUP(A1637,'Tipos de activos'!$F$2:$G$5,2,0),0)","v":0},null,0]
[null,null,null,null,null,null,null,null,null,null,0,{"$f":"IFERROR(VLOOKUP(A1638,'Tipos de activos'!$F$2:$G$5,2,0),0)","v":0},null,0]
[null,null,null,null,null,null,null,null,null,null,0,{"$f":"IFERROR(VLOOKUP(A1639,'Tipos de activos'!$F$2:$G$5,2,0),0)","v":0},null,0]
[null,null,null,null,null,null,null,null,null,null,0,{"$f":"IFERROR(VLOOKUP(A1640,'Tipos de activos'!$F$2:$G$5,2,0),0)","v":0},null,0]
[null,null,null,null,null,null,null,null,null,null,0,{"$f":"IFERROR(VLOOKUP(A1641,'Tipos de activos'!$F$2:$G$5,2,0),0)","v":0},null,0]
[null,null,null,null,null,null,null,null,null,null,0,{"$f":"IFERROR(VLOOKUP(A1642,'Tipos de activos'!$F$2:$G$5,2,0),0)","v":0},null,0]
[null,null,null,null,null,null,null,null,null,null,0,{"$f":"IFERROR(VLOOKUP(A1643,'Tipos de activos'!$F$2:$G$5,2,0),0)","v":0},null,0]
[null,null,null,null,null,null,null,null,null,null,0,{"$f":"IFERROR(VLOOKUP(A1644,'Tipos de activos'!$F$2:$G$5,2,0),0)","v":0},null,0]
[null,null,null,null,null,null,null,null,null,null,0,{"$f":"IFERROR(VLOOKUP(A1645,'Tipos de activos'!$F$2:$G$5,2,0),0)","v":0},null,0]
[null,null,null,null,null,null,null,null,null,null,0,{"$f":"IFERROR(VLOOKUP(A1646,'Tipos de activos'!$F$2:$G$5,2,0),0)","v":0},null,0]
[null,null,null,null,null,null,null,null,null,null,0,{"$f":"IFERROR(VLOOKUP(A1647,'Tipos de activos'!$F$2:$G$5,2,0),0)","v":0},null,0]
[null,null,null,null,null,null,null,null,null,null,0,{"$f":"IFERROR(VLOOKUP(A1648,'Tipos de activos'!$F$2:$G$5,2,0),0)","v":0},null,0]
[null,null,null,null,null,null,null,null,null,null,0,{"$f":"IFERROR(VLOOKUP(A1649,'Tipos de activos'!$F$2:$G$5,2,0),0)","v":0},null,0]
[null,null,null,null,null,null,null,null,null,null,0,{"$f":"IFERROR(VLOOKUP(A1650,'Tipos de activos'!$F$2:$G$5,2,0),0)","v":0},null,0]
[null,null,null,null,null,null,null,null,null,null,0,{"$f":"IFERROR(VLOOKUP(A1651,'Tipos de activos'!$F$2:$G$5,2,0),0)","v":0},null,0]
[null,null,null,null,null,null,null,null,null,null,0,{"$f":"IFERROR(VLOOKUP(A1652,'Tipos de activos'!$F$2:$G$5,2,0),0)","v":0},null,0]
[null,null,null,null,null,null,null,null,null,null,0,{"$f":"IFERROR(VLOOKUP(A1653,'Tipos de activos'!$F$2:$G$5,2,0),0)","v":0},null,0]
[null,null,null,null,null,null,null,null,null,null,0,{"$f":"IFERROR(VLOOKUP(A1654,'Tipos de activos'!$F$2:$G$5,2,0),0)","v":0},null,0]
[null,null,null,null,null,null,null,null,null,null,0,{"$f":"IFERROR(VLOOKUP(A1655,'Tipos de activos'!$F$2:$G$5,2,0),0)","v":0},null,0]
[null,null,null,null,null,null,null,null,null,null,0,{"$f":"IFERROR(VLOOKUP(A1656,'Tipos de activos'!$F$2:$G$5,2,0),0)","v":0},null,0]
[null,null,null,null,null,null,null,null,null,null,0,{"$f":"IFERROR(VLOOKUP(A1657,'Tipos de activos'!$F$2:$G$5,2,0),0)","v":0},null,0]
[null,null,null,null,null,null,null,null,null,null,0,{"$f":"IFERROR(VLOOKUP(A1658,'Tipos de activos'!$F$2:$G$5,2,0),0)","v":0},null,0]
[null,null,null,null,null,null,null,null,null,null,0,{"$f":"IFERROR(VLOOKUP(A1659,'Tipos de activos'!$F$2:$G$5,2,0),0)","v":0},null,0]
[null,null,null,null,null,null,null,null,null,null,0,{"$f":"IFERROR(VLOOKUP(A1660,'Tipos de activos'!$F$2:$G$5,2,0),0)","v":0},null,0]
[null,null,null,null,null,null,null,null,null,null,0,{"$f":"IFERROR(VLOOKUP(A1661,'Tipos de activos'!$F$2:$G$5,2,0),0)","v":0},null,0]
[null,null,null,null,null,null,null,null,null,null,0,{"$f":"IFERROR(VLOOKUP(A1662,'Tipos de activos'!$F$2:$G$5,2,0),0)","v":0},null,0]
[null,null,null,null,null,null,null,null,null,null,0,{"$f":"IFERROR(VLOOKUP(A1663,'Tipos de activos'!$F$2:$G$5,2,0),0)","v":0},null,0]
[null,null,null,null,null,null,null,null,null,null,0,{"$f":"IFERROR(VLOOKUP(A1664,'Tipos de activos'!$F$2:$G$5,2,0),0)","v":0},null,0]
[null,null,null,null,null,null,null,null,null,null,0,{"$f":"IFERROR(VLOOKUP(A1665,'Tipos de activos'!$F$2:$G$5,2,0),0)","v":0},null,0]
[null,null,null,null,null,null,null,null,null,null,0,{"$f":"IFERROR(VLOOKUP(A1666,'Tipos de activos'!$F$2:$G$5,2,0),0)","v":0},null,0]
[null,null,null,null,null,null,null,null,null,null,0,{"$f":"IFERROR(VLOOKUP(A1667,'Tipos de activos'!$F$2:$G$5,2,0),0)","v":0},null,0]
[null,null,null,null,null,null,null,null,null,null,0,{"$f":"IFERROR(VLOOKUP(A1668,'Tipos de activos'!$F$2:$G$5,2,0),0)","v":0},null,0]
[null,null,null,null,null,null,null,null,null,null,0,{"$f":"IFERROR(VLOOKUP(A1669,'Tipos de activos'!$F$2:$G$5,2,0),0)","v":0},null,0]
[null,null,null,null,null,null,null,null,null,null,0,{"$f":"IFERROR(VLOOKUP(A1670,'Tipos de activos'!$F$2:$G$5,2,0),0)","v":0},null,0]
[null,null,null,null,null,null,null,null,null,null,0,{"$f":"IFERROR(VLOOKUP(A1671,'Tipos de activos'!$F$2:$G$5,2,0),0)","v":0},null,0]
[null,null,null,null,null,null,null,null,null,null,0,{"$f":"IFERROR(VLOOKUP(A1672,'Tipos de activos'!$F$2:$G$5,2,0),0)","v":0},null,0]
[null,null,null,null,null,null,null,null,null,null,0,{"$f":"IFERROR(VLOOKUP(A1673,'Tipos de activos'!$F$2:$G$5,2,0),0)","v":0},null,0]
[null,null,null,null,null,null,null,null,null,null,0,{"$f":"IFERROR(VLOOKUP(A1674,'Tipos de activos'!$F$2:$G$5,2,0),0)","v":0},null,0]
[null,null,null,null,null,null,null,null,null,null,0,{"$f":"IFERROR(VLOOKUP(A1675,'Tipos de activos'!$F$2:$G$5,2,0),0)","v":0},null,0]
[null,null,null,null,null,null,null,null,null,null,0,{"$f":"IFERROR(VLOOKUP(A1676,'Tipos de activos'!$F$2:$G$5,2,0),0)","v":0},null,0]
[null,null,null,null,null,null,null,null,null,null,0,{"$f":"IFERROR(VLOOKUP(A1677,'Tipos de activos'!$F$2:$G$5,2,0),0)","v":0},null,0]
[null,null,null,null,null,null,null,null,null,null,0,{"$f":"IFERROR(VLOOKUP(A1678,'Tipos de activos'!$F$2:$G$5,2,0),0)","v":0},null,0]
[null,null,null,null,null,null,null,null,null,null,0,{"$f":"IFERROR(VLOOKUP(A1679,'Tipos de activos'!$F$2:$G$5,2,0),0)","v":0},null,0]
[null,null,null,null,null,null,null,null,null,null,0,{"$f":"IFERROR(VLOOKUP(A1680,'Tipos de activos'!$F$2:$G$5,2,0),0)","v":0},null,0]
[null,null,null,null,null,null,null,null,null,null,0,{"$f":"IFERROR(VLOOKUP(A1681,'Tipos de activos'!$F$2:$G$5,2,0),0)","v":0},null,{"$f":"+K1681*L1681","v":0}]
[null,null,null,null,null,null,null,null,null,null,0,{"$f":"IFERROR(VLOOKUP(A1682,'Tipos de activos'!$F$2:$G$5,2,0),0)","v":0},null,0]
[null,null,null,null,null,null,null,null,null,null,0,{"$f":"IFERROR(VLOOKUP(A1683,'Tipos de activos'!$F$2:$G$5,2,0),0)","v":0},null,0]
[null,null,null,null,null,null,null,null,null,null,0,{"$f":"IFERROR(VLOOKUP(A1684,'Tipos de activos'!$F$2:$G$5,2,0),0)","v":0},null,0]
[null,null,null,null,null,null,null,null,null,null,0,{"$f":"IFERROR(VLOOKUP(A1685,'Tipos de activos'!$F$2:$G$5,2,0),0)","v":0},null,0]
[null,null,null,null,null,null,null,null,null,null,0,{"$f":"IFERROR(VLOOKUP(A1686,'Tipos de activos'!$F$2:$G$5,2,0),0)","v":0},null,0]
[null,null,null,null,null,null,null,null,null,null,0,{"$f":"IFERROR(VLOOKUP(A1687,'Tipos de activos'!$F$2:$G$5,2,0),0)","v":0},null,0]
[null,null,null,null,null,null,null,null,null,null,0,{"$f":"IFERROR(VLOOKUP(A1688,'Tipos de activos'!$F$2:$G$5,2,0),0)","v":0},null,0]
[null,null,null,null,null,null,null,null,null,null,{"$f":"+I1689-J1689","v":0},{"$f":"IFERROR(VLOOKUP(A1689,'Tipos de activos'!$F$2:$G$5,2,0),0)","v":0},null,0]
[null,null,null,null,null,null,null,null,null,null,0,{"$f":"IFERROR(VLOOKUP(A1690,'Tipos de activos'!$F$2:$G$5,2,0),0)","v":0},null,0]
[null,null,null,null,null,null,null,null,null,null,0,{"$f":"IFERROR(VLOOKUP(A1691,'Tipos de activos'!$F$2:$G$5,2,0),0)","v":0},null,0]
[null,null,null,null,null,null,null,null,null,null,0,{"$f":"IFERROR(VLOOKUP(A1692,'Tipos de activos'!$F$2:$G$5,2,0),0)","v":0},null,0]
[null,null,null,null,null,null,null,null,null,null,0,{"$f":"IFERROR(VLOOKUP(A1693,'Tipos de activos'!$F$2:$G$5,2,0),0)","v":0},null,0]
[null,null,null,null,null,null,null,null,null,null,0,{"$f":"IFERROR(VLOOKUP(A1694,'Tipos de activos'!$F$2:$G$5,2,0),0)","v":0},null,0]
[null,null,null,null,null,null,null,null,null,null,0,{"$f":"IFERROR(VLOOKUP(A1695,'Tipos de activos'!$F$2:$G$5,2,0),0)","v":0},null,0]
[null,null,null,null,null,null,null,null,null,null,0,{"$f":"IFERROR(VLOOKUP(A1696,'Tipos de activos'!$F$2:$G$5,2,0),0)","v":0},null,0]
[null,null,null,null,null,null,null,null,null,null,0,{"$f":"IFERROR(VLOOKUP(A1697,'Tipos de activos'!$F$2:$G$5,2,0),0)","v":0},null,0]
[null,null,null,null,null,null,null,null,null,null,0,{"$f":"IFERROR(VLOOKUP(A1698,'Tipos de activos'!$F$2:$G$5,2,0),0)","v":0},null,0]
[null,null,null,null,null,null,null,null,null,null,0,{"$f":"IFERROR(VLOOKUP(A1699,'Tipos de activos'!$F$2:$G$5,2,0),0)","v":0},null,0]
[null,null,null,null,null,null,null,null,null,null,0,{"$f":"IFERROR(VLOOKUP(A1700,'Tipos de activos'!$F$2:$G$5,2,0),0)","v":0},null,0]
[null,null,null,null,null,null,null,null,null,null,0,{"$f":"IFERROR(VLOOKUP(A1701,'Tipos de activos'!$F$2:$G$5,2,0),0)","v":0},null,0]
[null,null,null,null,null,null,null,null,null,null,0,{"$f":"IFERROR(VLOOKUP(A1702,'Tipos de activos'!$F$2:$G$5,2,0),0)","v":0},null,0]
[null,null,null,null,null,null,null,null,null,null,0,{"$f":"IFERROR(VLOOKUP(A1703,'Tipos de activos'!$F$2:$G$5,2,0),0)","v":0},null,0]
[null,null,null,null,null,null,null,null,null,null,0,{"$f":"IFERROR(VLOOKUP(A1704,'Tipos de activos'!$F$2:$G$5,2,0),0)","v":0},null,0]
[null,null,null,null,null,null,null,null,null,null,0,{"$f":"IFERROR(VLOOKUP(A1705,'Tipos de activos'!$F$2:$G$5,2,0),0)","v":0},null,0]
[null,null,null,null,null,null,null,null,null,null,0,{"$f":"IFERROR(VLOOKUP(A1706,'Tipos de activos'!$F$2:$G$5,2,0),0)","v":0},null,0]
[null,null,null,null,null,null,null,null,null,null,0,{"$f":"IFERROR(VLOOKUP(A1707,'Tipos de activos'!$F$2:$G$5,2,0),0)","v":0},null,0]
[null,null,null,null,null,null,null,null,null,null,0,{"$f":"IFERROR(VLOOKUP(A1708,'Tipos de activos'!$F$2:$G$5,2,0),0)","v":0},null,0]
[null,null,null,null,null,null,null,null,null,null,0,{"$f":"IFERROR(VLOOKUP(A1709,'Tipos de activos'!$F$2:$G$5,2,0),0)","v":0},null,0]
[null,null,null,null,null,null,null,null,null,null,0,{"$f":"IFERROR(VLOOKUP(A1710,'Tipos de activos'!$F$2:$G$5,2,0),0)","v":0},null,0]
[null,null,null,null,null,null,null,null,null,null,0,{"$f":"IFERROR(VLOOKUP(A1711,'Tipos de activos'!$F$2:$G$5,2,0),0)","v":0},null,0]
[null,null,null,null,null,null,null,null,null,null,0,{"$f":"IFERROR(VLOOKUP(A1712,'Tipos de activos'!$F$2:$G$5,2,0),0)","v":0},null,0]
[null,null,null,null,null,null,null,null,null,null,0,{"$f":"IFERROR(VLOOKUP(A1713,'Tipos de activos'!$F$2:$G$5,2,0),0)","v":0},null,0]
[null,null,null,null,null,null,null,null,null,null,0,{"$f":"IFERROR(VLOOKUP(A1714,'Tipos de activos'!$F$2:$G$5,2,0),0)","v":0},null,0]
[null,null,null,null,null,null,null,null,null,null,0,{"$f":"IFERROR(VLOOKUP(A1715,'Tipos de activos'!$F$2:$G$5,2,0),0)","v":0},null,0]
[null,null,null,null,null,null,null,null,null,null,0,{"$f":"IFERROR(VLOOKUP(A1716,'Tipos de activos'!$F$2:$G$5,2,0),0)","v":0},null,0]
[null,null,null,null,null,null,null,null,null,null,0,{"$f":"IFERROR(VLOOKUP(A1717,'Tipos de activos'!$F$2:$G$5,2,0),0)","v":0},null,0]
[null,null,null,null,null,null,null,null,null,null,0,{"$f":"IFERROR(VLOOKUP(A1718,'Tipos de activos'!$F$2:$G$5,2,0),0)","v":0},null,0]
[null,null,null,null,null,null,null,null,null,null,0,{"$f":"IFERROR(VLOOKUP(A1719,'Tipos de activos'!$F$2:$G$5,2,0),0)","v":0},null,0]
[null,null,null,null,null,null,null,null,null,null,0,{"$f":"IFERROR(VLOOKUP(A1720,'Tipos de activos'!$F$2:$G$5,2,0),0)","v":0},null,0]
[null,null,null,null,null,null,null,null,null,null,0,{"$f":"IFERROR(VLOOKUP(A1721,'Tipos de activos'!$F$2:$G$5,2,0),0)","v":0},null,0]
[null,null,null,null,null,null,null,null,null,null,0,{"$f":"IFERROR(VLOOKUP(A1722,'Tipos de activos'!$F$2:$G$5,2,0),0)","v":0},null,0]
[null,null,null,null,null,null,null,null,null,null,0,{"$f":"IFERROR(VLOOKUP(A1723,'Tipos de activos'!$F$2:$G$5,2,0),0)","v":0},null,0]
[null,null,null,null,null,null,null,null,null,null,0,{"$f":"IFERROR(VLOOKUP(A1724,'Tipos de activos'!$F$2:$G$5,2,0),0)","v":0},null,0]
[null,null,null,null,null,null,null,null,null,null,0,{"$f":"IFERROR(VLOOKUP(A1725,'Tipos de activos'!$F$2:$G$5,2,0),0)","v":0},null,0]
[null,null,null,null,null,null,null,null,null,null,0,{"$f":"IFERROR(VLOOKUP(A1726,'Tipos de activos'!$F$2:$G$5,2,0),0)","v":0},null,0]
[null,null,null,null,null,null,null,null,null,null,0,{"$f":"IFERROR(VLOOKUP(A1727,'Tipos de activos'!$F$2:$G$5,2,0),0)","v":0},null,0]
[null,null,null,null,null,null,null,null,null,null,0,{"$f":"IFERROR(VLOOKUP(A1728,'Tipos de activos'!$F$2:$G$5,2,0),0)","v":0},null,0]
[null,null,null,null,null,null,null,null,null,null,0,{"$f":"IFERROR(VLOOKUP(A1729,'Tipos de activos'!$F$2:$G$5,2,0),0)","v":0},null,0]
[null,null,null,null,null,null,null,null,null,null,0,{"$f":"IFERROR(VLOOKUP(A1730,'Tipos de activos'!$F$2:$G$5,2,0),0)","v":0},null,0]
[null,null,null,null,null,null,null,null,null,null,0,{"$f":"IFERROR(VLOOKUP(A1731,'Tipos de activos'!$F$2:$G$5,2,0),0)","v":0},null,0]
[null,null,null,null,null,null,null,null,null,null,0,{"$f":"IFERROR(VLOOKUP(A1732,'Tipos de activos'!$F$2:$G$5,2,0),0)","v":0},null,0]
[null,null,null,null,null,null,null,null,null,null,0,{"$f":"IFERROR(VLOOKUP(A1733,'Tipos de activos'!$F$2:$G$5,2,0),0)","v":0},null,0]
[null,null,null,null,null,null,null,null,null,null,0,{"$f":"IFERROR(VLOOKUP(A1734,'Tipos de activos'!$F$2:$G$5,2,0),0)","v":0},null,0]
[null,null,null,null,null,null,null,null,null,null,0,{"$f":"IFERROR(VLOOKUP(A1735,'Tipos de activos'!$F$2:$G$5,2,0),0)","v":0},null,0]
[null,null,null,null,null,null,null,null,null,null,0,{"$f":"IFERROR(VLOOKUP(A1736,'Tipos de activos'!$F$2:$G$5,2,0),0)","v":0},null,0]
[null,null,null,null,null,null,null,null,null,null,0,{"$f":"IFERROR(VLOOKUP(A1737,'Tipos de activos'!$F$2:$G$5,2,0),0)","v":0},null,0]
[null,null,null,null,null,null,null,null,null,null,0,{"$f":"IFERROR(VLOOKUP(A1738,'Tipos de activos'!$F$2:$G$5,2,0),0)","v":0},null,0]
[null,null,null,null,null,null,null,null,null,null,0,{"$f":"IFERROR(VLOOKUP(A1739,'Tipos de activos'!$F$2:$G$5,2,0),0)","v":0},null,0]
[null,null,null,null,null,null,null,null,null,null,0,{"$f":"IFERROR(VLOOKUP(A1740,'Tipos de activos'!$F$2:$G$5,2,0),0)","v":0},null,0]
[null,null,null,null,null,null,null,null,null,null,0,{"$f":"IFERROR(VLOOKUP(A1741,'Tipos de activos'!$F$2:$G$5,2,0),0)","v":0},null,0]
[null,null,null,null,null,null,null,null,null,null,0,{"$f":"IFERROR(VLOOKUP(A1742,'Tipos de activos'!$F$2:$G$5,2,0),0)","v":0},null,0]
[null,null,null,null,null,null,null,null,null,null,0,{"$f":"IFERROR(VLOOKUP(A1743,'Tipos de activos'!$F$2:$G$5,2,0),0)","v":0},null,0]
[null,null,null,null,null,null,null,null,null,null,0,{"$f":"IFERROR(VLOOKUP(A1744,'Tipos de activos'!$F$2:$G$5,2,0),0)","v":0},null,0]
[null,null,null,null,null,null,null,null,null,null,0,{"$f":"IFERROR(VLOOKUP(A1745,'Tipos de activos'!$F$2:$G$5,2,0),0)","v":0},null,{"$f":"+K1745*L1745","v":0}]
[null,null,null,null,null,null,null,null,null,null,0,{"$f":"IFERROR(VLOOKUP(A1746,'Tipos de activos'!$F$2:$G$5,2,0),0)","v":0},null,0]
[null,null,null,null,null,null,null,null,null,null,0,{"$f":"IFERROR(VLOOKUP(A1747,'Tipos de activos'!$F$2:$G$5,2,0),0)","v":0},null,0]
[null,null,null,null,null,null,null,null,null,null,0,{"$f":"IFERROR(VLOOKUP(A1748,'Tipos de activos'!$F$2:$G$5,2,0),0)","v":0},null,0]
[null,null,null,null,null,null,null,null,null,null,0,{"$f":"IFERROR(VLOOKUP(A1749,'Tipos de activos'!$F$2:$G$5,2,0),0)","v":0},null,0]
[null,null,null,null,null,null,null,null,null,null,0,{"$f":"IFERROR(VLOOKUP(A1750,'Tipos de activos'!$F$2:$G$5,2,0),0)","v":0},null,0]
[null,null,null,null,null,null,null,null,null,null,0,{"$f":"IFERROR(VLOOKUP(A1751,'Tipos de activos'!$F$2:$G$5,2,0),0)","v":0},null,0]
[null,null,null,null,null,null,null,null,null,null,0,{"$f":"IFERROR(VLOOKUP(A1752,'Tipos de activos'!$F$2:$G$5,2,0),0)","v":0},null,0]
[null,null,null,null,null,null,null,null,null,null,{"$f":"+I1753-J1753","v":0},{"$f":"IFERROR(VLOOKUP(A1753,'Tipos de activos'!$F$2:$G$5,2,0),0)","v":0},null,0]
[null,null,null,null,null,null,null,null,null,null,0,{"$f":"IFERROR(VLOOKUP(A1754,'Tipos de activos'!$F$2:$G$5,2,0),0)","v":0},null,0]
[null,null,null,null,null,null,null,null,null,null,0,{"$f":"IFERROR(VLOOKUP(A1755,'Tipos de activos'!$F$2:$G$5,2,0),0)","v":0},null,0]
[null,null,null,null,null,null,null,null,null,null,0,{"$f":"IFERROR(VLOOKUP(A1756,'Tipos de activos'!$F$2:$G$5,2,0),0)","v":0},null,0]
[null,null,null,null,null,null,null,null,null,null,0,{"$f":"IFERROR(VLOOKUP(A1757,'Tipos de activos'!$F$2:$G$5,2,0),0)","v":0},null,0]
[null,null,null,null,null,null,null,null,null,null,0,{"$f":"IFERROR(VLOOKUP(A1758,'Tipos de activos'!$F$2:$G$5,2,0),0)","v":0},null,0]
[null,null,null,null,null,null,null,null,null,null,0,{"$f":"IFERROR(VLOOKUP(A1759,'Tipos de activos'!$F$2:$G$5,2,0),0)","v":0},null,0]
[null,null,null,null,null,null,null,null,null,null,0,{"$f":"IFERROR(VLOOKUP(A1760,'Tipos de activos'!$F$2:$G$5,2,0),0)","v":0},null,0]
[null,null,null,null,null,null,null,null,null,null,0,{"$f":"IFERROR(VLOOKUP(A1761,'Tipos de activos'!$F$2:$G$5,2,0),0)","v":0},null,0]
[null,null,null,null,null,null,null,null,null,null,0,{"$f":"IFERROR(VLOOKUP(A1762,'Tipos de activos'!$F$2:$G$5,2,0),0)","v":0},null,0]
[null,null,null,null,null,null,null,null,null,null,0,{"$f":"IFERROR(VLOOKUP(A1763,'Tipos de activos'!$F$2:$G$5,2,0),0)","v":0},null,0]
[null,null,null,null,null,null,null,null,null,null,0,{"$f":"IFERROR(VLOOKUP(A1764,'Tipos de activos'!$F$2:$G$5,2,0),0)","v":0},null,0]
[null,null,null,null,null,null,null,null,null,null,0,{"$f":"IFERROR(VLOOKUP(A1765,'Tipos de activos'!$F$2:$G$5,2,0),0)","v":0},null,0]
[null,null,null,null,null,null,null,null,null,null,0,{"$f":"IFERROR(VLOOKUP(A1766,'Tipos de activos'!$F$2:$G$5,2,0),0)","v":0},null,0]
[null,null,null,null,null,null,null,null,null,null,0,{"$f":"IFERROR(VLOOKUP(A1767,'Tipos de activos'!$F$2:$G$5,2,0),0)","v":0},null,0]
[null,null,null,null,null,null,null,null,null,null,0,{"$f":"IFERROR(VLOOKUP(A1768,'Tipos de activos'!$F$2:$G$5,2,0),0)","v":0},null,0]
[null,null,null,null,null,null,null,null,null,null,0,{"$f":"IFERROR(VLOOKUP(A1769,'Tipos de activos'!$F$2:$G$5,2,0),0)","v":0},null,0]
[null,null,null,null,null,null,null,null,null,null,0,{"$f":"IFERROR(VLOOKUP(A1770,'Tipos de activos'!$F$2:$G$5,2,0),0)","v":0},null,0]
[null,null,null,null,null,null,null,null,null,null,0,{"$f":"IFERROR(VLOOKUP(A1771,'Tipos de activos'!$F$2:$G$5,2,0),0)","v":0},null,0]
[null,null,null,null,null,null,null,null,null,null,0,{"$f":"IFERROR(VLOOKUP(A1772,'Tipos de activos'!$F$2:$G$5,2,0),0)","v":0},null,0]
[null,null,null,null,null,null,null,null,null,null,0,{"$f":"IFERROR(VLOOKUP(A1773,'Tipos de activos'!$F$2:$G$5,2,0),0)","v":0},null,0]
[null,null,null,null,null,null,null,null,null,null,0,{"$f":"IFERROR(VLOOKUP(A1774,'Tipos de activos'!$F$2:$G$5,2,0),0)","v":0},null,0]
[null,null,null,null,null,null,null,null,null,null,0,{"$f":"IFERROR(VLOOKUP(A1775,'Tipos de activos'!$F$2:$G$5,2,0),0)","v":0},null,0]
[null,null,null,null,null,null,null,null,null,null,0,{"$f":"IFERROR(VLOOKUP(A1776,'Tipos de activos'!$F$2:$G$5,2,0),0)","v":0},null,0]
[null,null,null,null,null,null,null,null,null,null,0,{"$f":"IFERROR(VLOOKUP(A1777,'Tipos de activos'!$F$2:$G$5,2,0),0)","v":0},null,0]
[null,null,null,null,null,null,null,null,null,null,0,{"$f":"IFERROR(VLOOKUP(A1778,'Tipos de activos'!$F$2:$G$5,2,0),0)","v":0},null,0]
[null,null,null,null,null,null,null,null,null,null,0,{"$f":"IFERROR(VLOOKUP(A1779,'Tipos de activos'!$F$2:$G$5,2,0),0)","v":0},null,0]
[null,null,null,null,null,null,null,null,null,null,0,{"$f":"IFERROR(VLOOKUP(A1780,'Tipos de activos'!$F$2:$G$5,2,0),0)","v":0},null,0]
[null,null,null,null,null,null,null,null,null,null,0,{"$f":"IFERROR(VLOOKUP(A1781,'Tipos de activos'!$F$2:$G$5,2,0),0)","v":0},null,0]
[null,null,null,null,null,null,null,null,null,null,0,{"$f":"IFERROR(VLOOKUP(A1782,'Tipos de activos'!$F$2:$G$5,2,0),0)","v":0},null,0]
[null,null,null,null,null,null,null,null,null,null,0,{"$f":"IFERROR(VLOOKUP(A1783,'Tipos de activos'!$F$2:$G$5,2,0),0)","v":0},null,0]
[null,null,null,null,null,null,null,null,null,null,0,{"$f":"IFERROR(VLOOKUP(A1784,'Tipos de activos'!$F$2:$G$5,2,0),0)","v":0},null,0]
[null,null,null,null,null,null,null,null,null,null,0,{"$f":"IFERROR(VLOOKUP(A1785,'Tipos de activos'!$F$2:$G$5,2,0),0)","v":0},null,0]
[null,null,null,null,null,null,null,null,null,null,0,{"$f":"IFERROR(VLOOKUP(A1786,'Tipos de activos'!$F$2:$G$5,2,0),0)","v":0},null,0]
[null,null,null,null,null,null,null,null,null,null,0,{"$f":"IFERROR(VLOOKUP(A1787,'Tipos de activos'!$F$2:$G$5,2,0),0)","v":0},null,0]
[null,null,null,null,null,null,null,null,null,null,0,{"$f":"IFERROR(VLOOKUP(A1788,'Tipos de activos'!$F$2:$G$5,2,0),0)","v":0},null,0]
[null,null,null,null,null,null,null,null,null,null,0,{"$f":"IFERROR(VLOOKUP(A1789,'Tipos de activos'!$F$2:$G$5,2,0),0)","v":0},null,0]
[null,null,null,null,null,null,null,null,null,null,0,{"$f":"IFERROR(VLOOKUP(A1790,'Tipos de activos'!$F$2:$G$5,2,0),0)","v":0},null,0]
[null,null,null,null,null,null,null,null,null,null,0,{"$f":"IFERROR(VLOOKUP(A1791,'Tipos de activos'!$F$2:$G$5,2,0),0)","v":0},null,0]
[null,null,null,null,null,null,null,null,null,null,0,{"$f":"IFERROR(VLOOKUP(A1792,'Tipos de activos'!$F$2:$G$5,2,0),0)","v":0},null,0]
[null,null,null,null,null,null,null,null,null,null,0,{"$f":"IFERROR(VLOOKUP(A1793,'Tipos de activos'!$F$2:$G$5,2,0),0)","v":0},null,0]
[null,null,null,null,null,null,null,null,null,null,0,{"$f":"IFERROR(VLOOKUP(A1794,'Tipos de activos'!$F$2:$G$5,2,0),0)","v":0},null,0]
[null,null,null,null,null,null,null,null,null,null,0,{"$f":"IFERROR(VLOOKUP(A1795,'Tipos de activos'!$F$2:$G$5,2,0),0)","v":0},null,0]
[null,null,null,null,null,null,null,null,null,null,0,{"$f":"IFERROR(VLOOKUP(A1796,'Tipos de activos'!$F$2:$G$5,2,0),0)","v":0},null,0]
[null,null,null,null,null,null,null,null,null,null,0,{"$f":"IFERROR(VLOOKUP(A1797,'Tipos de activos'!$F$2:$G$5,2,0),0)","v":0},null,0]
[null,null,null,null,null,null,null,null,null,null,0,{"$f":"IFERROR(VLOOKUP(A1798,'Tipos de activos'!$F$2:$G$5,2,0),0)","v":0},null,0]
[null,null,null,null,null,null,null,null,null,null,0,{"$f":"IFERROR(VLOOKUP(A1799,'Tipos de activos'!$F$2:$G$5,2,0),0)","v":0},null,0]
[null,null,null,null,null,null,null,null,null,null,0,{"$f":"IFERROR(VLOOKUP(A1800,'Tipos de activos'!$F$2:$G$5,2,0),0)","v":0},null,0]
[null,null,null,null,null,null,null,null,null,null,0,{"$f":"IFERROR(VLOOKUP(A1801,'Tipos de activos'!$F$2:$G$5,2,0),0)","v":0},null,0]
[null,null,null,null,null,null,null,null,null,null,0,{"$f":"IFERROR(VLOOKUP(A1802,'Tipos de activos'!$F$2:$G$5,2,0),0)","v":0},null,0]
[null,null,null,null,null,null,null,null,null,null,0,{"$f":"IFERROR(VLOOKUP(A1803,'Tipos de activos'!$F$2:$G$5,2,0),0)","v":0},null,0]
[null,null,null,null,null,null,null,null,null,null,0,{"$f":"IFERROR(VLOOKUP(A1804,'Tipos de activos'!$F$2:$G$5,2,0),0)","v":0},null,0]
[null,null,null,null,null,null,null,null,null,null,0,{"$f":"IFERROR(VLOOKUP(A1805,'Tipos de activos'!$F$2:$G$5,2,0),0)","v":0},null,0]
[null,null,null,null,null,null,null,null,null,null,0,{"$f":"IFERROR(VLOOKUP(A1806,'Tipos de activos'!$F$2:$G$5,2,0),0)","v":0},null,0]
[null,null,null,null,null,null,null,null,null,null,0,{"$f":"IFERROR(VLOOKUP(A1807,'Tipos de activos'!$F$2:$G$5,2,0),0)","v":0},null,0]
[null,null,null,null,null,null,null,null,null,null,0,{"$f":"IFERROR(VLOOKUP(A1808,'Tipos de activos'!$F$2:$G$5,2,0),0)","v":0},null,0]
[null,null,null,null,null,null,null,null,null,null,0,{"$f":"IFERROR(VLOOKUP(A1809,'Tipos de activos'!$F$2:$G$5,2,0),0)","v":0},null,{"$f":"+K1809*L1809","v":0}]
[null,null,null,null,null,null,null,null,null,null,0,{"$f":"IFERROR(VLOOKUP(A1810,'Tipos de activos'!$F$2:$G$5,2,0),0)","v":0},null,0]
[null,null,null,null,null,null,null,null,null,null,0,{"$f":"IFERROR(VLOOKUP(A1811,'Tipos de activos'!$F$2:$G$5,2,0),0)","v":0},null,0]
[null,null,null,null,null,null,null,null,null,null,0,{"$f":"IFERROR(VLOOKUP(A1812,'Tipos de activos'!$F$2:$G$5,2,0),0)","v":0},null,0]
[null,null,null,null,null,null,null,null,null,null,0,{"$f":"IFERROR(VLOOKUP(A1813,'Tipos de activos'!$F$2:$G$5,2,0),0)","v":0},null,0]
[null,null,null,null,null,null,null,null,null,null,0,{"$f":"IFERROR(VLOOKUP(A1814,'Tipos de activos'!$F$2:$G$5,2,0),0)","v":0},null,0]
[null,null,null,null,null,null,null,null,null,null,0,{"$f":"IFERROR(VLOOKUP(A1815,'Tipos de activos'!$F$2:$G$5,2,0),0)","v":0},null,0]
[null,null,null,null,null,null,null,null,null,null,0,{"$f":"IFERROR(VLOOKUP(A1816,'Tipos de activos'!$F$2:$G$5,2,0),0)","v":0},null,0]
[null,null,null,null,null,null,null,null,null,null,{"$f":"+I1817-J1817","v":0},{"$f":"IFERROR(VLOOKUP(A1817,'Tipos de activos'!$F$2:$G$5,2,0),0)","v":0},null,0]
[null,null,null,null,null,null,null,null,null,null,0,{"$f":"IFERROR(VLOOKUP(A1818,'Tipos de activos'!$F$2:$G$5,2,0),0)","v":0},null,0]
[null,null,null,null,null,null,null,null,null,null,0,{"$f":"IFERROR(VLOOKUP(A1819,'Tipos de activos'!$F$2:$G$5,2,0),0)","v":0},null,0]
[null,null,null,null,null,null,null,null,null,null,0,{"$f":"IFERROR(VLOOKUP(A1820,'Tipos de activos'!$F$2:$G$5,2,0),0)","v":0},null,0]
[null,null,null,null,null,null,null,null,null,null,0,{"$f":"IFERROR(VLOOKUP(A1821,'Tipos de activos'!$F$2:$G$5,2,0),0)","v":0},null,0]
[null,null,null,null,null,null,null,null,null,null,0,{"$f":"IFERROR(VLOOKUP(A1822,'Tipos de activos'!$F$2:$G$5,2,0),0)","v":0},null,0]
[null,null,null,null,null,null,null,null,null,null,0,{"$f":"IFERROR(VLOOKUP(A1823,'Tipos de activos'!$F$2:$G$5,2,0),0)","v":0},null,0]
[null,null,null,null,null,null,null,null,null,null,0,{"$f":"IFERROR(VLOOKUP(A1824,'Tipos de activos'!$F$2:$G$5,2,0),0)","v":0},null,0]
[null,null,null,null,null,null,null,null,null,null,0,{"$f":"IFERROR(VLOOKUP(A1825,'Tipos de activos'!$F$2:$G$5,2,0),0)","v":0},null,0]
[null,null,null,null,null,null,null,null,null,null,0,{"$f":"IFERROR(VLOOKUP(A1826,'Tipos de activos'!$F$2:$G$5,2,0),0)","v":0},null,0]
[null,null,null,null,null,null,null,null,null,null,0,{"$f":"IFERROR(VLOOKUP(A1827,'Tipos de activos'!$F$2:$G$5,2,0),0)","v":0},null,0]
[null,null,null,null,null,null,null,null,null,null,0,{"$f":"IFERROR(VLOOKUP(A1828,'Tipos de activos'!$F$2:$G$5,2,0),0)","v":0},null,0]
[null,null,null,null,null,null,null,null,null,null,0,{"$f":"IFERROR(VLOOKUP(A1829,'Tipos de activos'!$F$2:$G$5,2,0),0)","v":0},null,0]
[null,null,null,null,null,null,null,null,null,null,0,{"$f":"IFERROR(VLOOKUP(A1830,'Tipos de activos'!$F$2:$G$5,2,0),0)","v":0},null,0]
[null,null,null,null,null,null,null,null,null,null,0,{"$f":"IFERROR(VLOOKUP(A1831,'Tipos de activos'!$F$2:$G$5,2,0),0)","v":0},null,0]
[null,null,null,null,null,null,null,null,null,null,0,{"$f":"IFERROR(VLOOKUP(A1832,'Tipos de activos'!$F$2:$G$5,2,0),0)","v":0},null,0]
[null,null,null,null,null,null,null,null,null,null,0,{"$f":"IFERROR(VLOOKUP(A1833,'Tipos de activos'!$F$2:$G$5,2,0),0)","v":0},null,0]
[null,null,null,null,null,null,null,null,null,null,0,{"$f":"IFERROR(VLOOKUP(A1834,'Tipos de activos'!$F$2:$G$5,2,0),0)","v":0},null,0]
[null,null,null,null,null,null,null,null,null,null,0,{"$f":"IFERROR(VLOOKUP(A1835,'Tipos de activos'!$F$2:$G$5,2,0),0)","v":0},null,0]
[null,null,null,null,null,null,null,null,null,null,0,{"$f":"IFERROR(VLOOKUP(A1836,'Tipos de activos'!$F$2:$G$5,2,0),0)","v":0},null,0]
[null,null,null,null,null,null,null,null,null,null,0,{"$f":"IFERROR(VLOOKUP(A1837,'Tipos de activos'!$F$2:$G$5,2,0),0)","v":0},null,0]
[null,null,null,null,null,null,null,null,null,null,0,{"$f":"IFERROR(VLOOKUP(A1838,'Tipos de activos'!$F$2:$G$5,2,0),0)","v":0},null,0]
[null,null,null,null,null,null,null,null,null,null,0,{"$f":"IFERROR(VLOOKUP(A1839,'Tipos de activos'!$F$2:$G$5,2,0),0)","v":0},null,0]
[null,null,null,null,null,null,null,null,null,null,0,{"$f":"IFERROR(VLOOKUP(A1840,'Tipos de activos'!$F$2:$G$5,2,0),0)","v":0},null,0]
[null,null,null,null,null,null,null,null,null,null,0,{"$f":"IFERROR(VLOOKUP(A1841,'Tipos de activos'!$F$2:$G$5,2,0),0)","v":0},null,0]
[null,null,null,null,null,null,null,null,null,null,0,{"$f":"IFERROR(VLOOKUP(A1842,'Tipos de activos'!$F$2:$G$5,2,0),0)","v":0},null,0]
[null,null,null,null,null,null,null,null,null,null,0,{"$f":"IFERROR(VLOOKUP(A1843,'Tipos de activos'!$F$2:$G$5,2,0),0)","v":0},null,0]
[null,null,null,null,null,null,null,null,null,null,0,{"$f":"IFERROR(VLOOKUP(A1844,'Tipos de activos'!$F$2:$G$5,2,0),0)","v":0},null,0]
[null,null,null,null,null,null,null,null,null,null,0,{"$f":"IFERROR(VLOOKUP(A1845,'Tipos de activos'!$F$2:$G$5,2,0),0)","v":0},null,0]
[null,null,null,null,null,null,null,null,null,null,0,{"$f":"IFERROR(VLOOKUP(A1846,'Tipos de activos'!$F$2:$G$5,2,0),0)","v":0},null,0]
[null,null,null,null,null,null,null,null,null,null,0,{"$f":"IFERROR(VLOOKUP(A1847,'Tipos de activos'!$F$2:$G$5,2,0),0)","v":0},null,0]
[null,null,null,null,null,null,null,null,null,null,0,{"$f":"IFERROR(VLOOKUP(A1848,'Tipos de activos'!$F$2:$G$5,2,0),0)","v":0},null,0]
[null,null,null,null,null,null,null,null,null,null,0,{"$f":"IFERROR(VLOOKUP(A1849,'Tipos de activos'!$F$2:$G$5,2,0),0)","v":0},null,0]
[null,null,null,null,null,null,null,null,null,null,0,{"$f":"IFERROR(VLOOKUP(A1850,'Tipos de activos'!$F$2:$G$5,2,0),0)","v":0},null,0]
[null,null,null,null,null,null,null,null,null,null,0,{"$f":"IFERROR(VLOOKUP(A1851,'Tipos de activos'!$F$2:$G$5,2,0),0)","v":0},null,0]
[null,null,null,null,null,null,null,null,null,null,0,{"$f":"IFERROR(VLOOKUP(A1852,'Tipos de activos'!$F$2:$G$5,2,0),0)","v":0},null,0]
[null,null,null,null,null,null,null,null,null,null,0,{"$f":"IFERROR(VLOOKUP(A1853,'Tipos de activos'!$F$2:$G$5,2,0),0)","v":0},null,0]
[null,null,null,null,null,null,null,null,null,null,0,{"$f":"IFERROR(VLOOKUP(A1854,'Tipos de activos'!$F$2:$G$5,2,0),0)","v":0},null,0]
[null,null,null,null,null,null,null,null,null,null,0,{"$f":"IFERROR(VLOOKUP(A1855,'Tipos de activos'!$F$2:$G$5,2,0),0)","v":0},null,0]
[null,null,null,null,null,null,null,null,null,null,0,{"$f":"IFERROR(VLOOKUP(A1856,'Tipos de activos'!$F$2:$G$5,2,0),0)","v":0},null,0]
[null,null,null,null,null,null,null,null,null,null,0,{"$f":"IFERROR(VLOOKUP(A1857,'Tipos de activos'!$F$2:$G$5,2,0),0)","v":0},null,0]
[null,null,null,null,null,null,null,null,null,null,0,{"$f":"IFERROR(VLOOKUP(A1858,'Tipos de activos'!$F$2:$G$5,2,0),0)","v":0},null,0]
[null,null,null,null,null,null,null,null,null,null,0,{"$f":"IFERROR(VLOOKUP(A1859,'Tipos de activos'!$F$2:$G$5,2,0),0)","v":0},null,0]
[null,null,null,null,null,null,null,null,null,null,0,{"$f":"IFERROR(VLOOKUP(A1860,'Tipos de activos'!$F$2:$G$5,2,0),0)","v":0},null,0]
[null,null,null,null,null,null,null,null,null,null,0,{"$f":"IFERROR(VLOOKUP(A1861,'Tipos de activos'!$F$2:$G$5,2,0),0)","v":0},null,0]
[null,null,null,null,null,null,null,null,null,null,0,{"$f":"IFERROR(VLOOKUP(A1862,'Tipos de activos'!$F$2:$G$5,2,0),0)","v":0},null,0]
[null,null,null,null,null,null,null,null,null,null,0,{"$f":"IFERROR(VLOOKUP(A1863,'Tipos de activos'!$F$2:$G$5,2,0),0)","v":0},null,0]
[null,null,null,null,null,null,null,null,null,null,0,{"$f":"IFERROR(VLOOKUP(A1864,'Tipos de activos'!$F$2:$G$5,2,0),0)","v":0},null,0]
[null,null,null,null,null,null,null,null,null,null,0,{"$f":"IFERROR(VLOOKUP(A1865,'Tipos de activos'!$F$2:$G$5,2,0),0)","v":0},null,0]
[null,null,null,null,null,null,null,null,null,null,0,{"$f":"IFERROR(VLOOKUP(A1866,'Tipos de activos'!$F$2:$G$5,2,0),0)","v":0},null,0]
[null,null,null,null,null,null,null,null,null,null,0,{"$f":"IFERROR(VLOOKUP(A1867,'Tipos de activos'!$F$2:$G$5,2,0),0)","v":0},null,0]
[null,null,null,null,null,null,null,null,null,null,0,{"$f":"IFERROR(VLOOKUP(A1868,'Tipos de activos'!$F$2:$G$5,2,0),0)","v":0},null,0]
[null,null,null,null,null,null,null,null,null,null,0,{"$f":"IFERROR(VLOOKUP(A1869,'Tipos de activos'!$F$2:$G$5,2,0),0)","v":0},null,0]
[null,null,null,null,null,null,null,null,null,null,0,{"$f":"IFERROR(VLOOKUP(A1870,'Tipos de activos'!$F$2:$G$5,2,0),0)","v":0},null,0]
[null,null,null,null,null,null,null,null,null,null,0,{"$f":"IFERROR(VLOOKUP(A1871,'Tipos de activos'!$F$2:$G$5,2,0),0)","v":0},null,0]
[null,null,null,null,null,null,null,null,null,null,0,{"$f":"IFERROR(VLOOKUP(A1872,'Tipos de activos'!$F$2:$G$5,2,0),0)","v":0},null,0]
[null,null,null,null,null,null,null,null,null,null,0,{"$f":"IFERROR(VLOOKUP(A1873,'Tipos de activos'!$F$2:$G$5,2,0),0)","v":0},null,{"$f":"+K1873*L1873","v":0}]
[null,null,null,null,null,null,null,null,null,null,0,{"$f":"IFERROR(VLOOKUP(A1874,'Tipos de activos'!$F$2:$G$5,2,0),0)","v":0},null,0]
[null,null,null,null,null,null,null,null,null,null,0,{"$f":"IFERROR(VLOOKUP(A1875,'Tipos de activos'!$F$2:$G$5,2,0),0)","v":0},null,0]
[null,null,null,null,null,null,null,null,null,null,0,{"$f":"IFERROR(VLOOKUP(A1876,'Tipos de activos'!$F$2:$G$5,2,0),0)","v":0},null,0]
[null,null,null,null,null,null,null,null,null,null,0,{"$f":"IFERROR(VLOOKUP(A1877,'Tipos de activos'!$F$2:$G$5,2,0),0)","v":0},null,0]
[null,null,null,null,null,null,null,null,null,null,0,{"$f":"IFERROR(VLOOKUP(A1878,'Tipos de activos'!$F$2:$G$5,2,0),0)","v":0},null,0]
[null,null,null,null,null,null,null,null,null,null,0,{"$f":"IFERROR(VLOOKUP(A1879,'Tipos de activos'!$F$2:$G$5,2,0),0)","v":0},null,0]
[null,null,null,null,null,null,null,null,null,null,0,{"$f":"IFERROR(VLOOKUP(A1880,'Tipos de activos'!$F$2:$G$5,2,0),0)","v":0},null,0]
[null,null,null,null,null,null,null,null,null,null,{"$f":"+I1881-J1881","v":0},{"$f":"IFERROR(VLOOKUP(A1881,'Tipos de activos'!$F$2:$G$5,2,0),0)","v":0},null,0]
[null,null,null,null,null,null,null,null,null,null,0,{"$f":"IFERROR(VLOOKUP(A1882,'Tipos de activos'!$F$2:$G$5,2,0),0)","v":0},null,0]
[null,null,null,null,null,null,null,null,null,null,0,{"$f":"IFERROR(VLOOKUP(A1883,'Tipos de activos'!$F$2:$G$5,2,0),0)","v":0},null,0]
[null,null,null,null,null,null,null,null,null,null,0,{"$f":"IFERROR(VLOOKUP(A1884,'Tipos de activos'!$F$2:$G$5,2,0),0)","v":0},null,0]
[null,null,null,null,null,null,null,null,null,null,0,{"$f":"IFERROR(VLOOKUP(A1885,'Tipos de activos'!$F$2:$G$5,2,0),0)","v":0},null,0]
[null,null,null,null,null,null,null,null,null,null,0,{"$f":"IFERROR(VLOOKUP(A1886,'Tipos de activos'!$F$2:$G$5,2,0),0)","v":0},null,0]
[null,null,null,null,null,null,null,null,null,null,0,{"$f":"IFERROR(VLOOKUP(A1887,'Tipos de activos'!$F$2:$G$5,2,0),0)","v":0},null,0]
[null,null,null,null,null,null,null,null,null,null,0,{"$f":"IFERROR(VLOOKUP(A1888,'Tipos de activos'!$F$2:$G$5,2,0),0)","v":0},null,0]
[null,null,null,null,null,null,null,null,null,null,0,{"$f":"IFERROR(VLOOKUP(A1889,'Tipos de activos'!$F$2:$G$5,2,0),0)","v":0},null,0]
[null,null,null,null,null,null,null,null,null,null,0,{"$f":"IFERROR(VLOOKUP(A1890,'Tipos de activos'!$F$2:$G$5,2,0),0)","v":0},null,0]
[null,null,null,null,null,null,null,null,null,null,0,{"$f":"IFERROR(VLOOKUP(A1891,'Tipos de activos'!$F$2:$G$5,2,0),0)","v":0},null,0]
[null,null,null,null,null,null,null,null,null,null,0,{"$f":"IFERROR(VLOOKUP(A1892,'Tipos de activos'!$F$2:$G$5,2,0),0)","v":0},null,0]
[null,null,null,null,null,null,null,null,null,null,0,{"$f":"IFERROR(VLOOKUP(A1893,'Tipos de activos'!$F$2:$G$5,2,0),0)","v":0},null,0]
[null,null,null,null,null,null,null,null,null,null,0,{"$f":"IFERROR(VLOOKUP(A1894,'Tipos de activos'!$F$2:$G$5,2,0),0)","v":0},null,0]
[null,null,null,null,null,null,null,null,null,null,0,{"$f":"IFERROR(VLOOKUP(A1895,'Tipos de activos'!$F$2:$G$5,2,0),0)","v":0},null,0]
[null,null,null,null,null,null,null,null,null,null,0,{"$f":"IFERROR(VLOOKUP(A1896,'Tipos de activos'!$F$2:$G$5,2,0),0)","v":0},null,0]
[null,null,null,null,null,null,null,null,null,null,0,{"$f":"IFERROR(VLOOKUP(A1897,'Tipos de activos'!$F$2:$G$5,2,0),0)","v":0},null,0]
[null,null,null,null,null,null,null,null,null,null,0,{"$f":"IFERROR(VLOOKUP(A1898,'Tipos de activos'!$F$2:$G$5,2,0),0)","v":0},null,0]
[null,null,null,null,null,null,null,null,null,null,0,{"$f":"IFERROR(VLOOKUP(A1899,'Tipos de activos'!$F$2:$G$5,2,0),0)","v":0},null,0]
[null,null,null,null,null,null,null,null,null,null,0,{"$f":"IFERROR(VLOOKUP(A1900,'Tipos de activos'!$F$2:$G$5,2,0),0)","v":0},null,0]
[null,null,null,null,null,null,null,null,null,null,0,{"$f":"IFERROR(VLOOKUP(A1901,'Tipos de activos'!$F$2:$G$5,2,0),0)","v":0},null,0]
[null,null,null,null,null,null,null,null,null,null,0,{"$f":"IFERROR(VLOOKUP(A1902,'Tipos de activos'!$F$2:$G$5,2,0),0)","v":0},null,0]
[null,null,null,null,null,null,null,null,null,null,0,{"$f":"IFERROR(VLOOKUP(A1903,'Tipos de activos'!$F$2:$G$5,2,0),0)","v":0},null,0]
[null,null,null,null,null,null,null,null,null,null,0,{"$f":"IFERROR(VLOOKUP(A1904,'Tipos de activos'!$F$2:$G$5,2,0),0)","v":0},null,0]
[null,null,null,null,null,null,null,null,null,null,0,{"$f":"IFERROR(VLOOKUP(A1905,'Tipos de activos'!$F$2:$G$5,2,0),0)","v":0},null,0]
[null,null,null,null,null,null,null,null,null,null,0,{"$f":"IFERROR(VLOOKUP(A1906,'Tipos de activos'!$F$2:$G$5,2,0),0)","v":0},null,0]
[null,null,null,null,null,null,null,null,null,null,0,{"$f":"IFERROR(VLOOKUP(A1907,'Tipos de activos'!$F$2:$G$5,2,0),0)","v":0},null,0]
[null,null,null,null,null,null,null,null,null,null,0,{"$f":"IFERROR(VLOOKUP(A1908,'Tipos de activos'!$F$2:$G$5,2,0),0)","v":0},null,0]
[null,null,null,null,null,null,null,null,null,null,0,{"$f":"IFERROR(VLOOKUP(A1909,'Tipos de activos'!$F$2:$G$5,2,0),0)","v":0},null,0]
[null,null,null,null,null,null,null,null,null,null,0,{"$f":"IFERROR(VLOOKUP(A1910,'Tipos de activos'!$F$2:$G$5,2,0),0)","v":0},null,0]
[null,null,null,null,null,null,null,null,null,null,0,{"$f":"IFERROR(VLOOKUP(A1911,'Tipos de activos'!$F$2:$G$5,2,0),0)","v":0},null,0]
[null,null,null,null,null,null,null,null,null,null,0,{"$f":"IFERROR(VLOOKUP(A1912,'Tipos de activos'!$F$2:$G$5,2,0),0)","v":0},null,0]
[null,null,null,null,null,null,null,null,null,null,0,{"$f":"IFERROR(VLOOKUP(A1913,'Tipos de activos'!$F$2:$G$5,2,0),0)","v":0},null,0]
[null,null,null,null,null,null,null,null,null,null,0,{"$f":"IFERROR(VLOOKUP(A1914,'Tipos de activos'!$F$2:$G$5,2,0),0)","v":0},null,0]
[null,null,null,null,null,null,null,null,null,null,0,{"$f":"IFERROR(VLOOKUP(A1915,'Tipos de activos'!$F$2:$G$5,2,0),0)","v":0},null,0]
[null,null,null,null,null,null,null,null,null,null,0,{"$f":"IFERROR(VLOOKUP(A1916,'Tipos de activos'!$F$2:$G$5,2,0),0)","v":0},null,0]
[null,null,null,null,null,null,null,null,null,null,0,{"$f":"IFERROR(VLOOKUP(A1917,'Tipos de activos'!$F$2:$G$5,2,0),0)","v":0},null,0]
[null,null,null,null,null,null,null,null,null,null,0,{"$f":"IFERROR(VLOOKUP(A1918,'Tipos de activos'!$F$2:$G$5,2,0),0)","v":0},null,0]
[null,null,null,null,null,null,null,null,null,null,0,{"$f":"IFERROR(VLOOKUP(A1919,'Tipos de activos'!$F$2:$G$5,2,0),0)","v":0},null,0]
[null,null,null,null,null,null,null,null,null,null,0,{"$f":"IFERROR(VLOOKUP(A1920,'Tipos de activos'!$F$2:$G$5,2,0),0)","v":0},null,0]
[null,null,null,null,null,null,null,null,null,null,0,{"$f":"IFERROR(VLOOKUP(A1921,'Tipos de activos'!$F$2:$G$5,2,0),0)","v":0},null,0]
[null,null,null,null,null,null,null,null,null,null,0,{"$f":"IFERROR(VLOOKUP(A1922,'Tipos de activos'!$F$2:$G$5,2,0),0)","v":0},null,0]
[null,null,null,null,null,null,null,null,null,null,0,{"$f":"IFERROR(VLOOKUP(A1923,'Tipos de activos'!$F$2:$G$5,2,0),0)","v":0},null,0]
[null,null,null,null,null,null,null,null,null,null,0,{"$f":"IFERROR(VLOOKUP(A1924,'Tipos de activos'!$F$2:$G$5,2,0),0)","v":0},null,0]
[null,null,null,null,null,null,null,null,null,null,0,{"$f":"IFERROR(VLOOKUP(A1925,'Tipos de activos'!$F$2:$G$5,2,0),0)","v":0},null,0]
[null,null,null,null,null,null,null,null,null,null,0,{"$f":"IFERROR(VLOOKUP(A1926,'Tipos de activos'!$F$2:$G$5,2,0),0)","v":0},null,0]
[null,null,null,null,null,null,null,null,null,null,0,{"$f":"IFERROR(VLOOKUP(A1927,'Tipos de activos'!$F$2:$G$5,2,0),0)","v":0},null,0]
[null,null,null,null,null,null,null,null,null,null,0,{"$f":"IFERROR(VLOOKUP(A1928,'Tipos de activos'!$F$2:$G$5,2,0),0)","v":0},null,0]
[null,null,null,null,null,null,null,null,null,null,0,{"$f":"IFERROR(VLOOKUP(A1929,'Tipos de activos'!$F$2:$G$5,2,0),0)","v":0},null,0]
[null,null,null,null,null,null,null,null,null,null,0,{"$f":"IFERROR(VLOOKUP(A1930,'Tipos de activos'!$F$2:$G$5,2,0),0)","v":0},null,0]
[null,null,null,null,null,null,null,null,null,null,0,{"$f":"IFERROR(VLOOKUP(A1931,'Tipos de activos'!$F$2:$G$5,2,0),0)","v":0},null,0]
[null,null,null,null,null,null,null,null,null,null,0,{"$f":"IFERROR(VLOOKUP(A1932,'Tipos de activos'!$F$2:$G$5,2,0),0)","v":0},null,0]
[null,null,null,null,null,null,null,null,null,null,0,{"$f":"IFERROR(VLOOKUP(A1933,'Tipos de activos'!$F$2:$G$5,2,0),0)","v":0},null,0]
[null,null,null,null,null,null,null,null,null,null,0,{"$f":"IFERROR(VLOOKUP(A1934,'Tipos de activos'!$F$2:$G$5,2,0),0)","v":0},null,0]
[null,null,null,null,null,null,null,null,null,null,0,{"$f":"IFERROR(VLOOKUP(A1935,'Tipos de activos'!$F$2:$G$5,2,0),0)","v":0},null,0]
[null,null,null,null,null,null,null,null,null,null,0,{"$f":"IFERROR(VLOOKUP(A1936,'Tipos de activos'!$F$2:$G$5,2,0),0)","v":0},null,0]
[null,null,null,null,null,null,null,null,null,null,0,{"$f":"IFERROR(VLOOKUP(A1937,'Tipos de activos'!$F$2:$G$5,2,0),0)","v":0},null,{"$f":"+K1937*L1937","v":0}]
[null,null,null,null,null,null,null,null,null,null,0,{"$f":"IFERROR(VLOOKUP(A1938,'Tipos de activos'!$F$2:$G$5,2,0),0)","v":0},null,0]
[null,null,null,null,null,null,null,null,null,null,0,{"$f":"IFERROR(VLOOKUP(A1939,'Tipos de activos'!$F$2:$G$5,2,0),0)","v":0},null,0]
[null,null,null,null,null,null,null,null,null,null,0,{"$f":"IFERROR(VLOOKUP(A1940,'Tipos de activos'!$F$2:$G$5,2,0),0)","v":0},null,0]
[null,null,null,null,null,null,null,null,null,null,0,{"$f":"IFERROR(VLOOKUP(A1941,'Tipos de activos'!$F$2:$G$5,2,0),0)","v":0},null,0]
[null,null,null,null,null,null,null,null,null,null,0,{"$f":"IFERROR(VLOOKUP(A1942,'Tipos de activos'!$F$2:$G$5,2,0),0)","v":0},null,0]
[null,null,null,null,null,null,null,null,null,null,0,{"$f":"IFERROR(VLOOKUP(A1943,'Tipos de activos'!$F$2:$G$5,2,0),0)","v":0},null,0]
[null,null,null,null,null,null,null,null,null,null,0,{"$f":"IFERROR(VLOOKUP(A1944,'Tipos de activos'!$F$2:$G$5,2,0),0)","v":0},null,0]
[null,null,null,null,null,null,null,null,null,null,{"$f":"+I1945-J1945","v":0},{"$f":"IFERROR(VLOOKUP(A1945,'Tipos de activos'!$F$2:$G$5,2,0),0)","v":0},null,0]
[null,null,null,null,null,null,null,null,null,null,0,{"$f":"IFERROR(VLOOKUP(A1946,'Tipos de activos'!$F$2:$G$5,2,0),0)","v":0},null,0]
[null,null,null,null,null,null,null,null,null,null,0,{"$f":"IFERROR(VLOOKUP(A1947,'Tipos de activos'!$F$2:$G$5,2,0),0)","v":0},null,0]
[null,null,null,null,null,null,null,null,null,null,0,{"$f":"IFERROR(VLOOKUP(A1948,'Tipos de activos'!$F$2:$G$5,2,0),0)","v":0},null,0]
[null,null,null,null,null,null,null,null,null,null,0,{"$f":"IFERROR(VLOOKUP(A1949,'Tipos de activos'!$F$2:$G$5,2,0),0)","v":0},null,0]
[null,null,null,null,null,null,null,null,null,null,0,{"$f":"IFERROR(VLOOKUP(A1950,'Tipos de activos'!$F$2:$G$5,2,0),0)","v":0},null,0]
[null,null,null,null,null,null,null,null,null,null,0,{"$f":"IFERROR(VLOOKUP(A1951,'Tipos de activos'!$F$2:$G$5,2,0),0)","v":0},null,0]
[null,null,null,null,null,null,null,null,null,null,0,{"$f":"IFERROR(VLOOKUP(A1952,'Tipos de activos'!$F$2:$G$5,2,0),0)","v":0},null,0]
[null,null,null,null,null,null,null,null,null,null,0,{"$f":"IFERROR(VLOOKUP(A1953,'Tipos de activos'!$F$2:$G$5,2,0),0)","v":0},null,0]
[null,null,null,null,null,null,null,null,null,null,0,{"$f":"IFERROR(VLOOKUP(A1954,'Tipos de activos'!$F$2:$G$5,2,0),0)","v":0},null,0]
[null,null,null,null,null,null,null,null,null,null,0,{"$f":"IFERROR(VLOOKUP(A1955,'Tipos de activos'!$F$2:$G$5,2,0),0)","v":0},null,0]
[null,null,null,null,null,null,null,null,null,null,0,{"$f":"IFERROR(VLOOKUP(A1956,'Tipos de activos'!$F$2:$G$5,2,0),0)","v":0},null,0]
[null,null,null,null,null,null,null,null,null,null,0,{"$f":"IFERROR(VLOOKUP(A1957,'Tipos de activos'!$F$2:$G$5,2,0),0)","v":0},null,0]
[null,null,null,null,null,null,null,null,null,null,0,{"$f":"IFERROR(VLOOKUP(A1958,'Tipos de activos'!$F$2:$G$5,2,0),0)","v":0},null,0]
[null,null,null,null,null,null,null,null,null,null,0,{"$f":"IFERROR(VLOOKUP(A1959,'Tipos de activos'!$F$2:$G$5,2,0),0)","v":0},null,0]
[null,null,null,null,null,null,null,null,null,null,0,{"$f":"IFERROR(VLOOKUP(A1960,'Tipos de activos'!$F$2:$G$5,2,0),0)","v":0},null,0]
[null,null,null,null,null,null,null,null,null,null,0,{"$f":"IFERROR(VLOOKUP(A1961,'Tipos de activos'!$F$2:$G$5,2,0),0)","v":0},null,0]
[null,null,null,null,null,null,null,null,null,null,0,{"$f":"IFERROR(VLOOKUP(A1962,'Tipos de activos'!$F$2:$G$5,2,0),0)","v":0},null,0]
[null,null,null,null,null,null,null,null,null,null,0,{"$f":"IFERROR(VLOOKUP(A1963,'Tipos de activos'!$F$2:$G$5,2,0),0)","v":0},null,0]
[null,null,null,null,null,null,null,null,null,null,0,{"$f":"IFERROR(VLOOKUP(A1964,'Tipos de activos'!$F$2:$G$5,2,0),0)","v":0},null,0]
[null,null,null,null,null,null,null,null,null,null,0,{"$f":"IFERROR(VLOOKUP(A1965,'Tipos de activos'!$F$2:$G$5,2,0),0)","v":0},null,0]
[null,null,null,null,null,null,null,null,null,null,0,{"$f":"IFERROR(VLOOKUP(A1966,'Tipos de activos'!$F$2:$G$5,2,0),0)","v":0},null,0]
[null,null,null,null,null,null,null,null,null,null,0,{"$f":"IFERROR(VLOOKUP(A1967,'Tipos de activos'!$F$2:$G$5,2,0),0)","v":0},null,0]
[null,null,null,null,null,null,null,null,null,null,0,{"$f":"IFERROR(VLOOKUP(A1968,'Tipos de activos'!$F$2:$G$5,2,0),0)","v":0},null,0]
[null,null,null,null,null,null,null,null,null,null,0,{"$f":"IFERROR(VLOOKUP(A1969,'Tipos de activos'!$F$2:$G$5,2,0),0)","v":0},null,0]
[null,null,null,null,null,null,null,null,null,null,0,{"$f":"IFERROR(VLOOKUP(A1970,'Tipos de activos'!$F$2:$G$5,2,0),0)","v":0},null,0]
[null,null,null,null,null,null,null,null,null,null,0,{"$f":"IFERROR(VLOOKUP(A1971,'Tipos de activos'!$F$2:$G$5,2,0),0)","v":0},null,0]
[null,null,null,null,null,null,null,null,null,null,0,{"$f":"IFERROR(VLOOKUP(A1972,'Tipos de activos'!$F$2:$G$5,2,0),0)","v":0},null,0]
[null,null,null,null,null,null,null,null,null,null,0,{"$f":"IFERROR(VLOOKUP(A1973,'Tipos de activos'!$F$2:$G$5,2,0),0)","v":0},null,0]
[null,null,null,null,null,null,null,null,null,null,0,{"$f":"IFERROR(VLOOKUP(A1974,'Tipos de activos'!$F$2:$G$5,2,0),0)","v":0},null,0]
[null,null,null,null,null,null,null,null,null,null,0,{"$f":"IFERROR(VLOOKUP(A1975,'Tipos de activos'!$F$2:$G$5,2,0),0)","v":0},null,0]
[null,null,null,null,null,null,null,null,null,null,0,{"$f":"IFERROR(VLOOKUP(A1976,'Tipos de activos'!$F$2:$G$5,2,0),0)","v":0},null,0]
[null,null,null,null,null,null,null,null,null,null,0,{"$f":"IFERROR(VLOOKUP(A1977,'Tipos de activos'!$F$2:$G$5,2,0),0)","v":0},null,0]
[null,null,null,null,null,null,null,null,null,null,0,{"$f":"IFERROR(VLOOKUP(A1978,'Tipos de activos'!$F$2:$G$5,2,0),0)","v":0},null,0]
[null,null,null,null,null,null,null,null,null,null,0,{"$f":"IFERROR(VLOOKUP(A1979,'Tipos de activos'!$F$2:$G$5,2,0),0)","v":0},null,0]
[null,null,null,null,null,null,null,null,null,null,0,{"$f":"IFERROR(VLOOKUP(A1980,'Tipos de activos'!$F$2:$G$5,2,0),0)","v":0},null,0]
[null,null,null,null,null,null,null,null,null,null,0,{"$f":"IFERROR(VLOOKUP(A1981,'Tipos de activos'!$F$2:$G$5,2,0),0)","v":0},null,0]
[null,null,null,null,null,null,null,null,null,null,0,{"$f":"IFERROR(VLOOKUP(A1982,'Tipos de activos'!$F$2:$G$5,2,0),0)","v":0},null,0]
[null,null,null,null,null,null,null,null,null,null,0,{"$f":"IFERROR(VLOOKUP(A1983,'Tipos de activos'!$F$2:$G$5,2,0),0)","v":0},null,0]
[null,null,null,null,null,null,null,null,null,null,0,{"$f":"IFERROR(VLOOKUP(A1984,'Tipos de activos'!$F$2:$G$5,2,0),0)","v":0},null,0]
[null,null,null,null,null,null,null,null,null,null,0,{"$f":"IFERROR(VLOOKUP(A1985,'Tipos de activos'!$F$2:$G$5,2,0),0)","v":0},null,0]
[null,null,null,null,null,null,null,null,null,null,0,{"$f":"IFERROR(VLOOKUP(A1986,'Tipos de activos'!$F$2:$G$5,2,0),0)","v":0},null,0]
[null,null,null,null,null,null,null,null,null,null,0,{"$f":"IFERROR(VLOOKUP(A1987,'Tipos de activos'!$F$2:$G$5,2,0),0)","v":0},null,0]
[null,null,null,null,null,null,null,null,null,null,0,{"$f":"IFERROR(VLOOKUP(A1988,'Tipos de activos'!$F$2:$G$5,2,0),0)","v":0},null,0]
[null,null,null,null,null,null,null,null,null,null,0,{"$f":"IFERROR(VLOOKUP(A1989,'Tipos de activos'!$F$2:$G$5,2,0),0)","v":0},null,0]
[null,null,null,null,null,null,null,null,null,null,0,{"$f":"IFERROR(VLOOKUP(A1990,'Tipos de activos'!$F$2:$G$5,2,0),0)","v":0},null,0]
[null,null,null,null,null,null,null,null,null,null,0,{"$f":"IFERROR(VLOOKUP(A1991,'Tipos de activos'!$F$2:$G$5,2,0),0)","v":0},null,0]
[null,null,null,null,null,null,null,null,null,null,0,{"$f":"IFERROR(VLOOKUP(A1992,'Tipos de activos'!$F$2:$G$5,2,0),0)","v":0},null,0]
[null,null,null,null,null,null,null,null,null,null,0,{"$f":"IFERROR(VLOOKUP(A1993,'Tipos de activos'!$F$2:$G$5,2,0),0)","v":0},null,0]
[null,null,null,null,null,null,null,null,null,null,0,{"$f":"IFERROR(VLOOKUP(A1994,'Tipos de activos'!$F$2:$G$5,2,0),0)","v":0},null,0]
[null,null,null,null,null,null,null,null,null,null,0,{"$f":"IFERROR(VLOOKUP(A1995,'Tipos de activos'!$F$2:$G$5,2,0),0)","v":0},null,0]
[null,null,null,null,null,null,null,null,null,null,0,{"$f":"IFERROR(VLOOKUP(A1996,'Tipos de activos'!$F$2:$G$5,2,0),0)","v":0},null,0]
[null,null,null,null,null,null,null,null,null,null,0,{"$f":"IFERROR(VLOOKUP(A1997,'Tipos de activos'!$F$2:$G$5,2,0),0)","v":0},null,0]
[null,null,null,null,null,null,null,null,null,null,0,{"$f":"IFERROR(VLOOKUP(A1998,'Tipos de activos'!$F$2:$G$5,2,0),0)","v":0},null,0]
[null,null,null,null,null,null,null,null,null,null,0,{"$f":"IFERROR(VLOOKUP(A1999,'Tipos de activos'!$F$2:$G$5,2,0),0)","v":0},null,0]
[null,null,null,null,null,null,null,null,null,null,0,{"$f":"IFERROR(VLOOKUP(A2000,'Tipos de activos'!$F$2:$G$5,2,0),0)","v":0},null,0]
[null,null,null,null,null,null,null,null,null,null,0,{"$f":"IFERROR(VLOOKUP(A2001,'Tipos de activos'!$F$2:$G$5,2,0),0)","v":0},null,{"$f":"+K2001*L2001","v":0}]
[null,null,null,null,null,null,null,null,null,null,0,{"$f":"IFERROR(VLOOKUP(A2010,'Tipos de activos'!$F$2:$G$5,2,0),0)","v":0},null,0]
[null,null,null,null,null,null,null,null,null,null,0,{"$f":"IFERROR(VLOOKUP(A2013,'Tipos de activos'!$F$2:$G$5,2,0),0)","v":0},null,0]
[null,null,null,null,null,null,null,null,null,null,0,{"$f":"IFERROR(VLOOKUP(A2020,'Tipos de activos'!$F$2:$G$5,2,0),0)","v":0},null,0]
[null,null,null,null,null,null,null,null,null,null,0,{"$f":"IFERROR(VLOOKUP(A2028,'Tipos de activos'!$F$2:$G$5,2,0),0)","v":0},null,0]
[null,null,null,null,null,null,null,null,null,null,0,{"$f":"IFERROR(VLOOKUP(A2031,'Tipos de activos'!$F$2:$G$5,2,0),0)","v":0},null,0]
[null,null,null,null,null,null,null,null,null,null,0,{"$f":"IFERROR(VLOOKUP(A2038,'Tipos de activos'!$F$2:$G$5,2,0),0)","v":0},null,0]
[null,null,null,null,null,null,null,null,null,null,0,{"$f":"IFERROR(VLOOKUP(A2044,'Tipos de activos'!$F$2:$G$5,2,0),0)","v":0},null,0]
[null,null,null,null,null,null,null,null,null,null,0,{"$f":"IFERROR(VLOOKUP(A2047,'Tipos de activos'!$F$2:$G$5,2,0),0)","v":0},null,0]
[null,null,null,null,null,null,null,null,null,null,0,{"$f":"IFERROR(VLOOKUP(A2056,'Tipos de activos'!$F$2:$G$5,2,0),0)","v":0},null,0]
[null,null,null,null,null,null,null,null,null,null,0,{"$f":"IFERROR(VLOOKUP(A2059,'Tipos de activos'!$F$2:$G$5,2,0),0)","v":0},null,0]
[null,null,null,null,null,null,null,null,null,null,0,{"$f":"IFERROR(VLOOKUP(A2064,'Tipos de activos'!$F$2:$G$5,2,0),0)","v":0},null,0]
[null,null,null,null,null,null,null,null,null,null,0,{"$f":"IFERROR(VLOOKUP(A2074,'Tipos de activos'!$F$2:$G$5,2,0),0)","v":0},null,0]
[null,null,null,null,null,null,null,null,null,null,0,{"$f":"IFERROR(VLOOKUP(A2077,'Tipos de activos'!$F$2:$G$5,2,0),0)","v":0},null,0]
[null,null,null,null,null,null,null,null,null,null,0,{"$f":"IFERROR(VLOOKUP(A2084,'Tipos de activos'!$F$2:$G$5,2,0),0)","v":0},null,0]
[null,null,null,null,null,null,null,null,null,null,0,{"$f":"IFERROR(VLOOKUP(A2088,'Tipos de activos'!$F$2:$G$5,2,0),0)","v":0},null,0]
[null,null,null,null,null,null,null,null,null,null,0,{"$f":"IFERROR(VLOOKUP(A2093,'Tipos de activos'!$F$2:$G$5,2,0),0)","v":0},null,0]
[null,null,null,null,null,null,null,null,null,null,0,{"$f":"IFERROR(VLOOKUP(A2102,'Tipos de activos'!$F$2:$G$5,2,0),0)","v":0},null,0]
[null,null,null,null,null,null,null,null,null,null,0,{"$f":"IFERROR(VLOOKUP(A2105,'Tipos de activos'!$F$2:$G$5,2,0),0)","v":0},null,0]
[null,null,null,null,null,null,null,null,null,null,0,{"$f":"IFERROR(VLOOKUP(A2113,'Tipos de activos'!$F$2:$G$5,2,0),0)","v":0},null,0]
[null,null,null,null,null,null,null,null,null,null,0,{"$f":"IFERROR(VLOOKUP(A2120,'Tipos de activos'!$F$2:$G$5,2,0),0)","v":0},null,0]
[null,null,null,null,null,null,null,null,null,null,0,{"$f":"IFERROR(VLOOKUP(A2121,'Tipos de activos'!$F$2:$G$5,2,0),0)","v":0},null,0]
[null,null,null,null,null,null,null,null,null,null,0,{"$f":"IFERROR(VLOOKUP(A2130,'Tipos de activos'!$F$2:$G$5,2,0),0)","v":0},null,0]
[null,null,null,null,null,null,null,null,null,null,{"$f":"+I2137-J2137","v":0},{"$f":"IFERROR(VLOOKUP(A2137,'Tipos de activos'!$F$2:$G$5,2,0),0)","v":0},null,0]
[null,null,null,null,null,null,null,null,null,null,0,{"$f":"IFERROR(VLOOKUP(A2139,'Tipos de activos'!$F$2:$G$5,2,0),0)","v":0},null,0]
[null,null,null,null,null,null,null,null,null,null,0,{"$f":"IFERROR(VLOOKUP(A2148,'Tipos de activos'!$F$2:$G$5,2,0),0)","v":0},null,0]
[null,null,null,null,null,null,null,null,null,null,0,{"$f":"IFERROR(VLOOKUP(A2151,'Tipos de activos'!$F$2:$G$5,2,0),0)","v":0},null,0]
[null,null,null,null,null,null,null,null,null,null,0,{"$f":"IFERROR(VLOOKUP(A2157,'Tipos de activos'!$F$2:$G$5,2,0),0)","v":0},null,0]
[null,null,null,null,null,null,null,null,null,null,0,{"$f":"IFERROR(VLOOKUP(A2166,'Tipos de activos'!$F$2:$G$5,2,0),0)","v":0},null,0]
[null,null,null,null,null,null,null,null,null,null,0,{"$f":"IFERROR(VLOOKUP(A2167,'Tipos de activos'!$F$2:$G$5,2,0),0)","v":0},null,0]
[null,null,null,null,null,null,null,null,null,null,0,{"$f":"IFERROR(VLOOKUP(A2176,'Tipos de activos'!$F$2:$G$5,2,0),0)","v":0},null,0]
[null,null,null,null,null,null,null,null,null,null,0,{"$f":"IFERROR(VLOOKUP(A2181,'Tipos de activos'!$F$2:$G$5,2,0),0)","v":0},null,0]
[null,null,null,null,null,null,null,null,null,null,0,{"$f":"IFERROR(VLOOKUP(A2185,'Tipos de activos'!$F$2:$G$5,2,0),0)","v":0},null,0]
[null,null,null,null,null,null,null,null,null,null,0,{"$f":"IFERROR(VLOOKUP(A2194,'Tipos de activos'!$F$2:$G$5,2,0),0)","v":0},null,0]
[null,null,null,null,null,null,null,null,null,null,0,{"$f":"IFERROR(VLOOKUP(A2197,'Tipos de activos'!$F$2:$G$5,2,0),0)","v":0},null,0]
[null,null,null,null,null,null,null,null,null,null,0,{"$f":"IFERROR(VLOOKUP(A2206,'Tipos de activos'!$F$2:$G$5,2,0),0)","v":0},null,0]
[null,null,null,null,null,null,null,null,null,null,0,{"$f":"IFERROR(VLOOKUP(A2212,'Tipos de activos'!$F$2:$G$5,2,0),0)","v":0},null,0]
[null,null,null,null,null,null,null,null,null,null,0,{"$f":"IFERROR(VLOOKUP(A2213,'Tipos de activos'!$F$2:$G$5,2,0),0)","v":0},null,0]
[null,null,null,null,null,null,null,null,null,null,0,{"$f":"IFERROR(VLOOKUP(A2222,'Tipos de activos'!$F$2:$G$5,2,0),0)","v":0},null,0]
[null,null,null,null,null,null,null,null,null,null,0,{"$f":"IFERROR(VLOOKUP(A2225,'Tipos de activos'!$F$2:$G$5,2,0),0)","v":0},null,0]
[null,null,null,null,null,null,null,null,null,null,0,{"$f":"IFERROR(VLOOKUP(A2231,'Tipos de activos'!$F$2:$G$5,2,0),0)","v":0},null,0]
[null,null,null,null,null,null,null,null,null,null,0,{"$f":"IFERROR(VLOOKUP(A2240,'Tipos de activos'!$F$2:$G$5,2,0),0)","v":0},null,0]
[null,null,null,null,null,null,null,null,null,null,0,{"$f":"IFERROR(VLOOKUP(A2244,'Tipos de activos'!$F$2:$G$5,2,0),0)","v":0},null,0]
[null,null,null,null,null,null,null,null,null,null,0,{"$f":"IFERROR(VLOOKUP(A2249,'Tipos de activos'!$F$2:$G$5,2,0),0)","v":0},null,0]
[null,null,null,null,null,null,null,null,null,null,0,{"$f":"IFERROR(VLOOKUP(A2258,'Tipos de activos'!$F$2:$G$5,2,0),0)","v":0},null,0]
[null,null,null,null,null,null,null,null,null,null,0,{"$f":"IFERROR(VLOOKUP(A2259,'Tipos de activos'!$F$2:$G$5,2,0),0)","v":0},null,0]
[null,null,null,null,null,null,null,null,null,null,0,{"$f":"IFERROR(VLOOKUP(A2268,'Tipos de activos'!$F$2:$G$5,2,0),0)","v":0},null,0]
[null,null,null,null,null,null,null,null,null,null,0,{"$f":"IFERROR(VLOOKUP(A2270,'Tipos de activos'!$F$2:$G$5,2,0),0)","v":0},null,0]
[null,null,null,null,null,null,null,null,null,null,0,{"$f":"IFERROR(VLOOKUP(A2277,'Tipos de activos'!$F$2:$G$5,2,0),0)","v":0},null,0]
[null,null,null,null,null,null,null,null,null,null,0,{"$f":"IFERROR(VLOOKUP(A2286,'Tipos de activos'!$F$2:$G$5,2,0),0)","v":0},null,0]
[null,null,null,null,null,null,null,null,null,null,0,{"$f":"IFERROR(VLOOKUP(A2288,'Tipos de activos'!$F$2:$G$5,2,0),0)","v":0},null,0]
[null,null,null,null,null,null,null,null,null,null,0,{"$f":"IFERROR(VLOOKUP(A2295,'Tipos de activos'!$F$2:$G$5,2,0),0)","v":0},null,0]
[null,null,null,null,null,null,null,null,null,null,0,{"$f":"IFERROR(VLOOKUP(A2304,'Tipos de activos'!$F$2:$G$5,2,0),0)","v":0},null,0]
[null,null,null,null,null,null,null,null,null,null,0,{"$f":"IFERROR(VLOOKUP(A2305,'Tipos de activos'!$F$2:$G$5,2,0),0)","v":0},null,0]
[null,null,null,null,null,null,null,null,null,null,0,{"$f":"IFERROR(VLOOKUP(A2312,'Tipos de activos'!$F$2:$G$5,2,0),0)","v":0},null,0]
[null,null,null,null,null,null,null,null,null,null,0,{"$f":"IFERROR(VLOOKUP(A2320,'Tipos de activos'!$F$2:$G$5,2,0),0)","v":0},null,0]
[null,null,null,null,null,null,null,null,null,null,0,{"$f":"IFERROR(VLOOKUP(A2323,'Tipos de activos'!$F$2:$G$5,2,0),0)","v":0},null,0]
[null,null,null,null,null,null,null,null,null,null,0,{"$f":"IFERROR(VLOOKUP(A2332,'Tipos de activos'!$F$2:$G$5,2,0),0)","v":0},null,0]
[null,null,null,null,null,null,null,null,null,null,0,{"$f":"IFERROR(VLOOKUP(A2337,'Tipos de activos'!$F$2:$G$5,2,0),0)","v":0},null,0]
[null,null,null,null,null,null,null,null,null,null,0,{"$f":"IFERROR(VLOOKUP(A2341,'Tipos de activos'!$F$2:$G$5,2,0),0)","v":0},null,0]
[null,null,null,null,null,null,null,null,null,null,0,{"$f":"IFERROR(VLOOKUP(A2350,'Tipos de activos'!$F$2:$G$5,2,0),0)","v":0},null,0]
[null,null,null,null,null,null,null,null,null,null,0,{"$f":"IFERROR(VLOOKUP(A2351,'Tipos de activos'!$F$2:$G$5,2,0),0)","v":0},null,0]
[null,null,null,null,null,null,null,null,null,null,0,{"$f":"IFERROR(VLOOKUP(A2361,'Tipos de activos'!$F$2:$G$5,2,0),0)","v":0},null,0]
[null,null,null,null,null,null,null,null,null,null,0,{"$f":"IFERROR(VLOOKUP(A2366,'Tipos de activos'!$F$2:$G$5,2,0),0)","v":0},null,0]
[null,null,null,null,null,null,null,null,null,null,0,{"$f":"IFERROR(VLOOKUP(A2369,'Tipos de activos'!$F$2:$G$5,2,0),0)","v":0},null,0]
[null,null,null,null,null,null,null,null,null,null,0,{"$f":"IFERROR(VLOOKUP(A2378,'Tipos de activos'!$F$2:$G$5,2,0),0)","v":0},null,0]
[null,null,null,null,null,null,null,null,null,null,0,{"$f":"IFERROR(VLOOKUP(A2381,'Tipos de activos'!$F$2:$G$5,2,0),0)","v":0},null,0]
[null,null,null,null,null,null,null,null,null,null,0,{"$f":"IFERROR(VLOOKUP(A2387,'Tipos de activos'!$F$2:$G$5,2,0),0)","v":0},null,0]
[null,null,null,null,null,null,null,null,null,null,0,{"$f":"IFERROR(VLOOKUP(A2396,'Tipos de activos'!$F$2:$G$5,2,0),0)","v":0},null,0]
[null,null,null,null,null,null,null,null,null,null,0,{"$f":"IFERROR(VLOOKUP(A2397,'Tipos de activos'!$F$2:$G$5,2,0),0)","v":0},null,0]
[null,null,null,null,null,null,null,null,null,null,0,{"$f":"IFERROR(VLOOKUP(A2405,'Tipos de activos'!$F$2:$G$5,2,0),0)","v":0},null,0]
[null,null,null,null,null,null,null,null,null,null,0,{"$f":"IFERROR(VLOOKUP(A2412,'Tipos de activos'!$F$2:$G$5,2,0),0)","v":0},null,0]
[null,null,null,null,null,null,null,null,null,null,0,{"$f":"IFERROR(VLOOKUP(A2415,'Tipos de activos'!$F$2:$G$5,2,0),0)","v":0},null,0]
[null,null,null,null,null,null,null,null,null,null,0,{"$f":"IFERROR(VLOOKUP(A2424,'Tipos de activos'!$F$2:$G$5,2,0),0)","v":0},null,0]
[null,null,null,null,null,null,null,null,null,null,0,{"$f":"IFERROR(VLOOKUP(A2430,'Tipos de activos'!$F$2:$G$5,2,0),0)","v":0},null,0]
[null,null,null,null,null,null,null,null,null,null,0,{"$f":"IFERROR(VLOOKUP(A2433,'Tipos de activos'!$F$2:$G$5,2,0),0)","v":0},null,0]
[null,null,null,null,null,null,null,null,null,null,0,{"$f":"IFERROR(VLOOKUP(A2440,'Tipos de activos'!$F$2:$G$5,2,0),0)","v":0},null,0]
[null,null,null,null,null,null,null,null,null,null,0,{"$f":"IFERROR(VLOOKUP(A2443,'Tipos de activos'!$F$2:$G$5,2,0),0)","v":0},null,0]
[null,null,null,null,null,null,null,null,null,null,0,{"$f":"IFERROR(VLOOKUP(A2449,'Tipos de activos'!$F$2:$G$5,2,0),0)","v":0},null,{"$f":"+K2449*L2449","v":0}]
[null,null,null,null,null,null,null,null,null,null,0,{"$f":"IFERROR(VLOOKUP(A2458,'Tipos de activos'!$F$2:$G$5,2,0),0)","v":0},null,0]
[null,null,null,null,null,null,null,null,null,null,0,{"$f":"IFERROR(VLOOKUP(A2461,'Tipos de activos'!$F$2:$G$5,2,0),0)","v":0},null,0]
[null,null,null,null,null,null,null,null,null,null,0,{"$f":"IFERROR(VLOOKUP(A2470,'Tipos de activos'!$F$2:$G$5,2,0),0)","v":0},null,0]
[null,null,null,null,null,null,null,null,null,null,0,{"$f":"IFERROR(VLOOKUP(A2474,'Tipos de activos'!$F$2:$G$5,2,0),0)","v":0},null,0]
[null,null,null,null,null,null,null,null,null,null,0,{"$f":"IFERROR(VLOOKUP(A2479,'Tipos de activos'!$F$2:$G$5,2,0),0)","v":0},null,0]
[null,null,null,null,null,null,null,null,null,null,0,{"$f":"IFERROR(VLOOKUP(A2486,'Tipos de activos'!$F$2:$G$5,2,0),0)","v":0},null,0]
[null,null,null,null,null,null,null,null,null,null,0,{"$f":"IFERROR(VLOOKUP(A2492,'Tipos de activos'!$F$2:$G$5,2,0),0)","v":0},null,0]
[null,null,null,null,null,null,null,null,null,null,0,{"$f":"IFERROR(VLOOKUP(A2497,'Tipos de activos'!$F$2:$G$5,2,0),0)","v":0},null,0]
[null,null,null,null,null,null,null,null,null,null,0,{"$f":"IFERROR(VLOOKUP(A2504,'Tipos de activos'!$F$2:$G$5,2,0),0)","v":0},null,0]
[null,null,null,null,null,null,null,null,null,null,0,{"$f":"IFERROR(VLOOKUP(A2507,'Tipos de activos'!$F$2:$G$5,2,0),0)","v":0},null,0]
[null,null,null,null,null,null,null,null,null,null,0,{"$f":"IFERROR(VLOOKUP(A2516,'Tipos de activos'!$F$2:$G$5,2,0),0)","v":0},null,0]
[null,null,null,null,null,null,null,null,null,null,0,{"$f":"IFERROR(VLOOKUP(A2522,'Tipos de activos'!$F$2:$G$5,2,0),0)","v":0},null,0]
[null,null,null,null,null,null,null,null,null,null,0,{"$f":"IFERROR(VLOOKUP(A2525,'Tipos de activos'!$F$2:$G$5,2,0),0)","v":0},null,0]
[null,null,null,null,null,null,null,null,null,null,0,{"$f":"IFERROR(VLOOKUP(A2532,'Tipos de activos'!$F$2:$G$5,2,0),0)","v":0},null,0]
[null,null,null,null,null,null,null,null,null,null,0,{"$f":"IFERROR(VLOOKUP(A2536,'Tipos de activos'!$F$2:$G$5,2,0),0)","v":0},null,0]
[null,null,null,null,null,null,null,null,null,null,0,{"$f":"IFERROR(VLOOKUP(A2543,'Tipos de activos'!$F$2:$G$5,2,0),0)","v":0},null,0]
[null,null,null,null,null,null,null,null,null,null,0,{"$f":"IFERROR(VLOOKUP(A2550,'Tipos de activos'!$F$2:$G$5,2,0),0)","v":0},null,0]
[null,null,null,null,null,null,null,null,null,null,0,{"$f":"IFERROR(VLOOKUP(A2553,'Tipos de activos'!$F$2:$G$5,2,0),0)","v":0},null,0]
[null,null,null,null,null,null,null,null,null,null,0,{"$f":"IFERROR(VLOOKUP(A2561,'Tipos de activos'!$F$2:$G$5,2,0),0)","v":0},null,0]
[null,null,null,null,null,null,null,null,null,null,0,{"$f":"IFERROR(VLOOKUP(A2568,'Tipos de activos'!$F$2:$G$5,2,0),0)","v":0},null,0]
[null,null,null,null,null,null,null,null,null,null,0,{"$f":"IFERROR(VLOOKUP(A2571,'Tipos de activos'!$F$2:$G$5,2,0),0)","v":0},null,0]
[null,null,null,null,null,null,null,null,null,null,0,{"$f":"IFERROR(VLOOKUP(A2578,'Tipos de activos'!$F$2:$G$5,2,0),0)","v":0},null,0]
[null,null,null,null,null,null,null,null,null,null,{"$f":"+I2585-J2585","v":0},{"$f":"IFERROR(VLOOKUP(A2585,'Tipos de activos'!$F$2:$G$5,2,0),0)","v":0},null,0]
[null,null,null,null,null,null,null,null,null,null,0,{"$f":"IFERROR(VLOOKUP(A2589,'Tipos de activos'!$F$2:$G$5,2,0),0)","v":0},null,0]
[null,null,null,null,null,null,null,null,null,null,0,{"$f":"IFERROR(VLOOKUP(A2596,'Tipos de activos'!$F$2:$G$5,2,0),0)","v":0},null,0]
[null,null,null,null,null,null,null,null,null,null,0,{"$f":"IFERROR(VLOOKUP(A2599,'Tipos de activos'!$F$2:$G$5,2,0),0)","v":0},null,0]
[null,null,null,null,null,null,null,null,null,null,0,{"$f":"IFERROR(VLOOKUP(A2605,'Tipos de activos'!$F$2:$G$5,2,0),0)","v":0},null,0]
[null,null,null,null,null,null,null,null,null,null,0,{"$f":"IFERROR(VLOOKUP(A2614,'Tipos de activos'!$F$2:$G$5,2,0),0)","v":0},null,0]
[null,null,null,null,null,null,null,null,null,null,0,{"$f":"IFERROR(VLOOKUP(A2617,'Tipos de activos'!$F$2:$G$5,2,0),0)","v":0},null,0]
[null,null,null,null,null,null,null,null,null,null,0,{"$f":"IFERROR(VLOOKUP(A2624,'Tipos de activos'!$F$2:$G$5,2,0),0)","v":0},null,0]
[null,null,null,null,null,null,null,null,null,null,0,{"$f":"IFERROR(VLOOKUP(A2629,'Tipos de activos'!$F$2:$G$5,2,0),0)","v":0},null,0]
[null,null,null,null,null,null,null,null,null,null,0,{"$f":"IFERROR(VLOOKUP(A2633,'Tipos de activos'!$F$2:$G$5,2,0),0)","v":0},null,0]
[null,null,null,null,null,null,null,null,null,null,0,{"$f":"IFERROR(VLOOKUP(A2642,'Tipos de activos'!$F$2:$G$5,2,0),0)","v":0},null,0]
[null,null,null,null,null,null,null,null,null,null,0,{"$f":"IFERROR(VLOOKUP(A2645,'Tipos de activos'!$F$2:$G$5,2,0),0)","v":0},null,0]
[null,null,null,null,null,null,null,null,null,null,0,{"$f":"IFERROR(VLOOKUP(A2654,'Tipos de activos'!$F$2:$G$5,2,0),0)","v":0},null,0]
[null,null,null,null,null,null,null,null,null,null,0,{"$f":"IFERROR(VLOOKUP(A2660,'Tipos de activos'!$F$2:$G$5,2,0),0)","v":0},null,0]
[null,null,null,null,null,null,null,null,null,null,0,{"$f":"IFERROR(VLOOKUP(A2663,'Tipos de activos'!$F$2:$G$5,2,0),0)","v":0},null,0]
[null,null,null,null,null,null,null,null,null,null,0,{"$f":"IFERROR(VLOOKUP(A2670,'Tipos de activos'!$F$2:$G$5,2,0),0)","v":0},null,0]
[null,null,null,null,null,null,null,null,null,null,0,{"$f":"IFERROR(VLOOKUP(A2673,'Tipos de activos'!$F$2:$G$5,2,0),0)","v":0},null,0]
[null,null,null,null,null,null,null,null,null,null,0,{"$f":"IFERROR(VLOOKUP(A2679,'Tipos de activos'!$F$2:$G$5,2,0),0)","v":0},null,0]
[null,null,null,null,null,null,null,null,null,null,0,{"$f":"IFERROR(VLOOKUP(A2688,'Tipos de activos'!$F$2:$G$5,2,0),0)","v":0},null,0]
[null,null,null,null,null,null,null,null,null,null,0,{"$f":"IFERROR(VLOOKUP(A2691,'Tipos de activos'!$F$2:$G$5,2,0),0)","v":0},null,0]
[null,null,null,null,null,null,null,null,null,null,0,{"$f":"IFERROR(VLOOKUP(A2698,'Tipos de activos'!$F$2:$G$5,2,0),0)","v":0},null,0]
[null,null,null,null,null,null,null,null,null,null,0,{"$f":"IFERROR(VLOOKUP(A2706,'Tipos de activos'!$F$2:$G$5,2,0),0)","v":0},null,0]
[null,null,null,null,null,null,null,null,null,null,0,{"$f":"IFERROR(VLOOKUP(A2709,'Tipos de activos'!$F$2:$G$5,2,0),0)","v":0},null,0]
[null,null,null,null,null,null,null,null,null,null,0,{"$f":"IFERROR(VLOOKUP(A2716,'Tipos de activos'!$F$2:$G$5,2,0),0)","v":0},null,0]
[null,null,null,null,null,null,null,null,null,null,0,{"$f":"IFERROR(VLOOKUP(A2722,'Tipos de activos'!$F$2:$G$5,2,0),0)","v":0},null,0]
[null,null,null,null,null,null,null,null,null,null,0,{"$f":"IFERROR(VLOOKUP(A2725,'Tipos de activos'!$F$2:$G$5,2,0),0)","v":0},null,0]
[null,null,null,null,null,null,null,null,null,null,0,{"$f":"IFERROR(VLOOKUP(A2734,'Tipos de activos'!$F$2:$G$5,2,0),0)","v":0},null,0]
[null,null,null,null,null,null,null,null,null,null,0,{"$f":"IFERROR(VLOOKUP(A2740,'Tipos de activos'!$F$2:$G$5,2,0),0)","v":0},null,0]
[null,null,null,null,null,null,null,null,null,null,0,{"$f":"IFERROR(VLOOKUP(A2743,'Tipos de activos'!$F$2:$G$5,2,0),0)","v":0},null,0]
[null,null,null,null,null,null,null,null,null,null,0,{"$f":"IFERROR(VLOOKUP(A2752,'Tipos de activos'!$F$2:$G$5,2,0),0)","v":0},null,0]
[null,null,null,null,null,null,null,null,null,null,0,{"$f":"IFERROR(VLOOKUP(A2753,'Tipos de activos'!$F$2:$G$5,2,0),0)","v":0},null,0]
[null,null,null,null,null,null,null,null,null,null,0,{"$f":"IFERROR(VLOOKUP(A2760,'Tipos de activos'!$F$2:$G$5,2,0),0)","v":0},null,0]
[null,null,null,null,null,null,null,null,null,null,0,{"$f":"IFERROR(VLOOKUP(A2764,'Tipos de activos'!$F$2:$G$5,2,0),0)","v":0},null,0]
[null,null,null,null,null,null,null,null,null,null,0,{"$f":"IFERROR(VLOOKUP(A2771,'Tipos de activos'!$F$2:$G$5,2,0),0)","v":0},null,0]
[null,null,null,null,null,null,null,null,null,null,0,{"$f":"IFERROR(VLOOKUP(A2780,'Tipos de activos'!$F$2:$G$5,2,0),0)","v":0},null,0]
[null,null,null,null,null,null,null,null,null,null,0,{"$f":"IFERROR(VLOOKUP(A2784,'Tipos de activos'!$F$2:$G$5,2,0),0)","v":0},null,0]
[null,null,null,null,null,null,null,null,null,null,0,{"$f":"IFERROR(VLOOKUP(A2789,'Tipos de activos'!$F$2:$G$5,2,0),0)","v":0},null,0]
[null,null,null,null,null,null,null,null,null,null,0,{"$f":"IFERROR(VLOOKUP(A2798,'Tipos de activos'!$F$2:$G$5,2,0),0)","v":0},null,0]
[null,null,null,null,null,null,null,null,null,null,0,{"$f":"IFERROR(VLOOKUP(A2799,'Tipos de activos'!$F$2:$G$5,2,0),0)","v":0},null,0]
[null,null,null,null,null,null,null,null,null,null,0,{"$f":"IFERROR(VLOOKUP(A2809,'Tipos de activos'!$F$2:$G$5,2,0),0)","v":0},null,0]
[null,null,null,null,null,null,null,null,null,null,0,{"$f":"IFERROR(VLOOKUP(A2810,'Tipos de activos'!$F$2:$G$5,2,0),0)","v":0},null,0]
[null,null,null,null,null,null,null,null,null,null,0,{"$f":"IFERROR(VLOOKUP(A2817,'Tipos de activos'!$F$2:$G$5,2,0),0)","v":0},null,0]
[null,null,null,null,null,null,null,null,null,null,0,{"$f":"IFERROR(VLOOKUP(A2826,'Tipos de activos'!$F$2:$G$5,2,0),0)","v":0},null,0]
[null,null,null,null,null,null,null,null,null,null,0,{"$f":"IFERROR(VLOOKUP(A2829,'Tipos de activos'!$F$2:$G$5,2,0),0)","v":0},null,0]
[null,null,null,null,null,null,null,null,null,null,0,{"$f":"IFERROR(VLOOKUP(A2835,'Tipos de activos'!$F$2:$G$5,2,0),0)","v":0},null,0]
[null,null,null,null,null,null,null,null,null,null,0,{"$f":"IFERROR(VLOOKUP(A2844,'Tipos de activos'!$F$2:$G$5,2,0),0)","v":0},null,0]
[null,null,null,null,null,null,null,null,null,null,0,{"$f":"IFERROR(VLOOKUP(A2845,'Tipos de activos'!$F$2:$G$5,2,0),0)","v":0},null,0]
[null,null,null,null,null,null,null,null,null,null,0,{"$f":"IFERROR(VLOOKUP(A2853,'Tipos de activos'!$F$2:$G$5,2,0),0)","v":0},null,0]
[null,null,null,null,null,null,null,null,null,null,0,{"$f":"IFERROR(VLOOKUP(A2856,'Tipos de activos'!$F$2:$G$5,2,0),0)","v":0},null,0]
[null,null,null,null,null,null,null,null,null,null,0,{"$f":"IFERROR(VLOOKUP(A2863,'Tipos de activos'!$F$2:$G$5,2,0),0)","v":0},null,0]
[null,null,null,null,null,null,null,null,null,null,0,{"$f":"IFERROR(VLOOKUP(A2872,'Tipos de activos'!$F$2:$G$5,2,0),0)","v":0},null,0]
[null,null,null,null,null,null,null,null,null,null,0,{"$f":"IFERROR(VLOOKUP(A2878,'Tipos de activos'!$F$2:$G$5,2,0),0)","v":0},null,0]
[null,null,null,null,null,null,null,null,null,null,0,{"$f":"IFERROR(VLOOKUP(A2881,'Tipos de activos'!$F$2:$G$5,2,0),0)","v":0},null,0]
[null,null,null,null,null,null,null,null,null,null,0,{"$f":"IFERROR(VLOOKUP(A2890,'Tipos de activos'!$F$2:$G$5,2,0),0)","v":0},null,0]
[null,null,null,null,null,null,null,null,null,null,0,{"$f":"IFERROR(VLOOKUP(A2891,'Tipos de activos'!$F$2:$G$5,2,0),0)","v":0},null,0]
[null,null,null,null,null,null,null,null,null,null,0,{"$f":"IFERROR(VLOOKUP(A2897,'Tipos de activos'!$F$2:$G$5,2,0),0)","v":0},null,{"$f":"+K2897*L2897","v":0}]
[null,null,null,null,null,null,null,null,null,null,0,{"$f":"IFERROR(VLOOKUP(A2902,'Tipos de activos'!$F$2:$G$5,2,0),0)","v":0},null,0]
[null,null,null,null,null,null,null,null,null,null,0,{"$f":"IFERROR(VLOOKUP(A2909,'Tipos de activos'!$F$2:$G$5,2,0),0)","v":0},null,0]
[null,null,null,null,null,null,null,null,null,null,0,{"$f":"IFERROR(VLOOKUP(A2918,'Tipos de activos'!$F$2:$G$5,2,0),0)","v":0},null,0]
[null,null,null,null,null,null,null,null,null,null,0,{"$f":"IFERROR(VLOOKUP(A2922,'Tipos de activos'!$F$2:$G$5,2,0),0)","v":0},null,0]
[null,null,null,null,null,null,null,null,null,null,0,{"$f":"IFERROR(VLOOKUP(A2927,'Tipos de activos'!$F$2:$G$5,2,0),0)","v":0},null,0]
[null,null,null,null,null,null,null,null,null,null,0,{"$f":"IFERROR(VLOOKUP(A2936,'Tipos de activos'!$F$2:$G$5,2,0),0)","v":0},null,0]
[null,null,null,null,null,null,null,null,null,null,0,{"$f":"IFERROR(VLOOKUP(A2937,'Tipos de activos'!$F$2:$G$5,2,0),0)","v":0},null,0]
[null,null,null,null,null,null,null,null,null,null,0,{"$f":"IFERROR(VLOOKUP(A2946,'Tipos de activos'!$F$2:$G$5,2,0),0)","v":0},null,0]
[null,null,null,null,null,null,null,null,null,null,0,{"$f":"IFERROR(VLOOKUP(A2952,'Tipos de activos'!$F$2:$G$5,2,0),0)","v":0},null,0]
[null,null,null,null,null,null,null,null,null,null,0,{"$f":"IFERROR(VLOOKUP(A2955,'Tipos de activos'!$F$2:$G$5,2,0),0)","v":0},null,0]
[null,null,null,null,null,null,null,null,null,null,0,{"$f":"IFERROR(VLOOKUP(A2964,'Tipos de activos'!$F$2:$G$5,2,0),0)","v":0},null,0]
[null,null,null,null,null,null,null,null,null,null,0,{"$f":"IFERROR(VLOOKUP(A2970,'Tipos de activos'!$F$2:$G$5,2,0),0)","v":0},null,0]
[null,null,null,null,null,null,null,null,null,null,0,{"$f":"IFERROR(VLOOKUP(A2973,'Tipos de activos'!$F$2:$G$5,2,0),0)","v":0},null,0]
[null,null,null,null,null,null,null,null,null,null,0,{"$f":"IFERROR(VLOOKUP(A2982,'Tipos de activos'!$F$2:$G$5,2,0),0)","v":0},null,0]
[null,null,null,null,null,null,null,null,null,null,0,{"$f":"IFERROR(VLOOKUP(A2984,'Tipos de activos'!$F$2:$G$5,2,0),0)","v":0},null,0]
[null,null,null,null,null,null,null,null,null,null,0,{"$f":"IFERROR(VLOOKUP(A2991,'Tipos de activos'!$F$2:$G$5,2,0),0)","v":0},null,0]
[null,null,null,null,null,null,null,null,null,null,0,{"$f":"IFERROR(VLOOKUP(A2998,'Tipos de activos'!$F$2:$G$5,2,0),0)","v":0},null,0]
[null,null,null,null,null,null,null,null,null,null,0,{"$f":"IFERROR(VLOOKUP(A3001,'Tipos de activos'!$F$2:$G$5,2,0),0)","v":0},null,0]
[null,null,null,null,null,null,null,null,null,null,0,{"$f":"IFERROR(VLOOKUP(A3008,'Tipos de activos'!$F$2:$G$5,2,0),0)","v":0},null,0]
[null,null,null,null,null,null,null,null,null,null,0,{"$f":"IFERROR(VLOOKUP(A3016,'Tipos de activos'!$F$2:$G$5,2,0),0)","v":0},null,0]
[null,null,null,null,null,null,null,null,null,null,0,{"$f":"IFERROR(VLOOKUP(A3019,'Tipos de activos'!$F$2:$G$5,2,0),0)","v":0},null,0]
[null,null,null,null,null,null,null,null,null,null,0,{"$f":"IFERROR(VLOOKUP(A3028,'Tipos de activos'!$F$2:$G$5,2,0),0)","v":0},null,0]
[null,null,null,null,null,null,null,null,null,null,{"$f":"+I3033-J3033","v":0},{"$f":"IFERROR(VLOOKUP(A3033,'Tipos de activos'!$F$2:$G$5,2,0),0)","v":0},null,0]
[null,null,null,null,null,null,null,null,null,null,0,{"$f":"IFERROR(VLOOKUP(A3037,'Tipos de activos'!$F$2:$G$5,2,0),0)","v":0},null,0]
[null,null,null,null,null,null,null,null,null,null,0,{"$f":"IFERROR(VLOOKUP(A3044,'Tipos de activos'!$F$2:$G$5,2,0),0)","v":0},null,0]
[null,null,null,null,null,null,null,null,null,null,0,{"$f":"IFERROR(VLOOKUP(A3047,'Tipos de activos'!$F$2:$G$5,2,0),0)","v":0},null,0]
[null,null,null,null,null,null,null,null,null,null,0,{"$f":"IFERROR(VLOOKUP(A3052,'Tipos de activos'!$F$2:$G$5,2,0),0)","v":0},null,0]
[null,null,null,null,null,null,null,null,null,null,0,{"$f":"IFERROR(VLOOKUP(A3062,'Tipos de activos'!$F$2:$G$5,2,0),0)","v":0},null,0]
[null,null,null,null,null,null,null,null,null,null,0,{"$f":"IFERROR(VLOOKUP(A3065,'Tipos de activos'!$F$2:$G$5,2,0),0)","v":0},null,0]
[null,null,null,null,null,null,null,null,null,null,0,{"$f":"IFERROR(VLOOKUP(A3072,'Tipos de activos'!$F$2:$G$5,2,0),0)","v":0},null,0]
[null,null,null,null,null,null,null,null,null,null,0,{"$f":"IFERROR(VLOOKUP(A3077,'Tipos de activos'!$F$2:$G$5,2,0),0)","v":0},null,0]
[null,null,null,null,null,null,null,null,null,null,0,{"$f":"IFERROR(VLOOKUP(A3083,'Tipos de activos'!$F$2:$G$5,2,0),0)","v":0},null,0]
[null,null,null,null,null,null,null,null,null,null,0,{"$f":"IFERROR(VLOOKUP(A3090,'Tipos de activos'!$F$2:$G$5,2,0),0)","v":0},null,0]
[null,null,null,null,null,null,null,null,null,null,0,{"$f":"IFERROR(VLOOKUP(A3093,'Tipos de activos'!$F$2:$G$5,2,0),0)","v":0},null,0]
[null,null,null,null,null,null,null,null,null,null,0,{"$f":"IFERROR(VLOOKUP(A3101,'Tipos de activos'!$F$2:$G$5,2,0),0)","v":0},null,0]
[null,null,null,null,null,null,null,null,null,null,0,{"$f":"IFERROR(VLOOKUP(A3108,'Tipos de activos'!$F$2:$G$5,2,0),0)","v":0},null,0]
[null,null,null,null,null,null,null,null,null,null,0,{"$f":"IFERROR(VLOOKUP(A3111,'Tipos de activos'!$F$2:$G$5,2,0),0)","v":0},null,0]
[null,null,null,null,null,null,null,null,null,null,0,{"$f":"IFERROR(VLOOKUP(A3118,'Tipos de activos'!$F$2:$G$5,2,0),0)","v":0},null,0]
[null,null,null,null,null,null,null,null,null,null,0,{"$f":"IFERROR(VLOOKUP(A3121,'Tipos de activos'!$F$2:$G$5,2,0),0)","v":0},null,0]
[null,null,null,null,null,null,null,null,null,null,0,{"$f":"IFERROR(VLOOKUP(A3129,'Tipos de activos'!$F$2:$G$5,2,0),0)","v":0},null,0]
[null,null,null,null,null,null,null,null,null,null,0,{"$f":"IFERROR(VLOOKUP(A3136,'Tipos de activos'!$F$2:$G$5,2,0),0)","v":0},null,0]
[null,null,null,null,null,null,null,null,null,null,0,{"$f":"IFERROR(VLOOKUP(A3139,'Tipos de activos'!$F$2:$G$5,2,0),0)","v":0},null,0]
[null,null,null,null,null,null,null,null,null,null,0,{"$f":"IFERROR(VLOOKUP(A3146,'Tipos de activos'!$F$2:$G$5,2,0),0)","v":0},null,0]
[null,null,null,null,null,null,null,null,null,null,0,{"$f":"IFERROR(VLOOKUP(A3154,'Tipos de activos'!$F$2:$G$5,2,0),0)","v":0},null,0]
[null,null,null,null,null,null,null,null,null,null,0,{"$f":"IFERROR(VLOOKUP(A3157,'Tipos de activos'!$F$2:$G$5,2,0),0)","v":0},null,0]
[null,null,null,null,null,null,null,null,null,null,0,{"$f":"IFERROR(VLOOKUP(A3164,'Tipos de activos'!$F$2:$G$5,2,0),0)","v":0},null,0]
[null,null,null,null,null,null,null,null,null,null,0,{"$f":"IFERROR(VLOOKUP(A3170,'Tipos de activos'!$F$2:$G$5,2,0),0)","v":0},null,0]
[null,null,null,null,null,null,null,null,null,null,0,{"$f":"IFERROR(VLOOKUP(A3175,'Tipos de activos'!$F$2:$G$5,2,0),0)","v":0},null,0]
[null,null,null,null,null,null,null,null,null,null,0,{"$f":"IFERROR(VLOOKUP(A3182,'Tipos de activos'!$F$2:$G$5,2,0),0)","v":0},null,0]
[null,null,null,null,null,null,null,null,null,null,0,{"$f":"IFERROR(VLOOKUP(A3185,'Tipos de activos'!$F$2:$G$5,2,0),0)","v":0},null,0]
[null,null,null,null,null,null,null,null,null,null,0,{"$f":"IFERROR(VLOOKUP(A3190,'Tipos de activos'!$F$2:$G$5,2,0),0)","v":0},null,0]
[null,null,null,null,null,null,null,null,null,null,0,{"$f":"IFERROR(VLOOKUP(A3200,'Tipos de activos'!$F$2:$G$5,2,0),0)","v":0},null,0]
[null,null,null,null,null,null,null,null,null,null,0,{"$f":"IFERROR(VLOOKUP(A3203,'Tipos de activos'!$F$2:$G$5,2,0),0)","v":0},null,0]
[null,null,null,null,null,null,null,null,null,null,0,{"$f":"IFERROR(VLOOKUP(A3208,'Tipos de activos'!$F$2:$G$5,2,0),0)","v":0},null,0]
[null,null,null,null,null,null,null,null,null,null,0,{"$f":"IFERROR(VLOOKUP(A3212,'Tipos de activos'!$F$2:$G$5,2,0),0)","v":0},null,0]
[null,null,null,null,null,null,null,null,null,null,0,{"$f":"IFERROR(VLOOKUP(A3221,'Tipos de activos'!$F$2:$G$5,2,0),0)","v":0},null,0]
[null,null,null,null,null,null,null,null,null,null,0,{"$f":"IFERROR(VLOOKUP(A3228,'Tipos de activos'!$F$2:$G$5,2,0),0)","v":0},null,0]
[null,null,null,null,null,null,null,null,null,null,0,{"$f":"IFERROR(VLOOKUP(A3232,'Tipos de activos'!$F$2:$G$5,2,0),0)","v":0},null,0]
[null,null,null,null,null,null,null,null,null,null,0,{"$f":"IFERROR(VLOOKUP(A3237,'Tipos de activos'!$F$2:$G$5,2,0),0)","v":0},null,0]
[null,null,null,null,null,null,null,null,null,null,0,{"$f":"IFERROR(VLOOKUP(A3246,'Tipos de activos'!$F$2:$G$5,2,0),0)","v":0},null,0]
[null,null,null,null,null,null,null,null,null,null,0,{"$f":"IFERROR(VLOOKUP(A3249,'Tipos de activos'!$F$2:$G$5,2,0),0)","v":0},null,0]
[null,null,null,null,null,null,null,null,null,null,0,{"$f":"IFERROR(VLOOKUP(A3257,'Tipos de activos'!$F$2:$G$5,2,0),0)","v":0},null,0]
[null,null,null,null,null,null,null,null,null,null,0,{"$f":"IFERROR(VLOOKUP(A3258,'Tipos de activos'!$F$2:$G$5,2,0),0)","v":0},null,0]
[null,null,null,null,null,null,null,null,null,null,0,{"$f":"IFERROR(VLOOKUP(A3265,'Tipos de activos'!$F$2:$G$5,2,0),0)","v":0},null,0]
[null,null,null,null,null,null,null,null,null,null,0,{"$f":"IFERROR(VLOOKUP(A3274,'Tipos de activos'!$F$2:$G$5,2,0),0)","v":0},null,0]
[null,null,null,null,null,null,null,null,null,null,0,{"$f":"IFERROR(VLOOKUP(A3276,'Tipos de activos'!$F$2:$G$5,2,0),0)","v":0},null,0]
[null,null,null,null,null,null,null,null,null,null,0,{"$f":"IFERROR(VLOOKUP(A3283,'Tipos de activos'!$F$2:$G$5,2,0),0)","v":0},null,0]
[null,null,null,null,null,null,null,null,null,null,0,{"$f":"IFERROR(VLOOKUP(A3292,'Tipos de activos'!$F$2:$G$5,2,0),0)","v":0},null,0]
[null,null,null,null,null,null,null,null,null,null,0,{"$f":"IFERROR(VLOOKUP(A3295,'Tipos de activos'!$F$2:$G$5,2,0),0)","v":0},null,0]
[null,null,null,null,null,null,null,null,null,null,0,{"$f":"IFERROR(VLOOKUP(A3301,'Tipos de activos'!$F$2:$G$5,2,0),0)","v":0},null,0]
[null,null,null,null,null,null,null,null,null,null,0,{"$f":"IFERROR(VLOOKUP(A3304,'Tipos de activos'!$F$2:$G$5,2,0),0)","v":0},null,0]
[null,null,null,null,null,null,null,null,null,null,0,{"$f":"IFERROR(VLOOKUP(A3311,'Tipos de activos'!$F$2:$G$5,2,0),0)","v":0},null,0]
[null,null,null,null,null,null,null,null,null,null,0,{"$f":"IFERROR(VLOOKUP(A3320,'Tipos de activos'!$F$2:$G$5,2,0),0)","v":0},null,0]
[null,null,null,null,null,null,null,null,null,null,0,{"$f":"IFERROR(VLOOKUP(A3325,'Tipos de activos'!$F$2:$G$5,2,0),0)","v":0},null,0]
[null,null,null,null,null,null,null,null,null,null,0,{"$f":"IFERROR(VLOOKUP(A3329,'Tipos de activos'!$F$2:$G$5,2,0),0)","v":0},null,0]
[null,null,null,null,null,null,null,null,null,null,0,{"$f":"IFERROR(VLOOKUP(A3338,'Tipos de activos'!$F$2:$G$5,2,0),0)","v":0},null,0]
[null,null,null,null,null,null,null,null,null,null,0,{"$f":"IFERROR(VLOOKUP(A3341,'Tipos de activos'!$F$2:$G$5,2,0),0)","v":0},null,0]
[null,null,null,null,null,null,null,null,null,null,0,{"$f":"IFERROR(VLOOKUP(A3345,'Tipos de activos'!$F$2:$G$5,2,0),0)","v":0},null,{"$f":"+K3345*L3345","v":0}]
[null,null,null,null,null,null,null,null,null,null,0,{"$f":"IFERROR(VLOOKUP(A3350,'Tipos de activos'!$F$2:$G$5,2,0),0)","v":0},null,0]
[null,null,null,null,null,null,null,null,null,null,0,{"$f":"IFERROR(VLOOKUP(A3357,'Tipos de activos'!$F$2:$G$5,2,0),0)","v":0},null,0]
[null,null,null,null,null,null,null,null,null,null,0,{"$f":"IFERROR(VLOOKUP(A3366,'Tipos de activos'!$F$2:$G$5,2,0),0)","v":0},null,0]
[null,null,null,null,null,null,null,null,null,null,0,{"$f":"IFERROR(VLOOKUP(A3369,'Tipos de activos'!$F$2:$G$5,2,0),0)","v":0},null,0]
[null,null,null,null,null,null,null,null,null,null,0,{"$f":"IFERROR(VLOOKUP(A3375,'Tipos de activos'!$F$2:$G$5,2,0),0)","v":0},null,0]
[null,null,null,null,null,null,null,null,null,null,0,{"$f":"IFERROR(VLOOKUP(A3384,'Tipos de activos'!$F$2:$G$5,2,0),0)","v":0},null,0]
[null,null,null,null,null,null,null,null,null,null,0,{"$f":"IFERROR(VLOOKUP(A3385,'Tipos de activos'!$F$2:$G$5,2,0),0)","v":0},null,0]
[null,null,null,null,null,null,null,null,null,null,0,{"$f":"IFERROR(VLOOKUP(A3394,'Tipos de activos'!$F$2:$G$5,2,0),0)","v":0},null,0]
[null,null,null,null,null,null,null,null,null,null,0,{"$f":"IFERROR(VLOOKUP(A3396,'Tipos de activos'!$F$2:$G$5,2,0),0)","v":0},null,0]
[null,null,null,null,null,null,null,null,null,null,0,{"$f":"IFERROR(VLOOKUP(A3403,'Tipos de activos'!$F$2:$G$5,2,0),0)","v":0},null,0]
[null,null,null,null,null,null,null,null,null,null,0,{"$f":"IFERROR(VLOOKUP(A3412,'Tipos de activos'!$F$2:$G$5,2,0),0)","v":0},null,0]
[null,null,null,null,null,null,null,null,null,null,0,{"$f":"IFERROR(VLOOKUP(A3418,'Tipos de activos'!$F$2:$G$5,2,0),0)","v":0},null,0]
[null,null,null,null,null,null,null,null,null,null,0,{"$f":"IFERROR(VLOOKUP(A3421,'Tipos de activos'!$F$2:$G$5,2,0),0)","v":0},null,0]
[null,null,null,null,null,null,null,null,null,null,0,{"$f":"IFERROR(VLOOKUP(A3430,'Tipos de activos'!$F$2:$G$5,2,0),0)","v":0},null,0]
[null,null,null,null,null,null,null,null,null,null,0,{"$f":"IFERROR(VLOOKUP(A3431,'Tipos de activos'!$F$2:$G$5,2,0),0)","v":0},null,0]
[null,null,null,null,null,null,null,null,null,null,0,{"$f":"IFERROR(VLOOKUP(A3438,'Tipos de activos'!$F$2:$G$5,2,0),0)","v":0},null,0]
[null,null,null,null,null,null,null,null,null,null,0,{"$f":"IFERROR(VLOOKUP(A3442,'Tipos de activos'!$F$2:$G$5,2,0),0)","v":0},null,0]
[null,null,null,null,null,null,null,null,null,null,0,{"$f":"IFERROR(VLOOKUP(A3449,'Tipos de activos'!$F$2:$G$5,2,0),0)","v":0},null,0]
[null,null,null,null,null,null,null,null,null,null,0,{"$f":"IFERROR(VLOOKUP(A3456,'Tipos de activos'!$F$2:$G$5,2,0),0)","v":0},null,0]
[null,null,null,null,null,null,null,null,null,null,0,{"$f":"IFERROR(VLOOKUP(A3464,'Tipos de activos'!$F$2:$G$5,2,0),0)","v":0},null,0]
[null,null,null,null,null,null,null,null,null,null,0,{"$f":"IFERROR(VLOOKUP(A3467,'Tipos de activos'!$F$2:$G$5,2,0),0)","v":0},null,0]
[null,null,null,null,null,null,null,null,null,null,0,{"$f":"IFERROR(VLOOKUP(A3476,'Tipos de activos'!$F$2:$G$5,2,0),0)","v":0},null,0]
[null,null,null,null,null,null,null,null,null,null,{"$f":"+I3481-J3481","v":0},{"$f":"IFERROR(VLOOKUP(A3481,'Tipos de activos'!$F$2:$G$5,2,0),0)","v":0},null,0]
[null,null,null,null,null,null,null,null,null,null,0,{"$f":"IFERROR(VLOOKUP(A3485,'Tipos de activos'!$F$2:$G$5,2,0),0)","v":0},null,0]
[null,null,null,null,null,null,null,null,null,null,0,{"$f":"IFERROR(VLOOKUP(A3488,'Tipos de activos'!$F$2:$G$5,2,0),0)","v":0},null,0]
[null,null,null,null,null,null,null,null,null,null,0,{"$f":"IFERROR(VLOOKUP(A3495,'Tipos de activos'!$F$2:$G$5,2,0),0)","v":0},null,0]
[null,null,null,null,null,null,null,null,null,null,0,{"$f":"IFERROR(VLOOKUP(A3500,'Tipos de activos'!$F$2:$G$5,2,0),0)","v":0},null,0]
[null,null,null,null,null,null,null,null,null,null,0,{"$f":"IFERROR(VLOOKUP(A3510,'Tipos de activos'!$F$2:$G$5,2,0),0)","v":0},null,0]
[null,null,null,null,null,null,null,null,null,null,0,{"$f":"IFERROR(VLOOKUP(A3513,'Tipos de activos'!$F$2:$G$5,2,0),0)","v":0},null,0]
[null,null,null,null,null,null,null,null,null,null,0,{"$f":"IFERROR(VLOOKUP(A3522,'Tipos de activos'!$F$2:$G$5,2,0),0)","v":0},null,0]
[null,null,null,null,null,null,null,null,null,null,0,{"$f":"IFERROR(VLOOKUP(A3525,'Tipos de activos'!$F$2:$G$5,2,0),0)","v":0},null,0]
[null,null,null,null,null,null,null,null,null,null,0,{"$f":"IFERROR(VLOOKUP(A3531,'Tipos de activos'!$F$2:$G$5,2,0),0)","v":0},null,0]
[null,null,null,null,null,null,null,null,null,null,0,{"$f":"IFERROR(VLOOKUP(A3534,'Tipos de activos'!$F$2:$G$5,2,0),0)","v":0},null,0]
[null,null,null,null,null,null,null,null,null,null,0,{"$f":"IFERROR(VLOOKUP(A3541,'Tipos de activos'!$F$2:$G$5,2,0),0)","v":0},null,0]
[null,null,null,null,null,null,null,null,null,null,0,{"$f":"IFERROR(VLOOKUP(A3549,'Tipos de activos'!$F$2:$G$5,2,0),0)","v":0},null,0]
[null,null,null,null,null,null,null,null,null,null,0,{"$f":"IFERROR(VLOOKUP(A3556,'Tipos de activos'!$F$2:$G$5,2,0),0)","v":0},null,0]
[null,null,null,null,null,null,null,null,null,null,0,{"$f":"IFERROR(VLOOKUP(A3559,'Tipos de activos'!$F$2:$G$5,2,0),0)","v":0},null,0]
[null,null,null,null,null,null,null,null,null,null,0,{"$f":"IFERROR(VLOOKUP(A3568,'Tipos de activos'!$F$2:$G$5,2,0),0)","v":0},null,0]
[null,null,null,null,null,null,null,null,null,null,0,{"$f":"IFERROR(VLOOKUP(A3569,'Tipos de activos'!$F$2:$G$5,2,0),0)","v":0},null,0]
[null,null,null,null,null,null,null,null,null,null,0,{"$f":"IFERROR(VLOOKUP(A3577,'Tipos de activos'!$F$2:$G$5,2,0),0)","v":0},null,0]
[null,null,null,null,null,null,null,null,null,null,0,{"$f":"IFERROR(VLOOKUP(A3584,'Tipos de activos'!$F$2:$G$5,2,0),0)","v":0},null,0]
[null,null,null,null,null,null,null,null,null,null,0,{"$f":"IFERROR(VLOOKUP(A3587,'Tipos de activos'!$F$2:$G$5,2,0),0)","v":0},null,0]
[null,null,null,null,null,null,null,null,null,null,0,{"$f":"IFERROR(VLOOKUP(A3593,'Tipos de activos'!$F$2:$G$5,2,0),0)","v":0},null,0]
[null,null,null,null,null,null,null,null,null,null,0,{"$f":"IFERROR(VLOOKUP(A3602,'Tipos de activos'!$F$2:$G$5,2,0),0)","v":0},null,0]
[null,null,null,null,null,null,null,null,null,null,0,{"$f":"IFERROR(VLOOKUP(A3605,'Tipos de activos'!$F$2:$G$5,2,0),0)","v":0},null,0]
[null,null,null,null,null,null,null,null,null,null,0,{"$f":"IFERROR(VLOOKUP(A3614,'Tipos de activos'!$F$2:$G$5,2,0),0)","v":0},null,0]
[null,null,null,null,null,null,null,null,null,null,0,{"$f":"IFERROR(VLOOKUP(A3618,'Tipos de activos'!$F$2:$G$5,2,0),0)","v":0},null,0]
[null,null,null,null,null,null,null,null,null,null,0,{"$f":"IFERROR(VLOOKUP(A3623,'Tipos de activos'!$F$2:$G$5,2,0),0)","v":0},null,0]
[null,null,null,null,null,null,null,null,null,null,0,{"$f":"IFERROR(VLOOKUP(A3630,'Tipos de activos'!$F$2:$G$5,2,0),0)","v":0},null,0]
[null,null,null,null,null,null,null,null,null,null,0,{"$f":"IFERROR(VLOOKUP(A3633,'Tipos de activos'!$F$2:$G$5,2,0),0)","v":0},null,0]
[null,null,null,null,null,null,null,null,null,null,0,{"$f":"IFERROR(VLOOKUP(A3642,'Tipos de activos'!$F$2:$G$5,2,0),0)","v":0},null,0]
[null,null,null,null,null,null,null,null,null,null,0,{"$f":"IFERROR(VLOOKUP(A3648,'Tipos de activos'!$F$2:$G$5,2,0),0)","v":0},null,0]
[null,null,null,null,null,null,null,null,null,null,0,{"$f":"IFERROR(VLOOKUP(A3651,'Tipos de activos'!$F$2:$G$5,2,0),0)","v":0},null,0]
[null,null,null,null,null,null,null,null,null,null,0,{"$f":"IFERROR(VLOOKUP(A3658,'Tipos de activos'!$F$2:$G$5,2,0),0)","v":0},null,0]
[null,null,null,null,null,null,null,null,null,null,0,{"$f":"IFERROR(VLOOKUP(A3662,'Tipos de activos'!$F$2:$G$5,2,0),0)","v":0},null,0]
[null,null,null,null,null,null,null,null,null,null,0,{"$f":"IFERROR(VLOOKUP(A3669,'Tipos de activos'!$F$2:$G$5,2,0),0)","v":0},null,0]
[null,null,null,null,null,null,null,null,null,null,0,{"$f":"IFERROR(VLOOKUP(A3676,'Tipos de activos'!$F$2:$G$5,2,0),0)","v":0},null,0]
[null,null,null,null,null,null,null,null,null,null,0,{"$f":"IFERROR(VLOOKUP(A3680,'Tipos de activos'!$F$2:$G$5,2,0),0)","v":0},null,0]
[null,null,null,null,null,null,null,null,null,null,0,{"$f":"IFERROR(VLOOKUP(A3687,'Tipos de activos'!$F$2:$G$5,2,0),0)","v":0},null,0]
[null,null,null,null,null,null,null,null,null,null,0,{"$f":"IFERROR(VLOOKUP(A3694,'Tipos de activos'!$F$2:$G$5,2,0),0)","v":0},null,0]
[null,null,null,null,null,null,null,null,null,null,0,{"$f":"IFERROR(VLOOKUP(A3697,'Tipos de activos'!$F$2:$G$5,2,0),0)","v":0},null,0]
[null,null,null,null,null,null,null,null,null,null,0,{"$f":"IFERROR(VLOOKUP(A3705,'Tipos de activos'!$F$2:$G$5,2,0),0)","v":0},null,0]
[null,null,null,null,null,null,null,null,null,null,0,{"$f":"IFERROR(VLOOKUP(A3706,'Tipos de activos'!$F$2:$G$5,2,0),0)","v":0},null,0]
[null,null,null,null,null,null,null,null,null,null,0,{"$f":"IFERROR(VLOOKUP(A3715,'Tipos de activos'!$F$2:$G$5,2,0),0)","v":0},null,0]
[null,null,null,null,null,null,null,null,null,null,0,{"$f":"IFERROR(VLOOKUP(A3722,'Tipos de activos'!$F$2:$G$5,2,0),0)","v":0},null,0]
[null,null,null,null,null,null,null,null,null,null,0,{"$f":"IFERROR(VLOOKUP(A3724,'Tipos de activos'!$F$2:$G$5,2,0),0)","v":0},null,0]
[null,null,null,null,null,null,null,null,null,null,0,{"$f":"IFERROR(VLOOKUP(A3733,'Tipos de activos'!$F$2:$G$5,2,0),0)","v":0},null,0]
[null,null,null,null,null,null,null,null,null,null,0,{"$f":"IFERROR(VLOOKUP(A3740,'Tipos de activos'!$F$2:$G$5,2,0),0)","v":0},null,0]
[null,null,null,null,null,null,null,null,null,null,0,{"$f":"IFERROR(VLOOKUP(A3743,'Tipos de activos'!$F$2:$G$5,2,0),0)","v":0},null,0]
[null,null,null,null,null,null,null,null,null,null,0,{"$f":"IFERROR(VLOOKUP(A3749,'Tipos de activos'!$F$2:$G$5,2,0),0)","v":0},null,0]
[null,null,null,null,null,null,null,null,null,null,0,{"$f":"IFERROR(VLOOKUP(A3752,'Tipos de activos'!$F$2:$G$5,2,0),0)","v":0},null,0]
[null,null,null,null,null,null,null,null,null,null,0,{"$f":"IFERROR(VLOOKUP(A3761,'Tipos de activos'!$F$2:$G$5,2,0),0)","v":0},null,0]
[null,null,null,null,null,null,null,null,null,null,0,{"$f":"IFERROR(VLOOKUP(A3768,'Tipos de activos'!$F$2:$G$5,2,0),0)","v":0},null,0]
[null,null,null,null,null,null,null,null,null,null,0,{"$f":"IFERROR(VLOOKUP(A3773,'Tipos de activos'!$F$2:$G$5,2,0),0)","v":0},null,0]
[null,null,null,null,null,null,null,null,null,null,0,{"$f":"IFERROR(VLOOKUP(A3777,'Tipos de activos'!$F$2:$G$5,2,0),0)","v":0},null,0]
[null,null,null,null,null,null,null,null,null,null,0,{"$f":"IFERROR(VLOOKUP(A3786,'Tipos de activos'!$F$2:$G$5,2,0),0)","v":0},null,0]
[null,null,null,null,null,null,null,null,null,null,0,{"$f":"IFERROR(VLOOKUP(A3789,'Tipos de activos'!$F$2:$G$5,2,0),0)","v":0},null,0]
[null,null,null,null,null,null,null,null,null,null,0,{"$f":"IFERROR(VLOOKUP(A3793,'Tipos de activos'!$F$2:$G$5,2,0),0)","v":0},null,{"$f":"+K3793*L3793","v":0}]
[null,null,null,null,null,null,null,null,null,null,0,{"$f":"IFERROR(VLOOKUP(A3798,'Tipos de activos'!$F$2:$G$5,2,0),0)","v":0},null,0]
[null,null,null,null,null,null,null,null,null,null,0,{"$f":"IFERROR(VLOOKUP(A3807,'Tipos de activos'!$F$2:$G$5,2,0),0)","v":0},null,0]
[null,null,null,null,null,null,null,null,null,null,0,{"$f":"IFERROR(VLOOKUP(A3814,'Tipos de activos'!$F$2:$G$5,2,0),0)","v":0},null,0]
[null,null,null,null,null,null,null,null,null,null,0,{"$f":"IFERROR(VLOOKUP(A3817,'Tipos de activos'!$F$2:$G$5,2,0),0)","v":0},null,0]
[null,null,null,null,null,null,null,null,null,null,0,{"$f":"IFERROR(VLOOKUP(A3823,'Tipos de activos'!$F$2:$G$5,2,0),0)","v":0},null,0]
[null,null,null,null,null,null,null,null,null,null,0,{"$f":"IFERROR(VLOOKUP(A3832,'Tipos de activos'!$F$2:$G$5,2,0),0)","v":0},null,0]
[null,null,null,null,null,null,null,null,null,null,0,{"$f":"IFERROR(VLOOKUP(A3835,'Tipos de activos'!$F$2:$G$5,2,0),0)","v":0},null,0]
[null,null,null,null,null,null,null,null,null,null,0,{"$f":"IFERROR(VLOOKUP(A3842,'Tipos de activos'!$F$2:$G$5,2,0),0)","v":0},null,0]
[null,null,null,null,null,null,null,null,null,null,0,{"$f":"IFERROR(VLOOKUP(A3844,'Tipos de activos'!$F$2:$G$5,2,0),0)","v":0},null,0]
[null,null,null,null,null,null,null,null,null,null,0,{"$f":"IFERROR(VLOOKUP(A3853,'Tipos de activos'!$F$2:$G$5,2,0),0)","v":0},null,0]
[null,null,null,null,null,null,null,null,null,null,0,{"$f":"IFERROR(VLOOKUP(A3860,'Tipos de activos'!$F$2:$G$5,2,0),0)","v":0},null,0]
[null,null,null,null,null,null,null,null,null,null,0,{"$f":"IFERROR(VLOOKUP(A3866,'Tipos de activos'!$F$2:$G$5,2,0),0)","v":0},null,0]
[null,null,null,null,null,null,null,null,null,null,0,{"$f":"IFERROR(VLOOKUP(A3869,'Tipos de activos'!$F$2:$G$5,2,0),0)","v":0},null,0]
[null,null,null,null,null,null,null,null,null,null,0,{"$f":"IFERROR(VLOOKUP(A3878,'Tipos de activos'!$F$2:$G$5,2,0),0)","v":0},null,0]
[null,null,null,null,null,null,null,null,null,null,0,{"$f":"IFERROR(VLOOKUP(A3881,'Tipos de activos'!$F$2:$G$5,2,0),0)","v":0},null,0]
[null,null,null,null,null,null,null,null,null,null,0,{"$f":"IFERROR(VLOOKUP(A3886,'Tipos de activos'!$F$2:$G$5,2,0),0)","v":0},null,0]
[null,null,null,null,null,null,null,null,null,null,0,{"$f":"IFERROR(VLOOKUP(A3890,'Tipos de activos'!$F$2:$G$5,2,0),0)","v":0},null,0]
[null,null,null,null,null,null,null,null,null,null,0,{"$f":"IFERROR(VLOOKUP(A3897,'Tipos de activos'!$F$2:$G$5,2,0),0)","v":0},null,0]
[null,null,null,null,null,null,null,null,null,null,0,{"$f":"IFERROR(VLOOKUP(A3906,'Tipos de activos'!$F$2:$G$5,2,0),0)","v":0},null,0]
[null,null,null,null,null,null,null,null,null,null,0,{"$f":"IFERROR(VLOOKUP(A3910,'Tipos de activos'!$F$2:$G$5,2,0),0)","v":0},null,0]
[null,null,null,null,null,null,null,null,null,null,0,{"$f":"IFERROR(VLOOKUP(A3915,'Tipos de activos'!$F$2:$G$5,2,0),0)","v":0},null,0]
[null,null,null,null,null,null,null,null,null,null,0,{"$f":"IFERROR(VLOOKUP(A3924,'Tipos de activos'!$F$2:$G$5,2,0),0)","v":0},null,0]
[null,null,null,null,null,null,null,null,null,null,0,{"$f":"IFERROR(VLOOKUP(A3928,'Tipos de activos'!$F$2:$G$5,2,0),0)","v":0},null,0]
[null,null,null,null,null,null,null,null,null,null,0,{"$f":"IFERROR(VLOOKUP(A3933,'Tipos de activos'!$F$2:$G$5,2,0),0)","v":0},null,0]
[null,null,null,null,null,null,null,null,null,null,0,{"$f":"IFERROR(VLOOKUP(A3936,'Tipos de activos'!$F$2:$G$5,2,0),0)","v":0},null,0]
[null,null,null,null,null,null,null,null,null,null,0,{"$f":"IFERROR(VLOOKUP(A3943,'Tipos de activos'!$F$2:$G$5,2,0),0)","v":0},null,0]
[null,null,null,null,null,null,null,null,null,null,0,{"$f":"IFERROR(VLOOKUP(A3948,'Tipos de activos'!$F$2:$G$5,2,0),0)","v":0},null,0]
[null,null,null,null,null,null,null,null,null,null,0,{"$f":"IFERROR(VLOOKUP(A3954,'Tipos de activos'!$F$2:$G$5,2,0),0)","v":0},null,0]
[null,null,null,null,null,null,null,null,null,null,0,{"$f":"IFERROR(VLOOKUP(A3961,'Tipos de activos'!$F$2:$G$5,2,0),0)","v":0},null,0]
[null,null,null,null,null,null,null,null,null,null,0,{"$f":"IFERROR(VLOOKUP(A3970,'Tipos de activos'!$F$2:$G$5,2,0),0)","v":0},null,0]
[null,null,null,null,null,null,null,null,null,null,0,{"$f":"IFERROR(VLOOKUP(A3973,'Tipos de activos'!$F$2:$G$5,2,0),0)","v":0},null,0]
[null,null,null,null,null,null,null,null,null,null,0,{"$f":"IFERROR(VLOOKUP(A3979,'Tipos de activos'!$F$2:$G$5,2,0),0)","v":0},null,0]
[null,null,null,null,null,null,null,null,null,null,0,{"$f":"IFERROR(VLOOKUP(A3982,'Tipos de activos'!$F$2:$G$5,2,0),0)","v":0},null,0]
[null,null,null,null,null,null,null,null,null,null,0,{"$f":"IFERROR(VLOOKUP(A3989,'Tipos de activos'!$F$2:$G$5,2,0),0)","v":0},null,0]
[null,null,null,null,null,null,null,null,null,null,0,{"$f":"IFERROR(VLOOKUP(A3997,'Tipos de activos'!$F$2:$G$5,2,0),0)","v":0},null,0]
[null,null,null,null,null,null,null,null,null,null,0,{"$f":"IFERROR(VLOOKUP(A4000,'Tipos de activos'!$F$2:$G$5,2,0),0)","v":0},null,0]
[null,null,null,null,null,null,null,null,null,null,0,{"$f":"IFERROR(VLOOKUP(A4007,'Tipos de activos'!$F$2:$G$5,2,0),0)","v":0},null,0]
[null,null,null,null,null,null,null,null,null,null,0,{"$f":"IFERROR(VLOOKUP(A4016,'Tipos de activos'!$F$2:$G$5,2,0),0)","v":0},null,0]
[null,null,null,null,null,null,null,null,null,null,0,{"$f":"IFERROR(VLOOKUP(A4017,'Tipos de activos'!$F$2:$G$5,2,0),0)","v":0},null,0]
[null,null,null,null,null,null,null,null,null,null,0,{"$f":"IFERROR(VLOOKUP(A4025,'Tipos de activos'!$F$2:$G$5,2,0),0)","v":0},null,0]
[null,null,null,null,null,null,null,null,null,null,0,{"$f":"IFERROR(VLOOKUP(A4028,'Tipos de activos'!$F$2:$G$5,2,0),0)","v":0},null,0]
[null,null,null,null,null,null,null,null,null,null,0,{"$f":"IFERROR(VLOOKUP(A4035,'Tipos de activos'!$F$2:$G$5,2,0),0)","v":0},null,0]
[null,null,null,null,null,null,null,null,null,null,0,{"$f":"IFERROR(VLOOKUP(A4041,'Tipos de activos'!$F$2:$G$5,2,0),0)","v":0},null,0]
[null,null,null,null,null,null,null,null,null,null,0,{"$f":"IFERROR(VLOOKUP(A4046,'Tipos de activos'!$F$2:$G$5,2,0),0)","v":0},null,0]
[null,null,null,null,null,null,null,null,null,null,0,{"$f":"IFERROR(VLOOKUP(A4053,'Tipos de activos'!$F$2:$G$5,2,0),0)","v":0},null,0]
[null,null,null,null,null,null,null,null,null,null,0,{"$f":"IFERROR(VLOOKUP(A4062,'Tipos de activos'!$F$2:$G$5,2,0),0)","v":0},null,0]
[null,null,null,null,null,null,null,null,null,null,0,{"$f":"IFERROR(VLOOKUP(A4066,'Tipos de activos'!$F$2:$G$5,2,0),0)","v":0},null,0]
[null,null,null,null,null,null,null,null,null,null,0,{"$f":"IFERROR(VLOOKUP(A4071,'Tipos de activos'!$F$2:$G$5,2,0),0)","v":0},null,0]
[null,null,null,null,null,null,null,null,null,null,0,{"$f":"IFERROR(VLOOKUP(A4074,'Tipos de activos'!$F$2:$G$5,2,0),0)","v":0},null,0]
[null,null,null,null,null,null,null,null,null,null,0,{"$f":"IFERROR(VLOOKUP(A4081,'Tipos de activos'!$F$2:$G$5,2,0),0)","v":0},null,0]
[null,null,null,null,null,null,null,null,null,null,0,{"$f":"IFERROR(VLOOKUP(A4090,'Tipos de activos'!$F$2:$G$5,2,0),0)","v":0},null,0]
[null,null,null,null,null,null,null,null,null,null,0,{"$f":"IFERROR(VLOOKUP(A4096,'Tipos de activos'!$F$2:$G$5,2,0),0)","v":0},null,0]
[null,null,null,null,null,null,null,null,null,null,0,{"$f":"IFERROR(VLOOKUP(A4099,'Tipos de activos'!$F$2:$G$5,2,0),0)","v":0},null,0]
[null,null,null,null,null,null,null,null,null,null,0,{"$f":"IFERROR(VLOOKUP(A4108,'Tipos de activos'!$F$2:$G$5,2,0),0)","v":0},null,0]
[null,null,null,null,null,null,null,null,null,null,0,{"$f":"IFERROR(VLOOKUP(A4110,'Tipos de activos'!$F$2:$G$5,2,0),0)","v":0},null,0]
[null,null,null,null,null,null,null,null,null,null,0,{"$f":"IFERROR(VLOOKUP(A4117,'Tipos de activos'!$F$2:$G$5,2,0),0)","v":0},null,0]
[null,null,null,null,null,null,null,null,null,null,0,{"$f":"IFERROR(VLOOKUP(A4120,'Tipos de activos'!$F$2:$G$5,2,0),0)","v":0},null,0]
[null,null,null,null,null,null,null,null,null,null,0,{"$f":"IFERROR(VLOOKUP(A4127,'Tipos de activos'!$F$2:$G$5,2,0),0)","v":0},null,0]
[null,null,null,null,null,null,null,null,null,null,0,{"$f":"IFERROR(VLOOKUP(A4134,'Tipos de activos'!$F$2:$G$5,2,0),0)","v":0},null,0]
[null,null,null,null,null,null,null,null,null,null,0,{"$f":"IFERROR(VLOOKUP(A4142,'Tipos de activos'!$F$2:$G$5,2,0),0)","v":0},null,0]
[null,null,null,null,null,null,null,null,null,null,0,{"$f":"IFERROR(VLOOKUP(A4145,'Tipos de activos'!$F$2:$G$5,2,0),0)","v":0},null,0]
[null,null,null,null,null,null,null,null,null,null,0,{"$f":"IFERROR(VLOOKUP(A4154,'Tipos de activos'!$F$2:$G$5,2,0),0)","v":0},null,0]
[null,null,null,null,null,null,null,null,null,null,0,{"$f":"IFERROR(VLOOKUP(A4159,'Tipos de activos'!$F$2:$G$5,2,0),0)","v":0},null,0]
[null,null,null,null,null,null,null,null,null,null,0,{"$f":"IFERROR(VLOOKUP(A4163,'Tipos de activos'!$F$2:$G$5,2,0),0)","v":0},null,0]
[null,null,null,null,null,null,null,null,null,null,0,{"$f":"IFERROR(VLOOKUP(A4170,'Tipos de activos'!$F$2:$G$5,2,0),0)","v":0},null,0]
[null,null,null,null,null,null,null,null,null,null,0,{"$f":"IFERROR(VLOOKUP(A4172,'Tipos de activos'!$F$2:$G$5,2,0),0)","v":0},null,0]
[null,null,null,null,null,null,null,null,null,null,0,{"$f":"IFERROR(VLOOKUP(A4181,'Tipos de activos'!$F$2:$G$5,2,0),0)","v":0},null,0]
[null,null,null,null,null,null,null,null,null,null,0,{"$f":"IFERROR(VLOOKUP(A4188,'Tipos de activos'!$F$2:$G$5,2,0),0)","v":0},null,0]
[null,null,null,null,null,null,null,null,null,null,0,{"$f":"IFERROR(VLOOKUP(A4191,'Tipos de activos'!$F$2:$G$5,2,0),0)","v":0},null,0]
[null,null,null,null,null,null,null,null,null,null,0,{"$f":"IFERROR(VLOOKUP(A4196,'Tipos de activos'!$F$2:$G$5,2,0),0)","v":0},null,0]
[null,null,null,null,null,null,null,null,null,null,0,{"$f":"IFERROR(VLOOKUP(A4200,'Tipos de activos'!$F$2:$G$5,2,0),0)","v":0},null,0]
[null,null,null,null,null,null,null,null,null,null,0,{"$f":"IFERROR(VLOOKUP(A4209,'Tipos de activos'!$F$2:$G$5,2,0),0)","v":0},null,0]
[null,null,null,null,null,null,null,null,null,null,0,{"$f":"IFERROR(VLOOKUP(A4216,'Tipos de activos'!$F$2:$G$5,2,0),0)","v":0},null,0]
[null,null,null,null,null,null,null,null,null,null,0,{"$f":"IFERROR(VLOOKUP(A4221,'Tipos de activos'!$F$2:$G$5,2,0),0)","v":0},null,0]
[null,null,null,null,null,null,null,null,null,null,0,{"$f":"IFERROR(VLOOKUP(A4227,'Tipos de activos'!$F$2:$G$5,2,0),0)","v":0},null,0]
[null,null,null,null,null,null,null,null,null,null,0,{"$f":"IFERROR(VLOOKUP(A4234,'Tipos de activos'!$F$2:$G$5,2,0),0)","v":0},null,0]
[null,null,null,null,null,null,null,null,null,null,0,{"$f":"IFERROR(VLOOKUP(A4237,'Tipos de activos'!$F$2:$G$5,2,0),0)","v":0},null,0]
[null,null,null,null,null,null,null,null,null,null,0,{"$f":"IFERROR(VLOOKUP(A4245,'Tipos de activos'!$F$2:$G$5,2,0),0)","v":0},null,0]
[null,null,null,null,null,null,null,null,null,null,0,{"$f":"IFERROR(VLOOKUP(A4246,'Tipos de activos'!$F$2:$G$5,2,0),0)","v":0},null,0]
[null,null,null,null,null,null,null,null,null,null,0,{"$f":"IFERROR(VLOOKUP(A4255,'Tipos de activos'!$F$2:$G$5,2,0),0)","v":0},null,0]
[null,null,null,null,null,null,null,null,null,null,0,{"$f":"IFERROR(VLOOKUP(A4262,'Tipos de activos'!$F$2:$G$5,2,0),0)","v":0},null,0]
[null,null,null,null,null,null,null,null,null,null,0,{"$f":"IFERROR(VLOOKUP(A4265,'Tipos de activos'!$F$2:$G$5,2,0),0)","v":0},null,0]
[null,null,null,null,null,null,null,null,null,null,0,{"$f":"IFERROR(VLOOKUP(A4273,'Tipos de activos'!$F$2:$G$5,2,0),0)","v":0},null,0]
[null,null,null,null,null,null,null,null,null,null,0,{"$f":"IFERROR(VLOOKUP(A4280,'Tipos de activos'!$F$2:$G$5,2,0),0)","v":0},null,0]
[null,null,null,null,null,null,null,null,null,null,0,{"$f":"IFERROR(VLOOKUP(A4283,'Tipos de activos'!$F$2:$G$5,2,0),0)","v":0},null,0]
[null,null,null,null,null,null,null,null,null,null,0,{"$f":"IFERROR(VLOOKUP(A4290,'Tipos de activos'!$F$2:$G$5,2,0),0)","v":0},null,0]
[null,null,null,null,null,null,null,null,null,null,0,{"$f":"IFERROR(VLOOKUP(A4292,'Tipos de activos'!$F$2:$G$5,2,0),0)","v":0},null,0]
[null,null,null,null,null,null,null,null,null,null,0,{"$f":"IFERROR(VLOOKUP(A4301,'Tipos de activos'!$F$2:$G$5,2,0),0)","v":0},null,0]
[null,null,null,null,null,null,null,null,null,null,0,{"$f":"IFERROR(VLOOKUP(A4308,'Tipos de activos'!$F$2:$G$5,2,0),0)","v":0},null,0]
[null,null,null,null,null,null,null,null,null,null,0,{"$f":"IFERROR(VLOOKUP(A4314,'Tipos de activos'!$F$2:$G$5,2,0),0)","v":0},null,0]
[null,null,null,null,null,null,null,null,null,null,0,{"$f":"IFERROR(VLOOKUP(A4319,'Tipos de activos'!$F$2:$G$5,2,0),0)","v":0},null,0]
[null,null,null,null,null,null,null,null,null,null,0,{"$f":"IFERROR(VLOOKUP(A4326,'Tipos de activos'!$F$2:$G$5,2,0),0)","v":0},null,0]
[null,null,null,null,null,null,null,null,null,null,0,{"$f":"IFERROR(VLOOKUP(A4329,'Tipos de activos'!$F$2:$G$5,2,0),0)","v":0},null,0]
[null,null,null,null,null,null,null,null,null,null,0,{"$f":"IFERROR(VLOOKUP(A4334,'Tipos de activos'!$F$2:$G$5,2,0),0)","v":0},null,0]
[null,null,null,null,null,null,null,null,null,null,0,{"$f":"IFERROR(VLOOKUP(A4338,'Tipos de activos'!$F$2:$G$5,2,0),0)","v":0},null,0]
[null,null,null,null,null,null,null,null,null,null,0,{"$f":"IFERROR(VLOOKUP(A4347,'Tipos de activos'!$F$2:$G$5,2,0),0)","v":0},null,0]
[null,null,null,null,null,null,null,null,null,null,0,{"$f":"IFERROR(VLOOKUP(A4354,'Tipos de activos'!$F$2:$G$5,2,0),0)","v":0},null,0]
[null,null,null,null,null,null,null,null,null,null,0,{"$f":"IFERROR(VLOOKUP(A4358,'Tipos de activos'!$F$2:$G$5,2,0),0)","v":0},null,0]
[null,null,null,null,null,null,null,null,null,null,0,{"$f":"IFERROR(VLOOKUP(A4365,'Tipos de activos'!$F$2:$G$5,2,0),0)","v":0},null,0]
[null,null,null,null,null,null,null,null,null,null,0,{"$f":"IFERROR(VLOOKUP(A4372,'Tipos de activos'!$F$2:$G$5,2,0),0)","v":0},null,0]
[null,null,null,null,null,null,null,null,null,null,0,{"$f":"IFERROR(VLOOKUP(A4375,'Tipos de activos'!$F$2:$G$5,2,0),0)","v":0},null,0]
[null,null,null,null,null,null,null,null,null,null,0,{"$f":"IFERROR(VLOOKUP(A4383,'Tipos de activos'!$F$2:$G$5,2,0),0)","v":0},null,0]
[null,null,null,null,null,null,null,null,null,null,0,{"$f":"IFERROR(VLOOKUP(A4384,'Tipos de activos'!$F$2:$G$5,2,0),0)","v":0},null,0]
[null,null,null,null,null,null,null,null,null,null,0,{"$f":"IFERROR(VLOOKUP(A4393,'Tipos de activos'!$F$2:$G$5,2,0),0)","v":0},null,0]
[null,null,null,null,null,null,null,null,null,null,0,{"$f":"IFERROR(VLOOKUP(A4396,'Tipos de activos'!$F$2:$G$5,2,0),0)","v":0},null,0]
[null,null,null,null,null,null,null,null,null,null,0,{"$f":"IFERROR(VLOOKUP(A4402,'Tipos de activos'!$F$2:$G$5,2,0),0)","v":0},null,0]
[null,null,null,null,null,null,null,null,null,null,0,{"$f":"IFERROR(VLOOKUP(A4409,'Tipos de activos'!$F$2:$G$5,2,0),0)","v":0},null,0]
[null,null,null,null,null,null,null,null,null,null,0,{"$f":"IFERROR(VLOOKUP(A4418,'Tipos de activos'!$F$2:$G$5,2,0),0)","v":0},null,0]
[null,null,null,null,null,null,null,null,null,null,0,{"$f":"IFERROR(VLOOKUP(A4420,'Tipos de activos'!$F$2:$G$5,2,0),0)","v":0},null,0]
[null,null,null,null,null,null,null,null,null,null,0,{"$f":"IFERROR(VLOOKUP(A4427,'Tipos de activos'!$F$2:$G$5,2,0),0)","v":0},null,0]
[null,null,null,null,null,null,null,null,null,null,0,{"$f":"IFERROR(VLOOKUP(A4430,'Tipos de activos'!$F$2:$G$5,2,0),0)","v":0},null,0]
[null,null,null,null,null,null,null,null,null,null,0,{"$f":"IFERROR(VLOOKUP(A4439,'Tipos de activos'!$F$2:$G$5,2,0),0)","v":0},null,0]
[null,null,null,null,null,null,null,null,null,null,0,{"$f":"IFERROR(VLOOKUP(A4445,'Tipos de activos'!$F$2:$G$5,2,0),0)","v":0},null,0]
[null,null,null,null,null,null,null,null,null,null,0,{"$f":"IFERROR(VLOOKUP(A4448,'Tipos de activos'!$F$2:$G$5,2,0),0)","v":0},null,0]
[null,null,null,null,null,null,null,null,null,null,0,{"$f":"IFERROR(VLOOKUP(A4455,'Tipos de activos'!$F$2:$G$5,2,0),0)","v":0},null,0]
[null,null,null,null,null,null,null,null,null,null,0,{"$f":"IFERROR(VLOOKUP(A4464,'Tipos de activos'!$F$2:$G$5,2,0),0)","v":0},null,0]
[null,null,null,null,null,null,null,null,null,null,0,{"$f":"IFERROR(VLOOKUP(A4469,'Tipos de activos'!$F$2:$G$5,2,0),0)","v":0},null,0]
[null,null,null,null,null,null,null,null,null,null,0,{"$f":"IFERROR(VLOOKUP(A4473,'Tipos de activos'!$F$2:$G$5,2,0),0)","v":0},null,0]
[null,null,null,null,null,null,null,null,null,null,0,{"$f":"IFERROR(VLOOKUP(A4476,'Tipos de activos'!$F$2:$G$5,2,0),0)","v":0},null,0]
[null,null,null,null,null,null,null,null,null,null,0,{"$f":"IFERROR(VLOOKUP(A4483,'Tipos de activos'!$F$2:$G$5,2,0),0)","v":0},null,0]
[null,null,null,null,null,null,null,null,null,null,0,{"$f":"IFERROR(VLOOKUP(A4489,'Tipos de activos'!$F$2:$G$5,2,0),0)","v":0},null,0]
[null,null,null,null,null,null,null,null,null,null,0,{"$f":"IFERROR(VLOOKUP(A4494,'Tipos de activos'!$F$2:$G$5,2,0),0)","v":0},null,0]
[null,null,null,null,null,null,null,null,null,null,0,{"$f":"IFERROR(VLOOKUP(A4501,'Tipos de activos'!$F$2:$G$5,2,0),0)","v":0},null,0]
[null,null,null,null,null,null,null,null,null,null,0,{"$f":"IFERROR(VLOOKUP(A4510,'Tipos de activos'!$F$2:$G$5,2,0),0)","v":0},null,0]
[null,null,null,null,null,null,null,null,null,null,0,{"$f":"IFERROR(VLOOKUP(A4513,'Tipos de activos'!$F$2:$G$5,2,0),0)","v":0},null,0]
[null,null,null,null,null,null,null,null,null,null,0,{"$f":"IFERROR(VLOOKUP(A4519,'Tipos de activos'!$F$2:$G$5,2,0),0)","v":0},null,0]
[null,null,null,null,null,null,null,null,null,null,0,{"$f":"IFERROR(VLOOKUP(A4522,'Tipos de activos'!$F$2:$G$5,2,0),0)","v":0},null,0]
[null,null,null,null,null,null,null,null,null,null,0,{"$f":"IFERROR(VLOOKUP(A4529,'Tipos de activos'!$F$2:$G$5,2,0),0)","v":0},null,0]
[null,null,null,null,null,null,null,null,null,null,0,{"$f":"IFERROR(VLOOKUP(A4538,'Tipos de activos'!$F$2:$G$5,2,0),0)","v":0},null,0]
[null,null,null,null,null,null,null,null,null,null,0,{"$f":"IFERROR(VLOOKUP(A4540,'Tipos de activos'!$F$2:$G$5,2,0),0)","v":0},null,0]
[null,null,null,null,null,null,null,null,null,null,0,{"$f":"IFERROR(VLOOKUP(A4547,'Tipos de activos'!$F$2:$G$5,2,0),0)","v":0},null,0]
[null,null,null,null,null,null,null,null,null,null,0,{"$f":"IFERROR(VLOOKUP(A4556,'Tipos de activos'!$F$2:$G$5,2,0),0)","v":0},null,0]
[null,null,null,null,null,null,null,null,null,null,0,{"$f":"IFERROR(VLOOKUP(A4557,'Tipos de activos'!$F$2:$G$5,2,0),0)","v":0},null,0]
[null,null,null,null,null,null,null,null,null,null,0,{"$f":"IFERROR(VLOOKUP(A4565,'Tipos de activos'!$F$2:$G$5,2,0),0)","v":0},null,0]
[null,null,null,null,null,null,null,null,null,null,0,{"$f":"IFERROR(VLOOKUP(A4568,'Tipos de activos'!$F$2:$G$5,2,0),0)","v":0},null,0]
[null,null,null,null,null,null,null,null,null,null,0,{"$f":"IFERROR(VLOOKUP(A4575,'Tipos de activos'!$F$2:$G$5,2,0),0)","v":0},null,0]
[null,null,null,null,null,null,null,null,null,null,0,{"$f":"IFERROR(VLOOKUP(A4582,'Tipos de activos'!$F$2:$G$5,2,0),0)","v":0},null,0]
[null,null,null,null,null,null,null,null,null,null,0,{"$f":"IFERROR(VLOOKUP(A4586,'Tipos de activos'!$F$2:$G$5,2,0),0)","v":0},null,0]
[null,null,null,null,null,null,null,null,null,null,0,{"$f":"IFERROR(VLOOKUP(A4593,'Tipos de activos'!$F$2:$G$5,2,0),0)","v":0},null,0]
[null,null,null,null,null,null,null,null,null,null,0,{"$f":"IFERROR(VLOOKUP(A4602,'Tipos de activos'!$F$2:$G$5,2,0),0)","v":0},null,0]
[null,null,null,null,null,null,null,null,null,null,0,{"$f":"IFERROR(VLOOKUP(A4607,'Tipos de activos'!$F$2:$G$5,2,0),0)","v":0},null,0]
[null,null,null,null,null,null,null,null,null,null,0,{"$f":"IFERROR(VLOOKUP(A4611,'Tipos de activos'!$F$2:$G$5,2,0),0)","v":0},null,0]
[null,null,null,null,null,null,null,null,null,null,0,{"$f":"IFERROR(VLOOKUP(A4614,'Tipos de activos'!$F$2:$G$5,2,0),0)","v":0},null,0]
[null,null,null,null,null,null,null,null,null,null,0,{"$f":"IFERROR(VLOOKUP(A4621,'Tipos de activos'!$F$2:$G$5,2,0),0)","v":0},null,0]
[null,null,null,null,null,null,null,null,null,null,0,{"$f":"IFERROR(VLOOKUP(A4626,'Tipos de activos'!$F$2:$G$5,2,0),0)","v":0},null,0]
[null,null,null,null,null,null,null,null,null,null,0,{"$f":"IFERROR(VLOOKUP(A4632,'Tipos de activos'!$F$2:$G$5,2,0),0)","v":0},null,0]
[null,null,null,null,null,null,null,null,null,null,0,{"$f":"IFERROR(VLOOKUP(A4639,'Tipos de activos'!$F$2:$G$5,2,0),0)","v":0},null,0]
[null,null,null,null,null,null,null,null,null,null,0,{"$f":"IFERROR(VLOOKUP(A4644,'Tipos de activos'!$F$2:$G$5,2,0),0)","v":0},null,0]
[null,null,null,null,null,null,null,null,null,null,0,{"$f":"IFERROR(VLOOKUP(A4648,'Tipos de activos'!$F$2:$G$5,2,0),0)","v":0},null,0]
[null,null,null,null,null,null,null,null,null,null,0,{"$f":"IFERROR(VLOOKUP(A4657,'Tipos de activos'!$F$2:$G$5,2,0),0)","v":0},null,0]
[null,null,null,null,null,null,null,null,null,null,0,{"$f":"IFERROR(VLOOKUP(A4660,'Tipos de activos'!$F$2:$G$5,2,0),0)","v":0},null,0]
[null,null,null,null,null,null,null,null,null,null,0,{"$f":"IFERROR(VLOOKUP(A4669,'Tipos de activos'!$F$2:$G$5,2,0),0)","v":0},null,0]
[null,null,null,null,null,null,null,null,null,null,0,{"$f":"IFERROR(VLOOKUP(A4675,'Tipos de activos'!$F$2:$G$5,2,0),0)","v":0},null,0]
[null,null,null,null,null,null,null,null,null,null,0,{"$f":"IFERROR(VLOOKUP(A4678,'Tipos de activos'!$F$2:$G$5,2,0),0)","v":0},null,0]
[null,null,null,null,null,null,null,null,null,null,0,{"$f":"IFERROR(VLOOKUP(A4685,'Tipos de activos'!$F$2:$G$5,2,0),0)","v":0},null,0]
[null,null,null,null,null,null,null,null,null,null,0,{"$f":"IFERROR(VLOOKUP(A4693,'Tipos de activos'!$F$2:$G$5,2,0),0)","v":0},null,0]
[null,null,null,null,null,null,null,null,null,null,0,{"$f":"IFERROR(VLOOKUP(A4694,'Tipos de activos'!$F$2:$G$5,2,0),0)","v":0},null,0]
[null,null,null,null,null,null,null,null,null,null,0,{"$f":"IFERROR(VLOOKUP(A4703,'Tipos de activos'!$F$2:$G$5,2,0),0)","v":0},null,0]
[null,null,null,null,null,null,null,null,null,null,0,{"$f":"IFERROR(VLOOKUP(A4706,'Tipos de activos'!$F$2:$G$5,2,0),0)","v":0},null,0]
[null,null,null,null,null,null,null,null,null,null,0,{"$f":"IFERROR(VLOOKUP(A4713,'Tipos de activos'!$F$2:$G$5,2,0),0)","v":0},null,0]
[null,null,null,null,null,null,null,null,null,null,0,{"$f":"IFERROR(VLOOKUP(A4721,'Tipos de activos'!$F$2:$G$5,2,0),0)","v":0},null,0]
[null,null,null,null,null,null,null,null,null,null,0,{"$f":"IFERROR(VLOOKUP(A4728,'Tipos de activos'!$F$2:$G$5,2,0),0)","v":0},null,0]
[null,null,null,null,null,null,null,null,null,null,0,{"$f":"IFERROR(VLOOKUP(A4731,'Tipos de activos'!$F$2:$G$5,2,0),0)","v":0},null,0]
[null,null,null,null,null,null,null,null,null,null,0,{"$f":"IFERROR(VLOOKUP(A4737,'Tipos de activos'!$F$2:$G$5,2,0),0)","v":0},null,0]
[null,null,null,null,null,null,null,null,null,null,0,{"$f":"IFERROR(VLOOKUP(A4740,'Tipos de activos'!$F$2:$G$5,2,0),0)","v":0},null,0]
[null,null,null,null,null,null,null,null,null,null,0,{"$f":"IFERROR(VLOOKUP(A4749,'Tipos de activos'!$F$2:$G$5,2,0),0)","v":0},null,0]
[null,null,null,null,null,null,null,null,null,null,0,{"$f":"IFERROR(VLOOKUP(A4752,'Tipos de activos'!$F$2:$G$5,2,0),0)","v":0},null,0]
[null,null,null,null,null,null,null,null,null,null,0,{"$f":"IFERROR(VLOOKUP(A4762,'Tipos de activos'!$F$2:$G$5,2,0),0)","v":0},null,0]
[null,null,null,null,null,null,null,null,null,null,0,{"$f":"IFERROR(VLOOKUP(A4767,'Tipos de activos'!$F$2:$G$5,2,0),0)","v":0},null,0]
[null,null,null,null,null,null,null,null,null,null,0,{"$f":"IFERROR(VLOOKUP(A4774,'Tipos de activos'!$F$2:$G$5,2,0),0)","v":0},null,0]
[null,null,null,null,null,null,null,null,null,null,0,{"$f":"IFERROR(VLOOKUP(A4777,'Tipos de activos'!$F$2:$G$5,2,0),0)","v":0},null,0]
[null,null,null,null,null,null,null,null,null,null,0,{"$f":"IFERROR(VLOOKUP(A4781,'Tipos de activos'!$F$2:$G$5,2,0),0)","v":0},null,0]
[null,null,null,null,null,null,null,null,null,null,0,{"$f":"IFERROR(VLOOKUP(A4786,'Tipos de activos'!$F$2:$G$5,2,0),0)","v":0},null,0]
[null,null,null,null,null,null,null,null,null,null,0,{"$f":"IFERROR(VLOOKUP(A4795,'Tipos de activos'!$F$2:$G$5,2,0),0)","v":0},null,0]
[null,null,null,null,null,null,null,null,null,null,0,{"$f":"IFERROR(VLOOKUP(A4802,'Tipos de activos'!$F$2:$G$5,2,0),0)","v":0},null,0]
[null,null,null,null,null,null,null,null,null,null,0,{"$f":"IFERROR(VLOOKUP(A4806,'Tipos de activos'!$F$2:$G$5,2,0),0)","v":0},null,0]
[null,null,null,null,null,null,null,null,null,null,0,{"$f":"IFERROR(VLOOKUP(A4813,'Tipos de activos'!$F$2:$G$5,2,0),0)","v":0},null,0]
[null,null,null,null,null,null,null,null,null,null,0,{"$f":"IFERROR(VLOOKUP(A4820,'Tipos de activos'!$F$2:$G$5,2,0),0)","v":0},null,0]
[null,null,null,null,null,null,null,null,null,null,0,{"$f":"IFERROR(VLOOKUP(A4823,'Tipos de activos'!$F$2:$G$5,2,0),0)","v":0},null,0]
[null,null,null,null,null,null,null,null,null,null,0,{"$f":"IFERROR(VLOOKUP(A4830,'Tipos de activos'!$F$2:$G$5,2,0),0)","v":0},null,0]
[null,null,null,null,null,null,null,null,null,null,0,{"$f":"IFERROR(VLOOKUP(A4832,'Tipos de activos'!$F$2:$G$5,2,0),0)","v":0},null,0]
[null,null,null,null,null,null,null,null,null,null,0,{"$f":"IFERROR(VLOOKUP(A4841,'Tipos de activos'!$F$2:$G$5,2,0),0)","v":0},null,0]
[null,null,null,null,null,null,null,null,null,null,0,{"$f":"IFERROR(VLOOKUP(A4848,'Tipos de activos'!$F$2:$G$5,2,0),0)","v":0},null,0]
[null,null,null,null,null,null,null,null,null,null,0,{"$f":"IFERROR(VLOOKUP(A4850,'Tipos de activos'!$F$2:$G$5,2,0),0)","v":0},null,0]
[null,null,null,null,null,null,null,null,null,null,0,{"$f":"IFERROR(VLOOKUP(A4859,'Tipos de activos'!$F$2:$G$5,2,0),0)","v":0},null,0]
[null,null,null,null,null,null,null,null,null,null,0,{"$f":"IFERROR(VLOOKUP(A4866,'Tipos de activos'!$F$2:$G$5,2,0),0)","v":0},null,0]
[null,null,null,null,null,null,null,null,null,null,0,{"$f":"IFERROR(VLOOKUP(A4869,'Tipos de activos'!$F$2:$G$5,2,0),0)","v":0},null,0]
[null,null,null,null,null,null,null,null,null,null,0,{"$f":"IFERROR(VLOOKUP(A4874,'Tipos de activos'!$F$2:$G$5,2,0),0)","v":0},null,0]
[null,null,null,null,null,null,null,null,null,null,0,{"$f":"IFERROR(VLOOKUP(A4878,'Tipos de activos'!$F$2:$G$5,2,0),0)","v":0},null,0]
[null,null,null,null,null,null,null,null,null,null,0,{"$f":"IFERROR(VLOOKUP(A4887,'Tipos de activos'!$F$2:$G$5,2,0),0)","v":0},null,0]
[null,null,null,null,null,null,null,null,null,null,0,{"$f":"IFERROR(VLOOKUP(A4893,'Tipos de activos'!$F$2:$G$5,2,0),0)","v":0},null,0]
[null,null,null,null,null,null,null,null,null,null,0,{"$f":"IFERROR(VLOOKUP(A4896,'Tipos de activos'!$F$2:$G$5,2,0),0)","v":0},null,0]
[null,null,null,null,null,null,null,null,null,null,0,{"$f":"IFERROR(VLOOKUP(A4905,'Tipos de activos'!$F$2:$G$5,2,0),0)","v":0},null,0]
[null,null,null,null,null,null,null,null,null,null,0,{"$f":"IFERROR(VLOOKUP(A4912,'Tipos de activos'!$F$2:$G$5,2,0),0)","v":0},null,0]
[null,null,null,null,null,null,null,null,null,null,0,{"$f":"IFERROR(VLOOKUP(A4917,'Tipos de activos'!$F$2:$G$5,2,0),0)","v":0},null,0]
[null,null,null,null,null,null,null,null,null,null,0,{"$f":"IFERROR(VLOOKUP(A4921,'Tipos de activos'!$F$2:$G$5,2,0),0)","v":0},null,0]
[null,null,null,null,null,null,null,null,null,null,0,{"$f":"IFERROR(VLOOKUP(A4924,'Tipos de activos'!$F$2:$G$5,2,0),0)","v":0},null,0]
[null,null,null,null,null,null,null,null,null,null,0,{"$f":"IFERROR(VLOOKUP(A4933,'Tipos de activos'!$F$2:$G$5,2,0),0)","v":0},null,0]
[null,null,null,null,null,null,null,null,null,null,0,{"$f":"IFERROR(VLOOKUP(A4937,'Tipos de activos'!$F$2:$G$5,2,0),0)","v":0},null,0]
[null,null,null,null,null,null,null,null,null,null,0,{"$f":"IFERROR(VLOOKUP(A4942,'Tipos de activos'!$F$2:$G$5,2,0),0)","v":0},null,0]
[null,null,null,null,null,null,null,null,null,null,0,{"$f":"IFERROR(VLOOKUP(A4951,'Tipos de activos'!$F$2:$G$5,2,0),0)","v":0},null,0]
[null,null,null,null,null,null,null,null,null,null,0,{"$f":"IFERROR(VLOOKUP(A4958,'Tipos de activos'!$F$2:$G$5,2,0),0)","v":0},null,0]
[null,null,null,null,null,null,null,null,null,null,0,{"$f":"IFERROR(VLOOKUP(A4961,'Tipos de activos'!$F$2:$G$5,2,0),0)","v":0},null,0]
[null,null,null,null,null,null,null,null,null,null,0,{"$f":"IFERROR(VLOOKUP(A4967,'Tipos de activos'!$F$2:$G$5,2,0),0)","v":0},null,0]
[null,null,null,null,null,null,null,null,null,null,0,{"$f":"IFERROR(VLOOKUP(A4970,'Tipos de activos'!$F$2:$G$5,2,0),0)","v":0},null,0]
[null,null,null,null,null,null,null,null,null,null,0,{"$f":"IFERROR(VLOOKUP(A4979,'Tipos de activos'!$F$2:$G$5,2,0),0)","v":0},null,0]
[null,null,null,null,null,null,null,null,null,null,0,{"$f":"IFERROR(VLOOKUP(A4986,'Tipos de activos'!$F$2:$G$5,2,0),0)","v":0},null,0]
[null,null,null,null,null,null,null,null,null,null,0,{"$f":"IFERROR(VLOOKUP(A4988,'Tipos de activos'!$F$2:$G$5,2,0),0)","v":0},null,0]
[null,null,null,null,null,null,null,null,null,null,0,{"$f":"IFERROR(VLOOKUP(A4995,'Tipos de activos'!$F$2:$G$5,2,0),0)","v":0},null,0]
[null,null,null,null,null,null,null,null,null,null,0,{"$f":"IFERROR(VLOOKUP(A5004,'Tipos de activos'!$F$2:$G$5,2,0),0)","v":0},null,0]
[null,null,null,null,null,null,null,null,null,null,0,{"$f":"IFERROR(VLOOKUP(A5005,'Tipos de activos'!$F$2:$G$5,2,0),0)","v":0},null,0]
[null,null,null,null,null,null,null,null,null,null,0,{"$f":"IFERROR(VLOOKUP(A5013,'Tipos de activos'!$F$2:$G$5,2,0),0)","v":0},null,0]
[null,null,null,null,null,null,null,null,null,null,0,{"$f":"IFERROR(VLOOKUP(A5016,'Tipos de activos'!$F$2:$G$5,2,0),0)","v":0},null,0]
[null,null,null,null,null,null,null,null,null,null,0,{"$f":"IFERROR(VLOOKUP(A5025,'Tipos de activos'!$F$2:$G$5,2,0),0)","v":0},null,0]
[null,null,null,null,null,null,null,null,null,null,0,{"$f":"IFERROR(VLOOKUP(A5030,'Tipos de activos'!$F$2:$G$5,2,0),0)","v":0},null,0]
[null,null,null,null,null,null,null,null,null,null,0,{"$f":"IFERROR(VLOOKUP(A5034,'Tipos de activos'!$F$2:$G$5,2,0),0)","v":0},null,0]
[null,null,null,null,null,null,null,null,null,null,0,{"$f":"IFERROR(VLOOKUP(A5041,'Tipos de activos'!$F$2:$G$5,2,0),0)","v":0},null,0]
[null,null,null,null,null,null,null,null,null,null,0,{"$f":"IFERROR(VLOOKUP(A5050,'Tipos de activos'!$F$2:$G$5,2,0),0)","v":0},null,0]
[null,null,null,null,null,null,null,null,null,null,0,{"$f":"IFERROR(VLOOKUP(A5054,'Tipos de activos'!$F$2:$G$5,2,0),0)","v":0},null,0]
[null,null,null,null,null,null,null,null,null,null,0,{"$f":"IFERROR(VLOOKUP(A5059,'Tipos de activos'!$F$2:$G$5,2,0),0)","v":0},null,0]
[null,null,null,null,null,null,null,null,null,null,0,{"$f":"IFERROR(VLOOKUP(A5062,'Tipos de activos'!$F$2:$G$5,2,0),0)","v":0},null,0]
[null,null,null,null,null,null,null,null,null,null,0,{"$f":"IFERROR(VLOOKUP(A5071,'Tipos de activos'!$F$2:$G$5,2,0),0)","v":0},null,0]
[null,null,null,null,null,null,null,null,null,null,0,{"$f":"IFERROR(VLOOKUP(A5074,'Tipos de activos'!$F$2:$G$5,2,0),0)","v":0},null,0]
[null,null,null,null,null,null,null,null,null,null,0,{"$f":"IFERROR(VLOOKUP(A5080,'Tipos de activos'!$F$2:$G$5,2,0),0)","v":0},null,0]
[null,null,null,null,null,null,null,null,null,null,0,{"$f":"IFERROR(VLOOKUP(A5087,'Tipos de activos'!$F$2:$G$5,2,0),0)","v":0},null,0]
[null,null,null,null,null,null,null,null,null,null,0,{"$f":"IFERROR(VLOOKUP(A5096,'Tipos de activos'!$F$2:$G$5,2,0),0)","v":0},null,0]
[null,null,null,null,null,null,null,null,null,null,0,{"$f":"IFERROR(VLOOKUP(A5098,'Tipos de activos'!$F$2:$G$5,2,0),0)","v":0},null,0]
[null,null,null,null,null,null,null,null,null,null,0,{"$f":"IFERROR(VLOOKUP(A5105,'Tipos de activos'!$F$2:$G$5,2,0),0)","v":0},null,0]
[null,null,null,null,null,null,null,null,null,null,0,{"$f":"IFERROR(VLOOKUP(A5108,'Tipos de activos'!$F$2:$G$5,2,0),0)","v":0},null,0]
[null,null,null,null,null,null,null,null,null,null,0,{"$f":"IFERROR(VLOOKUP(A5117,'Tipos de activos'!$F$2:$G$5,2,0),0)","v":0},null,0]
[null,null,null,null,null,null,null,null,null,null,0,{"$f":"IFERROR(VLOOKUP(A5123,'Tipos de activos'!$F$2:$G$5,2,0),0)","v":0},null,0]
[null,null,null,null,null,null,null,null,null,null,0,{"$f":"IFERROR(VLOOKUP(A5126,'Tipos de activos'!$F$2:$G$5,2,0),0)","v":0},null,0]
[null,null,null,null,null,null,null,null,null,null,0,{"$f":"IFERROR(VLOOKUP(A5133,'Tipos de activos'!$F$2:$G$5,2,0),0)","v":0},null,0]
[null,null,null,null,null,null,null,null,null,null,0,{"$f":"IFERROR(VLOOKUP(A5141,'Tipos de activos'!$F$2:$G$5,2,0),0)","v":0},null,0]
[null,null,null,null,null,null,null,null,null,null,0,{"$f":"IFERROR(VLOOKUP(A5144,'Tipos de activos'!$F$2:$G$5,2,0),0)","v":0},null,0]
[null,null,null,null,null,null,null,null,null,null,0,{"$f":"IFERROR(VLOOKUP(A5151,'Tipos de activos'!$F$2:$G$5,2,0),0)","v":0},null,0]
[null,null,null,null,null,null,null,null,null,null,0,{"$f":"IFERROR(VLOOKUP(A5154,'Tipos de activos'!$F$2:$G$5,2,0),0)","v":0},null,0]
[null,null,null,null,null,null,null,null,null,null,0,{"$f":"IFERROR(VLOOKUP(A5161,'Tipos de activos'!$F$2:$G$5,2,0),0)","v":0},null,0]
[null,null,null,null,null,null,null,null,null,null,0,{"$f":"IFERROR(VLOOKUP(A5169,'Tipos de activos'!$F$2:$G$5,2,0),0)","v":0},null,0]
[null,null,null,null,null,null,null,null,null,null,0,{"$f":"IFERROR(VLOOKUP(A5172,'Tipos de activos'!$F$2:$G$5,2,0),0)","v":0},null,0]
[null,null,null,null,null,null,null,null,null,null,0,{"$f":"IFERROR(VLOOKUP(A5179,'Tipos de activos'!$F$2:$G$5,2,0),0)","v":0},null,0]
[null,null,null,null,null,null,null,null,null,null,0,{"$f":"IFERROR(VLOOKUP(A5185,'Tipos de activos'!$F$2:$G$5,2,0),0)","v":0},null,0]
[null,null,null,null,null,null,null,null,null,null,0,{"$f":"IFERROR(VLOOKUP(A5190,'Tipos de activos'!$F$2:$G$5,2,0),0)","v":0},null,0]
[null,null,null,null,null,null,null,null,null,null,0,{"$f":"IFERROR(VLOOKUP(A5197,'Tipos de activos'!$F$2:$G$5,2,0),0)","v":0},null,0]
[null,null,null,null,null,null,null,null,null,null,0,{"$f":"IFERROR(VLOOKUP(A5200,'Tipos de activos'!$F$2:$G$5,2,0),0)","v":0},null,0]
[null,null,null,null,null,null,null,null,null,null,0,{"$f":"IFERROR(VLOOKUP(A5210,'Tipos de activos'!$F$2:$G$5,2,0),0)","v":0},null,0]
[null,null,null,null,null,null,null,null,null,null,0,{"$f":"IFERROR(VLOOKUP(A5215,'Tipos de activos'!$F$2:$G$5,2,0),0)","v":0},null,0]
[null,null,null,null,null,null,null,null,null,null,0,{"$f":"IFERROR(VLOOKUP(A5218,'Tipos de activos'!$F$2:$G$5,2,0),0)","v":0},null,0]
[null,null,null,null,null,null,null,null,null,null,0,{"$f":"IFERROR(VLOOKUP(A5225,'Tipos de activos'!$F$2:$G$5,2,0),0)","v":0},null,0]
[null,null,null,null,null,null,null,null,null,null,0,{"$f":"IFERROR(VLOOKUP(A5229,'Tipos de activos'!$F$2:$G$5,2,0),0)","v":0},null,0]
[null,null,null,null,null,null,null,null,null,null,0,{"$f":"IFERROR(VLOOKUP(A5234,'Tipos de activos'!$F$2:$G$5,2,0),0)","v":0},null,0]
[null,null,null,null,null,null,null,null,null,null,0,{"$f":"IFERROR(VLOOKUP(A5243,'Tipos de activos'!$F$2:$G$5,2,0),0)","v":0},null,0]
[null,null,null,null,null,null,null,null,null,null,0,{"$f":"IFERROR(VLOOKUP(A5246,'Tipos de activos'!$F$2:$G$5,2,0),0)","v":0},null,0]
[null,null,null,null,null,null,null,null,null,null,0,{"$f":"IFERROR(VLOOKUP(A5254,'Tipos de activos'!$F$2:$G$5,2,0),0)","v":0},null,0]
[null,null,null,null,null,null,null,null,null,null,0,{"$f":"IFERROR(VLOOKUP(A5261,'Tipos de activos'!$F$2:$G$5,2,0),0)","v":0},null,0]
[null,null,null,null,null,null,null,null,null,null,0,{"$f":"IFERROR(VLOOKUP(A5264,'Tipos de activos'!$F$2:$G$5,2,0),0)","v":0},null,0]
[null,null,null,null,null,null,null,null,null,null,0,{"$f":"IFERROR(VLOOKUP(A5271,'Tipos de activos'!$F$2:$G$5,2,0),0)","v":0},null,0]
[null,null,null,null,null,null,null,null,null,null,0,{"$f":"IFERROR(VLOOKUP(A5278,'Tipos de activos'!$F$2:$G$5,2,0),0)","v":0},null,0]
[null,null,null,null,null,null,null,null,null,null,0,{"$f":"IFERROR(VLOOKUP(A5280,'Tipos de activos'!$F$2:$G$5,2,0),0)","v":0},null,0]
[null,null,null,null,null,null,null,null,null,null,0,{"$f":"IFERROR(VLOOKUP(A5289,'Tipos de activos'!$F$2:$G$5,2,0),0)","v":0},null,0]
[null,null,null,null,null,null,null,null,null,null,0,{"$f":"IFERROR(VLOOKUP(A5292,'Tipos de activos'!$F$2:$G$5,2,0),0)","v":0},null,0]
[null,null,null,null,null,null,null,null,null,null,0,{"$f":"IFERROR(VLOOKUP(A5298,'Tipos de activos'!$F$2:$G$5,2,0),0)","v":0},null,0]
[null,null,null,null,null,null,null,null,null,null,0,{"$f":"IFERROR(VLOOKUP(A5307,'Tipos de activos'!$F$2:$G$5,2,0),0)","v":0},null,0]
[null,null,null,null,null,null,null,null,null,null,0,{"$f":"IFERROR(VLOOKUP(A5314,'Tipos de activos'!$F$2:$G$5,2,0),0)","v":0},null,0]
[null,null,null,null,null,null,null,null,null,null,0,{"$f":"IFERROR(VLOOKUP(A5317,'Tipos de activos'!$F$2:$G$5,2,0),0)","v":0},null,0]
[null,null,null,null,null,null,null,null,null,null,0,{"$f":"IFERROR(VLOOKUP(A5322,'Tipos de activos'!$F$2:$G$5,2,0),0)","v":0},null,0]
[null,null,null,null,null,null,null,null,null,null,0,{"$f":"IFERROR(VLOOKUP(A5326,'Tipos de activos'!$F$2:$G$5,2,0),0)","v":0},null,0]
[null,null,null,null,null,null,null,null,null,null,0,{"$f":"IFERROR(VLOOKUP(A5335,'Tipos de activos'!$F$2:$G$5,2,0),0)","v":0},null,0]
[null,null,null,null,null,null,null,null,null,null,0,{"$f":"IFERROR(VLOOKUP(A5338,'Tipos de activos'!$F$2:$G$5,2,0),0)","v":0},null,0]
[null,null,null,null,null,null,null,null,null,null,0,{"$f":"IFERROR(VLOOKUP(A5347,'Tipos de activos'!$F$2:$G$5,2,0),0)","v":0},null,0]
[null,null,null,null,null,null,null,null,null,null,0,{"$f":"IFERROR(VLOOKUP(A5353,'Tipos de activos'!$F$2:$G$5,2,0),0)","v":0},null,0]
[null,null,null,null,null,null,null,null,null,null,0,{"$f":"IFERROR(VLOOKUP(A5360,'Tipos de activos'!$F$2:$G$5,2,0),0)","v":0},null,0]
[null,null,null,null,null,null,null,null,null,null,0,{"$f":"IFERROR(VLOOKUP(A5365,'Tipos de activos'!$F$2:$G$5,2,0),0)","v":0},null,0]
[null,null,null,null,null,null,null,null,null,null,0,{"$f":"IFERROR(VLOOKUP(A5371,'Tipos de activos'!$F$2:$G$5,2,0),0)","v":0},null,0]
[null,null,null,null,null,null,null,null,null,null,0,{"$f":"IFERROR(VLOOKUP(A5372,'Tipos de activos'!$F$2:$G$5,2,0),0)","v":0},null,0]
[null,null,null,null,null,null,null,null,null,null,0,{"$f":"IFERROR(VLOOKUP(A5381,'Tipos de activos'!$F$2:$G$5,2,0),0)","v":0},null,0]
[null,null,null,null,null,null,null,null,null,null,0,{"$f":"IFERROR(VLOOKUP(A5384,'Tipos de activos'!$F$2:$G$5,2,0),0)","v":0},null,0]
[null,null,null,null,null,null,null,null,null,null,0,{"$f":"IFERROR(VLOOKUP(A5390,'Tipos de activos'!$F$2:$G$5,2,0),0)","v":0},null,0]
[null,null,null,null,null,null,null,null,null,null,0,{"$f":"IFERROR(VLOOKUP(A5399,'Tipos de activos'!$F$2:$G$5,2,0),0)","v":0},null,0]
[null,null,null,null,null,null,null,null,null,null,0,{"$f":"IFERROR(VLOOKUP(A5406,'Tipos de activos'!$F$2:$G$5,2,0),0)","v":0},null,0]
[null,null,null,null,null,null,null,null,null,null,0,{"$f":"IFERROR(VLOOKUP(A5409,'Tipos de activos'!$F$2:$G$5,2,0),0)","v":0},null,0]
[null,null,null,null,null,null,null,null,null,null,0,{"$f":"IFERROR(VLOOKUP(A5417,'Tipos de activos'!$F$2:$G$5,2,0),0)","v":0},null,0]
[null,null,null,null,null,null,null,null,null,null,0,{"$f":"IFERROR(VLOOKUP(A5418,'Tipos de activos'!$F$2:$G$5,2,0),0)","v":0},null,0]
[null,null,null,null,null,null,null,null,null,null,0,{"$f":"IFERROR(VLOOKUP(A5427,'Tipos de activos'!$F$2:$G$5,2,0),0)","v":0},null,0]
[null,null,null,null,null,null,null,null,null,null,0,{"$f":"IFERROR(VLOOKUP(A5434,'Tipos de activos'!$F$2:$G$5,2,0),0)","v":0},null,0]
[null,null,null,null,null,null,null,null,null,null,0,{"$f":"IFERROR(VLOOKUP(A5436,'Tipos de activos'!$F$2:$G$5,2,0),0)","v":0},null,0]
[null,null,null,null,null,null,null,null,null,null,0,{"$f":"IFERROR(VLOOKUP(A5445,'Tipos de activos'!$F$2:$G$5,2,0),0)","v":0},null,0]
[null,null,null,null,null,null,null,null,null,null,0,{"$f":"IFERROR(VLOOKUP(A5452,'Tipos de activos'!$F$2:$G$5,2,0),0)","v":0},null,0]
[null,null,null,null,null,null,null,null,null,null,0,{"$f":"IFERROR(VLOOKUP(A5453,'Tipos de activos'!$F$2:$G$5,2,0),0)","v":0},null,0]
[null,null,null,null,null,null,null,null,null,null,0,{"$f":"IFERROR(VLOOKUP(A5463,'Tipos de activos'!$F$2:$G$5,2,0),0)","v":0},null,0]
[null,null,null,null,null,null,null,null,null,null,0,{"$f":"IFERROR(VLOOKUP(A5464,'Tipos de activos'!$F$2:$G$5,2,0),0)","v":0},null,0]
[null,null,null,null,null,null,null,null,null,null,0,{"$f":"IFERROR(VLOOKUP(A5473,'Tipos de activos'!$F$2:$G$5,2,0),0)","v":0},null,0]
[null,null,null,null,null,null,null,null,null,null,0,{"$f":"IFERROR(VLOOKUP(A5478,'Tipos de activos'!$F$2:$G$5,2,0),0)","v":0},null,0]
[null,null,null,null,null,null,null,null,null,null,0,{"$f":"IFERROR(VLOOKUP(A5482,'Tipos de activos'!$F$2:$G$5,2,0),0)","v":0},null,0]
[null,null,null,null,null,null,null,null,null,null,0,{"$f":"IFERROR(VLOOKUP(A5491,'Tipos de activos'!$F$2:$G$5,2,0),0)","v":0},null,0]
[null,null,null,null,null,null,null,null,null,null,0,{"$f":"IFERROR(VLOOKUP(A5498,'Tipos de activos'!$F$2:$G$5,2,0),0)","v":0},null,0]
[null,null,null,null,null,null,null,null,null,null,0,{"$f":"IFERROR(VLOOKUP(A5502,'Tipos de activos'!$F$2:$G$5,2,0),0)","v":0},null,0]
[null,null,null,null,null,null,null,null,null,null,0,{"$f":"IFERROR(VLOOKUP(A5509,'Tipos de activos'!$F$2:$G$5,2,0),0)","v":0},null,0]
[null,null,null,null,null,null,null,null,null,null,0,{"$f":"IFERROR(VLOOKUP(A5510,'Tipos de activos'!$F$2:$G$5,2,0),0)","v":0},null,0]
[null,null,null,null,null,null,null,null,null,null,0,{"$f":"IFERROR(VLOOKUP(A5519,'Tipos de activos'!$F$2:$G$5,2,0),0)","v":0},null,0]
[null,null,null,null,null,null,null,null,null,null,0,{"$f":"IFERROR(VLOOKUP(A5522,'Tipos de activos'!$F$2:$G$5,2,0),0)","v":0},null,0]
[null,null,null,null,null,null,null,null,null,null,0,{"$f":"IFERROR(VLOOKUP(A5528,'Tipos de activos'!$F$2:$G$5,2,0),0)","v":0},null,0]
[null,null,null,null,null,null,null,null,null,null,0,{"$f":"IFERROR(VLOOKUP(A5537,'Tipos de activos'!$F$2:$G$5,2,0),0)","v":0},null,0]
[null,null,null,null,null,null,null,null,null,null,0,{"$f":"IFERROR(VLOOKUP(A5544,'Tipos de activos'!$F$2:$G$5,2,0),0)","v":0},null,0]
[null,null,null,null,null,null,null,null,null,null,0,{"$f":"IFERROR(VLOOKUP(A5546,'Tipos de activos'!$F$2:$G$5,2,0),0)","v":0},null,0]
[null,null,null,null,null,null,null,null,null,null,0,{"$f":"IFERROR(VLOOKUP(A5553,'Tipos de activos'!$F$2:$G$5,2,0),0)","v":0},null,0]
[null,null,null,null,null,null,null,null,null,null,0,{"$f":"IFERROR(VLOOKUP(A5556,'Tipos de activos'!$F$2:$G$5,2,0),0)","v":0},null,0]
[null,null,null,null,null,null,null,null,null,null,0,{"$f":"IFERROR(VLOOKUP(A5565,'Tipos de activos'!$F$2:$G$5,2,0),0)","v":0},null,0]
[null,null,null,null,null,null,null,null,null,null,0,{"$f":"IFERROR(VLOOKUP(A5571,'Tipos de activos'!$F$2:$G$5,2,0),0)","v":0},null,0]
[null,null,null,null,null,null,null,null,null,null,0,{"$f":"IFERROR(VLOOKUP(A5574,'Tipos de activos'!$F$2:$G$5,2,0),0)","v":0},null,0]
[null,null,null,null,null,null,null,null,null,null,0,{"$f":"IFERROR(VLOOKUP(A5583,'Tipos de activos'!$F$2:$G$5,2,0),0)","v":0},null,0]
[null,null,null,null,null,null,null,null,null,null,0,{"$f":"IFERROR(VLOOKUP(A5590,'Tipos de activos'!$F$2:$G$5,2,0),0)","v":0},null,0]
[null,null,null,null,null,null,null,null,null,null,0,{"$f":"IFERROR(VLOOKUP(A5595,'Tipos de activos'!$F$2:$G$5,2,0),0)","v":0},null,0]
[null,null,null,null,null,null,null,null,null,null,0,{"$f":"IFERROR(VLOOKUP(A5599,'Tipos de activos'!$F$2:$G$5,2,0),0)","v":0},null,0]
[null,null,null,null,null,null,null,null,null,null,0,{"$f":"IFERROR(VLOOKUP(A5602,'Tipos de activos'!$F$2:$G$5,2,0),0)","v":0},null,0]
[null,null,null,null,null,null,null,null,null,null,0,{"$f":"IFERROR(VLOOKUP(A5608,'Tipos de activos'!$F$2:$G$5,2,0),0)","v":0},null,0]
[null,null,null,null,null,null,null,null,null,null,0,{"$f":"IFERROR(VLOOKUP(A5617,'Tipos de activos'!$F$2:$G$5,2,0),0)","v":0},null,0]
[null,null,null,null,null,null,null,null,null,null,0,{"$f":"IFERROR(VLOOKUP(A5620,'Tipos de activos'!$F$2:$G$5,2,0),0)","v":0},null,0]
[null,null,null,null,null,null,null,null,null,null,0,{"$f":"IFERROR(VLOOKUP(A5627,'Tipos de activos'!$F$2:$G$5,2,0),0)","v":0},null,0]
[null,null,null,null,null,null,null,null,null,null,0,{"$f":"IFERROR(VLOOKUP(A5633,'Tipos de activos'!$F$2:$G$5,2,0),0)","v":0},null,0]
[null,null,null,null,null,null,null,null,null,null,0,{"$f":"IFERROR(VLOOKUP(A5638,'Tipos de activos'!$F$2:$G$5,2,0),0)","v":0},null,0]
[null,null,null,null,null,null,null,null,null,null,0,{"$f":"IFERROR(VLOOKUP(A5645,'Tipos de activos'!$F$2:$G$5,2,0),0)","v":0},null,0]
[null,null,null,null,null,null,null,null,null,null,0,{"$f":"IFERROR(VLOOKUP(A5648,'Tipos de activos'!$F$2:$G$5,2,0),0)","v":0},null,0]
[null,null,null,null,null,null,null,null,null,null,{"$f":"+I5657-J5657","v":0},{"$f":"IFERROR(VLOOKUP(A5657,'Tipos de activos'!$F$2:$G$5,2,0),0)","v":0},null,0]
[null,null,null,null,null,null,null,null,null,null,0,{"$f":"IFERROR(VLOOKUP(A5663,'Tipos de activos'!$F$2:$G$5,2,0),0)","v":0},null,0]
[null,null,null,null,null,null,null,null,null,null,0,{"$f":"IFERROR(VLOOKUP(A5666,'Tipos de activos'!$F$2:$G$5,2,0),0)","v":0},null,0]
[null,null,null,null,null,null,null,null,null,null,0,{"$f":"IFERROR(VLOOKUP(A5673,'Tipos de activos'!$F$2:$G$5,2,0),0)","v":0},null,0]
[null,null,null,null,null,null,null,null,null,null,0,{"$f":"IFERROR(VLOOKUP(A5677,'Tipos de activos'!$F$2:$G$5,2,0),0)","v":0},null,0]
[null,null,null,null,null,null,null,null,null,null,0,{"$f":"IFERROR(VLOOKUP(A5684,'Tipos de activos'!$F$2:$G$5,2,0),0)","v":0},null,0]
[null,null,null,null,null,null,null,null,null,null,0,{"$f":"IFERROR(VLOOKUP(A5691,'Tipos de activos'!$F$2:$G$5,2,0),0)","v":0},null,0]
[null,null,null,null,null,null,null,null,null,null,0,{"$f":"IFERROR(VLOOKUP(A5694,'Tipos de activos'!$F$2:$G$5,2,0),0)","v":0},null,0]
[null,null,null,null,null,null,null,null,null,null,0,{"$f":"IFERROR(VLOOKUP(A5701,'Tipos de activos'!$F$2:$G$5,2,0),0)","v":0},null,0]
[null,null,null,null,null,null,null,null,null,null,0,{"$f":"IFERROR(VLOOKUP(A5709,'Tipos de activos'!$F$2:$G$5,2,0),0)","v":0},null,0]
[null,null,null,null,null,null,null,null,null,null,0,{"$f":"IFERROR(VLOOKUP(A5712,'Tipos de activos'!$F$2:$G$5,2,0),0)","v":0},null,0]
[null,null,null,null,null,null,null,null,null,null,0,{"$f":"IFERROR(VLOOKUP(A5719,'Tipos de activos'!$F$2:$G$5,2,0),0)","v":0},null,0]
[null,null,null,null,null,null,null,null,null,null,0,{"$f":"IFERROR(VLOOKUP(A5726,'Tipos de activos'!$F$2:$G$5,2,0),0)","v":0},null,0]
[null,null,null,null,null,null,null,null,null,null,0,{"$f":"IFERROR(VLOOKUP(A5730,'Tipos de activos'!$F$2:$G$5,2,0),0)","v":0},null,0]
[null,null,null,null,null,null,null,null,null,null,0,{"$f":"IFERROR(VLOOKUP(A5737,'Tipos de activos'!$F$2:$G$5,2,0),0)","v":0},null,0]
[null,null,null,null,null,null,null,null,null,null,0,{"$f":"IFERROR(VLOOKUP(A5740,'Tipos de activos'!$F$2:$G$5,2,0),0)","v":0},null,0]
[null,null,null,null,null,null,null,null,null,null,0,{"$f":"IFERROR(VLOOKUP(A5746,'Tipos de activos'!$F$2:$G$5,2,0),0)","v":0},null,0]
[null,null,null,null,null,null,null,null,null,null,0,{"$f":"IFERROR(VLOOKUP(A5755,'Tipos de activos'!$F$2:$G$5,2,0),0)","v":0},null,0]
[null,null,null,null,null,null,null,null,null,null,0,{"$f":"IFERROR(VLOOKUP(A5758,'Tipos de activos'!$F$2:$G$5,2,0),0)","v":0},null,0]
[null,null,null,null,null,null,null,null,null,null,0,{"$f":"IFERROR(VLOOKUP(A5765,'Tipos de activos'!$F$2:$G$5,2,0),0)","v":0},null,0]
[null,null,null,null,null,null,null,null,null,null,0,{"$f":"IFERROR(VLOOKUP(A5770,'Tipos de activos'!$F$2:$G$5,2,0),0)","v":0},null,0]
[null,null,null,null,null,null,null,null,null,null,0,{"$f":"IFERROR(VLOOKUP(A5776,'Tipos de activos'!$F$2:$G$5,2,0),0)","v":0},null,0]
[null,null,null,null,null,null,null,null,null,null,0,{"$f":"IFERROR(VLOOKUP(A5783,'Tipos de activos'!$F$2:$G$5,2,0),0)","v":0},null,0]
[null,null,null,null,null,null,null,null,null,null,0,{"$f":"IFERROR(VLOOKUP(A5786,'Tipos de activos'!$F$2:$G$5,2,0),0)","v":0},null,0]
[null,null,null,null,null,null,null,null,null,null,0,{"$f":"IFERROR(VLOOKUP(A5795,'Tipos de activos'!$F$2:$G$5,2,0),0)","v":0},null,0]
[null,null,null,null,null,null,null,null,null,null,0,{"$f":"IFERROR(VLOOKUP(A5801,'Tipos de activos'!$F$2:$G$5,2,0),0)","v":0},null,0]
[null,null,null,null,null,null,null,null,null,null,0,{"$f":"IFERROR(VLOOKUP(A5804,'Tipos de activos'!$F$2:$G$5,2,0),0)","v":0},null,0]
[null,null,null,null,null,null,null,null,null,null,0,{"$f":"IFERROR(VLOOKUP(A5811,'Tipos de activos'!$F$2:$G$5,2,0),0)","v":0},null,0]
[null,null,null,null,null,null,null,null,null,null,0,{"$f":"IFERROR(VLOOKUP(A5819,'Tipos de activos'!$F$2:$G$5,2,0),0)","v":0},null,0]
[null,null,null,null,null,null,null,null,null,null,0,{"$f":"IFERROR(VLOOKUP(A5820,'Tipos de activos'!$F$2:$G$5,2,0),0)","v":0},null,0]
[null,null,null,null,null,null,null,null,null,null,0,{"$f":"IFERROR(VLOOKUP(A5829,'Tipos de activos'!$F$2:$G$5,2,0),0)","v":0},null,0]
[null,null,null,null,null,null,null,null,null,null,0,{"$f":"IFERROR(VLOOKUP(A5832,'Tipos de activos'!$F$2:$G$5,2,0),0)","v":0},null,0]
[null,null,null,null,null,null,null,null,null,null,0,{"$f":"IFERROR(VLOOKUP(A5838,'Tipos de activos'!$F$2:$G$5,2,0),0)","v":0},null,0]
[null,null,null,null,null,null,null,null,null,null,0,{"$f":"IFERROR(VLOOKUP(A5847,'Tipos de activos'!$F$2:$G$5,2,0),0)","v":0},null,0]
[null,null,null,null,null,null,null,null,null,null,0,{"$f":"IFERROR(VLOOKUP(A5850,'Tipos de activos'!$F$2:$G$5,2,0),0)","v":0},null,0]
[null,null,null,null,null,null,null,null,null,null,0,{"$f":"IFERROR(VLOOKUP(A5857,'Tipos de activos'!$F$2:$G$5,2,0),0)","v":0},null,0]
[null,null,null,null,null,null,null,null,null,null,0,{"$f":"IFERROR(VLOOKUP(A5865,'Tipos de activos'!$F$2:$G$5,2,0),0)","v":0},null,0]
[null,null,null,null,null,null,null,null,null,null,0,{"$f":"IFERROR(VLOOKUP(A5866,'Tipos de activos'!$F$2:$G$5,2,0),0)","v":0},null,0]
[null,null,null,null,null,null,null,null,null,null,0,{"$f":"IFERROR(VLOOKUP(A5875,'Tipos de activos'!$F$2:$G$5,2,0),0)","v":0},null,0]
[null,null,null,null,null,null,null,null,null,null,0,{"$f":"IFERROR(VLOOKUP(A5881,'Tipos de activos'!$F$2:$G$5,2,0),0)","v":0},null,0]
[null,null,null,null,null,null,null,null,null,null,0,{"$f":"IFERROR(VLOOKUP(A5884,'Tipos de activos'!$F$2:$G$5,2,0),0)","v":0},null,0]
[null,null,null,null,null,null,null,null,null,null,0,{"$f":"IFERROR(VLOOKUP(A5893,'Tipos de activos'!$F$2:$G$5,2,0),0)","v":0},null,0]
[null,null,null,null,null,null,null,null,null,null,0,{"$f":"IFERROR(VLOOKUP(A5896,'Tipos de activos'!$F$2:$G$5,2,0),0)","v":0},null,0]
[null,null,null,null,null,null,null,null,null,null,0,{"$f":"IFERROR(VLOOKUP(A5901,'Tipos de activos'!$F$2:$G$5,2,0),0)","v":0},null,0]
[null,null,null,null,null,null,null,null,null,null,0,{"$f":"IFERROR(VLOOKUP(A5911,'Tipos de activos'!$F$2:$G$5,2,0),0)","v":0},null,0]
[null,null,null,null,null,null,null,null,null,null,0,{"$f":"IFERROR(VLOOKUP(A5912,'Tipos de activos'!$F$2:$G$5,2,0),0)","v":0},null,0]
[null,null,null,null,null,null,null,null,null,null,0,{"$f":"IFERROR(VLOOKUP(A5921,'Tipos de activos'!$F$2:$G$5,2,0),0)","v":0},null,0]
[null,null,null,null,null,null,null,null,null,null,0,{"$f":"IFERROR(VLOOKUP(A5925,'Tipos de activos'!$F$2:$G$5,2,0),0)","v":0},null,0]
[null,null,null,null,null,null,null,null,null,null,0,{"$f":"IFERROR(VLOOKUP(A5930,'Tipos de activos'!$F$2:$G$5,2,0),0)","v":0},null,0]
[null,null,null,null,null,null,null,null,null,null,0,{"$f":"IFERROR(VLOOKUP(A5939,'Tipos de activos'!$F$2:$G$5,2,0),0)","v":0},null,0]
[null,null,null,null,null,null,null,null,null,null,0,{"$f":"IFERROR(VLOOKUP(A5946,'Tipos de activos'!$F$2:$G$5,2,0),0)","v":0},null,0]
[null,null,null,null,null,null,null,null,null,null,0,{"$f":"IFERROR(VLOOKUP(A5950,'Tipos de activos'!$F$2:$G$5,2,0),0)","v":0},null,0]
[null,null,null,null,null,null,null,null,null,null,0,{"$f":"IFERROR(VLOOKUP(A5957,'Tipos de activos'!$F$2:$G$5,2,0),0)","v":0},null,0]
[null,null,null,null,null,null,null,null,null,null,0,{"$f":"IFERROR(VLOOKUP(A5958,'Tipos de activos'!$F$2:$G$5,2,0),0)","v":0},null,0]
[null,null,null,null,null,null,null,null,null,null,0,{"$f":"IFERROR(VLOOKUP(A5967,'Tipos de activos'!$F$2:$G$5,2,0),0)","v":0},null,0]
[null,null,null,null,null,null,null,null,null,null,0,{"$f":"IFERROR(VLOOKUP(A5974,'Tipos de activos'!$F$2:$G$5,2,0),0)","v":0},null,0]
[null,null,null,null,null,null,null,null,null,null,0,{"$f":"IFERROR(VLOOKUP(A5976,'Tipos de activos'!$F$2:$G$5,2,0),0)","v":0},null,0]
[null,null,null,null,null,null,null,null,null,null,0,{"$f":"IFERROR(VLOOKUP(A5985,'Tipos de activos'!$F$2:$G$5,2,0),0)","v":0},null,0]
[null,null,null,null,null,null,null,null,null,null,0,{"$f":"IFERROR(VLOOKUP(A5992,'Tipos de activos'!$F$2:$G$5,2,0),0)","v":0},null,0]
[null,null,null,null,null,null,null,null,null,null,0,{"$f":"IFERROR(VLOOKUP(A5994,'Tipos de activos'!$F$2:$G$5,2,0),0)","v":0},null,0]
[null,null,null,null,null,null,null,null,null,null,0,{"$f":"IFERROR(VLOOKUP(A6003,'Tipos de activos'!$F$2:$G$5,2,0),0)","v":0},null,0]
[null,null,null,null,null,null,null,null,null,null,0,{"$f":"IFERROR(VLOOKUP(A6004,'Tipos de activos'!$F$2:$G$5,2,0),0)","v":0},null,0]
[null,null,null,null,null,null,null,null,null,null,0,{"$f":"IFERROR(VLOOKUP(A6013,'Tipos de activos'!$F$2:$G$5,2,0),0)","v":0},null,0]
[null,null,null,null,null,null,null,null,null,null,0,{"$f":"IFERROR(VLOOKUP(A6018,'Tipos de activos'!$F$2:$G$5,2,0),0)","v":0},null,0]
[null,null,null,null,null,null,null,null,null,null,0,{"$f":"IFERROR(VLOOKUP(A6022,'Tipos de activos'!$F$2:$G$5,2,0),0)","v":0},null,0]
[null,null,null,null,null,null,null,null,null,null,0,{"$f":"IFERROR(VLOOKUP(A6031,'Tipos de activos'!$F$2:$G$5,2,0),0)","v":0},null,0]
[null,null,null,null,null,null,null,null,null,null,0,{"$f":"IFERROR(VLOOKUP(A6038,'Tipos de activos'!$F$2:$G$5,2,0),0)","v":0},null,0]
[null,null,null,null,null,null,null,null,null,null,0,{"$f":"IFERROR(VLOOKUP(A6043,'Tipos de activos'!$F$2:$G$5,2,0),0)","v":0},null,0]
[null,null,null,null,null,null,null,null,null,null,0,{"$f":"IFERROR(VLOOKUP(A6049,'Tipos de activos'!$F$2:$G$5,2,0),0)","v":0},null,0]
[null,null,null,null,null,null,null,null,null,null,0,{"$f":"IFERROR(VLOOKUP(A6050,'Tipos de activos'!$F$2:$G$5,2,0),0)","v":0},null,0]
[null,null,null,null,null,null,null,null,null,null,0,{"$f":"IFERROR(VLOOKUP(A6059,'Tipos de activos'!$F$2:$G$5,2,0),0)","v":0},null,0]
[null,null,null,null,null,null,null,null,null,null,0,{"$f":"IFERROR(VLOOKUP(A6063,'Tipos de activos'!$F$2:$G$5,2,0),0)","v":0},null,0]
[null,null,null,null,null,null,null,null,null,null,0,{"$f":"IFERROR(VLOOKUP(A6068,'Tipos de activos'!$F$2:$G$5,2,0),0)","v":0},null,0]
[null,null,null,null,null,null,null,null,null,null,0,{"$f":"IFERROR(VLOOKUP(A6077,'Tipos de activos'!$F$2:$G$5,2,0),0)","v":0},null,0]
[null,null,null,null,null,null,null,null,null,null,0,{"$f":"IFERROR(VLOOKUP(A6081,'Tipos de activos'!$F$2:$G$5,2,0),0)","v":0},null,0]
[null,null,null,null,null,null,null,null,null,null,0,{"$f":"IFERROR(VLOOKUP(A6086,'Tipos de activos'!$F$2:$G$5,2,0),0)","v":0},null,0]
[null,null,null,null,null,null,null,null,null,null,0,{"$f":"IFERROR(VLOOKUP(A6095,'Tipos de activos'!$F$2:$G$5,2,0),0)","v":0},null,0]
[null,null,null,null,null,null,null,null,null,null,0,{"$f":"IFERROR(VLOOKUP(A6096,'Tipos de activos'!$F$2:$G$5,2,0),0)","v":0},null,0]
[null,null,null,null,null,null,null,null,null,null,{"$f":"+I6105-J6105","v":0},{"$f":"IFERROR(VLOOKUP(A6105,'Tipos de activos'!$F$2:$G$5,2,0),0)","v":0},null,0]
[null,null,null,null,null,null,null,null,null,null,0,{"$f":"IFERROR(VLOOKUP(A6111,'Tipos de activos'!$F$2:$G$5,2,0),0)","v":0},null,0]
[null,null,null,null,null,null,null,null,null,null,0,{"$f":"IFERROR(VLOOKUP(A6114,'Tipos de activos'!$F$2:$G$5,2,0),0)","v":0},null,0]
[null,null,null,null,null,null,null,null,null,null,0,{"$f":"IFERROR(VLOOKUP(A6123,'Tipos de activos'!$F$2:$G$5,2,0),0)","v":0},null,0]
[null,null,null,null,null,null,null,null,null,null,0,{"$f":"IFERROR(VLOOKUP(A6125,'Tipos de activos'!$F$2:$G$5,2,0),0)","v":0},null,0]
[null,null,null,null,null,null,null,null,null,null,0,{"$f":"IFERROR(VLOOKUP(A6132,'Tipos de activos'!$F$2:$G$5,2,0),0)","v":0},null,0]
[null,null,null,null,null,null,null,null,null,null,0,{"$f":"IFERROR(VLOOKUP(A6139,'Tipos de activos'!$F$2:$G$5,2,0),0)","v":0},null,0]
[null,null,null,null,null,null,null,null,null,null,0,{"$f":"IFERROR(VLOOKUP(A6142,'Tipos de activos'!$F$2:$G$5,2,0),0)","v":0},null,0]
[null,null,null,null,null,null,null,null,null,null,0,{"$f":"IFERROR(VLOOKUP(A6149,'Tipos de activos'!$F$2:$G$5,2,0),0)","v":0},null,0]
[null,null,null,null,null,null,null,null,null,null,0,{"$f":"IFERROR(VLOOKUP(A6157,'Tipos de activos'!$F$2:$G$5,2,0),0)","v":0},null,0]
[null,null,null,null,null,null,null,null,null,null,0,{"$f":"IFERROR(VLOOKUP(A6160,'Tipos de activos'!$F$2:$G$5,2,0),0)","v":0},null,0]
[null,null,null,null,null,null,null,null,null,null,{"$f":"+I6169-J6169","v":0},{"$f":"IFERROR(VLOOKUP(A6169,'Tipos de activos'!$F$2:$G$5,2,0),0)","v":0},null,0]
[null,null,null,null,null,null,null,null,null,null,0,{"$f":"IFERROR(VLOOKUP(A6174,'Tipos de activos'!$F$2:$G$5,2,0),0)","v":0},null,0]
[null,null,null,null,null,null,null,null,null,null,0,{"$f":"IFERROR(VLOOKUP(A6178,'Tipos de activos'!$F$2:$G$5,2,0),0)","v":0},null,0]
[null,null,null,null,null,null,null,null,null,null,0,{"$f":"IFERROR(VLOOKUP(A6185,'Tipos de activos'!$F$2:$G$5,2,0),0)","v":0},null,0]
[null,null,null,null,null,null,null,null,null,null,0,{"$f":"IFERROR(VLOOKUP(A6188,'Tipos de activos'!$F$2:$G$5,2,0),0)","v":0},null,0]
[null,null,null,null,null,null,null,null,null,null,0,{"$f":"IFERROR(VLOOKUP(A6198,'Tipos de activos'!$F$2:$G$5,2,0),0)","v":0},null,0]
[null,null,null,null,null,null,null,null,null,null,0,{"$f":"IFERROR(VLOOKUP(A6203,'Tipos de activos'!$F$2:$G$5,2,0),0)","v":0},null,0]
[null,null,null,null,null,null,null,null,null,null,0,{"$f":"IFERROR(VLOOKUP(A6206,'Tipos de activos'!$F$2:$G$5,2,0),0)","v":0},null,0]
[null,null,null,null,null,null,null,null,null,null,0,{"$f":"IFERROR(VLOOKUP(A6215,'Tipos de activos'!$F$2:$G$5,2,0),0)","v":0},null,0]
[null,null,null,null,null,null,null,null,null,null,0,{"$f":"IFERROR(VLOOKUP(A6218,'Tipos de activos'!$F$2:$G$5,2,0),0)","v":0},null,0]
[null,null,null,null,null,null,null,null,null,null,0,{"$f":"IFERROR(VLOOKUP(A6224,'Tipos de activos'!$F$2:$G$5,2,0),0)","v":0},null,0]
[null,null,null,null,null,null,null,null,null,null,0,{"$f":"IFERROR(VLOOKUP(A6231,'Tipos de activos'!$F$2:$G$5,2,0),0)","v":0},null,0]
[null,null,null,null,null,null,null,null,null,null,0,{"$f":"IFERROR(VLOOKUP(A6234,'Tipos de activos'!$F$2:$G$5,2,0),0)","v":0},null,0]
[null,null,null,null,null,null,null,null,null,null,0,{"$f":"IFERROR(VLOOKUP(A6242,'Tipos de activos'!$F$2:$G$5,2,0),0)","v":0},null,0]
[null,null,null,null,null,null,null,null,null,null,0,{"$f":"IFERROR(VLOOKUP(A6249,'Tipos de activos'!$F$2:$G$5,2,0),0)","v":0},null,0]
[null,null,null,null,null,null,null,null,null,null,0,{"$f":"IFERROR(VLOOKUP(A6252,'Tipos de activos'!$F$2:$G$5,2,0),0)","v":0},null,0]
[null,null,null,null,null,null,null,null,null,null,0,{"$f":"IFERROR(VLOOKUP(A6259,'Tipos de activos'!$F$2:$G$5,2,0),0)","v":0},null,0]
[null,null,null,null,null,null,null,null,null,null,0,{"$f":"IFERROR(VLOOKUP(A6267,'Tipos de activos'!$F$2:$G$5,2,0),0)","v":0},null,0]
[null,null,null,null,null,null,null,null,null,null,0,{"$f":"IFERROR(VLOOKUP(A6270,'Tipos de activos'!$F$2:$G$5,2,0),0)","v":0},null,0]
[null,null,null,null,null,null,null,null,null,null,0,{"$f":"IFERROR(VLOOKUP(A6277,'Tipos de activos'!$F$2:$G$5,2,0),0)","v":0},null,0]
[null,null,null,null,null,null,null,null,null,null,0,{"$f":"IFERROR(VLOOKUP(A6280,'Tipos de activos'!$F$2:$G$5,2,0),0)","v":0},null,0]
[null,null,null,null,null,null,null,null,null,null,0,{"$f":"IFERROR(VLOOKUP(A6286,'Tipos de activos'!$F$2:$G$5,2,0),0)","v":0},null,0]
[null,null,null,null,null,null,null,null,null,null,0,{"$f":"IFERROR(VLOOKUP(A6295,'Tipos de activos'!$F$2:$G$5,2,0),0)","v":0},null,0]
[null,null,null,null,null,null,null,null,null,null,0,{"$f":"IFERROR(VLOOKUP(A6298,'Tipos de activos'!$F$2:$G$5,2,0),0)","v":0},null,0]
[null,null,null,null,null,null,null,null,null,null,0,{"$f":"IFERROR(VLOOKUP(A6305,'Tipos de activos'!$F$2:$G$5,2,0),0)","v":0},null,0]
[null,null,null,null,null,null,null,null,null,null,0,{"$f":"IFERROR(VLOOKUP(A6311,'Tipos de activos'!$F$2:$G$5,2,0),0)","v":0},null,0]
[null,null,null,null,null,null,null,null,null,null,0,{"$f":"IFERROR(VLOOKUP(A6316,'Tipos de activos'!$F$2:$G$5,2,0),0)","v":0},null,0]
[null,null,null,null,null,null,null,null,null,null,0,{"$f":"IFERROR(VLOOKUP(A6323,'Tipos de activos'!$F$2:$G$5,2,0),0)","v":0},null,0]
[null,null,null,null,null,null,null,null,null,null,0,{"$f":"IFERROR(VLOOKUP(A6329,'Tipos de activos'!$F$2:$G$5,2,0),0)","v":0},null,0]
[null,null,null,null,null,null,null,null,null,null,0,{"$f":"IFERROR(VLOOKUP(A6332,'Tipos de activos'!$F$2:$G$5,2,0),0)","v":0},null,0]
[null,null,null,null,null,null,null,null,null,null,0,{"$f":"IFERROR(VLOOKUP(A6341,'Tipos de activos'!$F$2:$G$5,2,0),0)","v":0},null,0]
[null,null,null,null,null,null,null,null,null,null,0,{"$f":"IFERROR(VLOOKUP(A6344,'Tipos de activos'!$F$2:$G$5,2,0),0)","v":0},null,0]
[null,null,null,null,null,null,null,null,null,null,0,{"$f":"IFERROR(VLOOKUP(A6349,'Tipos de activos'!$F$2:$G$5,2,0),0)","v":0},null,0]
[null,null,null,null,null,null,null,null,null,null,0,{"$f":"IFERROR(VLOOKUP(A6359,'Tipos de activos'!$F$2:$G$5,2,0),0)","v":0},null,0]
[null,null,null,null,null,null,null,null,null,null,0,{"$f":"IFERROR(VLOOKUP(A6362,'Tipos de activos'!$F$2:$G$5,2,0),0)","v":0},null,0]
[null,null,null,null,null,null,null,null,null,null,0,{"$f":"IFERROR(VLOOKUP(A6369,'Tipos de activos'!$F$2:$G$5,2,0),0)","v":0},null,0]
[null,null,null,null,null,null,null,null,null,null,0,{"$f":"IFERROR(VLOOKUP(A6373,'Tipos de activos'!$F$2:$G$5,2,0),0)","v":0},null,0]
[null,null,null,null,null,null,null,null,null,null,0,{"$f":"IFERROR(VLOOKUP(A6378,'Tipos de activos'!$F$2:$G$5,2,0),0)","v":0},null,0]
[null,null,null,null,null,null,null,null,null,null,0,{"$f":"IFERROR(VLOOKUP(A6387,'Tipos de activos'!$F$2:$G$5,2,0),0)","v":0},null,0]
[null,null,null,null,null,null,null,null,null,null,0,{"$f":"IFERROR(VLOOKUP(A6390,'Tipos de activos'!$F$2:$G$5,2,0),0)","v":0},null,0]
[null,null,null,null,null,null,null,null,null,null,0,{"$f":"IFERROR(VLOOKUP(A6398,'Tipos de activos'!$F$2:$G$5,2,0),0)","v":0},null,0]
[null,null,null,null,null,null,null,null,null,null,0,{"$f":"IFERROR(VLOOKUP(A6405,'Tipos de activos'!$F$2:$G$5,2,0),0)","v":0},null,0]
[null,null,null,null,null,null,null,null,null,null,0,{"$f":"IFERROR(VLOOKUP(A6408,'Tipos de activos'!$F$2:$G$5,2,0),0)","v":0},null,0]
[null,null,null,null,null,null,null,null,null,null,0,{"$f":"IFERROR(VLOOKUP(A6415,'Tipos de activos'!$F$2:$G$5,2,0),0)","v":0},null,0]
[null,null,null,null,null,null,null,null,null,null,0,{"$f":"IFERROR(VLOOKUP(A6422,'Tipos de activos'!$F$2:$G$5,2,0),0)","v":0},null,0]
[null,null,null,null,null,null,null,null,null,null,0,{"$f":"IFERROR(VLOOKUP(A6424,'Tipos de activos'!$F$2:$G$5,2,0),0)","v":0},null,0]
[null,null,null,null,null,null,null,null,null,null,0,{"$f":"IFERROR(VLOOKUP(A6433,'Tipos de activos'!$F$2:$G$5,2,0),0)","v":0},null,0]
[null,null,null,null,null,null,null,null,null,null,0,{"$f":"IFERROR(VLOOKUP(A6436,'Tipos de activos'!$F$2:$G$5,2,0),0)","v":0},null,0]
[null,null,null,null,null,null,null,null,null,null,0,{"$f":"IFERROR(VLOOKUP(A6442,'Tipos de activos'!$F$2:$G$5,2,0),0)","v":0},null,0]
[null,null,null,null,null,null,null,null,null,null,0,{"$f":"IFERROR(VLOOKUP(A6451,'Tipos de activos'!$F$2:$G$5,2,0),0)","v":0},null,0]
[null,null,null,null,null,null,null,null,null,null,0,{"$f":"IFERROR(VLOOKUP(A6452,'Tipos de activos'!$F$2:$G$5,2,0),0)","v":0},null,0]
[null,null,null,null,null,null,null,null,null,null,0,{"$f":"IFERROR(VLOOKUP(A6461,'Tipos de activos'!$F$2:$G$5,2,0),0)","v":0},null,0]
[null,null,null,null,null,null,null,null,null,null,0,{"$f":"IFERROR(VLOOKUP(A6466,'Tipos de activos'!$F$2:$G$5,2,0),0)","v":0},null,0]
[null,null,null,null,null,null,null,null,null,null,0,{"$f":"IFERROR(VLOOKUP(A6470,'Tipos de activos'!$F$2:$G$5,2,0),0)","v":0},null,0]
[null,null,null,null,null,null,null,null,null,null,0,{"$f":"IFERROR(VLOOKUP(A6479,'Tipos de activos'!$F$2:$G$5,2,0),0)","v":0},null,0]
[null,null,null,null,null,null,null,null,null,null,0,{"$f":"IFERROR(VLOOKUP(A6482,'Tipos de activos'!$F$2:$G$5,2,0),0)","v":0},null,0]
[null,null,null,null,null,null,null,null,null,null,0,{"$f":"IFERROR(VLOOKUP(A6491,'Tipos de activos'!$F$2:$G$5,2,0),0)","v":0},null,0]
[null,null,null,null,null,null,null,null,null,null,0,{"$f":"IFERROR(VLOOKUP(A6497,'Tipos de activos'!$F$2:$G$5,2,0),0)","v":0},null,0]
[null,null,null,null,null,null,null,null,null,null,0,{"$f":"IFERROR(VLOOKUP(A6498,'Tipos de activos'!$F$2:$G$5,2,0),0)","v":0},null,0]
[null,null,null,null,null,null,null,null,null,null,0,{"$f":"IFERROR(VLOOKUP(A6507,'Tipos de activos'!$F$2:$G$5,2,0),0)","v":0},null,0]
[null,null,null,null,null,null,null,null,null,null,0,{"$f":"IFERROR(VLOOKUP(A6510,'Tipos de activos'!$F$2:$G$5,2,0),0)","v":0},null,0]
[null,null,null,null,null,null,null,null,null,null,0,{"$f":"IFERROR(VLOOKUP(A6516,'Tipos de activos'!$F$2:$G$5,2,0),0)","v":0},null,0]
[null,null,null,null,null,null,null,null,null,null,0,{"$f":"IFERROR(VLOOKUP(A6525,'Tipos de activos'!$F$2:$G$5,2,0),0)","v":0},null,0]
[null,null,null,null,null,null,null,null,null,null,0,{"$f":"IFERROR(VLOOKUP(A6528,'Tipos de activos'!$F$2:$G$5,2,0),0)","v":0},null,0]
[null,null,null,null,null,null,null,null,null,null,0,{"$f":"IFERROR(VLOOKUP(A6535,'Tipos de activos'!$F$2:$G$5,2,0),0)","v":0},null,0]
[null,null,null,null,null,null,null,null,null,null,0,{"$f":"IFERROR(VLOOKUP(A6543,'Tipos de activos'!$F$2:$G$5,2,0),0)","v":0},null,0]
[null,null,null,null,null,null,null,null,null,null,0,{"$f":"IFERROR(VLOOKUP(A6544,'Tipos de activos'!$F$2:$G$5,2,0),0)","v":0},null,0]
[null,null,null,null,null,null,null,null,null,null,{"$f":"+I6553-J6553","v":0},{"$f":"IFERROR(VLOOKUP(A6553,'Tipos de activos'!$F$2:$G$5,2,0),0)","v":0},null,0]
[null,null,null,null,null,null,null,null,null,null,0,{"$f":"IFERROR(VLOOKUP(A6555,'Tipos de activos'!$F$2:$G$5,2,0),0)","v":0},null,0]
[null,null,null,null,null,null,null,null,null,null,0,{"$f":"IFERROR(VLOOKUP(A6562,'Tipos de activos'!$F$2:$G$5,2,0),0)","v":0},null,0]
[null,null,null,null,null,null,null,null,null,null,0,{"$f":"IFERROR(VLOOKUP(A6571,'Tipos de activos'!$F$2:$G$5,2,0),0)","v":0},null,0]
[null,null,null,null,null,null,null,null,null,null,0,{"$f":"IFERROR(VLOOKUP(A6573,'Tipos de activos'!$F$2:$G$5,2,0),0)","v":0},null,0]
[null,null,null,null,null,null,null,null,null,null,0,{"$f":"IFERROR(VLOOKUP(A6580,'Tipos de activos'!$F$2:$G$5,2,0),0)","v":0},null,0]
[null,null,null,null,null,null,null,null,null,null,0,{"$f":"IFERROR(VLOOKUP(A6589,'Tipos de activos'!$F$2:$G$5,2,0),0)","v":0},null,0]
[null,null,null,null,null,null,null,null,null,null,0,{"$f":"IFERROR(VLOOKUP(A6590,'Tipos de activos'!$F$2:$G$5,2,0),0)","v":0},null,0]
[null,null,null,null,null,null,null,null,null,null,0,{"$f":"IFERROR(VLOOKUP(A6597,'Tipos de activos'!$F$2:$G$5,2,0),0)","v":0},null,0]
[null,null,null,null,null,null,null,null,null,null,0,{"$f":"IFERROR(VLOOKUP(A6601,'Tipos de activos'!$F$2:$G$5,2,0),0)","v":0},null,0]
[null,null,null,null,null,null,null,null,null,null,0,{"$f":"IFERROR(VLOOKUP(A6608,'Tipos de activos'!$F$2:$G$5,2,0),0)","v":0},null,0]
[null,null,null,null,null,null,null,null,null,null,{"$f":"+I6617-J6617","v":0},{"$f":"IFERROR(VLOOKUP(A6617,'Tipos de activos'!$F$2:$G$5,2,0),0)","v":0},null,0]
[null,null,null,null,null,null,null,null,null,null,0,{"$f":"IFERROR(VLOOKUP(A6622,'Tipos de activos'!$F$2:$G$5,2,0),0)","v":0},null,0]
[null,null,null,null,null,null,null,null,null,null,0,{"$f":"IFERROR(VLOOKUP(A6626,'Tipos de activos'!$F$2:$G$5,2,0),0)","v":0},null,0]
[null,null,null,null,null,null,null,null,null,null,0,{"$f":"IFERROR(VLOOKUP(A6635,'Tipos de activos'!$F$2:$G$5,2,0),0)","v":0},null,0]
[null,null,null,null,null,null,null,null,null,null,0,{"$f":"IFERROR(VLOOKUP(A6636,'Tipos de activos'!$F$2:$G$5,2,0),0)","v":0},null,0]
[null,null,null,null,null,null,null,null,null,null,0,{"$f":"IFERROR(VLOOKUP(A6646,'Tipos de activos'!$F$2:$G$5,2,0),0)","v":0},null,0]
[null,null,null,null,null,null,null,null,null,null,0,{"$f":"IFERROR(VLOOKUP(A6651,'Tipos de activos'!$F$2:$G$5,2,0),0)","v":0},null,0]
[null,null,null,null,null,null,null,null,null,null,0,{"$f":"IFERROR(VLOOKUP(A6654,'Tipos de activos'!$F$2:$G$5,2,0),0)","v":0},null,0]
[null,null,null,null,null,null,null,null,null,null,0,{"$f":"IFERROR(VLOOKUP(A6663,'Tipos de activos'!$F$2:$G$5,2,0),0)","v":0},null,0]
[null,null,null,null,null,null,null,null,null,null,0,{"$f":"IFERROR(VLOOKUP(A6666,'Tipos de activos'!$F$2:$G$5,2,0),0)","v":0},null,0]
[null,null,null,null,null,null,null,null,null,null,0,{"$f":"IFERROR(VLOOKUP(A6672,'Tipos de activos'!$F$2:$G$5,2,0),0)","v":0},null,0]
[null,null,null,null,null,null,null,null,null,null,{"$f":"+I6681-J6681","v":0},{"$f":"IFERROR(VLOOKUP(A6681,'Tipos de activos'!$F$2:$G$5,2,0),0)","v":0},null,0]
[null,null,null,null,null,null,null,null,null,null,0,{"$f":"IFERROR(VLOOKUP(A6682,'Tipos de activos'!$F$2:$G$5,2,0),0)","v":0},null,0]
[null,null,null,null,null,null,null,null,null,null,0,{"$f":"IFERROR(VLOOKUP(A6690,'Tipos de activos'!$F$2:$G$5,2,0),0)","v":0},null,0]
[null,null,null,null,null,null,null,null,null,null,0,{"$f":"IFERROR(VLOOKUP(A6697,'Tipos de activos'!$F$2:$G$5,2,0),0)","v":0},null,0]
[null,null,null,null,null,null,null,null,null,null,0,{"$f":"IFERROR(VLOOKUP(A6700,'Tipos de activos'!$F$2:$G$5,2,0),0)","v":0},null,0]
[null,null,null,null,null,null,null,null,null,null,0,{"$f":"IFERROR(VLOOKUP(A6709,'Tipos de activos'!$F$2:$G$5,2,0),0)","v":0},null,0]
[null,null,null,null,null,null,null,null,null,null,0,{"$f":"IFERROR(VLOOKUP(A6715,'Tipos de activos'!$F$2:$G$5,2,0),0)","v":0},null,0]
[null,null,null,null,null,null,null,null,null,null,0,{"$f":"IFERROR(VLOOKUP(A6718,'Tipos de activos'!$F$2:$G$5,2,0),0)","v":0},null,0]
[null,null,null,null,null,null,null,null,null,null,0,{"$f":"IFERROR(VLOOKUP(A6727,'Tipos de activos'!$F$2:$G$5,2,0),0)","v":0},null,0]
[null,null,null,null,null,null,null,null,null,null,0,{"$f":"IFERROR(VLOOKUP(A6728,'Tipos de activos'!$F$2:$G$5,2,0),0)","v":0},null,0]
[null,null,null,null,null,null,null,null,null,null,0,{"$f":"IFERROR(VLOOKUP(A6734,'Tipos de activos'!$F$2:$G$5,2,0),0)","v":0},null,0]
[null,null,null,null,null,null,null,null,null,null,0,{"$f":"IFERROR(VLOOKUP(A6743,'Tipos de activos'!$F$2:$G$5,2,0),0)","v":0},null,0]
[null,null,null,null,null,null,null,null,null,null,0,{"$f":"IFERROR(VLOOKUP(A6746,'Tipos de activos'!$F$2:$G$5,2,0),0)","v":0},null,0]
[null,null,null,null,null,null,null,null,null,null,0,{"$f":"IFERROR(VLOOKUP(A6755,'Tipos de activos'!$F$2:$G$5,2,0),0)","v":0},null,0]
[null,null,null,null,null,null,null,null,null,null,0,{"$f":"IFERROR(VLOOKUP(A6759,'Tipos de activos'!$F$2:$G$5,2,0),0)","v":0},null,0]
[null,null,null,null,null,null,null,null,null,null,0,{"$f":"IFERROR(VLOOKUP(A6764,'Tipos de activos'!$F$2:$G$5,2,0),0)","v":0},null,0]
[null,null,null,null,null,null,null,null,null,null,0,{"$f":"IFERROR(VLOOKUP(A6771,'Tipos de activos'!$F$2:$G$5,2,0),0)","v":0},null,0]
[null,null,null,null,null,null,null,null,null,null,0,{"$f":"IFERROR(VLOOKUP(A6774,'Tipos de activos'!$F$2:$G$5,2,0),0)","v":0},null,0]
[null,null,null,null,null,null,null,null,null,null,0,{"$f":"IFERROR(VLOOKUP(A6783,'Tipos de activos'!$F$2:$G$5,2,0),0)","v":0},null,0]
[null,null,null,null,null,null,null,null,null,null,0,{"$f":"IFERROR(VLOOKUP(A6789,'Tipos de activos'!$F$2:$G$5,2,0),0)","v":0},null,0]
[null,null,null,null,null,null,null,null,null,null,0,{"$f":"IFERROR(VLOOKUP(A6792,'Tipos de activos'!$F$2:$G$5,2,0),0)","v":0},null,0]
[null,null,null,null,null,null,null,null,null,null,0,{"$f":"IFERROR(VLOOKUP(A6801,'Tipos de activos'!$F$2:$G$5,2,0),0)","v":0},null,{"$f":"+K6801*L6801","v":0}]
[null,null,null,null,null,null,null,null,null,null,0,{"$f":"IFERROR(VLOOKUP(A6807,'Tipos de activos'!$F$2:$G$5,2,0),0)","v":0},null,0]
[null,null,null,null,null,null,null,null,null,null,0,{"$f":"IFERROR(VLOOKUP(A6810,'Tipos de activos'!$F$2:$G$5,2,0),0)","v":0},null,0]
[null,null,null,null,null,null,null,null,null,null,0,{"$f":"IFERROR(VLOOKUP(A6817,'Tipos de activos'!$F$2:$G$5,2,0),0)","v":0},null,0]
[null,null,null,null,null,null,null,null,null,null,0,{"$f":"IFERROR(VLOOKUP(A6821,'Tipos de activos'!$F$2:$G$5,2,0),0)","v":0},null,0]
[null,null,null,null,null,null,null,null,null,null,0,{"$f":"IFERROR(VLOOKUP(A6828,'Tipos de activos'!$F$2:$G$5,2,0),0)","v":0},null,0]
[null,null,null,null,null,null,null,null,null,null,0,{"$f":"IFERROR(VLOOKUP(A6835,'Tipos de activos'!$F$2:$G$5,2,0),0)","v":0},null,0]
[null,null,null,null,null,null,null,null,null,null,0,{"$f":"IFERROR(VLOOKUP(A6838,'Tipos de activos'!$F$2:$G$5,2,0),0)","v":0},null,0]
[null,null,null,null,null,null,null,null,null,null,0,{"$f":"IFERROR(VLOOKUP(A6845,'Tipos de activos'!$F$2:$G$5,2,0),0)","v":0},null,0]
[null,null,null,null,null,null,null,null,null,null,0,{"$f":"IFERROR(VLOOKUP(A6853,'Tipos de activos'!$F$2:$G$5,2,0),0)","v":0},null,0]
[null,null,null,null,null,null,null,null,null,null,0,{"$f":"IFERROR(VLOOKUP(A6856,'Tipos de activos'!$F$2:$G$5,2,0),0)","v":0},null,0]
[null,null,null,null,null,null,null,null,null,null,0,{"$f":"IFERROR(VLOOKUP(A6863,'Tipos de activos'!$F$2:$G$5,2,0),0)","v":0},null,0]
[null,null,null,null,null,null,null,null,null,null,0,{"$f":"IFERROR(VLOOKUP(A6870,'Tipos de activos'!$F$2:$G$5,2,0),0)","v":0},null,0]
[null,null,null,null,null,null,null,null,null,null,0,{"$f":"IFERROR(VLOOKUP(A6874,'Tipos de activos'!$F$2:$G$5,2,0),0)","v":0},null,0]
[null,null,null,null,null,null,null,null,null,null,0,{"$f":"IFERROR(VLOOKUP(A6881,'Tipos de activos'!$F$2:$G$5,2,0),0)","v":0},null,0]
[null,null,null,null,null,null,null,null,null,null,0,{"$f":"IFERROR(VLOOKUP(A6884,'Tipos de activos'!$F$2:$G$5,2,0),0)","v":0},null,0]
[null,null,null,null,null,null,null,null,null,null,0,{"$f":"IFERROR(VLOOKUP(A6890,'Tipos de activos'!$F$2:$G$5,2,0),0)","v":0},null,0]
[null,null,null,null,null,null,null,null,null,null,0,{"$f":"IFERROR(VLOOKUP(A6899,'Tipos de activos'!$F$2:$G$5,2,0),0)","v":0},null,0]
[null,null,null,null,null,null,null,null,null,null,0,{"$f":"IFERROR(VLOOKUP(A6902,'Tipos de activos'!$F$2:$G$5,2,0),0)","v":0},null,0]
[null,null,null,null,null,null,null,null,null,null,0,{"$f":"IFERROR(VLOOKUP(A6909,'Tipos de activos'!$F$2:$G$5,2,0),0)","v":0},null,0]
[null,null,null,null,null,null,null,null,null,null,0,{"$f":"IFERROR(VLOOKUP(A6914,'Tipos de activos'!$F$2:$G$5,2,0),0)","v":0},null,0]
[null,null,null,null,null,null,null,null,null,null,0,{"$f":"IFERROR(VLOOKUP(A6920,'Tipos de activos'!$F$2:$G$5,2,0),0)","v":0},null,0]
[null,null,null,null,null,null,null,null,null,null,0,{"$f":"IFERROR(VLOOKUP(A6927,'Tipos de activos'!$F$2:$G$5,2,0),0)","v":0},null,0]
[null,null,null,null,null,null,null,null,null,null,0,{"$f":"IFERROR(VLOOKUP(A6930,'Tipos de activos'!$F$2:$G$5,2,0),0)","v":0},null,0]
[null,null,null,null,null,null,null,null,null,null,0,{"$f":"IFERROR(VLOOKUP(A6939,'Tipos de activos'!$F$2:$G$5,2,0),0)","v":0},null,0]
[null,null,null,null,null,null,null,null,null,null,0,{"$f":"IFERROR(VLOOKUP(A6945,'Tipos de activos'!$F$2:$G$5,2,0),0)","v":0},null,0]
[null,null,null,null,null,null,null,null,null,null,0,{"$f":"IFERROR(VLOOKUP(A6948,'Tipos de activos'!$F$2:$G$5,2,0),0)","v":0},null,0]
[null,null,null,null,null,null,null,null,null,null,0,{"$f":"IFERROR(VLOOKUP(A6955,'Tipos de activos'!$F$2:$G$5,2,0),0)","v":0},null,0]
[null,null,null,null,null,null,null,null,null,null,0,{"$f":"IFERROR(VLOOKUP(A6958,'Tipos de activos'!$F$2:$G$5,2,0),0)","v":0},null,0]
[null,null,null,null,null,null,null,null,null,null,0,{"$f":"IFERROR(VLOOKUP(A6964,'Tipos de activos'!$F$2:$G$5,2,0),0)","v":0},null,0]
[null,null,null,null,null,null,null,null,null,null,0,{"$f":"IFERROR(VLOOKUP(A6973,'Tipos de activos'!$F$2:$G$5,2,0),0)","v":0},null,0]
[null,null,null,null,null,null,null,null,null,null,0,{"$f":"IFERROR(VLOOKUP(A6976,'Tipos de activos'!$F$2:$G$5,2,0),0)","v":0},null,0]
[null,null,null,null,null,null,null,null,null,null,0,{"$f":"IFERROR(VLOOKUP(A6983,'Tipos de activos'!$F$2:$G$5,2,0),0)","v":0},null,0]
[null,null,null,null,null,null,null,null,null,null,0,{"$f":"IFERROR(VLOOKUP(A6991,'Tipos de activos'!$F$2:$G$5,2,0),0)","v":0},null,0]
[null,null,null,null,null,null,null,null,null,null,0,{"$f":"IFERROR(VLOOKUP(A6994,'Tipos de activos'!$F$2:$G$5,2,0),0)","v":0},null,0]
[null,null,null,null,null,null,null,null,null,null,{"$f":"+I7001-J7001","v":0},{"$f":"IFERROR(VLOOKUP(A7001,'Tipos de activos'!$F$2:$G$5,2,0),0)","v":0},null,0]
[null,null,null,null,null,null,null,null,null,null,0,{"$f":"IFERROR(VLOOKUP(A7007,'Tipos de activos'!$F$2:$G$5,2,0),0)","v":0},null,0]
[null,null,null,null,null,null,null,null,null,null,0,{"$f":"IFERROR(VLOOKUP(A7010,'Tipos de activos'!$F$2:$G$5,2,0),0)","v":0},null,0]
[null,null,null,null,null,null,null,null,null,null,0,{"$f":"IFERROR(VLOOKUP(A7019,'Tipos de activos'!$F$2:$G$5,2,0),0)","v":0},null,0]
[null,null,null,null,null,null,null,null,null,null,0,{"$f":"IFERROR(VLOOKUP(A7022,'Tipos de activos'!$F$2:$G$5,2,0),0)","v":0},null,0]
[null,null,null,null,null,null,null,null,null,null,0,{"$f":"IFERROR(VLOOKUP(A7027,'Tipos de activos'!$F$2:$G$5,2,0),0)","v":0},null,0]
[null,null,null,null,null,null,null,null,null,null,0,{"$f":"IFERROR(VLOOKUP(A7037,'Tipos de activos'!$F$2:$G$5,2,0),0)","v":0},null,0]
[null,null,null,null,null,null,null,null,null,null,0,{"$f":"IFERROR(VLOOKUP(A7040,'Tipos de activos'!$F$2:$G$5,2,0),0)","v":0},null,0]
[null,null,null,null,null,null,null,null,null,null,0,{"$f":"IFERROR(VLOOKUP(A7045,'Tipos de activos'!$F$2:$G$5,2,0),0)","v":0},null,0]
[null,null,null,null,null,null,null,null,null,null,0,{"$f":"IFERROR(VLOOKUP(A7049,'Tipos de activos'!$F$2:$G$5,2,0),0)","v":0},null,0]
[null,null,null,null,null,null,null,null,null,null,0,{"$f":"IFERROR(VLOOKUP(A7056,'Tipos de activos'!$F$2:$G$5,2,0),0)","v":0},null,0]
[null,null,null,null,null,null,null,null,null,null,{"$f":"+I7065-J7065","v":0},{"$f":"IFERROR(VLOOKUP(A7065,'Tipos de activos'!$F$2:$G$5,2,0),0)","v":0},null,0]
[null,null,null,null,null,null,null,null,null,null,0,{"$f":"IFERROR(VLOOKUP(A7069,'Tipos de activos'!$F$2:$G$5,2,0),0)","v":0},null,0]
[null,null,null,null,null,null,null,null,null,null,0,{"$f":"IFERROR(VLOOKUP(A7074,'Tipos de activos'!$F$2:$G$5,2,0),0)","v":0},null,0]
[null,null,null,null,null,null,null,null,null,null,0,{"$f":"IFERROR(VLOOKUP(A7083,'Tipos de activos'!$F$2:$G$5,2,0),0)","v":0},null,0]
[null,null,null,null,null,null,null,null,null,null,0,{"$f":"IFERROR(VLOOKUP(A7084,'Tipos de activos'!$F$2:$G$5,2,0),0)","v":0},null,0]
[null,null,null,null,null,null,null,null,null,null,0,{"$f":"IFERROR(VLOOKUP(A7094,'Tipos de activos'!$F$2:$G$5,2,0),0)","v":0},null,0]
[null,null,null,null,null,null,null,null,null,null,0,{"$f":"IFERROR(VLOOKUP(A7095,'Tipos de activos'!$F$2:$G$5,2,0),0)","v":0},null,0]
[null,null,null,null,null,null,null,null,null,null,0,{"$f":"IFERROR(VLOOKUP(A7102,'Tipos de activos'!$F$2:$G$5,2,0),0)","v":0},null,0]
[null,null,null,null,null,null,null,null,null,null,0,{"$f":"IFERROR(VLOOKUP(A7111,'Tipos de activos'!$F$2:$G$5,2,0),0)","v":0},null,0]
[null,null,null,null,null,null,null,null,null,null,0,{"$f":"IFERROR(VLOOKUP(A7113,'Tipos de activos'!$F$2:$G$5,2,0),0)","v":0},null,0]
[null,null,null,null,null,null,null,null,null,null,0,{"$f":"IFERROR(VLOOKUP(A7120,'Tipos de activos'!$F$2:$G$5,2,0),0)","v":0},null,0]
[null,null,null,null,null,null,null,null,null,null,{"$f":"+I7129-J7129","v":0},{"$f":"IFERROR(VLOOKUP(A7129,'Tipos de activos'!$F$2:$G$5,2,0),0)","v":0},null,0]
[null,null,null,null,null,null,null,null,null,null,0,{"$f":"IFERROR(VLOOKUP(A7130,'Tipos de activos'!$F$2:$G$5,2,0),0)","v":0},null,0]
[null,null,null,null,null,null,null,null,null,null,0,{"$f":"IFERROR(VLOOKUP(A7138,'Tipos de activos'!$F$2:$G$5,2,0),0)","v":0},null,0]
[null,null,null,null,null,null,null,null,null,null,0,{"$f":"IFERROR(VLOOKUP(A7141,'Tipos de activos'!$F$2:$G$5,2,0),0)","v":0},null,0]
[null,null,null,null,null,null,null,null,null,null,0,{"$f":"IFERROR(VLOOKUP(A7148,'Tipos de activos'!$F$2:$G$5,2,0),0)","v":0},null,0]
[null,null,null,null,null,null,null,null,null,null,0,{"$f":"IFERROR(VLOOKUP(A7157,'Tipos de activos'!$F$2:$G$5,2,0),0)","v":0},null,0]
[null,null,null,null,null,null,null,null,null,null,0,{"$f":"IFERROR(VLOOKUP(A7163,'Tipos de activos'!$F$2:$G$5,2,0),0)","v":0},null,0]
[null,null,null,null,null,null,null,null,null,null,0,{"$f":"IFERROR(VLOOKUP(A7166,'Tipos de activos'!$F$2:$G$5,2,0),0)","v":0},null,0]
[null,null,null,null,null,null,null,null,null,null,0,{"$f":"IFERROR(VLOOKUP(A7175,'Tipos de activos'!$F$2:$G$5,2,0),0)","v":0},null,0]
[null,null,null,null,null,null,null,null,null,null,0,{"$f":"IFERROR(VLOOKUP(A7176,'Tipos de activos'!$F$2:$G$5,2,0),0)","v":0},null,0]
[null,null,null,null,null,null,null,null,null,null,0,{"$f":"IFERROR(VLOOKUP(A7182,'Tipos de activos'!$F$2:$G$5,2,0),0)","v":0},null,0]
[null,null,null,null,null,null,null,null,null,null,0,{"$f":"IFERROR(VLOOKUP(A7187,'Tipos de activos'!$F$2:$G$5,2,0),0)","v":0},null,0]
[null,null,null,null,null,null,null,null,null,null,0,{"$f":"IFERROR(VLOOKUP(A7194,'Tipos de activos'!$F$2:$G$5,2,0),0)","v":0},null,0]
[null,null,null,null,null,null,null,null,null,null,0,{"$f":"IFERROR(VLOOKUP(A7203,'Tipos de activos'!$F$2:$G$5,2,0),0)","v":0},null,0]
[null,null,null,null,null,null,null,null,null,null,0,{"$f":"IFERROR(VLOOKUP(A7207,'Tipos de activos'!$F$2:$G$5,2,0),0)","v":0},null,0]
[null,null,null,null,null,null,null,null,null,null,0,{"$f":"IFERROR(VLOOKUP(A7212,'Tipos de activos'!$F$2:$G$5,2,0),0)","v":0},null,0]
[null,null,null,null,null,null,null,null,null,null,0,{"$f":"IFERROR(VLOOKUP(A7221,'Tipos de activos'!$F$2:$G$5,2,0),0)","v":0},null,0]
[null,null,null,null,null,null,null,null,null,null,0,{"$f":"IFERROR(VLOOKUP(A7222,'Tipos de activos'!$F$2:$G$5,2,0),0)","v":0},null,0]
[null,null,null,null,null,null,null,null,null,null,0,{"$f":"IFERROR(VLOOKUP(A7231,'Tipos de activos'!$F$2:$G$5,2,0),0)","v":0},null,0]
[null,null,null,null,null,null,null,null,null,null,0,{"$f":"IFERROR(VLOOKUP(A7233,'Tipos de activos'!$F$2:$G$5,2,0),0)","v":0},null,0]
[null,null,null,null,null,null,null,null,null,null,0,{"$f":"IFERROR(VLOOKUP(A7240,'Tipos de activos'!$F$2:$G$5,2,0),0)","v":0},null,0]
[null,null,null,null,null,null,null,null,null,null,0,{"$f":"IFERROR(VLOOKUP(A7249,'Tipos de activos'!$F$2:$G$5,2,0),0)","v":0},null,{"$f":"+K7249*L7249","v":0}]
[null,null,null,null,null,null,null,null,null,null,0,{"$f":"IFERROR(VLOOKUP(A7251,'Tipos de activos'!$F$2:$G$5,2,0),0)","v":0},null,0]
[null,null,null,null,null,null,null,null,null,null,0,{"$f":"IFERROR(VLOOKUP(A7258,'Tipos de activos'!$F$2:$G$5,2,0),0)","v":0},null,0]
[null,null,null,null,null,null,null,null,null,null,0,{"$f":"IFERROR(VLOOKUP(A7267,'Tipos de activos'!$F$2:$G$5,2,0),0)","v":0},null,0]
[null,null,null,null,null,null,null,null,null,null,0,{"$f":"IFERROR(VLOOKUP(A7269,'Tipos de activos'!$F$2:$G$5,2,0),0)","v":0},null,0]
[null,null,null,null,null,null,null,null,null,null,0,{"$f":"IFERROR(VLOOKUP(A7276,'Tipos de activos'!$F$2:$G$5,2,0),0)","v":0},null,0]
[null,null,null,null,null,null,null,null,null,null,0,{"$f":"IFERROR(VLOOKUP(A7283,'Tipos de activos'!$F$2:$G$5,2,0),0)","v":0},null,0]
[null,null,null,null,null,null,null,null,null,null,0,{"$f":"IFERROR(VLOOKUP(A7286,'Tipos de activos'!$F$2:$G$5,2,0),0)","v":0},null,0]
[null,null,null,null,null,null,null,null,null,null,0,{"$f":"IFERROR(VLOOKUP(A7293,'Tipos de activos'!$F$2:$G$5,2,0),0)","v":0},null,0]
[null,null,null,null,null,null,null,null,null,null,0,{"$f":"IFERROR(VLOOKUP(A7301,'Tipos de activos'!$F$2:$G$5,2,0),0)","v":0},null,0]
[null,null,null,null,null,null,null,null,null,null,0,{"$f":"IFERROR(VLOOKUP(A7304,'Tipos de activos'!$F$2:$G$5,2,0),0)","v":0},null,0]
[null,null,null,null,null,null,null,null,null,null,0,{"$f":"IFERROR(VLOOKUP(A7313,'Tipos de activos'!$F$2:$G$5,2,0),0)","v":0},null,{"$f":"+K7313*L7313","v":0}]
[null,null,null,null,null,null,null,null,null,null,0,{"$f":"IFERROR(VLOOKUP(A7318,'Tipos de activos'!$F$2:$G$5,2,0),0)","v":0},null,0]
[null,null,null,null,null,null,null,null,null,null,0,{"$f":"IFERROR(VLOOKUP(A7322,'Tipos de activos'!$F$2:$G$5,2,0),0)","v":0},null,0]
[null,null,null,null,null,null,null,null,null,null,0,{"$f":"IFERROR(VLOOKUP(A7329,'Tipos de activos'!$F$2:$G$5,2,0),0)","v":0},null,0]
[null,null,null,null,null,null,null,null,null,null,0,{"$f":"IFERROR(VLOOKUP(A7332,'Tipos de activos'!$F$2:$G$5,2,0),0)","v":0},null,0]
[null,null,null,null,null,null,null,null,null,null,0,{"$f":"IFERROR(VLOOKUP(A7337,'Tipos de activos'!$F$2:$G$5,2,0),0)","v":0},null,0]
[null,null,null,null,null,null,null,null,null,null,0,{"$f":"IFERROR(VLOOKUP(A7347,'Tipos de activos'!$F$2:$G$5,2,0),0)","v":0},null,0]
[null,null,null,null,null,null,null,null,null,null,0,{"$f":"IFERROR(VLOOKUP(A7350,'Tipos de activos'!$F$2:$G$5,2,0),0)","v":0},null,0]
[null,null,null,null,null,null,null,null,null,null,0,{"$f":"IFERROR(VLOOKUP(A7359,'Tipos de activos'!$F$2:$G$5,2,0),0)","v":0},null,0]
[null,null,null,null,null,null,null,null,null,null,0,{"$f":"IFERROR(VLOOKUP(A7362,'Tipos de activos'!$F$2:$G$5,2,0),0)","v":0},null,0]
[null,null,null,null,null,null,null,null,null,null,0,{"$f":"IFERROR(VLOOKUP(A7368,'Tipos de activos'!$F$2:$G$5,2,0),0)","v":0},null,0]
[null,null,null,null,null,null,null,null,null,null,0,{"$f":"IFERROR(VLOOKUP(A7375,'Tipos de activos'!$F$2:$G$5,2,0),0)","v":0},null,0]
[null,null,null,null,null,null,null,null,null,null,0,{"$f":"IFERROR(VLOOKUP(A7378,'Tipos de activos'!$F$2:$G$5,2,0),0)","v":0},null,0]
[null,null,null,null,null,null,null,null,null,null,0,{"$f":"IFERROR(VLOOKUP(A7386,'Tipos de activos'!$F$2:$G$5,2,0),0)","v":0},null,0]
[null,null,null,null,null,null,null,null,null,null,0,{"$f":"IFERROR(VLOOKUP(A7393,'Tipos de activos'!$F$2:$G$5,2,0),0)","v":0},null,0]
[null,null,null,null,null,null,null,null,null,null,0,{"$f":"IFERROR(VLOOKUP(A7396,'Tipos de activos'!$F$2:$G$5,2,0),0)","v":0},null,0]
[null,null,null,null,null,null,null,null,null,null,0,{"$f":"IFERROR(VLOOKUP(A7403,'Tipos de activos'!$F$2:$G$5,2,0),0)","v":0},null,0]
[null,null,null,null,null,null,null,null,null,null,0,{"$f":"IFERROR(VLOOKUP(A7406,'Tipos de activos'!$F$2:$G$5,2,0),0)","v":0},null,0]
[null,null,null,null,null,null,null,null,null,null,0,{"$f":"IFERROR(VLOOKUP(A7414,'Tipos de activos'!$F$2:$G$5,2,0),0)","v":0},null,0]
[null,null,null,null,null,null,null,null,null,null,0,{"$f":"IFERROR(VLOOKUP(A7421,'Tipos de activos'!$F$2:$G$5,2,0),0)","v":0},null,0]
[null,null,null,null,null,null,null,null,null,null,0,{"$f":"IFERROR(VLOOKUP(A7424,'Tipos de activos'!$F$2:$G$5,2,0),0)","v":0},null,0]
[null,null,null,null,null,null,null,null,null,null,0,{"$f":"IFERROR(VLOOKUP(A7430,'Tipos de activos'!$F$2:$G$5,2,0),0)","v":0},null,0]
[null,null,null,null,null,null,null,null,null,null,0,{"$f":"IFERROR(VLOOKUP(A7439,'Tipos de activos'!$F$2:$G$5,2,0),0)","v":0},null,0]
[null,null,null,null,null,null,null,null,null,null,0,{"$f":"IFERROR(VLOOKUP(A7442,'Tipos de activos'!$F$2:$G$5,2,0),0)","v":0},null,0]
[null,null,null,null,null,null,null,null,null,null,{"$f":"+I7449-J7449","v":0},{"$f":"IFERROR(VLOOKUP(A7449,'Tipos de activos'!$F$2:$G$5,2,0),0)","v":0},null,0]
[null,null,null,null,null,null,null,null,null,null,0,{"$f":"IFERROR(VLOOKUP(A7455,'Tipos de activos'!$F$2:$G$5,2,0),0)","v":0},null,0]
[null,null,null,null,null,null,null,null,null,null,0,{"$f":"IFERROR(VLOOKUP(A7460,'Tipos de activos'!$F$2:$G$5,2,0),0)","v":0},null,0]
[null,null,null,null,null,null,null,null,null,null,0,{"$f":"IFERROR(VLOOKUP(A7467,'Tipos de activos'!$F$2:$G$5,2,0),0)","v":0},null,0]
[null,null,null,null,null,null,null,null,null,null,0,{"$f":"IFERROR(VLOOKUP(A7470,'Tipos de activos'!$F$2:$G$5,2,0),0)","v":0},null,0]
[null,null,null,null,null,null,null,null,null,null,0,{"$f":"IFERROR(VLOOKUP(A7475,'Tipos de activos'!$F$2:$G$5,2,0),0)","v":0},null,0]
[null,null,null,null,null,null,null,null,null,null,0,{"$f":"IFERROR(VLOOKUP(A7485,'Tipos de activos'!$F$2:$G$5,2,0),0)","v":0},null,0]
[null,null,null,null,null,null,null,null,null,null,0,{"$f":"IFERROR(VLOOKUP(A7488,'Tipos de activos'!$F$2:$G$5,2,0),0)","v":0},null,0]
[null,null,null,null,null,null,null,null,null,null,0,{"$f":"IFERROR(VLOOKUP(A7495,'Tipos de activos'!$F$2:$G$5,2,0),0)","v":0},null,0]
[null,null,null,null,null,null,null,null,null,null,0,{"$f":"IFERROR(VLOOKUP(A7499,'Tipos de activos'!$F$2:$G$5,2,0),0)","v":0},null,0]
[null,null,null,null,null,null,null,null,null,null,0,{"$f":"IFERROR(VLOOKUP(A7506,'Tipos de activos'!$F$2:$G$5,2,0),0)","v":0},null,0]
[null,null,null,null,null,null,null,null,null,null,{"$f":"+I7513-J7513","v":0},{"$f":"IFERROR(VLOOKUP(A7513,'Tipos de activos'!$F$2:$G$5,2,0),0)","v":0},null,0]
[null,null,null,null,null,null,null,null,null,null,0,{"$f":"IFERROR(VLOOKUP(A7517,'Tipos de activos'!$F$2:$G$5,2,0),0)","v":0},null,0]
[null,null,null,null,null,null,null,null,null,null,0,{"$f":"IFERROR(VLOOKUP(A7522,'Tipos de activos'!$F$2:$G$5,2,0),0)","v":0},null,0]
[null,null,null,null,null,null,null,null,null,null,0,{"$f":"IFERROR(VLOOKUP(A7531,'Tipos de activos'!$F$2:$G$5,2,0),0)","v":0},null,0]
[null,null,null,null,null,null,null,null,null,null,0,{"$f":"IFERROR(VLOOKUP(A7534,'Tipos de activos'!$F$2:$G$5,2,0),0)","v":0},null,0]
[null,null,null,null,null,null,null,null,null,null,0,{"$f":"IFERROR(VLOOKUP(A7542,'Tipos de activos'!$F$2:$G$5,2,0),0)","v":0},null,0]
[null,null,null,null,null,null,null,null,null,null,0,{"$f":"IFERROR(VLOOKUP(A7543,'Tipos de activos'!$F$2:$G$5,2,0),0)","v":0},null,0]
[null,null,null,null,null,null,null,null,null,null,0,{"$f":"IFERROR(VLOOKUP(A7552,'Tipos de activos'!$F$2:$G$5,2,0),0)","v":0},null,0]
[null,null,null,null,null,null,null,null,null,null,0,{"$f":"IFERROR(VLOOKUP(A7559,'Tipos de activos'!$F$2:$G$5,2,0),0)","v":0},null,0]
[null,null,null,null,null,null,null,null,null,null,0,{"$f":"IFERROR(VLOOKUP(A7561,'Tipos de activos'!$F$2:$G$5,2,0),0)","v":0},null,0]
[null,null,null,null,null,null,null,null,null,null,0,{"$f":"IFERROR(VLOOKUP(A7568,'Tipos de activos'!$F$2:$G$5,2,0),0)","v":0},null,0]
[null,null,null,null,null,null,null,null,null,null,{"$f":"+I7577-J7577","v":0},{"$f":"IFERROR(VLOOKUP(A7577,'Tipos de activos'!$F$2:$G$5,2,0),0)","v":0},null,0]
[null,null,null,null,null,null,null,null,null,null,0,{"$f":"IFERROR(VLOOKUP(A7580,'Tipos de activos'!$F$2:$G$5,2,0),0)","v":0},null,0]
[null,null,null,null,null,null,null,null,null,null,0,{"$f":"IFERROR(VLOOKUP(A7586,'Tipos de activos'!$F$2:$G$5,2,0),0)","v":0},null,0]
[null,null,null,null,null,null,null,null,null,null,0,{"$f":"IFERROR(VLOOKUP(A7589,'Tipos de activos'!$F$2:$G$5,2,0),0)","v":0},null,0]
[null,null,null,null,null,null,null,null,null,null,0,{"$f":"IFERROR(VLOOKUP(A7596,'Tipos de activos'!$F$2:$G$5,2,0),0)","v":0},null,0]
[null,null,null,null,null,null,null,null,null,null,0,{"$f":"IFERROR(VLOOKUP(A7605,'Tipos de activos'!$F$2:$G$5,2,0),0)","v":0},null,0]
[null,null,null,null,null,null,null,null,null,null,0,{"$f":"IFERROR(VLOOKUP(A7610,'Tipos de activos'!$F$2:$G$5,2,0),0)","v":0},null,0]
[null,null,null,null,null,null,null,null,null,null,0,{"$f":"IFERROR(VLOOKUP(A7614,'Tipos de activos'!$F$2:$G$5,2,0),0)","v":0},null,0]
[null,null,null,null,null,null,null,null,null,null,0,{"$f":"IFERROR(VLOOKUP(A7623,'Tipos de activos'!$F$2:$G$5,2,0),0)","v":0},null,0]
[null,null,null,null,null,null,null,null,null,null,0,{"$f":"IFERROR(VLOOKUP(A7626,'Tipos de activos'!$F$2:$G$5,2,0),0)","v":0},null,0]
[null,null,null,null,null,null,null,null,null,null,0,{"$f":"IFERROR(VLOOKUP(A7630,'Tipos de activos'!$F$2:$G$5,2,0),0)","v":0},null,0]
[null,null,null,null,null,null,null,null,null,null,0,{"$f":"IFERROR(VLOOKUP(A7635,'Tipos de activos'!$F$2:$G$5,2,0),0)","v":0},null,0]
[null,null,null,null,null,null,null,null,null,null,0,{"$f":"IFERROR(VLOOKUP(A7642,'Tipos de activos'!$F$2:$G$5,2,0),0)","v":0},null,0]
[null,null,null,null,null,null,null,null,null,null,0,{"$f":"IFERROR(VLOOKUP(A7651,'Tipos de activos'!$F$2:$G$5,2,0),0)","v":0},null,0]
[null,null,null,null,null,null,null,null,null,null,0,{"$f":"IFERROR(VLOOKUP(A7654,'Tipos de activos'!$F$2:$G$5,2,0),0)","v":0},null,0]
[null,null,null,null,null,null,null,null,null,null,0,{"$f":"IFERROR(VLOOKUP(A7660,'Tipos de activos'!$F$2:$G$5,2,0),0)","v":0},null,0]
[null,null,null,null,null,null,null,null,null,null,0,{"$f":"IFERROR(VLOOKUP(A7669,'Tipos de activos'!$F$2:$G$5,2,0),0)","v":0},null,0]
[null,null,null,null,null,null,null,null,null,null,0,{"$f":"IFERROR(VLOOKUP(A7670,'Tipos de activos'!$F$2:$G$5,2,0),0)","v":0},null,0]
[null,null,null,null,null,null,null,null,null,null,0,{"$f":"IFERROR(VLOOKUP(A7679,'Tipos de activos'!$F$2:$G$5,2,0),0)","v":0},null,0]
[null,null,null,null,null,null,null,null,null,null,0,{"$f":"IFERROR(VLOOKUP(A7681,'Tipos de activos'!$F$2:$G$5,2,0),0)","v":0},null,0]
[null,null,null,null,null,null,null,null,null,null,0,{"$f":"IFERROR(VLOOKUP(A7688,'Tipos de activos'!$F$2:$G$5,2,0),0)","v":0},null,0]
[null,null,null,null,null,null,null,null,null,null,0,{"$f":"IFERROR(VLOOKUP(A7697,'Tipos de activos'!$F$2:$G$5,2,0),0)","v":0},null,{"$f":"+K7697*L7697","v":0}]
[null,null,null,null,null,null,null,null,null,null,0,{"$f":"IFERROR(VLOOKUP(A7703,'Tipos de activos'!$F$2:$G$5,2,0),0)","v":0},null,0]
[null,null,null,null,null,null,null,null,null,null,0,{"$f":"IFERROR(VLOOKUP(A7706,'Tipos de activos'!$F$2:$G$5,2,0),0)","v":0},null,0]
[null,null,null,null,null,null,null,null,null,null,0,{"$f":"IFERROR(VLOOKUP(A7715,'Tipos de activos'!$F$2:$G$5,2,0),0)","v":0},null,0]
[null,null,null,null,null,null,null,null,null,null,0,{"$f":"IFERROR(VLOOKUP(A7716,'Tipos de activos'!$F$2:$G$5,2,0),0)","v":0},null,0]
[null,null,null,null,null,null,null,null,null,null,0,{"$f":"IFERROR(VLOOKUP(A7723,'Tipos de activos'!$F$2:$G$5,2,0),0)","v":0},null,0]
[null,null,null,null,null,null,null,null,null,null,0,{"$f":"IFERROR(VLOOKUP(A7727,'Tipos de activos'!$F$2:$G$5,2,0),0)","v":0},null,0]
[null,null,null,null,null,null,null,null,null,null,0,{"$f":"IFERROR(VLOOKUP(A7734,'Tipos de activos'!$F$2:$G$5,2,0),0)","v":0},null,0]
[null,null,null,null,null,null,null,null,null,null,0,{"$f":"IFERROR(VLOOKUP(A7743,'Tipos de activos'!$F$2:$G$5,2,0),0)","v":0},null,0]
[null,null,null,null,null,null,null,null,null,null,0,{"$f":"IFERROR(VLOOKUP(A7747,'Tipos de activos'!$F$2:$G$5,2,0),0)","v":0},null,0]
[null,null,null,null,null,null,null,null,null,null,0,{"$f":"IFERROR(VLOOKUP(A7752,'Tipos de activos'!$F$2:$G$5,2,0),0)","v":0},null,0]
[null,null,null,null,null,null,null,null,null,null,0,{"$f":"IFERROR(VLOOKUP(A7761,'Tipos de activos'!$F$2:$G$5,2,0),0)","v":0},null,{"$f":"+K7761*L7761","v":0}]
[null,null,null,null,null,null,null,null,null,null,0,{"$f":"IFERROR(VLOOKUP(A7766,'Tipos de activos'!$F$2:$G$5,2,0),0)","v":0},null,0]
[null,null,null,null,null,null,null,null,null,null,0,{"$f":"IFERROR(VLOOKUP(A7770,'Tipos de activos'!$F$2:$G$5,2,0),0)","v":0},null,0]
[null,null,null,null,null,null,null,null,null,null,0,{"$f":"IFERROR(VLOOKUP(A7773,'Tipos de activos'!$F$2:$G$5,2,0),0)","v":0},null,0]
[null,null,null,null,null,null,null,null,null,null,0,{"$f":"IFERROR(VLOOKUP(A7780,'Tipos de activos'!$F$2:$G$5,2,0),0)","v":0},null,0]
[null,null,null,null,null,null,null,null,null,null,0,{"$f":"IFERROR(VLOOKUP(A7785,'Tipos de activos'!$F$2:$G$5,2,0),0)","v":0},null,0]
[null,null,null,null,null,null,null,null,null,null,0,{"$f":"IFERROR(VLOOKUP(A7795,'Tipos de activos'!$F$2:$G$5,2,0),0)","v":0},null,0]
[null,null,null,null,null,null,null,null,null,null,0,{"$f":"IFERROR(VLOOKUP(A7798,'Tipos de activos'!$F$2:$G$5,2,0),0)","v":0},null,0]
[null,null,null,null,null,null,null,null,null,null,0,{"$f":"IFERROR(VLOOKUP(A7807,'Tipos de activos'!$F$2:$G$5,2,0),0)","v":0},null,0]
[null,null,null,null,null,null,null,null,null,null,0,{"$f":"IFERROR(VLOOKUP(A7810,'Tipos de activos'!$F$2:$G$5,2,0),0)","v":0},null,0]
[null,null,null,null,null,null,null,null,null,null,0,{"$f":"IFERROR(VLOOKUP(A7816,'Tipos de activos'!$F$2:$G$5,2,0),0)","v":0},null,0]
[null,null,null,null,null,null,null,null,null,null,0,{"$f":"IFERROR(VLOOKUP(A7819,'Tipos de activos'!$F$2:$G$5,2,0),0)","v":0},null,0]
[null,null,null,null,null,null,null,null,null,null,0,{"$f":"IFERROR(VLOOKUP(A7826,'Tipos de activos'!$F$2:$G$5,2,0),0)","v":0},null,0]
[null,null,null,null,null,null,null,null,null,null,0,{"$f":"IFERROR(VLOOKUP(A7834,'Tipos de activos'!$F$2:$G$5,2,0),0)","v":0},null,0]
[null,null,null,null,null,null,null,null,null,null,0,{"$f":"IFERROR(VLOOKUP(A7841,'Tipos de activos'!$F$2:$G$5,2,0),0)","v":0},null,0]
[null,null,null,null,null,null,null,null,null,null,0,{"$f":"IFERROR(VLOOKUP(A7844,'Tipos de activos'!$F$2:$G$5,2,0),0)","v":0},null,0]
[null,null,null,null,null,null,null,null,null,null,0,{"$f":"IFERROR(VLOOKUP(A7853,'Tipos de activos'!$F$2:$G$5,2,0),0)","v":0},null,0]
[null,null,null,null,null,null,null,null,null,null,0,{"$f":"IFERROR(VLOOKUP(A7854,'Tipos de activos'!$F$2:$G$5,2,0),0)","v":0},null,0]
[null,null,null,null,null,null,null,null,null,null,0,{"$f":"IFERROR(VLOOKUP(A7862,'Tipos de activos'!$F$2:$G$5,2,0),0)","v":0},null,0]
[null,null,null,null,null,null,null,null,null,null,0,{"$f":"IFERROR(VLOOKUP(A7865,'Tipos de activos'!$F$2:$G$5,2,0),0)","v":0},null,0]
[null,null,null,null,null,null,null,null,null,null,0,{"$f":"IFERROR(VLOOKUP(A7872,'Tipos de activos'!$F$2:$G$5,2,0),0)","v":0},null,0]
[null,null,null,null,null,null,null,null,null,null,0,{"$f":"IFERROR(VLOOKUP(A7878,'Tipos de activos'!$F$2:$G$5,2,0),0)","v":0},null,0]
[null,null,null,null,null,null,null,null,null,null,0,{"$f":"IFERROR(VLOOKUP(A7887,'Tipos de activos'!$F$2:$G$5,2,0),0)","v":0},null,0]
[null,null,null,null,null,null,null,null,null,null,0,{"$f":"IFERROR(VLOOKUP(A7890,'Tipos de activos'!$F$2:$G$5,2,0),0)","v":0},null,0]
[null,null,null,null,null,null,null,null,null,null,0,{"$f":"IFERROR(VLOOKUP(A7899,'Tipos de activos'!$F$2:$G$5,2,0),0)","v":0},null,0]
[null,null,null,null,null,null,null,null,null,null,0,{"$f":"IFERROR(VLOOKUP(A7903,'Tipos de activos'!$F$2:$G$5,2,0),0)","v":0},null,0]
[null,null,null,null,null,null,null,null,null,null,0,{"$f":"IFERROR(VLOOKUP(A7908,'Tipos de activos'!$F$2:$G$5,2,0),0)","v":0},null,0]
[null,null,null,null,null,null,null,null,null,null,0,{"$f":"IFERROR(VLOOKUP(A7915,'Tipos de activos'!$F$2:$G$5,2,0),0)","v":0},null,0]
[null,null,null,null,null,null,null,null,null,null,0,{"$f":"IFERROR(VLOOKUP(A7918,'Tipos de activos'!$F$2:$G$5,2,0),0)","v":0},null,0]
[null,null,null,null,null,null,null,null,null,null,0,{"$f":"IFERROR(VLOOKUP(A7927,'Tipos de activos'!$F$2:$G$5,2,0),0)","v":0},null,0]
[null,null,null,null,null,null,null,null,null,null,0,{"$f":"IFERROR(VLOOKUP(A7933,'Tipos de activos'!$F$2:$G$5,2,0),0)","v":0},null,0]
[null,null,null,null,null,null,null,null,null,null,0,{"$f":"IFERROR(VLOOKUP(A7936,'Tipos de activos'!$F$2:$G$5,2,0),0)","v":0},null,0]
[null,null,null,null,null,null,null,null,null,null,0,{"$f":"IFERROR(VLOOKUP(A7945,'Tipos de activos'!$F$2:$G$5,2,0),0)","v":0},null,0]
[null,null,null,null,null,null,null,null,null,null,0,{"$f":"IFERROR(VLOOKUP(A7947,'Tipos de activos'!$F$2:$G$5,2,0),0)","v":0},null,0]
[null,null,null,null,null,null,null,null,null,null,0,{"$f":"IFERROR(VLOOKUP(A7954,'Tipos de activos'!$F$2:$G$5,2,0),0)","v":0},null,0]
[null,null,null,null,null,null,null,null,null,null,{"$f":"+I7961-J7961","v":0},{"$f":"IFERROR(VLOOKUP(A7961,'Tipos de activos'!$F$2:$G$5,2,0),0)","v":0},null,0]
[null,null,null,null,null,null,null,null,null,null,0,{"$f":"IFERROR(VLOOKUP(A7964,'Tipos de activos'!$F$2:$G$5,2,0),0)","v":0},null,0]
[null,null,null,null,null,null,null,null,null,null,0,{"$f":"IFERROR(VLOOKUP(A7971,'Tipos de activos'!$F$2:$G$5,2,0),0)","v":0},null,0]
[null,null,null,null,null,null,null,null,null,null,0,{"$f":"IFERROR(VLOOKUP(A7979,'Tipos de activos'!$F$2:$G$5,2,0),0)","v":0},null,0]
[null,null,null,null,null,null,null,null,null,null,0,{"$f":"IFERROR(VLOOKUP(A7982,'Tipos de activos'!$F$2:$G$5,2,0),0)","v":0},null,0]
[null,null,null,null,null,null,null,null,null,null,0,{"$f":"IFERROR(VLOOKUP(A7990,'Tipos de activos'!$F$2:$G$5,2,0),0)","v":0},null,0]
[null,null,null,null,null,null,null,null,null,null,0,{"$f":"IFERROR(VLOOKUP(A7991,'Tipos de activos'!$F$2:$G$5,2,0),0)","v":0},null,0]
[null,null,null,null,null,null,null,null,null,null,0,{"$f":"IFERROR(VLOOKUP(A8000,'Tipos de activos'!$F$2:$G$5,2,0),0)","v":0},null,0]
[null,null,null,null,null,null,null,null,null,null,0,{"$f":"IFERROR(VLOOKUP(A8007,'Tipos de activos'!$F$2:$G$5,2,0),0)","v":0},null,0]
[null,null,null,null,null,null,null,null,null,null,0,{"$f":"IFERROR(VLOOKUP(A8009,'Tipos de activos'!$F$2:$G$5,2,0),0)","v":0},null,0]
[null,null,null,null,null,null,null,null,null,null,0,{"$f":"IFERROR(VLOOKUP(A8018,'Tipos de activos'!$F$2:$G$5,2,0),0)","v":0},null,0]
[null,null,null,null,null,null,null,null,null,null,{"$f":"+I8025-J8025","v":0},{"$f":"IFERROR(VLOOKUP(A8025,'Tipos de activos'!$F$2:$G$5,2,0),0)","v":0},null,0]
[null,null,null,null,null,null,null,null,null,null,0,{"$f":"IFERROR(VLOOKUP(A8028,'Tipos de activos'!$F$2:$G$5,2,0),0)","v":0},null,0]
[null,null,null,null,null,null,null,null,null,null,0,{"$f":"IFERROR(VLOOKUP(A8034,'Tipos de activos'!$F$2:$G$5,2,0),0)","v":0},null,0]
[null,null,null,null,null,null,null,null,null,null,0,{"$f":"IFERROR(VLOOKUP(A8037,'Tipos de activos'!$F$2:$G$5,2,0),0)","v":0},null,0]
[null,null,null,null,null,null,null,null,null,null,0,{"$f":"IFERROR(VLOOKUP(A8046,'Tipos de activos'!$F$2:$G$5,2,0),0)","v":0},null,0]
[null,null,null,null,null,null,null,null,null,null,0,{"$f":"IFERROR(VLOOKUP(A8053,'Tipos de activos'!$F$2:$G$5,2,0),0)","v":0},null,0]
[null,null,null,null,null,null,null,null,null,null,0,{"$f":"IFERROR(VLOOKUP(A8058,'Tipos de activos'!$F$2:$G$5,2,0),0)","v":0},null,0]
[null,null,null,null,null,null,null,null,null,null,0,{"$f":"IFERROR(VLOOKUP(A8064,'Tipos de activos'!$F$2:$G$5,2,0),0)","v":0},null,0]
[null,null,null,null,null,null,null,null,null,null,0,{"$f":"IFERROR(VLOOKUP(A8071,'Tipos de activos'!$F$2:$G$5,2,0),0)","v":0},null,0]
[null,null,null,null,null,null,null,null,null,null,0,{"$f":"IFERROR(VLOOKUP(A8074,'Tipos de activos'!$F$2:$G$5,2,0),0)","v":0},null,0]
[null,null,null,null,null,null,null,null,null,null,0,{"$f":"IFERROR(VLOOKUP(A8078,'Tipos de activos'!$F$2:$G$5,2,0),0)","v":0},null,0]
[null,null,null,null,null,null,null,null,null,null,0,{"$f":"IFERROR(VLOOKUP(A8083,'Tipos de activos'!$F$2:$G$5,2,0),0)","v":0},null,0]
[null,null,null,null,null,null,null,null,null,null,0,{"$f":"IFERROR(VLOOKUP(A8092,'Tipos de activos'!$F$2:$G$5,2,0),0)","v":0},null,0]
[null,null,null,null,null,null,null,null,null,null,0,{"$f":"IFERROR(VLOOKUP(A8099,'Tipos de activos'!$F$2:$G$5,2,0),0)","v":0},null,0]
[null,null,null,null,null,null,null,null,null,null,0,{"$f":"IFERROR(VLOOKUP(A8102,'Tipos de activos'!$F$2:$G$5,2,0),0)","v":0},null,0]
[null,null,null,null,null,null,null,null,null,null,0,{"$f":"IFERROR(VLOOKUP(A8108,'Tipos de activos'!$F$2:$G$5,2,0),0)","v":0},null,0]
[null,null,null,null,null,null,null,null,null,null,0,{"$f":"IFERROR(VLOOKUP(A8117,'Tipos de activos'!$F$2:$G$5,2,0),0)","v":0},null,0]
[null,null,null,null,null,null,null,null,null,null,0,{"$f":"IFERROR(VLOOKUP(A8120,'Tipos de activos'!$F$2:$G$5,2,0),0)","v":0},null,0]
[null,null,null,null,null,null,null,null,null,null,0,{"$f":"IFERROR(VLOOKUP(A8127,'Tipos de activos'!$F$2:$G$5,2,0),0)","v":0},null,0]
[null,null,null,null,null,null,null,null,null,null,0,{"$f":"IFERROR(VLOOKUP(A8129,'Tipos de activos'!$F$2:$G$5,2,0),0)","v":0},null,0]
[null,null,null,null,null,null,null,null,null,null,0,{"$f":"IFERROR(VLOOKUP(A8138,'Tipos de activos'!$F$2:$G$5,2,0),0)","v":0},null,0]
[null,null,null,null,null,null,null,null,null,null,0,{"$f":"IFERROR(VLOOKUP(A8145,'Tipos de activos'!$F$2:$G$5,2,0),0)","v":0},null,{"$f":"+K8145*L8145","v":0}]
[null,null,null,null,null,null,null,null,null,null,0,{"$f":"IFERROR(VLOOKUP(A8151,'Tipos de activos'!$F$2:$G$5,2,0),0)","v":0},null,0]
[null,null,null,null,null,null,null,null,null,null,0,{"$f":"IFERROR(VLOOKUP(A8154,'Tipos de activos'!$F$2:$G$5,2,0),0)","v":0},null,0]
[null,null,null,null,null,null,null,null,null,null,0,{"$f":"IFERROR(VLOOKUP(A8163,'Tipos de activos'!$F$2:$G$5,2,0),0)","v":0},null,0]
[null,null,null,null,null,null,null,null,null,null,0,{"$f":"IFERROR(VLOOKUP(A8166,'Tipos de activos'!$F$2:$G$5,2,0),0)","v":0},null,0]
[null,null,null,null,null,null,null,null,null,null,0,{"$f":"IFERROR(VLOOKUP(A8171,'Tipos de activos'!$F$2:$G$5,2,0),0)","v":0},null,0]
[null,null,null,null,null,null,null,null,null,null,0,{"$f":"IFERROR(VLOOKUP(A8175,'Tipos de activos'!$F$2:$G$5,2,0),0)","v":0},null,0]
[null,null,null,null,null,null,null,null,null,null,0,{"$f":"IFERROR(VLOOKUP(A8184,'Tipos de activos'!$F$2:$G$5,2,0),0)","v":0},null,0]
[null,null,null,null,null,null,null,null,null,null,0,{"$f":"IFERROR(VLOOKUP(A8191,'Tipos de activos'!$F$2:$G$5,2,0),0)","v":0},null,0]
[null,null,null,null,null,null,null,null,null,null,0,{"$f":"IFERROR(VLOOKUP(A8195,'Tipos de activos'!$F$2:$G$5,2,0),0)","v":0},null,0]
[null,null,null,null,null,null,null,null,null,null,0,{"$f":"IFERROR(VLOOKUP(A8200,'Tipos de activos'!$F$2:$G$5,2,0),0)","v":0},null,0]
[null,null,null,null,null,null,null,null,null,null,0,{"$f":"IFERROR(VLOOKUP(A8209,'Tipos de activos'!$F$2:$G$5,2,0),0)","v":0},null,{"$f":"+K8209*L8209","v":0}]
[null,null,null,null,null,null,null,null,null,null,0,{"$f":"IFERROR(VLOOKUP(A8212,'Tipos de activos'!$F$2:$G$5,2,0),0)","v":0},null,0]
[null,null,null,null,null,null,null,null,null,null,0,{"$f":"IFERROR(VLOOKUP(A8220,'Tipos de activos'!$F$2:$G$5,2,0),0)","v":0},null,0]
[null,null,null,null,null,null,null,null,null,null,0,{"$f":"IFERROR(VLOOKUP(A8221,'Tipos de activos'!$F$2:$G$5,2,0),0)","v":0},null,0]
[null,null,null,null,null,null,null,null,null,null,0,{"$f":"IFERROR(VLOOKUP(A8228,'Tipos de activos'!$F$2:$G$5,2,0),0)","v":0},null,0]
[null,null,null,null,null,null,null,null,null,null,0,{"$f":"IFERROR(VLOOKUP(A8233,'Tipos de activos'!$F$2:$G$5,2,0),0)","v":0},null,0]
[null,null,null,null,null,null,null,null,null,null,0,{"$f":"IFERROR(VLOOKUP(A8239,'Tipos de activos'!$F$2:$G$5,2,0),0)","v":0},null,0]
[null,null,null,null,null,null,null,null,null,null,0,{"$f":"IFERROR(VLOOKUP(A8246,'Tipos de activos'!$F$2:$G$5,2,0),0)","v":0},null,0]
[null,null,null,null,null,null,null,null,null,null,0,{"$f":"IFERROR(VLOOKUP(A8255,'Tipos de activos'!$F$2:$G$5,2,0),0)","v":0},null,0]
[null,null,null,null,null,null,null,null,null,null,0,{"$f":"IFERROR(VLOOKUP(A8257,'Tipos de activos'!$F$2:$G$5,2,0),0)","v":0},null,0]
[null,null,null,null,null,null,null,null,null,null,0,{"$f":"IFERROR(VLOOKUP(A8264,'Tipos de activos'!$F$2:$G$5,2,0),0)","v":0},null,0]
[null,null,null,null,null,null,null,null,null,null,0,{"$f":"IFERROR(VLOOKUP(A8267,'Tipos de activos'!$F$2:$G$5,2,0),0)","v":0},null,0]
[null,null,null,null,null,null,null,null,null,null,0,{"$f":"IFERROR(VLOOKUP(A8274,'Tipos de activos'!$F$2:$G$5,2,0),0)","v":0},null,0]
[null,null,null,null,null,null,null,null,null,null,0,{"$f":"IFERROR(VLOOKUP(A8282,'Tipos de activos'!$F$2:$G$5,2,0),0)","v":0},null,0]
[null,null,null,null,null,null,null,null,null,null,0,{"$f":"IFERROR(VLOOKUP(A8285,'Tipos de activos'!$F$2:$G$5,2,0),0)","v":0},null,0]
[null,null,null,null,null,null,null,null,null,null,0,{"$f":"IFERROR(VLOOKUP(A8292,'Tipos de activos'!$F$2:$G$5,2,0),0)","v":0},null,0]
[null,null,null,null,null,null,null,null,null,null,0,{"$f":"IFERROR(VLOOKUP(A8301,'Tipos de activos'!$F$2:$G$5,2,0),0)","v":0},null,0]
[null,null,null,null,null,null,null,null,null,null,0,{"$f":"IFERROR(VLOOKUP(A8302,'Tipos de activos'!$F$2:$G$5,2,0),0)","v":0},null,0]
[null,null,null,null,null,null,null,null,null,null,0,{"$f":"IFERROR(VLOOKUP(A8310,'Tipos de activos'!$F$2:$G$5,2,0),0)","v":0},null,0]
[null,null,null,null,null,null,null,null,null,null,0,{"$f":"IFERROR(VLOOKUP(A8313,'Tipos de activos'!$F$2:$G$5,2,0),0)","v":0},null,0]
[null,null,null,null,null,null,null,null,null,null,0,{"$f":"IFERROR(VLOOKUP(A8320,'Tipos de activos'!$F$2:$G$5,2,0),0)","v":0},null,0]
[null,null,null,null,null,null,null,null,null,null,0,{"$f":"IFERROR(VLOOKUP(A8326,'Tipos de activos'!$F$2:$G$5,2,0),0)","v":0},null,0]
[null,null,null,null,null,null,null,null,null,null,0,{"$f":"IFERROR(VLOOKUP(A8331,'Tipos de activos'!$F$2:$G$5,2,0),0)","v":0},null,0]
[null,null,null,null,null,null,null,null,null,null,0,{"$f":"IFERROR(VLOOKUP(A8338,'Tipos de activos'!$F$2:$G$5,2,0),0)","v":0},null,0]
[null,null,null,null,null,null,null,null,null,null,0,{"$f":"IFERROR(VLOOKUP(A8347,'Tipos de activos'!$F$2:$G$5,2,0),0)","v":0},null,0]
[null,null,null,null,null,null,null,null,null,null,0,{"$f":"IFERROR(VLOOKUP(A8351,'Tipos de activos'!$F$2:$G$5,2,0),0)","v":0},null,0]
[null,null,null,null,null,null,null,null,null,null,0,{"$f":"IFERROR(VLOOKUP(A8356,'Tipos de activos'!$F$2:$G$5,2,0),0)","v":0},null,0]
[null,null,null,null,null,null,null,null,null,null,0,{"$f":"IFERROR(VLOOKUP(A8359,'Tipos de activos'!$F$2:$G$5,2,0),0)","v":0},null,0]
[null,null,null,null,null,null,null,null,null,null,0,{"$f":"IFERROR(VLOOKUP(A8366,'Tipos de activos'!$F$2:$G$5,2,0),0)","v":0},null,0]
[null,null,null,null,null,null,null,null,null,null,0,{"$f":"IFERROR(VLOOKUP(A8375,'Tipos de activos'!$F$2:$G$5,2,0),0)","v":0},null,0]
[null,null,null,null,null,null,null,null,null,null,0,{"$f":"IFERROR(VLOOKUP(A8377,'Tipos de activos'!$F$2:$G$5,2,0),0)","v":0},null,0]
[null,null,null,null,null,null,null,null,null,null,0,{"$f":"IFERROR(VLOOKUP(A8384,'Tipos de activos'!$F$2:$G$5,2,0),0)","v":0},null,0]
[null,null,null,null,null,null,null,null,null,null,0,{"$f":"IFERROR(VLOOKUP(A8393,'Tipos de activos'!$F$2:$G$5,2,0),0)","v":0},null,0]
[null,null,null,null,null,null,null,null,null,null,0,{"$f":"IFERROR(VLOOKUP(A8395,'Tipos de activos'!$F$2:$G$5,2,0),0)","v":0},null,0]
[null,null,null,null,null,null,null,null,null,null,0,{"$f":"IFERROR(VLOOKUP(A8402,'Tipos de activos'!$F$2:$G$5,2,0),0)","v":0},null,0]
[null,null,null,null,null,null,null,null,null,null,0,{"$f":"IFERROR(VLOOKUP(A8405,'Tipos de activos'!$F$2:$G$5,2,0),0)","v":0},null,0]
[null,null,null,null,null,null,null,null,null,null,0,{"$f":"IFERROR(VLOOKUP(A8412,'Tipos de activos'!$F$2:$G$5,2,0),0)","v":0},null,0]
[null,null,null,null,null,null,null,null,null,null,0,{"$f":"IFERROR(VLOOKUP(A8419,'Tipos de activos'!$F$2:$G$5,2,0),0)","v":0},null,0]
[null,null,null,null,null,null,null,null,null,null,0,{"$f":"IFERROR(VLOOKUP(A8427,'Tipos de activos'!$F$2:$G$5,2,0),0)","v":0},null,0]
[null,null,null,null,null,null,null,null,null,null,0,{"$f":"IFERROR(VLOOKUP(A8430,'Tipos de activos'!$F$2:$G$5,2,0),0)","v":0},null,0]
[null,null,null,null,null,null,null,null,null,null,0,{"$f":"IFERROR(VLOOKUP(A8439,'Tipos de activos'!$F$2:$G$5,2,0),0)","v":0},null,0]
[null,null,null,null,null,null,null,null,null,null,0,{"$f":"IFERROR(VLOOKUP(A8444,'Tipos de activos'!$F$2:$G$5,2,0),0)","v":0},null,0]
[null,null,null,null,null,null,null,null,null,null,0,{"$f":"IFERROR(VLOOKUP(A8448,'Tipos de activos'!$F$2:$G$5,2,0),0)","v":0},null,0]
[null,null,null,null,null,null,null,null,null,null,0,{"$f":"IFERROR(VLOOKUP(A8451,'Tipos de activos'!$F$2:$G$5,2,0),0)","v":0},null,0]
[null,null,null,null,null,null,null,null,null,null,0,{"$f":"IFERROR(VLOOKUP(A8458,'Tipos de activos'!$F$2:$G$5,2,0),0)","v":0},null,0]
[null,null,null,null,null,null,null,null,null,null,0,{"$f":"IFERROR(VLOOKUP(A8463,'Tipos de activos'!$F$2:$G$5,2,0),0)","v":0},null,0]
[null,null,null,null,null,null,null,null,null,null,{"$f":"+I8473-J8473","v":0},{"$f":"IFERROR(VLOOKUP(A8473,'Tipos de activos'!$F$2:$G$5,2,0),0)","v":0},null,0]
[null,null,null,null,null,null,null,null,null,null,0,{"$f":"IFERROR(VLOOKUP(A8476,'Tipos de activos'!$F$2:$G$5,2,0),0)","v":0},null,0]
[null,null,null,null,null,null,null,null,null,null,0,{"$f":"IFERROR(VLOOKUP(A8481,'Tipos de activos'!$F$2:$G$5,2,0),0)","v":0},null,0]
[null,null,null,null,null,null,null,null,null,null,0,{"$f":"IFERROR(VLOOKUP(A8485,'Tipos de activos'!$F$2:$G$5,2,0),0)","v":0},null,0]
[null,null,null,null,null,null,null,null,null,null,0,{"$f":"IFERROR(VLOOKUP(A8494,'Tipos de activos'!$F$2:$G$5,2,0),0)","v":0},null,0]
[null,null,null,null,null,null,null,null,null,null,0,{"$f":"IFERROR(VLOOKUP(A8501,'Tipos de activos'!$F$2:$G$5,2,0),0)","v":0},null,0]
[null,null,null,null,null,null,null,null,null,null,0,{"$f":"IFERROR(VLOOKUP(A8506,'Tipos de activos'!$F$2:$G$5,2,0),0)","v":0},null,0]
[null,null,null,null,null,null,null,null,null,null,0,{"$f":"IFERROR(VLOOKUP(A8512,'Tipos de activos'!$F$2:$G$5,2,0),0)","v":0},null,0]
[null,null,null,null,null,null,null,null,null,null,0,{"$f":"IFERROR(VLOOKUP(A8519,'Tipos de activos'!$F$2:$G$5,2,0),0)","v":0},null,0]
[null,null,null,null,null,null,null,null,null,null,0,{"$f":"IFERROR(VLOOKUP(A8522,'Tipos de activos'!$F$2:$G$5,2,0),0)","v":0},null,0]
[null,null,null,null,null,null,null,null,null,null,0,{"$f":"IFERROR(VLOOKUP(A8530,'Tipos de activos'!$F$2:$G$5,2,0),0)","v":0},null,0]
[null,null,null,null,null,null,null,null,null,null,0,{"$f":"IFERROR(VLOOKUP(A8531,'Tipos de activos'!$F$2:$G$5,2,0),0)","v":0},null,0]
[null,null,null,null,null,null,null,null,null,null,0,{"$f":"IFERROR(VLOOKUP(A8540,'Tipos de activos'!$F$2:$G$5,2,0),0)","v":0},null,0]
[null,null,null,null,null,null,null,null,null,null,0,{"$f":"IFERROR(VLOOKUP(A8547,'Tipos de activos'!$F$2:$G$5,2,0),0)","v":0},null,0]
[null,null,null,null,null,null,null,null,null,null,0,{"$f":"IFERROR(VLOOKUP(A8550,'Tipos de activos'!$F$2:$G$5,2,0),0)","v":0},null,0]
[null,null,null,null,null,null,null,null,null,null,0,{"$f":"IFERROR(VLOOKUP(A8558,'Tipos de activos'!$F$2:$G$5,2,0),0)","v":0},null,0]
[null,null,null,null,null,null,null,null,null,null,0,{"$f":"IFERROR(VLOOKUP(A8565,'Tipos de activos'!$F$2:$G$5,2,0),0)","v":0},null,0]
[null,null,null,null,null,null,null,null,null,null,0,{"$f":"IFERROR(VLOOKUP(A8568,'Tipos de activos'!$F$2:$G$5,2,0),0)","v":0},null,0]
[null,null,null,null,null,null,null,null,null,null,0,{"$f":"IFERROR(VLOOKUP(A8574,'Tipos de activos'!$F$2:$G$5,2,0),0)","v":0},null,0]
[null,null,null,null,null,null,null,null,null,null,0,{"$f":"IFERROR(VLOOKUP(A8577,'Tipos de activos'!$F$2:$G$5,2,0),0)","v":0},null,0]
[null,null,null,null,null,null,null,null,null,null,0,{"$f":"IFERROR(VLOOKUP(A8586,'Tipos de activos'!$F$2:$G$5,2,0),0)","v":0},null,0]
[null,null,null,null,null,null,null,null,null,null,0,{"$f":"IFERROR(VLOOKUP(A8593,'Tipos de activos'!$F$2:$G$5,2,0),0)","v":0},null,{"$f":"+K8593*L8593","v":0}]
[null,null,null,null,null,null,null,null,null,null,0,{"$f":"IFERROR(VLOOKUP(A8599,'Tipos de activos'!$F$2:$G$5,2,0),0)","v":0},null,0]
[null,null,null,null,null,null,null,null,null,null,0,{"$f":"IFERROR(VLOOKUP(A8604,'Tipos de activos'!$F$2:$G$5,2,0),0)","v":0},null,0]
[null,null,null,null,null,null,null,null,null,null,0,{"$f":"IFERROR(VLOOKUP(A8611,'Tipos de activos'!$F$2:$G$5,2,0),0)","v":0},null,0]
[null,null,null,null,null,null,null,null,null,null,0,{"$f":"IFERROR(VLOOKUP(A8614,'Tipos de activos'!$F$2:$G$5,2,0),0)","v":0},null,0]
[null,null,null,null,null,null,null,null,null,null,0,{"$f":"IFERROR(VLOOKUP(A8619,'Tipos de activos'!$F$2:$G$5,2,0),0)","v":0},null,0]
[null,null,null,null,null,null,null,null,null,null,0,{"$f":"IFERROR(VLOOKUP(A8623,'Tipos de activos'!$F$2:$G$5,2,0),0)","v":0},null,0]
[null,null,null,null,null,null,null,null,null,null,0,{"$f":"IFERROR(VLOOKUP(A8632,'Tipos de activos'!$F$2:$G$5,2,0),0)","v":0},null,0]
[null,null,null,null,null,null,null,null,null,null,0,{"$f":"IFERROR(VLOOKUP(A8639,'Tipos de activos'!$F$2:$G$5,2,0),0)","v":0},null,0]
[null,null,null,null,null,null,null,null,null,null,0,{"$f":"IFERROR(VLOOKUP(A8643,'Tipos de activos'!$F$2:$G$5,2,0),0)","v":0},null,0]
[null,null,null,null,null,null,null,null,null,null,0,{"$f":"IFERROR(VLOOKUP(A8650,'Tipos de activos'!$F$2:$G$5,2,0),0)","v":0},null,0]
[null,null,null,null,null,null,null,null,null,null,0,{"$f":"IFERROR(VLOOKUP(A8657,'Tipos de activos'!$F$2:$G$5,2,0),0)","v":0},null,{"$f":"+K8657*L8657","v":0}]
[null,null,null,null,null,null,null,null,null,null,0,{"$f":"IFERROR(VLOOKUP(A8660,'Tipos de activos'!$F$2:$G$5,2,0),0)","v":0},null,0]
[null,null,null,null,null,null,null,null,null,null,0,{"$f":"IFERROR(VLOOKUP(A8668,'Tipos de activos'!$F$2:$G$5,2,0),0)","v":0},null,0]
[null,null,null,null,null,null,null,null,null,null,0,{"$f":"IFERROR(VLOOKUP(A8669,'Tipos de activos'!$F$2:$G$5,2,0),0)","v":0},null,0]
[null,null,null,null,null,null,null,null,null,null,0,{"$f":"IFERROR(VLOOKUP(A8678,'Tipos de activos'!$F$2:$G$5,2,0),0)","v":0},null,0]
[null,null,null,null,null,null,null,null,null,null,0,{"$f":"IFERROR(VLOOKUP(A8685,'Tipos de activos'!$F$2:$G$5,2,0),0)","v":0},null,0]
[null,null,null,null,null,null,null,null,null,null,0,{"$f":"IFERROR(VLOOKUP(A8687,'Tipos de activos'!$F$2:$G$5,2,0),0)","v":0},null,0]
[null,null,null,null,null,null,null,null,null,null,0,{"$f":"IFERROR(VLOOKUP(A8696,'Tipos de activos'!$F$2:$G$5,2,0),0)","v":0},null,0]
[null,null,null,null,null,null,null,null,null,null,0,{"$f":"IFERROR(VLOOKUP(A8703,'Tipos de activos'!$F$2:$G$5,2,0),0)","v":0},null,0]
[null,null,null,null,null,null,null,null,null,null,0,{"$f":"IFERROR(VLOOKUP(A8705,'Tipos de activos'!$F$2:$G$5,2,0),0)","v":0},null,0]
[null,null,null,null,null,null,null,null,null,null,0,{"$f":"IFERROR(VLOOKUP(A8712,'Tipos de activos'!$F$2:$G$5,2,0),0)","v":0},null,0]
[null,null,null,null,null,null,null,null,null,null,0,{"$f":"IFERROR(VLOOKUP(A8715,'Tipos de activos'!$F$2:$G$5,2,0),0)","v":0},null,0]
[null,null,null,null,null,null,null,null,null,null,0,{"$f":"IFERROR(VLOOKUP(A8724,'Tipos de activos'!$F$2:$G$5,2,0),0)","v":0},null,0]
[null,null,null,null,null,null,null,null,null,null,0,{"$f":"IFERROR(VLOOKUP(A8730,'Tipos de activos'!$F$2:$G$5,2,0),0)","v":0},null,0]
[null,null,null,null,null,null,null,null,null,null,0,{"$f":"IFERROR(VLOOKUP(A8733,'Tipos de activos'!$F$2:$G$5,2,0),0)","v":0},null,0]
[null,null,null,null,null,null,null,null,null,null,0,{"$f":"IFERROR(VLOOKUP(A8740,'Tipos de activos'!$F$2:$G$5,2,0),0)","v":0},null,0]
[null,null,null,null,null,null,null,null,null,null,0,{"$f":"IFERROR(VLOOKUP(A8749,'Tipos de activos'!$F$2:$G$5,2,0),0)","v":0},null,0]
[null,null,null,null,null,null,null,null,null,null,0,{"$f":"IFERROR(VLOOKUP(A8754,'Tipos de activos'!$F$2:$G$5,2,0),0)","v":0},null,0]
[null,null,null,null,null,null,null,null,null,null,0,{"$f":"IFERROR(VLOOKUP(A8758,'Tipos de activos'!$F$2:$G$5,2,0),0)","v":0},null,0]
[null,null,null,null,null,null,null,null,null,null,0,{"$f":"IFERROR(VLOOKUP(A8761,'Tipos de activos'!$F$2:$G$5,2,0),0)","v":0},null,0]
[null,null,null,null,null,null,null,null,null,null,0,{"$f":"IFERROR(VLOOKUP(A8770,'Tipos de activos'!$F$2:$G$5,2,0),0)","v":0},null,0]
[null,null,null,null,null,null,null,null,null,null,0,{"$f":"IFERROR(VLOOKUP(A8774,'Tipos de activos'!$F$2:$G$5,2,0),0)","v":0},null,0]
[null,null,null,null,null,null,null,null,null,null,0,{"$f":"IFERROR(VLOOKUP(A8779,'Tipos de activos'!$F$2:$G$5,2,0),0)","v":0},null,0]
[null,null,null,null,null,null,null,null,null,null,0,{"$f":"IFERROR(VLOOKUP(A8786,'Tipos de activos'!$F$2:$G$5,2,0),0)","v":0},null,0]
[null,null,null,null,null,null,null,null,null,null,0,{"$f":"IFERROR(VLOOKUP(A8795,'Tipos de activos'!$F$2:$G$5,2,0),0)","v":0},null,0]
[null,null,null,null,null,null,null,null,null,null,0,{"$f":"IFERROR(VLOOKUP(A8798,'Tipos de activos'!$F$2:$G$5,2,0),0)","v":0},null,0]
[null,null,null,null,null,null,null,null,null,null,0,{"$f":"IFERROR(VLOOKUP(A8804,'Tipos de activos'!$F$2:$G$5,2,0),0)","v":0},null,0]
[null,null,null,null,null,null,null,null,null,null,0,{"$f":"IFERROR(VLOOKUP(A8807,'Tipos de activos'!$F$2:$G$5,2,0),0)","v":0},null,0]
[null,null,null,null,null,null,null,null,null,null,0,{"$f":"IFERROR(VLOOKUP(A8814,'Tipos de activos'!$F$2:$G$5,2,0),0)","v":0},null,0]
[null,null,null,null,null,null,null,null,null,null,0,{"$f":"IFERROR(VLOOKUP(A8823,'Tipos de activos'!$F$2:$G$5,2,0),0)","v":0},null,0]
[null,null,null,null,null,null,null,null,null,null,0,{"$f":"IFERROR(VLOOKUP(A8825,'Tipos de activos'!$F$2:$G$5,2,0),0)","v":0},null,0]
[null,null,null,null,null,null,null,null,null,null,0,{"$f":"IFERROR(VLOOKUP(A8832,'Tipos de activos'!$F$2:$G$5,2,0),0)","v":0},null,0]
[null,null,null,null,null,null,null,null,null,null,0,{"$f":"IFERROR(VLOOKUP(A8841,'Tipos de activos'!$F$2:$G$5,2,0),0)","v":0},null,0]
[null,null,null,null,null,null,null,null,null,null,0,{"$f":"IFERROR(VLOOKUP(A8842,'Tipos de activos'!$F$2:$G$5,2,0),0)","v":0},null,0]
[null,null,null,null,null,null,null,null,null,null,0,{"$f":"IFERROR(VLOOKUP(A8850,'Tipos de activos'!$F$2:$G$5,2,0),0)","v":0},null,0]
[null,null,null,null,null,null,null,null,null,null,0,{"$f":"IFERROR(VLOOKUP(A8853,'Tipos de activos'!$F$2:$G$5,2,0),0)","v":0},null,0]
[null,null,null,null,null,null,null,null,null,null,0,{"$f":"IFERROR(VLOOKUP(A8860,'Tipos de activos'!$F$2:$G$5,2,0),0)","v":0},null,0]
[null,null,null,null,null,null,null,null,null,null,0,{"$f":"IFERROR(VLOOKUP(A8867,'Tipos de activos'!$F$2:$G$5,2,0),0)","v":0},null,0]
[null,null,null,null,null,null,null,null,null,null,0,{"$f":"IFERROR(VLOOKUP(A8871,'Tipos de activos'!$F$2:$G$5,2,0),0)","v":0},null,0]
[null,null,null,null,null,null,null,null,null,null,0,{"$f":"IFERROR(VLOOKUP(A8878,'Tipos de activos'!$F$2:$G$5,2,0),0)","v":0},null,0]
[null,null,null,null,null,null,null,null,null,null,0,{"$f":"IFERROR(VLOOKUP(A8887,'Tipos de activos'!$F$2:$G$5,2,0),0)","v":0},null,0]
[null,null,null,null,null,null,null,null,null,null,0,{"$f":"IFERROR(VLOOKUP(A8891,'Tipos de activos'!$F$2:$G$5,2,0),0)","v":0},null,0]
[null,null,null,null,null,null,null,null,null,null,0,{"$f":"IFERROR(VLOOKUP(A8896,'Tipos de activos'!$F$2:$G$5,2,0),0)","v":0},null,0]
[null,null,null,null,null,null,null,null,null,null,0,{"$f":"IFERROR(VLOOKUP(A8899,'Tipos de activos'!$F$2:$G$5,2,0),0)","v":0},null,0]
[null,null,null,null,null,null,null,null,null,null,0,{"$f":"IFERROR(VLOOKUP(A8906,'Tipos de activos'!$F$2:$G$5,2,0),0)","v":0},null,0]
[null,null,null,null,null,null,null,null,null,null,0,{"$f":"IFERROR(VLOOKUP(A8911,'Tipos de activos'!$F$2:$G$5,2,0),0)","v":0},null,0]
[null,null,null,null,null,null,null,null,null,null,0,{"$f":"IFERROR(VLOOKUP(A8917,'Tipos de activos'!$F$2:$G$5,2,0),0)","v":0},null,0]
[null,null,null,null,null,null,null,null,null,null,0,{"$f":"IFERROR(VLOOKUP(A8924,'Tipos de activos'!$F$2:$G$5,2,0),0)","v":0},null,0]
[null,null,null,null,null,null,null,null,null,null,0,{"$f":"IFERROR(VLOOKUP(A8933,'Tipos de activos'!$F$2:$G$5,2,0),0)","v":0},null,0]
[null,null,null,null,null,null,null,null,null,null,0,{"$f":"IFERROR(VLOOKUP(A8936,'Tipos de activos'!$F$2:$G$5,2,0),0)","v":0},null,0]
[null,null,null,null,null,null,null,null,null,null,0,{"$f":"IFERROR(VLOOKUP(A8942,'Tipos de activos'!$F$2:$G$5,2,0),0)","v":0},null,0]
[null,null,null,null,null,null,null,null,null,null,0,{"$f":"IFERROR(VLOOKUP(A8945,'Tipos de activos'!$F$2:$G$5,2,0),0)","v":0},null,0]
[null,null,null,null,null,null,null,null,null,null,0,{"$f":"IFERROR(VLOOKUP(A8954,'Tipos de activos'!$F$2:$G$5,2,0),0)","v":0},null,0]
[null,null,null,null,null,null,null,null,null,null,0,{"$f":"IFERROR(VLOOKUP(A8960,'Tipos de activos'!$F$2:$G$5,2,0),0)","v":0},null,0]
[null,null,null,null,null,null,null,null,null,null,0,{"$f":"IFERROR(VLOOKUP(A8963,'Tipos de activos'!$F$2:$G$5,2,0),0)","v":0},null,0]
[null,null,null,null,null,null,null,null,null,null,0,{"$f":"IFERROR(VLOOKUP(A8970,'Tipos de activos'!$F$2:$G$5,2,0),0)","v":0},null,0]
[null,null,null,null,null,null,null,null,null,null,0,{"$f":"IFERROR(VLOOKUP(A8978,'Tipos de activos'!$F$2:$G$5,2,0),0)","v":0},null,0]
[null,null,null,null,null,null,null,null,null,null,0,{"$f":"IFERROR(VLOOKUP(A8979,'Tipos de activos'!$F$2:$G$5,2,0),0)","v":0},null,0]
[null,null,null,null,null,null,null,null,null,null,0,{"$f":"IFERROR(VLOOKUP(A8988,'Tipos de activos'!$F$2:$G$5,2,0),0)","v":0},null,0]
[null,null,null,null,null,null,null,null,null,null,0,{"$f":"IFERROR(VLOOKUP(A8991,'Tipos de activos'!$F$2:$G$5,2,0),0)","v":0},null,0]
[null,null,null,null,null,null,null,null,null,null,0,{"$f":"IFERROR(VLOOKUP(A8998,'Tipos de activos'!$F$2:$G$5,2,0),0)","v":0},null,0]
[null,null,null,null,null,null,null,null,null,null,0,{"$f":"IFERROR(VLOOKUP(A9006,'Tipos de activos'!$F$2:$G$5,2,0),0)","v":0},null,0]
[null,null,null,null,null,null,null,null,null,null,0,{"$f":"IFERROR(VLOOKUP(A9009,'Tipos de activos'!$F$2:$G$5,2,0),0)","v":0},null,0]
[null,null,null,null,null,null,null,null,null,null,0,{"$f":"IFERROR(VLOOKUP(A9016,'Tipos de activos'!$F$2:$G$5,2,0),0)","v":0},null,0]
[null,null,null,null,null,null,null,null,null,null,0,{"$f":"IFERROR(VLOOKUP(A9022,'Tipos de activos'!$F$2:$G$5,2,0),0)","v":0},null,0]
[null,null,null,null,null,null,null,null,null,null,0,{"$f":"IFERROR(VLOOKUP(A9025,'Tipos de activos'!$F$2:$G$5,2,0),0)","v":0},null,0]
[null,null,null,null,null,null,null,null,null,null,0,{"$f":"IFERROR(VLOOKUP(A9034,'Tipos de activos'!$F$2:$G$5,2,0),0)","v":0},null,0]
[null,null,null,null,null,null,null,null,null,null,0,{"$f":"IFERROR(VLOOKUP(A9037,'Tipos de activos'!$F$2:$G$5,2,0),0)","v":0},null,0]
[null,null,null,null,null,null,null,null,null,null,0,{"$f":"IFERROR(VLOOKUP(A9047,'Tipos de activos'!$F$2:$G$5,2,0),0)","v":0},null,0]
[null,null,null,null,null,null,null,null,null,null,0,{"$f":"IFERROR(VLOOKUP(A9052,'Tipos de activos'!$F$2:$G$5,2,0),0)","v":0},null,0]
[null,null,null,null,null,null,null,null,null,null,0,{"$f":"IFERROR(VLOOKUP(A9059,'Tipos de activos'!$F$2:$G$5,2,0),0)","v":0},null,0]
[null,null,null,null,null,null,null,null,null,null,0,{"$f":"IFERROR(VLOOKUP(A9062,'Tipos de activos'!$F$2:$G$5,2,0),0)","v":0},null,0]
[null,null,null,null,null,null,null,null,null,null,0,{"$f":"IFERROR(VLOOKUP(A9066,'Tipos de activos'!$F$2:$G$5,2,0),0)","v":0},null,0]
[null,null,null,null,null,null,null,null,null,null,0,{"$f":"IFERROR(VLOOKUP(A9071,'Tipos de activos'!$F$2:$G$5,2,0),0)","v":0},null,0]
[null,null,null,null,null,null,null,null,null,null,0,{"$f":"IFERROR(VLOOKUP(A9080,'Tipos de activos'!$F$2:$G$5,2,0),0)","v":0},null,0]
[null,null,null,null,null,null,null,null,null,null,0,{"$f":"IFERROR(VLOOKUP(A9083,'Tipos de activos'!$F$2:$G$5,2,0),0)","v":0},null,0]
[null,null,null,null,null,null,null,null,null,null,0,{"$f":"IFERROR(VLOOKUP(A9091,'Tipos de activos'!$F$2:$G$5,2,0),0)","v":0},null,0]
[null,null,null,null,null,null,null,null,null,null,0,{"$f":"IFERROR(VLOOKUP(A9098,'Tipos de activos'!$F$2:$G$5,2,0),0)","v":0},null,0]
[null,null,null,null,null,null,null,null,null,null,0,{"$f":"IFERROR(VLOOKUP(A9105,'Tipos de activos'!$F$2:$G$5,2,0),0)","v":0},null,{"$f":"+K9105*L9105","v":0}]
[null,null,null,null,null,null,null,null,null,null,0,{"$f":"IFERROR(VLOOKUP(A9108,'Tipos de activos'!$F$2:$G$5,2,0),0)","v":0},null,0]
[null,null,null,null,null,null,null,null,null,null,0,{"$f":"IFERROR(VLOOKUP(A9115,'Tipos de activos'!$F$2:$G$5,2,0),0)","v":0},null,0]
[null,null,null,null,null,null,null,null,null,null,0,{"$f":"IFERROR(VLOOKUP(A9117,'Tipos de activos'!$F$2:$G$5,2,0),0)","v":0},null,0]
[null,null,null,null,null,null,null,null,null,null,0,{"$f":"IFERROR(VLOOKUP(A9126,'Tipos de activos'!$F$2:$G$5,2,0),0)","v":0},null,0]
[null,null,null,null,null,null,null,null,null,null,0,{"$f":"IFERROR(VLOOKUP(A9133,'Tipos de activos'!$F$2:$G$5,2,0),0)","v":0},null,0]
[null,null,null,null,null,null,null,null,null,null,0,{"$f":"IFERROR(VLOOKUP(A9135,'Tipos de activos'!$F$2:$G$5,2,0),0)","v":0},null,0]
[null,null,null,null,null,null,null,null,null,null,0,{"$f":"IFERROR(VLOOKUP(A9144,'Tipos de activos'!$F$2:$G$5,2,0),0)","v":0},null,0]
[null,null,null,null,null,null,null,null,null,null,0,{"$f":"IFERROR(VLOOKUP(A9151,'Tipos de activos'!$F$2:$G$5,2,0),0)","v":0},null,0]
[null,null,null,null,null,null,null,null,null,null,0,{"$f":"IFERROR(VLOOKUP(A9154,'Tipos de activos'!$F$2:$G$5,2,0),0)","v":0},null,0]
[null,null,null,null,null,null,null,null,null,null,0,{"$f":"IFERROR(VLOOKUP(A9159,'Tipos de activos'!$F$2:$G$5,2,0),0)","v":0},null,0]
[null,null,null,null,null,null,null,null,null,null,0,{"$f":"IFERROR(VLOOKUP(A9163,'Tipos de activos'!$F$2:$G$5,2,0),0)","v":0},null,0]
[null,null,null,null,null,null,null,null,null,null,0,{"$f":"IFERROR(VLOOKUP(A9172,'Tipos de activos'!$F$2:$G$5,2,0),0)","v":0},null,0]
[null,null,null,null,null,null,null,null,null,null,0,{"$f":"IFERROR(VLOOKUP(A9179,'Tipos de activos'!$F$2:$G$5,2,0),0)","v":0},null,0]
[null,null,null,null,null,null,null,null,null,null,0,{"$f":"IFERROR(VLOOKUP(A9184,'Tipos de activos'!$F$2:$G$5,2,0),0)","v":0},null,0]
[null,null,null,null,null,null,null,null,null,null,0,{"$f":"IFERROR(VLOOKUP(A9190,'Tipos de activos'!$F$2:$G$5,2,0),0)","v":0},null,0]
[null,null,null,null,null,null,null,null,null,null,0,{"$f":"IFERROR(VLOOKUP(A9197,'Tipos de activos'!$F$2:$G$5,2,0),0)","v":0},null,0]
[null,null,null,null,null,null,null,null,null,null,0,{"$f":"IFERROR(VLOOKUP(A9202,'Tipos de activos'!$F$2:$G$5,2,0),0)","v":0},null,0]
[null,null,null,null,null,null,null,null,null,null,0,{"$f":"IFERROR(VLOOKUP(A9208,'Tipos de activos'!$F$2:$G$5,2,0),0)","v":0},null,0]
[null,null,null,null,null,null,null,null,null,null,0,{"$f":"IFERROR(VLOOKUP(A9209,'Tipos de activos'!$F$2:$G$5,2,0),0)","v":0},null,0]
[null,null,null,null,null,null,null,null,null,null,0,{"$f":"IFERROR(VLOOKUP(A9218,'Tipos de activos'!$F$2:$G$5,2,0),0)","v":0},null,0]
[null,null,null,null,null,null,null,null,null,null,0,{"$f":"IFERROR(VLOOKUP(A9222,'Tipos de activos'!$F$2:$G$5,2,0),0)","v":0},null,0]
[null,null,null,null,null,null,null,null,null,null,0,{"$f":"IFERROR(VLOOKUP(A9227,'Tipos de activos'!$F$2:$G$5,2,0),0)","v":0},null,0]
[null,null,null,null,null,null,null,null,null,null,0,{"$f":"IFERROR(VLOOKUP(A9236,'Tipos de activos'!$F$2:$G$5,2,0),0)","v":0},null,0]
[null,null,null,null,null,null,null,null,null,null,0,{"$f":"IFERROR(VLOOKUP(A9243,'Tipos de activos'!$F$2:$G$5,2,0),0)","v":0},null,0]
[null,null,null,null,null,null,null,null,null,null,0,{"$f":"IFERROR(VLOOKUP(A9246,'Tipos de activos'!$F$2:$G$5,2,0),0)","v":0},null,0]
[null,null,null,null,null,null,null,null,null,null,0,{"$f":"IFERROR(VLOOKUP(A9252,'Tipos de activos'!$F$2:$G$5,2,0),0)","v":0},null,0]
[null,null,null,null,null,null,null,null,null,null,0,{"$f":"IFERROR(VLOOKUP(A9255,'Tipos de activos'!$F$2:$G$5,2,0),0)","v":0},null,0]
[null,null,null,null,null,null,null,null,null,null,0,{"$f":"IFERROR(VLOOKUP(A9264,'Tipos de activos'!$F$2:$G$5,2,0),0)","v":0},null,0]
[null,null,null,null,null,null,null,null,null,null,0,{"$f":"IFERROR(VLOOKUP(A9271,'Tipos de activos'!$F$2:$G$5,2,0),0)","v":0},null,0]
[null,null,null,null,null,null,null,null,null,null,0,{"$f":"IFERROR(VLOOKUP(A9273,'Tipos de activos'!$F$2:$G$5,2,0),0)","v":0},null,0]
[null,null,null,null,null,null,null,null,null,null,0,{"$f":"IFERROR(VLOOKUP(A9282,'Tipos de activos'!$F$2:$G$5,2,0),0)","v":0},null,0]
[null,null,null,null,null,null,null,null,null,null,0,{"$f":"IFERROR(VLOOKUP(A9289,'Tipos de activos'!$F$2:$G$5,2,0),0)","v":0},null,0]
[null,null,null,null,null,null,null,null,null,null,0,{"$f":"IFERROR(VLOOKUP(A9290,'Tipos de activos'!$F$2:$G$5,2,0),0)","v":0},null,0]
[null,null,null,null,null,null,null,null,null,null,0,{"$f":"IFERROR(VLOOKUP(A9298,'Tipos de activos'!$F$2:$G$5,2,0),0)","v":0},null,0]
[null,null,null,null,null,null,null,null,null,null,0,{"$f":"IFERROR(VLOOKUP(A9301,'Tipos de activos'!$F$2:$G$5,2,0),0)","v":0},null,0]
[null,null,null,null,null,null,null,null,null,null,0,{"$f":"IFERROR(VLOOKUP(A9310,'Tipos de activos'!$F$2:$G$5,2,0),0)","v":0},null,0]
[null,null,null,null,null,null,null,null,null,null,0,{"$f":"IFERROR(VLOOKUP(A9315,'Tipos de activos'!$F$2:$G$5,2,0),0)","v":0},null,0]
[null,null,null,null,null,null,null,null,null,null,0,{"$f":"IFERROR(VLOOKUP(A9319,'Tipos de activos'!$F$2:$G$5,2,0),0)","v":0},null,0]
[null,null,null,null,null,null,null,null,null,null,0,{"$f":"IFERROR(VLOOKUP(A9326,'Tipos de activos'!$F$2:$G$5,2,0),0)","v":0},null,0]
[null,null,null,null,null,null,null,null,null,null,0,{"$f":"IFERROR(VLOOKUP(A9335,'Tipos de activos'!$F$2:$G$5,2,0),0)","v":0},null,0]
[null,null,null,null,null,null,null,null,null,null,0,{"$f":"IFERROR(VLOOKUP(A9339,'Tipos de activos'!$F$2:$G$5,2,0),0)","v":0},null,0]
[null,null,null,null,null,null,null,null,null,null,0,{"$f":"IFERROR(VLOOKUP(A9344,'Tipos de activos'!$F$2:$G$5,2,0),0)","v":0},null,0]
[null,null,null,null,null,null,null,null,null,null,0,{"$f":"IFERROR(VLOOKUP(A9347,'Tipos de activos'!$F$2:$G$5,2,0),0)","v":0},null,0]
[null,null,null,null,null,null,null,null,null,null,0,{"$f":"IFERROR(VLOOKUP(A9356,'Tipos de activos'!$F$2:$G$5,2,0),0)","v":0},null,0]
[null,null,null,null,null,null,null,null,null,null,0,{"$f":"IFERROR(VLOOKUP(A9359,'Tipos de activos'!$F$2:$G$5,2,0),0)","v":0},null,0]
[null,null,null,null,null,null,null,null,null,null,0,{"$f":"IFERROR(VLOOKUP(A9365,'Tipos de activos'!$F$2:$G$5,2,0),0)","v":0},null,0]
[null,null,null,null,null,null,null,null,null,null,0,{"$f":"IFERROR(VLOOKUP(A9372,'Tipos de activos'!$F$2:$G$5,2,0),0)","v":0},null,0]
[null,null,null,null,null,null,null,null,null,null,0,{"$f":"IFERROR(VLOOKUP(A9381,'Tipos de activos'!$F$2:$G$5,2,0),0)","v":0},null,0]
[null,null,null,null,null,null,null,null,null,null,0,{"$f":"IFERROR(VLOOKUP(A9383,'Tipos de activos'!$F$2:$G$5,2,0),0)","v":0},null,0]
[null,null,null,null,null,null,null,null,null,null,0,{"$f":"IFERROR(VLOOKUP(A9390,'Tipos de activos'!$F$2:$G$5,2,0),0)","v":0},null,0]
[null,null,null,null,null,null,null,null,null,null,0,{"$f":"IFERROR(VLOOKUP(A9393,'Tipos de activos'!$F$2:$G$5,2,0),0)","v":0},null,0]
[null,null,null,null,null,null,null,null,null,null,0,{"$f":"IFERROR(VLOOKUP(A9402,'Tipos de activos'!$F$2:$G$5,2,0),0)","v":0},null,0]
[null,null,null,null,null,null,null,null,null,null,0,{"$f":"IFERROR(VLOOKUP(A9408,'Tipos de activos'!$F$2:$G$5,2,0),0)","v":0},null,0]
[null,null,null,null,null,null,null,null,null,null,0,{"$f":"IFERROR(VLOOKUP(A9411,'Tipos de activos'!$F$2:$G$5,2,0),0)","v":0},null,0]
[null,null,null,null,null,null,null,null,null,null,0,{"$f":"IFERROR(VLOOKUP(A9418,'Tipos de activos'!$F$2:$G$5,2,0),0)","v":0},null,0]
[null,null,null,null,null,null,null,null,null,null,0,{"$f":"IFERROR(VLOOKUP(A9426,'Tipos de activos'!$F$2:$G$5,2,0),0)","v":0},null,0]
[null,null,null,null,null,null,null,null,null,null,0,{"$f":"IFERROR(VLOOKUP(A9429,'Tipos de activos'!$F$2:$G$5,2,0),0)","v":0},null,0]
[null,null,null,null,null,null,null,null,null,null,0,{"$f":"IFERROR(VLOOKUP(A9436,'Tipos de activos'!$F$2:$G$5,2,0),0)","v":0},null,0]
[null,null,null,null,null,null,null,null,null,null,0,{"$f":"IFERROR(VLOOKUP(A9439,'Tipos de activos'!$F$2:$G$5,2,0),0)","v":0},null,0]
[null,null,null,null,null,null,null,null,null,null,0,{"$f":"IFERROR(VLOOKUP(A9446,'Tipos de activos'!$F$2:$G$5,2,0),0)","v":0},null,0]
[null,null,null,null,null,null,null,null,null,null,0,{"$f":"IFERROR(VLOOKUP(A9454,'Tipos de activos'!$F$2:$G$5,2,0),0)","v":0},null,0]
[null,null,null,null,null,null,null,null,null,null,0,{"$f":"IFERROR(VLOOKUP(A9457,'Tipos de activos'!$F$2:$G$5,2,0),0)","v":0},null,0]
[null,null,null,null,null,null,null,null,null,null,0,{"$f":"IFERROR(VLOOKUP(A9464,'Tipos de activos'!$F$2:$G$5,2,0),0)","v":0},null,0]
[null,null,null,null,null,null,null,null,null,null,0,{"$f":"IFERROR(VLOOKUP(A9470,'Tipos de activos'!$F$2:$G$5,2,0),0)","v":0},null,0]
[null,null,null,null,null,null,null,null,null,null,0,{"$f":"IFERROR(VLOOKUP(A9475,'Tipos de activos'!$F$2:$G$5,2,0),0)","v":0},null,0]
[null,null,null,null,null,null,null,null,null,null,0,{"$f":"IFERROR(VLOOKUP(A9482,'Tipos de activos'!$F$2:$G$5,2,0),0)","v":0},null,0]
[null,null,null,null,null,null,null,null,null,null,0,{"$f":"IFERROR(VLOOKUP(A9485,'Tipos de activos'!$F$2:$G$5,2,0),0)","v":0},null,0]
[null,null,null,null,null,null,null,null,null,null,0,{"$f":"IFERROR(VLOOKUP(A9495,'Tipos de activos'!$F$2:$G$5,2,0),0)","v":0},null,0]
[null,null,null,null,null,null,null,null,null,null,0,{"$f":"IFERROR(VLOOKUP(A9500,'Tipos de activos'!$F$2:$G$5,2,0),0)","v":0},null,0]
[null,null,null,null,null,null,null,null,null,null,0,{"$f":"IFERROR(VLOOKUP(A9503,'Tipos de activos'!$F$2:$G$5,2,0),0)","v":0},null,0]
[null,null,null,null,null,null,null,null,null,null,0,{"$f":"IFERROR(VLOOKUP(A9510,'Tipos de activos'!$F$2:$G$5,2,0),0)","v":0},null,0]
[null,null,null,null,null,null,null,null,null,null,0,{"$f":"IFERROR(VLOOKUP(A9514,'Tipos de activos'!$F$2:$G$5,2,0),0)","v":0},null,0]
[null,null,null,null,null,null,null,null,null,null,0,{"$f":"IFERROR(VLOOKUP(A9521,'Tipos de activos'!$F$2:$G$5,2,0),0)","v":0},null,0]
[null,null,null,null,null,null,null,null,null,null,0,{"$f":"IFERROR(VLOOKUP(A9528,'Tipos de activos'!$F$2:$G$5,2,0),0)","v":0},null,0]
[null,null,null,null,null,null,null,null,null,null,0,{"$f":"IFERROR(VLOOKUP(A9531,'Tipos de activos'!$F$2:$G$5,2,0),0)","v":0},null,0]
[null,null,null,null,null,null,null,null,null,null,0,{"$f":"IFERROR(VLOOKUP(A9539,'Tipos de activos'!$F$2:$G$5,2,0),0)","v":0},null,0]
[null,null,null,null,null,null,null,null,null,null,0,{"$f":"IFERROR(VLOOKUP(A9546,'Tipos de activos'!$F$2:$G$5,2,0),0)","v":0},null,0]
[null,null,null,null,null,null,null,null,null,null,0,{"$f":"IFERROR(VLOOKUP(A9549,'Tipos de activos'!$F$2:$G$5,2,0),0)","v":0},null,0]
[null,null,null,null,null,null,null,null,null,null,0,{"$f":"IFERROR(VLOOKUP(A9556,'Tipos de activos'!$F$2:$G$5,2,0),0)","v":0},null,0]
[null,null,null,null,null,null,null,null,null,null,0,{"$f":"IFERROR(VLOOKUP(A9563,'Tipos de activos'!$F$2:$G$5,2,0),0)","v":0},null,0]
[null,null,null,null,null,null,null,null,null,null,0,{"$f":"IFERROR(VLOOKUP(A9565,'Tipos de activos'!$F$2:$G$5,2,0),0)","v":0},null,0]
[null,null,null,null,null,null,null,null,null,null,0,{"$f":"IFERROR(VLOOKUP(A9574,'Tipos de activos'!$F$2:$G$5,2,0),0)","v":0},null,0]
[null,null,null,null,null,null,null,null,null,null,0,{"$f":"IFERROR(VLOOKUP(A9577,'Tipos de activos'!$F$2:$G$5,2,0),0)","v":0},null,0]
[null,null,null,null,null,null,null,null,null,null,0,{"$f":"IFERROR(VLOOKUP(A9583,'Tipos de activos'!$F$2:$G$5,2,0),0)","v":0},null,0]
[null,null,null,null,null,null,null,null,null,null,0,{"$f":"IFERROR(VLOOKUP(A9592,'Tipos de activos'!$F$2:$G$5,2,0),0)","v":0},null,0]
[null,null,null,null,null,null,null,null,null,null,0,{"$f":"IFERROR(VLOOKUP(A9595,'Tipos de activos'!$F$2:$G$5,2,0),0)","v":0},null,0]
[null,null,null,null,null,null,null,null,null,null,0,{"$f":"IFERROR(VLOOKUP(A9602,'Tipos de activos'!$F$2:$G$5,2,0),0)","v":0},null,0]
[null,null,null,null,null,null,null,null,null,null,0,{"$f":"IFERROR(VLOOKUP(A9607,'Tipos de activos'!$F$2:$G$5,2,0),0)","v":0},null,0]
[null,null,null,null,null,null,null,null,null,null,0,{"$f":"IFERROR(VLOOKUP(A9611,'Tipos de activos'!$F$2:$G$5,2,0),0)","v":0},null,0]
[null,null,null,null,null,null,null,null,null,null,0,{"$f":"IFERROR(VLOOKUP(A9620,'Tipos de activos'!$F$2:$G$5,2,0),0)","v":0},null,0]
[null,null,null,null,null,null,null,null,null,null,0,{"$f":"IFERROR(VLOOKUP(A9623,'Tipos de activos'!$F$2:$G$5,2,0),0)","v":0},null,0]
[null,null,null,null,null,null,null,null,null,null,0,{"$f":"IFERROR(VLOOKUP(A9632,'Tipos de activos'!$F$2:$G$5,2,0),0)","v":0},null,0]
[null,null,null,null,null,null,null,null,null,null,0,{"$f":"IFERROR(VLOOKUP(A9638,'Tipos de activos'!$F$2:$G$5,2,0),0)","v":0},null,0]
[null,null,null,null,null,null,null,null,null,null,0,{"$f":"IFERROR(VLOOKUP(A9645,'Tipos de activos'!$F$2:$G$5,2,0),0)","v":0},null,0]
[null,null,null,null,null,null,null,null,null,null,0,{"$f":"IFERROR(VLOOKUP(A9648,'Tipos de activos'!$F$2:$G$5,2,0),0)","v":0},null,0]
[null,null,null,null,null,null,null,null,null,null,0,{"$f":"IFERROR(VLOOKUP(A9656,'Tipos de activos'!$F$2:$G$5,2,0),0)","v":0},null,0]
[null,null,null,null,null,null,null,null,null,null,0,{"$f":"IFERROR(VLOOKUP(A9657,'Tipos de activos'!$F$2:$G$5,2,0),0)","v":0},null,0]
[null,null,null,null,null,null,null,null,null,null,0,{"$f":"IFERROR(VLOOKUP(A9666,'Tipos de activos'!$F$2:$G$5,2,0),0)","v":0},null,0]
[null,null,null,null,null,null,null,null,null,null,0,{"$f":"IFERROR(VLOOKUP(A9669,'Tipos de activos'!$F$2:$G$5,2,0),0)","v":0},null,0]
[null,null,null,null,null,null,null,null,null,null,0,{"$f":"IFERROR(VLOOKUP(A9675,'Tipos de activos'!$F$2:$G$5,2,0),0)","v":0},null,0]
[null,null,null,null,null,null,null,null,null,null,0,{"$f":"IFERROR(VLOOKUP(A9684,'Tipos de activos'!$F$2:$G$5,2,0),0)","v":0},null,0]
[null,null,null,null,null,null,null,null,null,null,0,{"$f":"IFERROR(VLOOKUP(A9691,'Tipos de activos'!$F$2:$G$5,2,0),0)","v":0},null,0]
[null,null,null,null,null,null,null,null,null,null,0,{"$f":"IFERROR(VLOOKUP(A9694,'Tipos de activos'!$F$2:$G$5,2,0),0)","v":0},null,0]
[null,null,null,null,null,null,null,null,null,null,0,{"$f":"IFERROR(VLOOKUP(A9702,'Tipos de activos'!$F$2:$G$5,2,0),0)","v":0},null,0]
[null,null,null,null,null,null,null,null,null,null,0,{"$f":"IFERROR(VLOOKUP(A9703,'Tipos de activos'!$F$2:$G$5,2,0),0)","v":0},null,0]
[null,null,null,null,null,null,null,null,null,null,0,{"$f":"IFERROR(VLOOKUP(A9712,'Tipos de activos'!$F$2:$G$5,2,0),0)","v":0},null,0]
[null,null,null,null,null,null,null,null,null,null,0,{"$f":"IFERROR(VLOOKUP(A9718,'Tipos de activos'!$F$2:$G$5,2,0),0)","v":0},null,0]
[null,null,null,null,null,null,null,null,null,null,0,{"$f":"IFERROR(VLOOKUP(A9721,'Tipos de activos'!$F$2:$G$5,2,0),0)","v":0},null,0]
[null,null,null,null,null,null,null,null,null,null,0,{"$f":"IFERROR(VLOOKUP(A9730,'Tipos de activos'!$F$2:$G$5,2,0),0)","v":0},null,0]
[null,null,null,null,null,null,null,null,null,null,0,{"$f":"IFERROR(VLOOKUP(A9737,'Tipos de activos'!$F$2:$G$5,2,0),0)","v":0},null,0]
[null,null,null,null,null,null,null,null,null,null,0,{"$f":"IFERROR(VLOOKUP(A9738,'Tipos de activos'!$F$2:$G$5,2,0),0)","v":0},null,0]
[null,null,null,null,null,null,null,null,null,null,0,{"$f":"IFERROR(VLOOKUP(A9748,'Tipos de activos'!$F$2:$G$5,2,0),0)","v":0},null,0]
[null,null,null,null,null,null,null,null,null,null,0,{"$f":"IFERROR(VLOOKUP(A9749,'Tipos de activos'!$F$2:$G$5,2,0),0)","v":0},null,0]
[null,null,null,null,null,null,null,null,null,null,0,{"$f":"IFERROR(VLOOKUP(A9758,'Tipos de activos'!$F$2:$G$5,2,0),0)","v":0},null,0]
[null,null,null,null,null,null,null,null,null,null,0,{"$f":"IFERROR(VLOOKUP(A9763,'Tipos de activos'!$F$2:$G$5,2,0),0)","v":0},null,0]
[null,null,null,null,null,null,null,null,null,null,0,{"$f":"IFERROR(VLOOKUP(A9767,'Tipos de activos'!$F$2:$G$5,2,0),0)","v":0},null,0]
[null,null,null,null,null,null,null,null,null,null,0,{"$f":"IFERROR(VLOOKUP(A9776,'Tipos de activos'!$F$2:$G$5,2,0),0)","v":0},null,0]
[null,null,null,null,null,null,null,null,null,null,0,{"$f":"IFERROR(VLOOKUP(A9783,'Tipos de activos'!$F$2:$G$5,2,0),0)","v":0},null,0]
[null,null,null,null,null,null,null,null,null,null,0,{"$f":"IFERROR(VLOOKUP(A9787,'Tipos de activos'!$F$2:$G$5,2,0),0)","v":0},null,0]
[null,null,null,null,null,null,null,null,null,null,0,{"$f":"IFERROR(VLOOKUP(A9794,'Tipos de activos'!$F$2:$G$5,2,0),0)","v":0},null,0]
[null,null,null,null,null,null,null,null,null,null,0,{"$f":"IFERROR(VLOOKUP(A9795,'Tipos de activos'!$F$2:$G$5,2,0),0)","v":0},null,0]
[null,null,null,null,null,null,null,null,null,null,0,{"$f":"IFERROR(VLOOKUP(A9804,'Tipos de activos'!$F$2:$G$5,2,0),0)","v":0},null,0]
[null,null,null,null,null,null,null,null,null,null,0,{"$f":"IFERROR(VLOOKUP(A9807,'Tipos de activos'!$F$2:$G$5,2,0),0)","v":0},null,0]
[null,null,null,null,null,null,null,null,null,null,0,{"$f":"IFERROR(VLOOKUP(A9813,'Tipos de activos'!$F$2:$G$5,2,0),0)","v":0},null,0]
[null,null,null,null,null,null,null,null,null,null,0,{"$f":"IFERROR(VLOOKUP(A9822,'Tipos de activos'!$F$2:$G$5,2,0),0)","v":0},null,0]
[null,null,null,null,null,null,null,null,null,null,0,{"$f":"IFERROR(VLOOKUP(A9829,'Tipos de activos'!$F$2:$G$5,2,0),0)","v":0},null,0]
[null,null,null,null,null,null,null,null,null,null,0,{"$f":"IFERROR(VLOOKUP(A9831,'Tipos de activos'!$F$2:$G$5,2,0),0)","v":0},null,0]
[null,null,null,null,null,null,null,null,null,null,0,{"$f":"IFERROR(VLOOKUP(A9838,'Tipos de activos'!$F$2:$G$5,2,0),0)","v":0},null,0]
[null,null,null,null,null,null,null,null,null,null,0,{"$f":"IFERROR(VLOOKUP(A9841,'Tipos de activos'!$F$2:$G$5,2,0),0)","v":0},null,0]
[null,null,null,null,null,null,null,null,null,null,0,{"$f":"IFERROR(VLOOKUP(A9850,'Tipos de activos'!$F$2:$G$5,2,0),0)","v":0},null,0]
[null,null,null,null,null,null,null,null,null,null,0,{"$f":"IFERROR(VLOOKUP(A9856,'Tipos de activos'!$F$2:$G$5,2,0),0)","v":0},null,0]
[null,null,null,null,null,null,null,null,null,null,0,{"$f":"IFERROR(VLOOKUP(A9859,'Tipos de activos'!$F$2:$G$5,2,0),0)","v":0},null,0]
[null,null,null,null,null,null,null,null,null,null,0,{"$f":"IFERROR(VLOOKUP(A9868,'Tipos de activos'!$F$2:$G$5,2,0),0)","v":0},null,0]
[null,null,null,null,null,null,null,null,null,null,0,{"$f":"IFERROR(VLOOKUP(A9875,'Tipos de activos'!$F$2:$G$5,2,0),0)","v":0},null,0]
[null,null,null,null,null,null,null,null,null,null,0,{"$f":"IFERROR(VLOOKUP(A9880,'Tipos de activos'!$F$2:$G$5,2,0),0)","v":0},null,0]
[null,null,null,null,null,null,null,null,null,null,0,{"$f":"IFERROR(VLOOKUP(A9884,'Tipos de activos'!$F$2:$G$5,2,0),0)","v":0},null,0]
[null,null,null,null,null,null,null,null,null,null,0,{"$f":"IFERROR(VLOOKUP(A9887,'Tipos de activos'!$F$2:$G$5,2,0),0)","v":0},null,0]
[null,null,null,null,null,null,null,null,null,null,0,{"$f":"IFERROR(VLOOKUP(A9896,'Tipos de activos'!$F$2:$G$5,2,0),0)","v":0},null,0]
[null,null,null,null,null,null,null,null,null,null,0,{"$f":"IFERROR(VLOOKUP(A9900,'Tipos de activos'!$F$2:$G$5,2,0),0)","v":0},null,0]
[null,null,null,null,null,null,null,null,null,null,0,{"$f":"IFERROR(VLOOKUP(A9905,'Tipos de activos'!$F$2:$G$5,2,0),0)","v":0},null,0]
[null,null,null,null,null,null,null,null,null,null,0,{"$f":"IFERROR(VLOOKUP(A9914,'Tipos de activos'!$F$2:$G$5,2,0),0)","v":0},null,0]
[null,null,null,null,null,null,null,null,null,null,0,{"$f":"IFERROR(VLOOKUP(A9918,'Tipos de activos'!$F$2:$G$5,2,0),0)","v":0},null,0]
[null,null,null,null,null,null,null,null,null,null,0,{"$f":"IFERROR(VLOOKUP(A9923,'Tipos de activos'!$F$2:$G$5,2,0),0)","v":0},null,0]
[null,null,null,null,null,null,null,null,null,null,0,{"$f":"IFERROR(VLOOKUP(A9930,'Tipos de activos'!$F$2:$G$5,2,0),0)","v":0},null,0]
[null,null,null,null,null,null,null,null,null,null,0,{"$f":"IFERROR(VLOOKUP(A9933,'Tipos de activos'!$F$2:$G$5,2,0),0)","v":0},null,0]
[null,null,null,null,null,null,null,null,null,null,0,{"$f":"IFERROR(VLOOKUP(A9942,'Tipos de activos'!$F$2:$G$5,2,0),0)","v":0},null,0]
[null,null,null,null,null,null,null,null,null,null,0,{"$f":"IFERROR(VLOOKUP(A9948,'Tipos de activos'!$F$2:$G$5,2,0),0)","v":0},null,0]
[null,null,null,null,null,null,null,null,null,null,0,{"$f":"IFERROR(VLOOKUP(A9951,'Tipos de activos'!$F$2:$G$5,2,0),0)","v":0},null,0]
[null,null,null,null,null,null,null,null,null,null,0,{"$f":"IFERROR(VLOOKUP(A9958,'Tipos de activos'!$F$2:$G$5,2,0),0)","v":0},null,0]
[null,null,null,null,null,null,null,null,null,null,0,{"$f":"IFERROR(VLOOKUP(A9962,'Tipos de activos'!$F$2:$G$5,2,0),0)","v":0},null,0]
[null,null,null,null,null,null,null,null,null,null,0,{"$f":"IFERROR(VLOOKUP(A9969,'Tipos de activos'!$F$2:$G$5,2,0),0)","v":0},null,0]
[null,null,null,null,null,null,null,null,null,null,0,{"$f":"IFERROR(VLOOKUP(A9976,'Tipos de activos'!$F$2:$G$5,2,0),0)","v":0},null,0]
[null,null,null,null,null,null,null,null,null,null,0,{"$f":"IFERROR(VLOOKUP(A9979,'Tipos de activos'!$F$2:$G$5,2,0),0)","v":0},null,0]
[null,null,null,null,null,null,null,null,null,null,0,{"$f":"IFERROR(VLOOKUP(A9986,'Tipos de activos'!$F$2:$G$5,2,0),0)","v":0},null,0]
[null,null,null,null,null,null,null,null,null,null,0,{"$f":"IFERROR(VLOOKUP(A9994,'Tipos de activos'!$F$2:$G$5,2,0),0)","v":0},null,0]
[null,null,null,null,null,null,null,null,null,null,0,{"$f":"IFERROR(VLOOKUP(A9997,'Tipos de activos'!$F$2:$G$5,2,0),0)","v":0},null,0]
[null,null,null,null,null,null,null,null,null,null,0,{"$f":"IFERROR(VLOOKUP(A10004,'Tipos de activos'!$F$2:$G$5,2,0),0)","v":0},null,0]
[null,null,null,null,null,null,null,null,null,null,0,{"$f":"IFERROR(VLOOKUP(A10011,'Tipos de activos'!$F$2:$G$5,2,0),0)","v":0},null,0]
[null,null,null,null,null,null,null,null,null,null,0,{"$f":"IFERROR(VLOOKUP(A10015,'Tipos de activos'!$F$2:$G$5,2,0),0)","v":0},null,0]
[null,null,null,null,null,null,null,null,null,null,0,{"$f":"IFERROR(VLOOKUP(A10022,'Tipos de activos'!$F$2:$G$5,2,0),0)","v":0},null,0]
[null,null,null,null,null,null,null,null,null,null,0,{"$f":"IFERROR(VLOOKUP(A10025,'Tipos de activos'!$F$2:$G$5,2,0),0)","v":0},null,0]
[null,null,null,null,null,null,null,null,null,null,0,{"$f":"IFERROR(VLOOKUP(A10035,'Tipos de activos'!$F$2:$G$5,2,0),0)","v":0},null,0]
[null,null,null,null,null,null,null,null,null,null,0,{"$f":"IFERROR(VLOOKUP(A10040,'Tipos de activos'!$F$2:$G$5,2,0),0)","v":0},null,0]
[null,null,null,null,null,null,null,null,null,null,0,{"$f":"IFERROR(VLOOKUP(A10043,'Tipos de activos'!$F$2:$G$5,2,0),0)","v":0},null,0]
[null,null,null,null,null,null,null,null,null,null,0,{"$f":"IFERROR(VLOOKUP(A10050,'Tipos de activos'!$F$2:$G$5,2,0),0)","v":0},null,0]
[null,null,null,null,null,null,null,null,null,null,0,{"$f":"IFERROR(VLOOKUP(A10055,'Tipos de activos'!$F$2:$G$5,2,0),0)","v":0},null,0]
[null,null,null,null,null,null,null,null,null,null,0,{"$f":"IFERROR(VLOOKUP(A10061,'Tipos de activos'!$F$2:$G$5,2,0),0)","v":0},null,0]
[null,null,null,null,null,null,null,null,null,null,0,{"$f":"IFERROR(VLOOKUP(A10068,'Tipos de activos'!$F$2:$G$5,2,0),0)","v":0},null,0]
[null,null,null,null,null,null,null,null,null,null,0,{"$f":"IFERROR(VLOOKUP(A10071,'Tipos de activos'!$F$2:$G$5,2,0),0)","v":0},null,0]
[null,null,null,null,null,null,null,null,null,null,0,{"$f":"IFERROR(VLOOKUP(A10080,'Tipos de activos'!$F$2:$G$5,2,0),0)","v":0},null,0]
[null,null,null,null,null,null,null,null,null,null,0,{"$f":"IFERROR(VLOOKUP(A10086,'Tipos de activos'!$F$2:$G$5,2,0),0)","v":0},null,0]
[null,null,null,null,null,null,null,null,null,null,0,{"$f":"IFERROR(VLOOKUP(A10089,'Tipos de activos'!$F$2:$G$5,2,0),0)","v":0},null,0]
[null,null,null,null,null,null,null,null,null,null,0,{"$f":"IFERROR(VLOOKUP(A10096,'Tipos de activos'!$F$2:$G$5,2,0),0)","v":0},null,0]
[null,null,null,null,null,null,null,null,null,null,0,{"$f":"IFERROR(VLOOKUP(A10104,'Tipos de activos'!$F$2:$G$5,2,0),0)","v":0},null,0]
[null,null,null,null,null,null,null,null,null,null,0,{"$f":"IFERROR(VLOOKUP(A10107,'Tipos de activos'!$F$2:$G$5,2,0),0)","v":0},null,0]
[null,null,null,null,null,null,null,null,null,null,0,{"$f":"IFERROR(VLOOKUP(A10114,'Tipos de activos'!$F$2:$G$5,2,0),0)","v":0},null,0]
[null,null,null,null,null,null,null,null,null,null,0,{"$f":"IFERROR(VLOOKUP(A10117,'Tipos de activos'!$F$2:$G$5,2,0),0)","v":0},null,0]
[null,null,null,null,null,null,null,null,null,null,0,{"$f":"IFERROR(VLOOKUP(A10124,'Tipos de activos'!$F$2:$G$5,2,0),0)","v":0},null,0]
[null,null,null,null,null,null,null,null,null,null,0,{"$f":"IFERROR(VLOOKUP(A10132,'Tipos de activos'!$F$2:$G$5,2,0),0)","v":0},null,0]
[null,null,null,null,null,null,null,null,null,null,0,{"$f":"IFERROR(VLOOKUP(A10135,'Tipos de activos'!$F$2:$G$5,2,0),0)","v":0},null,0]
[null,null,null,null,null,null,null,null,null,null,0,{"$f":"IFERROR(VLOOKUP(A10142,'Tipos de activos'!$F$2:$G$5,2,0),0)","v":0},null,0]
[null,null,null,null,null,null,null,null,null,null,0,{"$f":"IFERROR(VLOOKUP(A10150,'Tipos de activos'!$F$2:$G$5,2,0),0)","v":0},null,0]
[null,null,null,null,null,null,null,null,null,null,0,{"$f":"IFERROR(VLOOKUP(A10151,'Tipos de activos'!$F$2:$G$5,2,0),0)","v":0},null,0]
[null,null,null,null,null,null,null,null,null,null,0,{"$f":"IFERROR(VLOOKUP(A10160,'Tipos de activos'!$F$2:$G$5,2,0),0)","v":0},null,0]
[null,null,null,null,null,null,null,null,null,null,0,{"$f":"IFERROR(VLOOKUP(A10166,'Tipos de activos'!$F$2:$G$5,2,0),0)","v":0},null,0]
[null,null,null,null,null,null,null,null,null,null,0,{"$f":"IFERROR(VLOOKUP(A10169,'Tipos de activos'!$F$2:$G$5,2,0),0)","v":0},null,0]
[null,null,null,null,null,null,null,null,null,null,0,{"$f":"IFERROR(VLOOKUP(A10178,'Tipos de activos'!$F$2:$G$5,2,0),0)","v":0},null,0]
[null,null,null,null,null,null,null,null,null,null,0,{"$f":"IFERROR(VLOOKUP(A10181,'Tipos de activos'!$F$2:$G$5,2,0),0)","v":0},null,0]
[null,null,null,null,null,null,null,null,null,null,0,{"$f":"IFERROR(VLOOKUP(A10186,'Tipos de activos'!$F$2:$G$5,2,0),0)","v":0},null,0]
[null,null,null,null,null,null,null,null,null,null,0,{"$f":"IFERROR(VLOOKUP(A10196,'Tipos de activos'!$F$2:$G$5,2,0),0)","v":0},null,0]
[null,null,null,null,null,null,null,null,null,null,0,{"$f":"IFERROR(VLOOKUP(A10197,'Tipos de activos'!$F$2:$G$5,2,0),0)","v":0},null,0]
[null,null,null,null,null,null,null,null,null,null,0,{"$f":"IFERROR(VLOOKUP(A10206,'Tipos de activos'!$F$2:$G$5,2,0),0)","v":0},null,0]
[null,null,null,null,null,null,null,null,null,null,0,{"$f":"IFERROR(VLOOKUP(A10210,'Tipos de activos'!$F$2:$G$5,2,0),0)","v":0},null,0]
[null,null,null,null,null,null,null,null,null,null,0,{"$f":"IFERROR(VLOOKUP(A10215,'Tipos de activos'!$F$2:$G$5,2,0),0)","v":0},null,0]
[null,null,null,null,null,null,null,null,null,null,0,{"$f":"IFERROR(VLOOKUP(A10224,'Tipos de activos'!$F$2:$G$5,2,0),0)","v":0},null,0]
[null,null,null,null,null,null,null,null,null,null,0,{"$f":"IFERROR(VLOOKUP(A10227,'Tipos de activos'!$F$2:$G$5,2,0),0)","v":0},null,0]
[null,null,null,null,null,null,null,null,null,null,0,{"$f":"IFERROR(VLOOKUP(A10235,'Tipos de activos'!$F$2:$G$5,2,0),0)","v":0},null,0]
[null,null,null,null,null,null,null,null,null,null,0,{"$f":"IFERROR(VLOOKUP(A10242,'Tipos de activos'!$F$2:$G$5,2,0),0)","v":0},null,0]
[null,null,null,null,null,null,null,null,null,null,0,{"$f":"IFERROR(VLOOKUP(A10243,'Tipos de activos'!$F$2:$G$5,2,0),0)","v":0},null,0]
[null,null,null,null,null,null,null,null,null,null,0,{"$f":"IFERROR(VLOOKUP(A10252,'Tipos de activos'!$F$2:$G$5,2,0),0)","v":0},null,0]
[null,null,null,null,null,null,null,null,null,null,0,{"$f":"IFERROR(VLOOKUP(A10259,'Tipos de activos'!$F$2:$G$5,2,0),0)","v":0},null,0]
[null,null,null,null,null,null,null,null,null,null,0,{"$f":"IFERROR(VLOOKUP(A10261,'Tipos de activos'!$F$2:$G$5,2,0),0)","v":0},null,0]
[null,null,null,null,null,null,null,null,null,null,0,{"$f":"IFERROR(VLOOKUP(A10270,'Tipos de activos'!$F$2:$G$5,2,0),0)","v":0},null,0]
[null,null,null,null,null,null,null,null,null,null,0,{"$f":"IFERROR(VLOOKUP(A10277,'Tipos de activos'!$F$2:$G$5,2,0),0)","v":0},null,0]
[null,null,null,null,null,null,null,null,null,null,0,{"$f":"IFERROR(VLOOKUP(A10279,'Tipos de activos'!$F$2:$G$5,2,0),0)","v":0},null,0]
[null,null,null,null,null,null,null,null,null,null,0,{"$f":"IFERROR(VLOOKUP(A10288,'Tipos de activos'!$F$2:$G$5,2,0),0)","v":0},null,0]
[null,null,null,null,null,null,null,null,null,null,0,{"$f":"IFERROR(VLOOKUP(A10289,'Tipos de activos'!$F$2:$G$5,2,0),0)","v":0},null,0]
[null,null,null,null,null,null,null,null,null,null,0,{"$f":"IFERROR(VLOOKUP(A10298,'Tipos de activos'!$F$2:$G$5,2,0),0)","v":0},null,0]
[null,null,null,null,null,null,null,null,null,null,0,{"$f":"IFERROR(VLOOKUP(A10303,'Tipos de activos'!$F$2:$G$5,2,0),0)","v":0},null,0]
[null,null,null,null,null,null,null,null,null,null,0,{"$f":"IFERROR(VLOOKUP(A10307,'Tipos de activos'!$F$2:$G$5,2,0),0)","v":0},null,0]
[null,null,null,null,null,null,null,null,null,null,0,{"$f":"IFERROR(VLOOKUP(A10316,'Tipos de activos'!$F$2:$G$5,2,0),0)","v":0},null,0]
[null,null,null,null,null,null,null,null,null,null,0,{"$f":"IFERROR(VLOOKUP(A10323,'Tipos de activos'!$F$2:$G$5,2,0),0)","v":0},null,0]
[null,null,null,null,null,null,null,null,null,null,0,{"$f":"IFERROR(VLOOKUP(A10328,'Tipos de activos'!$F$2:$G$5,2,0),0)","v":0},null,0]
[null,null,null,null,null,null,null,null,null,null,0,{"$f":"IFERROR(VLOOKUP(A10334,'Tipos de activos'!$F$2:$G$5,2,0),0)","v":0},null,0]
[null,null,null,null,null,null,null,null,null,null,0,{"$f":"IFERROR(VLOOKUP(A10335,'Tipos de activos'!$F$2:$G$5,2,0),0)","v":0},null,0]
[null,null,null,null,null,null,null,null,null,null,0,{"$f":"IFERROR(VLOOKUP(A10344,'Tipos de activos'!$F$2:$G$5,2,0),0)","v":0},null,0]
[null,null,null,null,null,null,null,null,null,null,0,{"$f":"IFERROR(VLOOKUP(A10347,'Tipos de activos'!$F$2:$G$5,2,0),0)","v":0},null,0]
[null,null,null,null,null,null,null,null,null,null,0,{"$f":"IFERROR(VLOOKUP(A10353,'Tipos de activos'!$F$2:$G$5,2,0),0)","v":0},null,0]
[null,null,null,null,null,null,null,null,null,null,0,{"$f":"IFERROR(VLOOKUP(A10362,'Tipos de activos'!$F$2:$G$5,2,0),0)","v":0},null,0]
[null,null,null,null,null,null,null,null,null,null,0,{"$f":"IFERROR(VLOOKUP(A10369,'Tipos de activos'!$F$2:$G$5,2,0),0)","v":0},null,0]
[null,null,null,null,null,null,null,null,null,null,0,{"$f":"IFERROR(VLOOKUP(A10372,'Tipos de activos'!$F$2:$G$5,2,0),0)","v":0},null,0]
[null,null,null,null,null,null,null,null,null,null,0,{"$f":"IFERROR(VLOOKUP(A10380,'Tipos de activos'!$F$2:$G$5,2,0),0)","v":0},null,0]
[null,null,null,null,null,null,null,null,null,null,0,{"$f":"IFERROR(VLOOKUP(A10381,'Tipos de activos'!$F$2:$G$5,2,0),0)","v":0},null,0]
[null,null,null,null,null,null,null,null,null,null,0,{"$f":"IFERROR(VLOOKUP(A10390,'Tipos de activos'!$F$2:$G$5,2,0),0)","v":0},null,0]
[null,null,null,null,null,null,null,null,null,null,0,{"$f":"IFERROR(VLOOKUP(A10396,'Tipos de activos'!$F$2:$G$5,2,0),0)","v":0},null,0]
[null,null,null,null,null,null,null,null,null,null,0,{"$f":"IFERROR(VLOOKUP(A10399,'Tipos de activos'!$F$2:$G$5,2,0),0)","v":0},null,0]
[null,null,null,null,null,null,null,null,null,null,0,{"$f":"IFERROR(VLOOKUP(A10408,'Tipos de activos'!$F$2:$G$5,2,0),0)","v":0},null,0]
[null,null,null,null,null,null,null,null,null,null,0,{"$f":"IFERROR(VLOOKUP(A10410,'Tipos de activos'!$F$2:$G$5,2,0),0)","v":0},null,0]
[null,null,null,null,null,null,null,null,null,null,0,{"$f":"IFERROR(VLOOKUP(A10417,'Tipos de activos'!$F$2:$G$5,2,0),0)","v":0},null,0]
[null,null,null,null,null,null,null,null,null,null,0,{"$f":"IFERROR(VLOOKUP(A10426,'Tipos de activos'!$F$2:$G$5,2,0),0)","v":0},null,0]
[null,null,null,null,null,null,null,null,null,null,0,{"$f":"IFERROR(VLOOKUP(A10427,'Tipos de activos'!$F$2:$G$5,2,0),0)","v":0},null,0]
[null,null,null,null,null,null,null,null,null,null,0,{"$f":"IFERROR(VLOOKUP(A10434,'Tipos de activos'!$F$2:$G$5,2,0),0)","v":0},null,0]
[null,null,null,null,null,null,null,null,null,null,0,{"$f":"IFERROR(VLOOKUP(A10442,'Tipos de activos'!$F$2:$G$5,2,0),0)","v":0},null,0]
[null,null,null,null,null,null,null,null,null,null,0,{"$f":"IFERROR(VLOOKUP(A10445,'Tipos de activos'!$F$2:$G$5,2,0),0)","v":0},null,0]
[null,null,null,null,null,null,null,null,null,null,0,{"$f":"IFERROR(VLOOKUP(A10454,'Tipos de activos'!$F$2:$G$5,2,0),0)","v":0},null,0]
[null,null,null,null,null,null,null,null,null,null,0,{"$f":"IFERROR(VLOOKUP(A10459,'Tipos de activos'!$F$2:$G$5,2,0),0)","v":0},null,0]
[null,null,null,null,null,null,null,null,null,null,0,{"$f":"IFERROR(VLOOKUP(A10463,'Tipos de activos'!$F$2:$G$5,2,0),0)","v":0},null,0]
[null,null,null,null,null,null,null,null,null,null,0,{"$f":"IFERROR(VLOOKUP(A10470,'Tipos de activos'!$F$2:$G$5,2,0),0)","v":0},null,0]
[null,null,null,null,null,null,null,null,null,null,0,{"$f":"IFERROR(VLOOKUP(A10473,'Tipos de activos'!$F$2:$G$5,2,0),0)","v":0},null,0]
[null,null,null,null,null,null,null,null,null,null,0,{"$f":"IFERROR(VLOOKUP(A10483,'Tipos de activos'!$F$2:$G$5,2,0),0)","v":0},null,0]
[null,null,null,null,null,null,null,null,null,null,0,{"$f":"IFERROR(VLOOKUP(A10488,'Tipos de activos'!$F$2:$G$5,2,0),0)","v":0},null,0]
[null,null,null,null,null,null,null,null,null,null,0,{"$f":"IFERROR(VLOOKUP(A10491,'Tipos de activos'!$F$2:$G$5,2,0),0)","v":0},null,0]
[null,null,null,null,null,null,null,null,null,null,0,{"$f":"IFERROR(VLOOKUP(A10500,'Tipos de activos'!$F$2:$G$5,2,0),0)","v":0},null,0]
[null,null,null,null,null,null,null,null,null,null,0,{"$f":"IFERROR(VLOOKUP(A10503,'Tipos de activos'!$F$2:$G$5,2,0),0)","v":0},null,0]
[null,null,null,null,null,null,null,null,null,null,0,{"$f":"IFERROR(VLOOKUP(A10509,'Tipos de activos'!$F$2:$G$5,2,0),0)","v":0},null,0]
[null,null,null,null,null,null,null,null,null,null,0,{"$f":"IFERROR(VLOOKUP(A10516,'Tipos de activos'!$F$2:$G$5,2,0),0)","v":0},null,0]
[null,null,null,null,null,null,null,null,null,null,0,{"$f":"IFERROR(VLOOKUP(A10519,'Tipos de activos'!$F$2:$G$5,2,0),0)","v":0},null,0]
[null,null,null,null,null,null,null,null,null,null,0,{"$f":"IFERROR(VLOOKUP(A10527,'Tipos de activos'!$F$2:$G$5,2,0),0)","v":0},null,0]
[null,null,null,null,null,null,null,null,null,null,0,{"$f":"IFERROR(VLOOKUP(A10534,'Tipos de activos'!$F$2:$G$5,2,0),0)","v":0},null,0]
[null,null,null,null,null,null,null,null,null,null,0,{"$f":"IFERROR(VLOOKUP(A10537,'Tipos de activos'!$F$2:$G$5,2,0),0)","v":0},null,0]
[null,null,null,null,null,null,null,null,null,null,0,{"$f":"IFERROR(VLOOKUP(A10546,'Tipos de activos'!$F$2:$G$5,2,0),0)","v":0},null,0]
[null,null,null,null,null,null,null,null,null,null,0,{"$f":"IFERROR(VLOOKUP(A10552,'Tipos de activos'!$F$2:$G$5,2,0),0)","v":0},null,0]
[null,null,null,null,null,null,null,null,null,null,0,{"$f":"IFERROR(VLOOKUP(A10555,'Tipos de activos'!$F$2:$G$5,2,0),0)","v":0},null,0]
[null,null,null,null,null,null,null,null,null,null,0,{"$f":"IFERROR(VLOOKUP(A10562,'Tipos de activos'!$F$2:$G$5,2,0),0)","v":0},null,0]
[null,null,null,null,null,null,null,null,null,null,0,{"$f":"IFERROR(VLOOKUP(A10565,'Tipos de activos'!$F$2:$G$5,2,0),0)","v":0},null,0]
[null,null,null,null,null,null,null,null,null,null,0,{"$f":"IFERROR(VLOOKUP(A10571,'Tipos de activos'!$F$2:$G$5,2,0),0)","v":0},null,0]
[null,null,null,null,null,null,null,null,null,null,0,{"$f":"IFERROR(VLOOKUP(A10580,'Tipos de activos'!$F$2:$G$5,2,0),0)","v":0},null,0]
[null,null,null,null,null,null,null,null,null,null,0,{"$f":"IFERROR(VLOOKUP(A10583,'Tipos de activos'!$F$2:$G$5,2,0),0)","v":0},null,0]
[null,null,null,null,null,null,null,null,null,null,0,{"$f":"IFERROR(VLOOKUP(A10590,'Tipos de activos'!$F$2:$G$5,2,0),0)","v":0},null,0]
[null,null,null,null,null,null,null,null,null,null,0,{"$f":"IFERROR(VLOOKUP(A10596,'Tipos de activos'!$F$2:$G$5,2,0),0)","v":0},null,0]
[null,null,null,null,null,null,null,null,null,null,0,{"$f":"IFERROR(VLOOKUP(A10601,'Tipos de activos'!$F$2:$G$5,2,0),0)","v":0},null,0]
[null,null,null,null,null,null,null,null,null,null,0,{"$f":"IFERROR(VLOOKUP(A10608,'Tipos de activos'!$F$2:$G$5,2,0),0)","v":0},null,0]
[null,null,null,null,null,null,null,null,null,null,0,{"$f":"IFERROR(VLOOKUP(A10611,'Tipos de activos'!$F$2:$G$5,2,0),0)","v":0},null,0]
[null,null,null,null,null,null,null,null,null,null,0,{"$f":"IFERROR(VLOOKUP(A10620,'Tipos de activos'!$F$2:$G$5,2,0),0)","v":0},null,0]
[null,null,null,null,null,null,null,null,null,null,0,{"$f":"IFERROR(VLOOKUP(A10626,'Tipos de activos'!$F$2:$G$5,2,0),0)","v":0},null,0]
[null,null,null,null,null,null,null,null,null,null,0,{"$f":"IFERROR(VLOOKUP(A10629,'Tipos de activos'!$F$2:$G$5,2,0),0)","v":0},null,0]
[null,null,null,null,null,null,null,null,null,null,0,{"$f":"IFERROR(VLOOKUP(A10634,'Tipos de activos'!$F$2:$G$5,2,0),0)","v":0},null,0]
[null,null,null,null,null,null,null,null,null,null,0,{"$f":"IFERROR(VLOOKUP(A10644,'Tipos de activos'!$F$2:$G$5,2,0),0)","v":0},null,0]
[null,null,null,null,null,null,null,null,null,null,0,{"$f":"IFERROR(VLOOKUP(A10647,'Tipos de activos'!$F$2:$G$5,2,0),0)","v":0},null,0]
[null,null,null,null,null,null,null,null,null,null,0,{"$f":"IFERROR(VLOOKUP(A10654,'Tipos de activos'!$F$2:$G$5,2,0),0)","v":0},null,0]
[null,null,null,null,null,null,null,null,null,null,0,{"$f":"IFERROR(VLOOKUP(A10658,'Tipos de activos'!$F$2:$G$5,2,0),0)","v":0},null,0]
[null,null,null,null,null,null,null,null,null,null,0,{"$f":"IFERROR(VLOOKUP(A10663,'Tipos de activos'!$F$2:$G$5,2,0),0)","v":0},null,0]
[null,null,null,null,null,null,null,null,null,null,0,{"$f":"IFERROR(VLOOKUP(A10672,'Tipos de activos'!$F$2:$G$5,2,0),0)","v":0},null,0]
[null,null,null,null,null,null,null,null,null,null,0,{"$f":"IFERROR(VLOOKUP(A10675,'Tipos de activos'!$F$2:$G$5,2,0),0)","v":0},null,0]
[null,null,null,null,null,null,null,null,null,null,0,{"$f":"IFERROR(VLOOKUP(A10683,'Tipos de activos'!$F$2:$G$5,2,0),0)","v":0},null,0]
[null,null,null,null,null,null,null,null,null,null,0,{"$f":"IFERROR(VLOOKUP(A10690,'Tipos de activos'!$F$2:$G$5,2,0),0)","v":0},null,0]
[null,null,null,null,null,null,null,null,null,null,0,{"$f":"IFERROR(VLOOKUP(A10693,'Tipos de activos'!$F$2:$G$5,2,0),0)","v":0},null,0]
[null,null,null,null,null,null,null,null,null,null,0,{"$f":"IFERROR(VLOOKUP(A10700,'Tipos de activos'!$F$2:$G$5,2,0),0)","v":0},null,0]
[null,null,null,null,null,null,null,null,null,null,0,{"$f":"IFERROR(VLOOKUP(A10707,'Tipos de activos'!$F$2:$G$5,2,0),0)","v":0},null,0]
[null,null,null,null,null,null,null,null,null,null,0,{"$f":"IFERROR(VLOOKUP(A10709,'Tipos de activos'!$F$2:$G$5,2,0),0)","v":0},null,0]
[null,null,null,null,null,null,null,null,null,null,0,{"$f":"IFERROR(VLOOKUP(A10718,'Tipos de activos'!$F$2:$G$5,2,0),0)","v":0},null,0]
[null,null,null,null,null,null,null,null,null,null,0,{"$f":"IFERROR(VLOOKUP(A10721,'Tipos de activos'!$F$2:$G$5,2,0),0)","v":0},null,0]
[null,null,null,null,null,null,null,null,null,null,0,{"$f":"IFERROR(VLOOKUP(A10727,'Tipos de activos'!$F$2:$G$5,2,0),0)","v":0},null,0]
[null,null,null,null,null,null,null,null,null,null,0,{"$f":"IFERROR(VLOOKUP(A10736,'Tipos de activos'!$F$2:$G$5,2,0),0)","v":0},null,0]
[null,null,null,null,null,null,null,null,null,null,0,{"$f":"IFERROR(VLOOKUP(A10739,'Tipos de activos'!$F$2:$G$5,2,0),0)","v":0},null,0]
[null,null,null,null,null,null,null,null,null,null,0,{"$f":"IFERROR(VLOOKUP(A10746,'Tipos de activos'!$F$2:$G$5,2,0),0)","v":0},null,0]
[null,null,null,null,null,null,null,null,null,null,0,{"$f":"IFERROR(VLOOKUP(A10751,'Tipos de activos'!$F$2:$G$5,2,0),0)","v":0},null,0]
[null,null,null,null,null,null,null,null,null,null,0,{"$f":"IFERROR(VLOOKUP(A10755,'Tipos de activos'!$F$2:$G$5,2,0),0)","v":0},null,0]
[null,null,null,null,null,null,null,null,null,null,0,{"$f":"IFERROR(VLOOKUP(A10764,'Tipos de activos'!$F$2:$G$5,2,0),0)","v":0},null,0]
[null,null,null,null,null,null,null,null,null,null,0,{"$f":"IFERROR(VLOOKUP(A10767,'Tipos de activos'!$F$2:$G$5,2,0),0)","v":0},null,0]
[null,null,null,null,null,null,null,null,null,null,0,{"$f":"IFERROR(VLOOKUP(A10776,'Tipos de activos'!$F$2:$G$5,2,0),0)","v":0},null,0]
[null,null,null,null,null,null,null,null,null,null,0,{"$f":"IFERROR(VLOOKUP(A10782,'Tipos de activos'!$F$2:$G$5,2,0),0)","v":0},null,0]
[null,null,null,null,null,null,null,null,null,null,0,{"$f":"IFERROR(VLOOKUP(A10783,'Tipos de activos'!$F$2:$G$5,2,0),0)","v":0},null,0]
[null,null,null,null,null,null,null,null,null,null,0,{"$f":"IFERROR(VLOOKUP(A10792,'Tipos de activos'!$F$2:$G$5,2,0),0)","v":0},null,0]
[null,null,null,null,null,null,null,null,null,null,0,{"$f":"IFERROR(VLOOKUP(A10795,'Tipos de activos'!$F$2:$G$5,2,0),0)","v":0},null,0]
[null,null,null,null,null,null,null,null,null,null,0,{"$f":"IFERROR(VLOOKUP(A10801,'Tipos de activos'!$F$2:$G$5,2,0),0)","v":0},null,0]
[null,null,null,null,null,null,null,null,null,null,0,{"$f":"IFERROR(VLOOKUP(A10810,'Tipos de activos'!$F$2:$G$5,2,0),0)","v":0},null,0]
[null,null,null,null,null,null,null,null,null,null,0,{"$f":"IFERROR(VLOOKUP(A10813,'Tipos de activos'!$F$2:$G$5,2,0),0)","v":0},null,0]
[null,null,null,null,null,null,null,null,null,null,0,{"$f":"IFERROR(VLOOKUP(A10820,'Tipos de activos'!$F$2:$G$5,2,0),0)","v":0},null,0]
[null,null,null,null,null,null,null,null,null,null,0,{"$f":"IFERROR(VLOOKUP(A10828,'Tipos de activos'!$F$2:$G$5,2,0),0)","v":0},null,0]
[null,null,null,null,null,null,null,null,null,null,0,{"$f":"IFERROR(VLOOKUP(A10829,'Tipos de activos'!$F$2:$G$5,2,0),0)","v":0},null,0]
[null,null,null,null,null,null,null,null,null,null,0,{"$f":"IFERROR(VLOOKUP(A10838,'Tipos de activos'!$F$2:$G$5,2,0),0)","v":0},null,0]
[null,null,null,null,null,null,null,null,null,null,0,{"$f":"IFERROR(VLOOKUP(A10844,'Tipos de activos'!$F$2:$G$5,2,0),0)","v":0},null,0]
[null,null,null,null,null,null,null,null,null,null,0,{"$f":"IFERROR(VLOOKUP(A10847,'Tipos de activos'!$F$2:$G$5,2,0),0)","v":0},null,0]
[null,null,null,null,null,null,null,null,null,null,0,{"$f":"IFERROR(VLOOKUP(A10856,'Tipos de activos'!$F$2:$G$5,2,0),0)","v":0},null,0]
[null,null,null,null,null,null,null,null,null,null,0,{"$f":"IFERROR(VLOOKUP(A10862,'Tipos de activos'!$F$2:$G$5,2,0),0)","v":0},null,0]
[null,null,null,null,null,null,null,null,null,null,0,{"$f":"IFERROR(VLOOKUP(A10865,'Tipos de activos'!$F$2:$G$5,2,0),0)","v":0},null,0]
[null,null,null,null,null,null,null,null,null,null,0,{"$f":"IFERROR(VLOOKUP(A10874,'Tipos de activos'!$F$2:$G$5,2,0),0)","v":0},null,0]
[null,null,null,null,null,null,null,null,null,null,0,{"$f":"IFERROR(VLOOKUP(A10875,'Tipos de activos'!$F$2:$G$5,2,0),0)","v":0},null,0]
[null,null,null,null,null,null,null,null,null,null,0,{"$f":"IFERROR(VLOOKUP(A10882,'Tipos de activos'!$F$2:$G$5,2,0),0)","v":0},null,0]
[null,null,null,null,null,null,null,null,null,null,0,{"$f":"IFERROR(VLOOKUP(A10886,'Tipos de activos'!$F$2:$G$5,2,0),0)","v":0},null,0]
[null,null,null,null,null,null,null,null,null,null,0,{"$f":"IFERROR(VLOOKUP(A10893,'Tipos de activos'!$F$2:$G$5,2,0),0)","v":0},null,0]
[null,null,null,null,null,null,null,null,null,null,0,{"$f":"IFERROR(VLOOKUP(A10902,'Tipos de activos'!$F$2:$G$5,2,0),0)","v":0},null,0]
[null,null,null,null,null,null,null,null,null,null,0,{"$f":"IFERROR(VLOOKUP(A10907,'Tipos de activos'!$F$2:$G$5,2,0),0)","v":0},null,0]
[null,null,null,null,null,null,null,null,null,null,0,{"$f":"IFERROR(VLOOKUP(A10911,'Tipos de activos'!$F$2:$G$5,2,0),0)","v":0},null,0]
[null,null,null,null,null,null,null,null,null,null,0,{"$f":"IFERROR(VLOOKUP(A10920,'Tipos de activos'!$F$2:$G$5,2,0),0)","v":0},null,0]
[null,null,null,null,null,null,null,null,null,null,0,{"$f":"IFERROR(VLOOKUP(A10921,'Tipos de activos'!$F$2:$G$5,2,0),0)","v":0},null,0]
[null,null,null,null,null,null,null,null,null,null,0,{"$f":"IFERROR(VLOOKUP(A10931,'Tipos de activos'!$F$2:$G$5,2,0),0)","v":0},null,0]
[null,null,null,null,null,null,null,null,null,null,0,{"$f":"IFERROR(VLOOKUP(A10932,'Tipos de activos'!$F$2:$G$5,2,0),0)","v":0},null,0]
[null,null,null,null,null,null,null,null,null,null,0,{"$f":"IFERROR(VLOOKUP(A10939,'Tipos de activos'!$F$2:$G$5,2,0),0)","v":0},null,0]
[null,null,null,null,null,null,null,null,null,null,0,{"$f":"IFERROR(VLOOKUP(A10948,'Tipos de activos'!$F$2:$G$5,2,0),0)","v":0},null,0]
[null,null,null,null,null,null,null,null,null,null,0,{"$f":"IFERROR(VLOOKUP(A10951,'Tipos de activos'!$F$2:$G$5,2,0),0)","v":0},null,0]
[null,null,null,null,null,null,null,null,null,null,0,{"$f":"IFERROR(VLOOKUP(A10957,'Tipos de activos'!$F$2:$G$5,2,0),0)","v":0},null,0]
[null,null,null,null,null,null,null,null,null,null,0,{"$f":"IFERROR(VLOOKUP(A10966,'Tipos de activos'!$F$2:$G$5,2,0),0)","v":0},null,0]
[null,null,null,null,null,null,null,null,null,null,0,{"$f":"IFERROR(VLOOKUP(A10967,'Tipos de activos'!$F$2:$G$5,2,0),0)","v":0},null,0]
[null,null,null,null,null,null,null,null,null,null,0,{"$f":"IFERROR(VLOOKUP(A10975,'Tipos de activos'!$F$2:$G$5,2,0),0)","v":0},null,0]
[null,null,null,null,null,null,null,null,null,null,0,{"$f":"IFERROR(VLOOKUP(A10982,'Tipos de activos'!$F$2:$G$5,2,0),0)","v":0},null,0]
[null,null,null,null,null,null,null,null,null,null,0,{"$f":"IFERROR(VLOOKUP(A10985,'Tipos de activos'!$F$2:$G$5,2,0),0)","v":0},null,0]
[null,null,null,null,null,null,null,null,null,null,0,{"$f":"IFERROR(VLOOKUP(A10994,'Tipos de activos'!$F$2:$G$5,2,0),0)","v":0},null,0]
[null,null,null,null,null,null,null,null,null,null,0,{"$f":"IFERROR(VLOOKUP(A11000,'Tipos de activos'!$F$2:$G$5,2,0),0)","v":0},null,0]
[null,null,null,null,null,null,null,null,null,null,0,{"$f":"IFERROR(VLOOKUP(A11003,'Tipos de activos'!$F$2:$G$5,2,0),0)","v":0},null,0]
[null,null,null,null,null,null,null,null,null,null,0,{"$f":"IFERROR(VLOOKUP(A11012,'Tipos de activos'!$F$2:$G$5,2,0),0)","v":0},null,0]
[null,null,null,null,null,null,null,null,null,null,0,{"$f":"IFERROR(VLOOKUP(A11013,'Tipos de activos'!$F$2:$G$5,2,0),0)","v":0},null,0]
[null,null,null,null,null,null,null,null,null,null,0,{"$f":"IFERROR(VLOOKUP(A11019,'Tipos de activos'!$F$2:$G$5,2,0),0)","v":0},null,0]
[null,null,null,null,null,null,null,null,null,null,0,{"$f":"IFERROR(VLOOKUP(A11028,'Tipos de activos'!$F$2:$G$5,2,0),0)","v":0},null,0]
[null,null,null,null,null,null,null,null,null,null,0,{"$f":"IFERROR(VLOOKUP(A11031,'Tipos de activos'!$F$2:$G$5,2,0),0)","v":0},null,0]
[null,null,null,null,null,null,null,null,null,null,0,{"$f":"IFERROR(VLOOKUP(A11040,'Tipos de activos'!$F$2:$G$5,2,0),0)","v":0},null,0]
[null,null,null,null,null,null,null,null,null,null,0,{"$f":"IFERROR(VLOOKUP(A11044,'Tipos de activos'!$F$2:$G$5,2,0),0)","v":0},null,0]
[null,null,null,null,null,null,null,null,null,null,0,{"$f":"IFERROR(VLOOKUP(A11049,'Tipos de activos'!$F$2:$G$5,2,0),0)","v":0},null,0]
[null,null,null,null,null,null,null,null,null,null,0,{"$f":"IFERROR(VLOOKUP(A11058,'Tipos de activos'!$F$2:$G$5,2,0),0)","v":0},null,0]
[null,null,null,null,null,null,null,null,null,null,0,{"$f":"IFERROR(VLOOKUP(A11059,'Tipos de activos'!$F$2:$G$5,2,0),0)","v":0},null,0]
[null,null,null,null,null,null,null,null,null,null,0,{"$f":"IFERROR(VLOOKUP(A11068,'Tipos de activos'!$F$2:$G$5,2,0),0)","v":0},null,0]
[null,null,null,null,null,null,null,null,null,null,0,{"$f":"IFERROR(VLOOKUP(A11074,'Tipos de activos'!$F$2:$G$5,2,0),0)","v":0},null,0]
[null,null,null,null,null,null,null,null,null,null,0,{"$f":"IFERROR(VLOOKUP(A11077,'Tipos de activos'!$F$2:$G$5,2,0),0)","v":0},null,0]
[null,null,null,null,null,null,null,null,null,null,0,{"$f":"IFERROR(VLOOKUP(A11086,'Tipos de activos'!$F$2:$G$5,2,0),0)","v":0},null,0]
[null,null,null,null,null,null,null,null,null,null,0,{"$f":"IFERROR(VLOOKUP(A11088,'Tipos de activos'!$F$2:$G$5,2,0),0)","v":0},null,0]
[null,null,null,null,null,null,null,null,null,null,0,{"$f":"IFERROR(VLOOKUP(A11095,'Tipos de activos'!$F$2:$G$5,2,0),0)","v":0},null,0]
[null,null,null,null,null,null,null,null,null,null,0,{"$f":"IFERROR(VLOOKUP(A11102,'Tipos de activos'!$F$2:$G$5,2,0),0)","v":0},null,0]
[null,null,null,null,null,null,null,null,null,null,0,{"$f":"IFERROR(VLOOKUP(A11106,'Tipos de activos'!$F$2:$G$5,2,0),0)","v":0},null,0]
[null,null,null,null,null,null,null,null,null,null,0,{"$f":"IFERROR(VLOOKUP(A11113,'Tipos de activos'!$F$2:$G$5,2,0),0)","v":0},null,0]
[null,null,null,null,null,null,null,null,null,null,0,{"$f":"IFERROR(VLOOKUP(A11120,'Tipos de activos'!$F$2:$G$5,2,0),0)","v":0},null,0]
[null,null,null,null,null,null,null,null,null,null,0,{"$f":"IFERROR(VLOOKUP(A11123,'Tipos de activos'!$F$2:$G$5,2,0),0)","v":0},null,0]
[null,null,null,null,null,null,null,null,null,null,0,{"$f":"IFERROR(VLOOKUP(A11130,'Tipos de activos'!$F$2:$G$5,2,0),0)","v":0},null,0]
[null,null,null,null,null,null,null,null,null,null,0,{"$f":"IFERROR(VLOOKUP(A11138,'Tipos de activos'!$F$2:$G$5,2,0),0)","v":0},null,0]
[null,null,null,null,null,null,null,null,null,null,0,{"$f":"IFERROR(VLOOKUP(A11141,'Tipos de activos'!$F$2:$G$5,2,0),0)","v":0},null,0]
[null,null,null,null,null,null,null,null,null,null,0,{"$f":"IFERROR(VLOOKUP(A11148,'Tipos de activos'!$F$2:$G$5,2,0),0)","v":0},null,0]
[null,null,null,null,null,null,null,null,null,null,0,{"$f":"IFERROR(VLOOKUP(A11155,'Tipos de activos'!$F$2:$G$5,2,0),0)","v":0},null,0]
[null,null,null,null,null,null,null,null,null,null,0,{"$f":"IFERROR(VLOOKUP(A11159,'Tipos de activos'!$F$2:$G$5,2,0),0)","v":0},null,0]
[null,null,null,null,null,null,null,null,null,null,0,{"$f":"IFERROR(VLOOKUP(A11166,'Tipos de activos'!$F$2:$G$5,2,0),0)","v":0},null,0]
[null,null,null,null,null,null,null,null,null,null,0,{"$f":"IFERROR(VLOOKUP(A11169,'Tipos de activos'!$F$2:$G$5,2,0),0)","v":0},null,0]
[null,null,null,null,null,null,null,null,null,null,0,{"$f":"IFERROR(VLOOKUP(A11174,'Tipos de activos'!$F$2:$G$5,2,0),0)","v":0},null,0]
[null,null,null,null,null,null,null,null,null,null,0,{"$f":"IFERROR(VLOOKUP(A11184,'Tipos de activos'!$F$2:$G$5,2,0),0)","v":0},null,0]
[null,null,null,null,null,null,null,null,null,null,0,{"$f":"IFERROR(VLOOKUP(A11187,'Tipos de activos'!$F$2:$G$5,2,0),0)","v":0},null,0]
[null,null,null,null,null,null,null,null,null,null,0,{"$f":"IFERROR(VLOOKUP(A11194,'Tipos de activos'!$F$2:$G$5,2,0),0)","v":0},null,0]
[null,null,null,null,null,null,null,null,null,null,0,{"$f":"IFERROR(VLOOKUP(A11199,'Tipos de activos'!$F$2:$G$5,2,0),0)","v":0},null,0]
[null,null,null,null,null,null,null,null,null,null,0,{"$f":"IFERROR(VLOOKUP(A11205,'Tipos de activos'!$F$2:$G$5,2,0),0)","v":0},null,0]
[null,null,null,null,null,null,null,null,null,null,0,{"$f":"IFERROR(VLOOKUP(A11212,'Tipos de activos'!$F$2:$G$5,2,0),0)","v":0},null,0]
[null,null,null,null,null,null,null,null,null,null,0,{"$f":"IFERROR(VLOOKUP(A11215,'Tipos de activos'!$F$2:$G$5,2,0),0)","v":0},null,0]
[null,null,null,null,null,null,null,null,null,null,0,{"$f":"IFERROR(VLOOKUP(A11224,'Tipos de activos'!$F$2:$G$5,2,0),0)","v":0},null,0]
[null,null,null,null,null,null,null,null,null,null,0,{"$f":"IFERROR(VLOOKUP(A11230,'Tipos de activos'!$F$2:$G$5,2,0),0)","v":0},null,0]
[null,null,null,null,null,null,null,null,null,null,0,{"$f":"IFERROR(VLOOKUP(A11233,'Tipos de activos'!$F$2:$G$5,2,0),0)","v":0},null,0]
[null,null,null,null,null,null,null,null,null,null,0,{"$f":"IFERROR(VLOOKUP(A11240,'Tipos de activos'!$F$2:$G$5,2,0),0)","v":0},null,0]
[null,null,null,null,null,null,null,null,null,null,0,{"$f":"IFERROR(VLOOKUP(A11243,'Tipos de activos'!$F$2:$G$5,2,0),0)","v":0},null,0]
[null,null,null,null,null,null,null,null,null,null,0,{"$f":"IFERROR(VLOOKUP(A11251,'Tipos de activos'!$F$2:$G$5,2,0),0)","v":0},null,0]
[null,null,null,null,null,null,null,null,null,null,0,{"$f":"IFERROR(VLOOKUP(A11258,'Tipos de activos'!$F$2:$G$5,2,0),0)","v":0},null,0]
[null,null,null,null,null,null,null,null,null,null,0,{"$f":"IFERROR(VLOOKUP(A11261,'Tipos de activos'!$F$2:$G$5,2,0),0)","v":0},null,0]
[null,null,null,null,null,null,null,null,null,null,0,{"$f":"IFERROR(VLOOKUP(A11268,'Tipos de activos'!$F$2:$G$5,2,0),0)","v":0},null,0]
[null,null,null,null,null,null,null,null,null,null,0,{"$f":"IFERROR(VLOOKUP(A11276,'Tipos de activos'!$F$2:$G$5,2,0),0)","v":0},null,0]
[null,null,null,null,null,null,null,null,null,null,0,{"$f":"IFERROR(VLOOKUP(A11279,'Tipos de activos'!$F$2:$G$5,2,0),0)","v":0},null,0]
[null,null,null,null,null,null,null,null,null,null,0,{"$f":"IFERROR(VLOOKUP(A11286,'Tipos de activos'!$F$2:$G$5,2,0),0)","v":0},null,0]
[null,null,null,null,null,null,null,null,null,null,0,{"$f":"IFERROR(VLOOKUP(A11292,'Tipos de activos'!$F$2:$G$5,2,0),0)","v":0},null,0]
[null,null,null,null,null,null,null,null,null,null,0,{"$f":"IFERROR(VLOOKUP(A11295,'Tipos de activos'!$F$2:$G$5,2,0),0)","v":0},null,0]
[null,null,null,null,null,null,null,null,null,null,0,{"$f":"IFERROR(VLOOKUP(A11304,'Tipos de activos'!$F$2:$G$5,2,0),0)","v":0},null,0]
[null,null,null,null,null,null,null,null,null,null,0,{"$f":"IFERROR(VLOOKUP(A11307,'Tipos de activos'!$F$2:$G$5,2,0),0)","v":0},null,0]
[null,null,null,null,null,null,null,null,null,null,0,{"$f":"IFERROR(VLOOKUP(A11312,'Tipos de activos'!$F$2:$G$5,2,0),0)","v":0},null,0]
[null,null,null,null,null,null,null,null,null,null,0,{"$f":"IFERROR(VLOOKUP(A11322,'Tipos de activos'!$F$2:$G$5,2,0),0)","v":0},null,0]
[null,null,null,null,null,null,null,null,null,null,0,{"$f":"IFERROR(VLOOKUP(A11325,'Tipos de activos'!$F$2:$G$5,2,0),0)","v":0},null,0]
[null,null,null,null,null,null,null,null,null,null,0,{"$f":"IFERROR(VLOOKUP(A11332,'Tipos de activos'!$F$2:$G$5,2,0),0)","v":0},null,0]
[null,null,null,null,null,null,null,null,null,null,0,{"$f":"IFERROR(VLOOKUP(A11336,'Tipos de activos'!$F$2:$G$5,2,0),0)","v":0},null,0]
[null,null,null,null,null,null,null,null,null,null,0,{"$f":"IFERROR(VLOOKUP(A11341,'Tipos de activos'!$F$2:$G$5,2,0),0)","v":0},null,0]
[null,null,null,null,null,null,null,null,null,null,0,{"$f":"IFERROR(VLOOKUP(A11350,'Tipos de activos'!$F$2:$G$5,2,0),0)","v":0},null,0]
[null,null,null,null,null,null,null,null,null,null,0,{"$f":"IFERROR(VLOOKUP(A11354,'Tipos de activos'!$F$2:$G$5,2,0),0)","v":0},null,0]
[null,null,null,null,null,null,null,null,null,null,0,{"$f":"IFERROR(VLOOKUP(A11359,'Tipos de activos'!$F$2:$G$5,2,0),0)","v":0},null,0]
[null,null,null,null,null,null,null,null,null,null,0,{"$f":"IFERROR(VLOOKUP(A11368,'Tipos de activos'!$F$2:$G$5,2,0),0)","v":0},null,0]
[null,null,null,null,null,null,null,null,null,null,0,{"$f":"IFERROR(VLOOKUP(A11371,'Tipos de activos'!$F$2:$G$5,2,0),0)","v":0},null,0]
[null,null,null,null,null,null,null,null,null,null,0,{"$f":"IFERROR(VLOOKUP(A11379,'Tipos de activos'!$F$2:$G$5,2,0),0)","v":0},null,0]
[null,null,null,null,null,null,null,null,null,null,0,{"$f":"IFERROR(VLOOKUP(A11380,'Tipos de activos'!$F$2:$G$5,2,0),0)","v":0},null,0]
[null,null,null,null,null,null,null,null,null,null,0,{"$f":"IFERROR(VLOOKUP(A11387,'Tipos de activos'!$F$2:$G$5,2,0),0)","v":0},null,0]
[null,null,null,null,null,null,null,null,null,null,0,{"$f":"IFERROR(VLOOKUP(A11396,'Tipos de activos'!$F$2:$G$5,2,0),0)","v":0},null,0]
[null,null,null,null,null,null,null,null,null,null,0,{"$f":"IFERROR(VLOOKUP(A11398,'Tipos de activos'!$F$2:$G$5,2,0),0)","v":0},null,0]
[null,null,null,null,null,null,null,null,null,null,0,{"$f":"IFERROR(VLOOKUP(A11405,'Tipos de activos'!$F$2:$G$5,2,0),0)","v":0},null,0]
[null,null,null,null,null,null,null,null,null,null,0,{"$f":"IFERROR(VLOOKUP(A11414,'Tipos de activos'!$F$2:$G$5,2,0),0)","v":0},null,0]
[null,null,null,null,null,null,null,null,null,null,0,{"$f":"IFERROR(VLOOKUP(A11415,'Tipos de activos'!$F$2:$G$5,2,0),0)","v":0},null,0]
[null,null,null,null,null,null,null,null,null,null,0,{"$f":"IFERROR(VLOOKUP(A11423,'Tipos de activos'!$F$2:$G$5,2,0),0)","v":0},null,0]
[null,null,null,null,null,null,null,null,null,null,0,{"$f":"IFERROR(VLOOKUP(A11426,'Tipos de activos'!$F$2:$G$5,2,0),0)","v":0},null,0]
[null,null,null,null,null,null,null,null,null,null,0,{"$f":"IFERROR(VLOOKUP(A11433,'Tipos de activos'!$F$2:$G$5,2,0),0)","v":0},null,0]
[null,null,null,null,null,null,null,null,null,null,0,{"$f":"IFERROR(VLOOKUP(A11442,'Tipos de activos'!$F$2:$G$5,2,0),0)","v":0},null,0]
[null,null,null,null,null,null,null,null,null,null,0,{"$f":"IFERROR(VLOOKUP(A11447,'Tipos de activos'!$F$2:$G$5,2,0),0)","v":0},null,0]
[null,null,null,null,null,null,null,null,null,null,0,{"$f":"IFERROR(VLOOKUP(A11451,'Tipos de activos'!$F$2:$G$5,2,0),0)","v":0},null,0]
[null,null,null,null,null,null,null,null,null,null,0,{"$f":"IFERROR(VLOOKUP(A11460,'Tipos de activos'!$F$2:$G$5,2,0),0)","v":0},null,0]
[null,null,null,null,null,null,null,null,null,null,0,{"$f":"IFERROR(VLOOKUP(A11461,'Tipos de activos'!$F$2:$G$5,2,0),0)","v":0},null,0]
[null,null,null,null,null,null,null,null,null,null,0,{"$f":"IFERROR(VLOOKUP(A11467,'Tipos de activos'!$F$2:$G$5,2,0),0)","v":0},null,0]
[null,null,null,null,null,null,null,null,null,null,0,{"$f":"IFERROR(VLOOKUP(A11472,'Tipos de activos'!$F$2:$G$5,2,0),0)","v":0},null,0]
[null,null,null,null,null,null,null,null,null,null,0,{"$f":"IFERROR(VLOOKUP(A11479,'Tipos de activos'!$F$2:$G$5,2,0),0)","v":0},null,0]
[null,null,null,null,null,null,null,null,null,null,0,{"$f":"IFERROR(VLOOKUP(A11488,'Tipos de activos'!$F$2:$G$5,2,0),0)","v":0},null,0]
[null,null,null,null,null,null,null,null,null,null,0,{"$f":"IFERROR(VLOOKUP(A11492,'Tipos de activos'!$F$2:$G$5,2,0),0)","v":0},null,0]
[null,null,null,null,null,null,null,null,null,null,0,{"$f":"IFERROR(VLOOKUP(A11497,'Tipos de activos'!$F$2:$G$5,2,0),0)","v":0},null,0]
[null,null,null,null,null,null,null,null,null,null,0,{"$f":"IFERROR(VLOOKUP(A11506,'Tipos de activos'!$F$2:$G$5,2,0),0)","v":0},null,0]
[null,null,null,null,null,null,null,null,null,null,0,{"$f":"IFERROR(VLOOKUP(A11507,'Tipos de activos'!$F$2:$G$5,2,0),0)","v":0},null,0]
[null,null,null,null,null,null,null,null,null,null,0,{"$f":"IFERROR(VLOOKUP(A11516,'Tipos de activos'!$F$2:$G$5,2,0),0)","v":0},null,0]
[null,null,null,null,null,null,null,null,null,null,0,{"$f":"IFERROR(VLOOKUP(A11518,'Tipos de activos'!$F$2:$G$5,2,0),0)","v":0},null,0]
[null,null,null,null,null,null,null,null,null,null,0,{"$f":"IFERROR(VLOOKUP(A11525,'Tipos de activos'!$F$2:$G$5,2,0),0)","v":0},null,0]
[null,null,null,null,null,null,null,null,null,null,0,{"$f":"IFERROR(VLOOKUP(A11534,'Tipos de activos'!$F$2:$G$5,2,0),0)","v":0},null,0]
[null,null,null,null,null,null,null,null,null,null,0,{"$f":"IFERROR(VLOOKUP(A11536,'Tipos de activos'!$F$2:$G$5,2,0),0)","v":0},null,0]
[null,null,null,null,null,null,null,null,null,null,0,{"$f":"IFERROR(VLOOKUP(A11543,'Tipos de activos'!$F$2:$G$5,2,0),0)","v":0},null,0]
[null,null,null,null,null,null,null,null,null,null,0,{"$f":"IFERROR(VLOOKUP(A11552,'Tipos de activos'!$F$2:$G$5,2,0),0)","v":0},null,0]
[null,null,null,null,null,null,null,null,null,null,0,{"$f":"IFERROR(VLOOKUP(A11553,'Tipos de activos'!$F$2:$G$5,2,0),0)","v":0},null,0]
[null,null,null,null,null,null,null,null,null,null,0,{"$f":"IFERROR(VLOOKUP(A11560,'Tipos de activos'!$F$2:$G$5,2,0),0)","v":0},null,0]
[null,null,null,null,null,null,null,null,null,null,0,{"$f":"IFERROR(VLOOKUP(A11564,'Tipos de activos'!$F$2:$G$5,2,0),0)","v":0},null,0]
[null,null,null,null,null,null,null,null,null,null,0,{"$f":"IFERROR(VLOOKUP(A11571,'Tipos de activos'!$F$2:$G$5,2,0),0)","v":0},null,0]
[null,null,null,null,null,null,null,null,null,null,0,{"$f":"IFERROR(VLOOKUP(A11578,'Tipos de activos'!$F$2:$G$5,2,0),0)","v":0},null,0]
[null,null,null,null,null,null,null,null,null,null,0,{"$f":"IFERROR(VLOOKUP(A11586,'Tipos de activos'!$F$2:$G$5,2,0),0)","v":0},null,0]
[null,null,null,null,null,null,null,null,null,null,0,{"$f":"IFERROR(VLOOKUP(A11589,'Tipos de activos'!$F$2:$G$5,2,0),0)","v":0},null,0]
[null,null,null,null,null,null,null,null,null,null,0,{"$f":"IFERROR(VLOOKUP(A11598,'Tipos de activos'!$F$2:$G$5,2,0),0)","v":0},null,0]
[null,null,null,null,null,null,null,null,null,null,0,{"$f":"IFERROR(VLOOKUP(A11603,'Tipos de activos'!$F$2:$G$5,2,0),0)","v":0},null,0]
[null,null,null,null,null,null,null,null,null,null,0,{"$f":"IFERROR(VLOOKUP(A11607,'Tipos de activos'!$F$2:$G$5,2,0),0)","v":0},null,0]
[null,null,null,null,null,null,null,null,null,null,0,{"$f":"IFERROR(VLOOKUP(A11614,'Tipos de activos'!$F$2:$G$5,2,0),0)","v":0},null,0]
[null,null,null,null,null,null,null,null,null,null,0,{"$f":"IFERROR(VLOOKUP(A11617,'Tipos de activos'!$F$2:$G$5,2,0),0)","v":0},null,0]
[null,null,null,null,null,null,null,null,null,null,0,{"$f":"IFERROR(VLOOKUP(A11622,'Tipos de activos'!$F$2:$G$5,2,0),0)","v":0},null,0]
[null,null,null,null,null,null,null,null,null,null,0,{"$f":"IFERROR(VLOOKUP(A11632,'Tipos de activos'!$F$2:$G$5,2,0),0)","v":0},null,0]
[null,null,null,null,null,null,null,null,null,null,0,{"$f":"IFERROR(VLOOKUP(A11635,'Tipos de activos'!$F$2:$G$5,2,0),0)","v":0},null,0]
[null,null,null,null,null,null,null,null,null,null,0,{"$f":"IFERROR(VLOOKUP(A11644,'Tipos de activos'!$F$2:$G$5,2,0),0)","v":0},null,0]
[null,null,null,null,null,null,null,null,null,null,0,{"$f":"IFERROR(VLOOKUP(A11647,'Tipos de activos'!$F$2:$G$5,2,0),0)","v":0},null,0]
[null,null,null,null,null,null,null,null,null,null,0,{"$f":"IFERROR(VLOOKUP(A11653,'Tipos de activos'!$F$2:$G$5,2,0),0)","v":0},null,0]
[null,null,null,null,null,null,null,null,null,null,0,{"$f":"IFERROR(VLOOKUP(A11660,'Tipos de activos'!$F$2:$G$5,2,0),0)","v":0},null,0]
[null,null,null,null,null,null,null,null,null,null,0,{"$f":"IFERROR(VLOOKUP(A11663,'Tipos de activos'!$F$2:$G$5,2,0),0)","v":0},null,0]
[null,null,null,null,null,null,null,null,null,null,0,{"$f":"IFERROR(VLOOKUP(A11671,'Tipos de activos'!$F$2:$G$5,2,0),0)","v":0},null,0]
[null,null,null,null,null,null,null,null,null,null,0,{"$f":"IFERROR(VLOOKUP(A11678,'Tipos de activos'!$F$2:$G$5,2,0),0)","v":0},null,0]
[null,null,null,null,null,null,null,null,null,null,0,{"$f":"IFERROR(VLOOKUP(A11681,'Tipos de activos'!$F$2:$G$5,2,0),0)","v":0},null,0]
[null,null,null,null,null,null,null,null,null,null,0,{"$f":"IFERROR(VLOOKUP(A11690,'Tipos de activos'!$F$2:$G$5,2,0),0)","v":0},null,0]
[null,null,null,null,null,null,null,null,null,null,0,{"$f":"IFERROR(VLOOKUP(A11691,'Tipos de activos'!$F$2:$G$5,2,0),0)","v":0},null,0]
[null,null,null,null,null,null,null,null,null,null,0,{"$f":"IFERROR(VLOOKUP(A11699,'Tipos de activos'!$F$2:$G$5,2,0),0)","v":0},null,0]
[null,null,null,null,null,null,null,null,null,null,0,{"$f":"IFERROR(VLOOKUP(A11706,'Tipos de activos'!$F$2:$G$5,2,0),0)","v":0},null,0]
[null,null,null,null,null,null,null,null,null,null,0,{"$f":"IFERROR(VLOOKUP(A11709,'Tipos de activos'!$F$2:$G$5,2,0),0)","v":0},null,0]
[null,null,null,null,null,null,null,null,null,null,0,{"$f":"IFERROR(VLOOKUP(A11715,'Tipos de activos'!$F$2:$G$5,2,0),0)","v":0},null,0]
[null,null,null,null,null,null,null,null,null,null,0,{"$f":"IFERROR(VLOOKUP(A11724,'Tipos de activos'!$F$2:$G$5,2,0),0)","v":0},null,0]
[null,null,null,null,null,null,null,null,null,null,0,{"$f":"IFERROR(VLOOKUP(A11727,'Tipos de activos'!$F$2:$G$5,2,0),0)","v":0},null,0]
[null,null,null,null,null,null,null,null,null,null,0,{"$f":"IFERROR(VLOOKUP(A11734,'Tipos de activos'!$F$2:$G$5,2,0),0)","v":0},null,0]
[null,null,null,null,null,null,null,null,null,null,0,{"$f":"IFERROR(VLOOKUP(A11740,'Tipos de activos'!$F$2:$G$5,2,0),0)","v":0},null,0]
[null,null,null,null,null,null,null,null,null,null,0,{"$f":"IFERROR(VLOOKUP(A11745,'Tipos de activos'!$F$2:$G$5,2,0),0)","v":0},null,0]
[null,null,null,null,null,null,null,null,null,null,0,{"$f":"IFERROR(VLOOKUP(A11752,'Tipos de activos'!$F$2:$G$5,2,0),0)","v":0},null,0]
[null,null,null,null,null,null,null,null,null,null,0,{"$f":"IFERROR(VLOOKUP(A11755,'Tipos de activos'!$F$2:$G$5,2,0),0)","v":0},null,0]
[null,null,null,null,null,null,null,null,null,null,0,{"$f":"IFERROR(VLOOKUP(A11764,'Tipos de activos'!$F$2:$G$5,2,0),0)","v":0},null,0]
[null,null,null,null,null,null,null,null,null,null,0,{"$f":"IFERROR(VLOOKUP(A11770,'Tipos de activos'!$F$2:$G$5,2,0),0)","v":0},null,0]
[null,null,null,null,null,null,null,null,null,null,0,{"$f":"IFERROR(VLOOKUP(A11773,'Tipos de activos'!$F$2:$G$5,2,0),0)","v":0},null,0]
[null,null,null,null,null,null,null,null,null,null,0,{"$f":"IFERROR(VLOOKUP(A11780,'Tipos de activos'!$F$2:$G$5,2,0),0)","v":0},null,0]
[null,null,null,null,null,null,null,null,null,null,0,{"$f":"IFERROR(VLOOKUP(A11784,'Tipos de activos'!$F$2:$G$5,2,0),0)","v":0},null,0]
[null,null,null,null,null,null,null,null,null,null,0,{"$f":"IFERROR(VLOOKUP(A11791,'Tipos de activos'!$F$2:$G$5,2,0),0)","v":0},null,0]
[null,null,null,null,null,null,null,null,null,null,0,{"$f":"IFERROR(VLOOKUP(A11798,'Tipos de activos'!$F$2:$G$5,2,0),0)","v":0},null,0]
[null,null,null,null,null,null,null,null,null,null,{"$f":"+I11801-J11801","v":0},{"$f":"IFERROR(VLOOKUP(A11801,'Tipos de activos'!$F$2:$G$5,2,0),0)","v":0},null,0]
[null,null,null,null,null,null,null,null,null,null,0,{"$f":"IFERROR(VLOOKUP(A11809,'Tipos de activos'!$F$2:$G$5,2,0),0)","v":0},null,0]
[null,null,null,null,null,null,null,null,null,null,0,{"$f":"IFERROR(VLOOKUP(A11816,'Tipos de activos'!$F$2:$G$5,2,0),0)","v":0},null,0]
[null,null,null,null,null,null,null,null,null,null,0,{"$f":"IFERROR(VLOOKUP(A11819,'Tipos de activos'!$F$2:$G$5,2,0),0)","v":0},null,0]
[null,null,null,null,null,null,null,null,null,null,0,{"$f":"IFERROR(VLOOKUP(A11827,'Tipos de activos'!$F$2:$G$5,2,0),0)","v":0},null,0]
[null,null,null,null,null,null,null,null,null,null,0,{"$f":"IFERROR(VLOOKUP(A11828,'Tipos de activos'!$F$2:$G$5,2,0),0)","v":0},null,0]
[null,null,null,null,null,null,null,null,null,null,0,{"$f":"IFERROR(VLOOKUP(A11837,'Tipos de activos'!$F$2:$G$5,2,0),0)","v":0},null,0]
[null,null,null,null,null,null,null,null,null,null,0,{"$f":"IFERROR(VLOOKUP(A11844,'Tipos de activos'!$F$2:$G$5,2,0),0)","v":0},null,0]
[null,null,null,null,null,null,null,null,null,null,0,{"$f":"IFERROR(VLOOKUP(A11846,'Tipos de activos'!$F$2:$G$5,2,0),0)","v":0},null,0]
[null,null,null,null,null,null,null,null,null,null,0,{"$f":"IFERROR(VLOOKUP(A11853,'Tipos de activos'!$F$2:$G$5,2,0),0)","v":0},null,0]
[null,null,null,null,null,null,null,null,null,null,0,{"$f":"IFERROR(VLOOKUP(A11862,'Tipos de activos'!$F$2:$G$5,2,0),0)","v":0},null,0]
[null,null,null,null,null,null,null,null,null,null,{"$f":"+I11865-J11865","v":0},{"$f":"IFERROR(VLOOKUP(A11865,'Tipos de activos'!$F$2:$G$5,2,0),0)","v":0},null,0]
[null,null,null,null,null,null,null,null,null,null,0,{"$f":"IFERROR(VLOOKUP(A11871,'Tipos de activos'!$F$2:$G$5,2,0),0)","v":0},null,0]
[null,null,null,null,null,null,null,null,null,null,0,{"$f":"IFERROR(VLOOKUP(A11874,'Tipos de activos'!$F$2:$G$5,2,0),0)","v":0},null,0]
[null,null,null,null,null,null,null,null,null,null,0,{"$f":"IFERROR(VLOOKUP(A11883,'Tipos de activos'!$F$2:$G$5,2,0),0)","v":0},null,0]
[null,null,null,null,null,null,null,null,null,null,0,{"$f":"IFERROR(VLOOKUP(A11890,'Tipos de activos'!$F$2:$G$5,2,0),0)","v":0},null,0]
[null,null,null,null,null,null,null,null,null,null,0,{"$f":"IFERROR(VLOOKUP(A11895,'Tipos de activos'!$F$2:$G$5,2,0),0)","v":0},null,0]
[null,null,null,null,null,null,null,null,null,null,0,{"$f":"IFERROR(VLOOKUP(A11899,'Tipos de activos'!$F$2:$G$5,2,0),0)","v":0},null,0]
[null,null,null,null,null,null,null,null,null,null,0,{"$f":"IFERROR(VLOOKUP(A11908,'Tipos de activos'!$F$2:$G$5,2,0),0)","v":0},null,0]
[null,null,null,null,null,null,null,null,null,null,0,{"$f":"IFERROR(VLOOKUP(A11911,'Tipos de activos'!$F$2:$G$5,2,0),0)","v":0},null,0]
[null,null,null,null,null,null,null,null,null,null,0,{"$f":"IFERROR(VLOOKUP(A11915,'Tipos de activos'!$F$2:$G$5,2,0),0)","v":0},null,0]
[null,null,null,null,null,null,null,null,null,null,0,{"$f":"IFERROR(VLOOKUP(A11920,'Tipos de activos'!$F$2:$G$5,2,0),0)","v":0},null,0]
[null,null,null,null,null,null,null,null,null,null,0,{"$f":"IFERROR(VLOOKUP(A11927,'Tipos de activos'!$F$2:$G$5,2,0),0)","v":0},null,0]
[null,null,null,null,null,null,null,null,null,null,0,{"$f":"IFERROR(VLOOKUP(A11936,'Tipos de activos'!$F$2:$G$5,2,0),0)","v":0},null,0]
[null,null,null,null,null,null,null,null,null,null,0,{"$f":"IFERROR(VLOOKUP(A11939,'Tipos de activos'!$F$2:$G$5,2,0),0)","v":0},null,0]
[null,null,null,null,null,null,null,null,null,null,0,{"$f":"IFERROR(VLOOKUP(A11945,'Tipos de activos'!$F$2:$G$5,2,0),0)","v":0},null,0]
[null,null,null,null,null,null,null,null,null,null,0,{"$f":"IFERROR(VLOOKUP(A11954,'Tipos de activos'!$F$2:$G$5,2,0),0)","v":0},null,0]
[null,null,null,null,null,null,null,null,null,null,0,{"$f":"IFERROR(VLOOKUP(A11957,'Tipos de activos'!$F$2:$G$5,2,0),0)","v":0},null,0]
[null,null,null,null,null,null,null,null,null,null,0,{"$f":"IFERROR(VLOOKUP(A11964,'Tipos de activos'!$F$2:$G$5,2,0),0)","v":0},null,0]
[null,null,null,null,null,null,null,null,null,null,0,{"$f":"IFERROR(VLOOKUP(A11966,'Tipos de activos'!$F$2:$G$5,2,0),0)","v":0},null,0]
[null,null,null,null,null,null,null,null,null,null,0,{"$f":"IFERROR(VLOOKUP(A11973,'Tipos de activos'!$F$2:$G$5,2,0),0)","v":0},null,0]
[null,null,null,null,null,null,null,null,null,null,0,{"$f":"IFERROR(VLOOKUP(A11982,'Tipos de activos'!$F$2:$G$5,2,0),0)","v":0},null,0]
[null,null,null,null,null,null,null,null,null,null,0,{"$f":"IFERROR(VLOOKUP(A11988,'Tipos de activos'!$F$2:$G$5,2,0),0)","v":0},null,0]
[null,null,null,null,null,null,null,null,null,null,0,{"$f":"IFERROR(VLOOKUP(A11991,'Tipos de activos'!$F$2:$G$5,2,0),0)","v":0},null,0]
[null,null,null,null,null,null,null,null,null,null,0,{"$f":"IFERROR(VLOOKUP(A12000,'Tipos de activos'!$F$2:$G$5,2,0),0)","v":0},null,0]
[null,null,null,null,null,null,null,null,null,null,0,{"$f":"IFERROR(VLOOKUP(A12001,'Tipos de activos'!$F$2:$G$5,2,0),0)","v":0},null,0]
[null,null,null,null,null,null,null,null,null,null,0,{"$f":"IFERROR(VLOOKUP(A12008,'Tipos de activos'!$F$2:$G$5,2,0),0)","v":0},null,0]
[null,null,null,null,null,null,null,null,null,null,0,{"$f":"IFERROR(VLOOKUP(A12012,'Tipos de activos'!$F$2:$G$5,2,0),0)","v":0},null,0]
[null,null,null,null,null,null,null,null,null,null,0,{"$f":"IFERROR(VLOOKUP(A12019,'Tipos de activos'!$F$2:$G$5,2,0),0)","v":0},null,0]
[null,null,null,null,null,null,null,null,null,null,0,{"$f":"IFERROR(VLOOKUP(A12028,'Tipos de activos'!$F$2:$G$5,2,0),0)","v":0},null,0]
[null,null,null,null,null,null,null,null,null,null,0,{"$f":"IFERROR(VLOOKUP(A12032,'Tipos de activos'!$F$2:$G$5,2,0),0)","v":0},null,0]
[null,null,null,null,null,null,null,null,null,null,0,{"$f":"IFERROR(VLOOKUP(A12037,'Tipos de activos'!$F$2:$G$5,2,0),0)","v":0},null,0]
[null,null,null,null,null,null,null,null,null,null,0,{"$f":"IFERROR(VLOOKUP(A12046,'Tipos de activos'!$F$2:$G$5,2,0),0)","v":0},null,0]
[null,null,null,null,null,null,null,null,null,null,0,{"$f":"IFERROR(VLOOKUP(A12047,'Tipos de activos'!$F$2:$G$5,2,0),0)","v":0},null,0]
[null,null,null,null,null,null,null,null,null,null,{"$f":"+I12057-J12057","v":0},{"$f":"IFERROR(VLOOKUP(A12057,'Tipos de activos'!$F$2:$G$5,2,0),0)","v":0},null,0]
[null,null,null,null,null,null,null,null,null,null,0,{"$f":"IFERROR(VLOOKUP(A12058,'Tipos de activos'!$F$2:$G$5,2,0),0)","v":0},null,0]
[null,null,null,null,null,null,null,null,null,null,0,{"$f":"IFERROR(VLOOKUP(A12065,'Tipos de activos'!$F$2:$G$5,2,0),0)","v":0},null,0]
[null,null,null,null,null,null,null,null,null,null,0,{"$f":"IFERROR(VLOOKUP(A12070,'Tipos de activos'!$F$2:$G$5,2,0),0)","v":0},null,0]
[null,null,null,null,null,null,null,null,null,null,0,{"$f":"IFERROR(VLOOKUP(A12076,'Tipos de activos'!$F$2:$G$5,2,0),0)","v":0},null,0]
[null,null,null,null,null,null,null,null,null,null,0,{"$f":"IFERROR(VLOOKUP(A12083,'Tipos de activos'!$F$2:$G$5,2,0),0)","v":0},null,0]
[null,null,null,null,null,null,null,null,null,null,0,{"$f":"IFERROR(VLOOKUP(A12092,'Tipos de activos'!$F$2:$G$5,2,0),0)","v":0},null,0]
[null,null,null,null,null,null,null,null,null,null,0,{"$f":"IFERROR(VLOOKUP(A12095,'Tipos de activos'!$F$2:$G$5,2,0),0)","v":0},null,0]
[null,null,null,null,null,null,null,null,null,null,0,{"$f":"IFERROR(VLOOKUP(A12101,'Tipos de activos'!$F$2:$G$5,2,0),0)","v":0},null,0]
[null,null,null,null,null,null,null,null,null,null,0,{"$f":"IFERROR(VLOOKUP(A12104,'Tipos de activos'!$F$2:$G$5,2,0),0)","v":0},null,0]
[null,null,null,null,null,null,null,null,null,null,0,{"$f":"IFERROR(VLOOKUP(A12111,'Tipos de activos'!$F$2:$G$5,2,0),0)","v":0},null,0]
[null,null,null,null,null,null,null,null,null,null,0,{"$f":"IFERROR(VLOOKUP(A12119,'Tipos de activos'!$F$2:$G$5,2,0),0)","v":0},null,0]
[null,null,null,null,null,null,null,null,null,null,0,{"$f":"IFERROR(VLOOKUP(A12126,'Tipos de activos'!$F$2:$G$5,2,0),0)","v":0},null,0]
[null,null,null,null,null,null,null,null,null,null,0,{"$f":"IFERROR(VLOOKUP(A12129,'Tipos de activos'!$F$2:$G$5,2,0),0)","v":0},null,0]
[null,null,null,null,null,null,null,null,null,null,0,{"$f":"IFERROR(VLOOKUP(A12138,'Tipos de activos'!$F$2:$G$5,2,0),0)","v":0},null,0]
[null,null,null,null,null,null,null,null,null,null,0,{"$f":"IFERROR(VLOOKUP(A12139,'Tipos de activos'!$F$2:$G$5,2,0),0)","v":0},null,0]
[null,null,null,null,null,null,null,null,null,null,0,{"$f":"IFERROR(VLOOKUP(A12147,'Tipos de activos'!$F$2:$G$5,2,0),0)","v":0},null,0]
[null,null,null,null,null,null,null,null,null,null,0,{"$f":"IFERROR(VLOOKUP(A12150,'Tipos de activos'!$F$2:$G$5,2,0),0)","v":0},null,0]
[null,null,null,null,null,null,null,null,null,null,0,{"$f":"IFERROR(VLOOKUP(A12157,'Tipos de activos'!$F$2:$G$5,2,0),0)","v":0},null,0]
[null,null,null,null,null,null,null,null,null,null,0,{"$f":"IFERROR(VLOOKUP(A12163,'Tipos de activos'!$F$2:$G$5,2,0),0)","v":0},null,0]
[null,null,null,null,null,null,null,null,null,null,0,{"$f":"IFERROR(VLOOKUP(A12172,'Tipos de activos'!$F$2:$G$5,2,0),0)","v":0},null,0]
[null,null,null,null,null,null,null,null,null,null,0,{"$f":"IFERROR(VLOOKUP(A12175,'Tipos de activos'!$F$2:$G$5,2,0),0)","v":0},null,0]
[null,null,null,null,null,null,null,null,null,null,0,{"$f":"IFERROR(VLOOKUP(A12184,'Tipos de activos'!$F$2:$G$5,2,0),0)","v":0},null,0]
[null,null,null,null,null,null,null,null,null,null,0,{"$f":"IFERROR(VLOOKUP(A12188,'Tipos de activos'!$F$2:$G$5,2,0),0)","v":0},null,0]
[null,null,null,null,null,null,null,null,null,null,0,{"$f":"IFERROR(VLOOKUP(A12193,'Tipos de activos'!$F$2:$G$5,2,0),0)","v":0},null,0]
[null,null,null,null,null,null,null,null,null,null,0,{"$f":"IFERROR(VLOOKUP(A12196,'Tipos de activos'!$F$2:$G$5,2,0),0)","v":0},null,0]
[null,null,null,null,null,null,null,null,null,null,0,{"$f":"IFERROR(VLOOKUP(A12203,'Tipos de activos'!$F$2:$G$5,2,0),0)","v":0},null,0]
[null,null,null,null,null,null,null,null,null,null,0,{"$f":"IFERROR(VLOOKUP(A12212,'Tipos de activos'!$F$2:$G$5,2,0),0)","v":0},null,0]
[null,null,null,null,null,null,null,null,null,null,0,{"$f":"IFERROR(VLOOKUP(A12218,'Tipos de activos'!$F$2:$G$5,2,0),0)","v":0},null,0]
[null,null,null,null,null,null,null,null,null,null,0,{"$f":"IFERROR(VLOOKUP(A12221,'Tipos de activos'!$F$2:$G$5,2,0),0)","v":0},null,0]
[null,null,null,null,null,null,null,null,null,null,0,{"$f":"IFERROR(VLOOKUP(A12230,'Tipos de activos'!$F$2:$G$5,2,0),0)","v":0},null,0]
[null,null,null,null,null,null,null,null,null,null,0,{"$f":"IFERROR(VLOOKUP(A12232,'Tipos de activos'!$F$2:$G$5,2,0),0)","v":0},null,0]
[null,null,null,null,null,null,null,null,null,null,0,{"$f":"IFERROR(VLOOKUP(A12239,'Tipos de activos'!$F$2:$G$5,2,0),0)","v":0},null,0]
[null,null,null,null,null,null,null,null,null,null,0,{"$f":"IFERROR(VLOOKUP(A12246,'Tipos de activos'!$F$2:$G$5,2,0),0)","v":0},null,0]
[null,null,null,null,null,null,null,null,null,null,{"$f":"+I12249-J12249","v":0},{"$f":"IFERROR(VLOOKUP(A12249,'Tipos de activos'!$F$2:$G$5,2,0),0)","v":0},null,0]
[null,null,null,null,null,null,null,null,null,null,0,{"$f":"IFERROR(VLOOKUP(A12256,'Tipos de activos'!$F$2:$G$5,2,0),0)","v":0},null,0]
[null,null,null,null,null,null,null,null,null,null,0,{"$f":"IFERROR(VLOOKUP(A12264,'Tipos de activos'!$F$2:$G$5,2,0),0)","v":0},null,0]
[null,null,null,null,null,null,null,null,null,null,0,{"$f":"IFERROR(VLOOKUP(A12267,'Tipos de activos'!$F$2:$G$5,2,0),0)","v":0},null,0]
[null,null,null,null,null,null,null,null,null,null,0,{"$f":"IFERROR(VLOOKUP(A12276,'Tipos de activos'!$F$2:$G$5,2,0),0)","v":0},null,0]
[null,null,null,null,null,null,null,null,null,null,0,{"$f":"IFERROR(VLOOKUP(A12281,'Tipos de activos'!$F$2:$G$5,2,0),0)","v":0},null,0]
[null,null,null,null,null,null,null,null,null,null,0,{"$f":"IFERROR(VLOOKUP(A12285,'Tipos de activos'!$F$2:$G$5,2,0),0)","v":0},null,0]
[null,null,null,null,null,null,null,null,null,null,0,{"$f":"IFERROR(VLOOKUP(A12292,'Tipos de activos'!$F$2:$G$5,2,0),0)","v":0},null,0]
[null,null,null,null,null,null,null,null,null,null,0,{"$f":"IFERROR(VLOOKUP(A12294,'Tipos de activos'!$F$2:$G$5,2,0),0)","v":0},null,0]
[null,null,null,null,null,null,null,null,null,null,0,{"$f":"IFERROR(VLOOKUP(A12303,'Tipos de activos'!$F$2:$G$5,2,0),0)","v":0},null,0]
[null,null,null,null,null,null,null,null,null,null,0,{"$f":"IFERROR(VLOOKUP(A12310,'Tipos de activos'!$F$2:$G$5,2,0),0)","v":0},null,0]
[null,null,null,null,null,null,null,null,null,null,{"$f":"+I12313-J12313","v":0},{"$f":"IFERROR(VLOOKUP(A12313,'Tipos de activos'!$F$2:$G$5,2,0),0)","v":0},null,0]
[null,null,null,null,null,null,null,null,null,null,0,{"$f":"IFERROR(VLOOKUP(A12319,'Tipos de activos'!$F$2:$G$5,2,0),0)","v":0},null,0]
[null,null,null,null,null,null,null,null,null,null,0,{"$f":"IFERROR(VLOOKUP(A12322,'Tipos de activos'!$F$2:$G$5,2,0),0)","v":0},null,0]
[null,null,null,null,null,null,null,null,null,null,0,{"$f":"IFERROR(VLOOKUP(A12331,'Tipos de activos'!$F$2:$G$5,2,0),0)","v":0},null,0]
[null,null,null,null,null,null,null,null,null,null,0,{"$f":"IFERROR(VLOOKUP(A12338,'Tipos de activos'!$F$2:$G$5,2,0),0)","v":0},null,0]
[null,null,null,null,null,null,null,null,null,null,0,{"$f":"IFERROR(VLOOKUP(A12343,'Tipos de activos'!$F$2:$G$5,2,0),0)","v":0},null,0]
[null,null,null,null,null,null,null,null,null,null,0,{"$f":"IFERROR(VLOOKUP(A12349,'Tipos de activos'!$F$2:$G$5,2,0),0)","v":0},null,0]
[null,null,null,null,null,null,null,null,null,null,0,{"$f":"IFERROR(VLOOKUP(A12356,'Tipos de activos'!$F$2:$G$5,2,0),0)","v":0},null,0]
[null,null,null,null,null,null,null,null,null,null,0,{"$f":"IFERROR(VLOOKUP(A12359,'Tipos de activos'!$F$2:$G$5,2,0),0)","v":0},null,0]
[null,null,null,null,null,null,null,null,null,null,0,{"$f":"IFERROR(VLOOKUP(A12363,'Tipos de activos'!$F$2:$G$5,2,0),0)","v":0},null,0]
[null,null,null,null,null,null,null,null,null,null,0,{"$f":"IFERROR(VLOOKUP(A12368,'Tipos de activos'!$F$2:$G$5,2,0),0)","v":0},null,0]
[null,null,null,null,null,null,null,null,null,null,{"$f":"+I12377-J12377","v":0},{"$f":"IFERROR(VLOOKUP(A12377,'Tipos de activos'!$F$2:$G$5,2,0),0)","v":0},null,0]
[null,null,null,null,null,null,null,null,null,null,0,{"$f":"IFERROR(VLOOKUP(A12384,'Tipos de activos'!$F$2:$G$5,2,0),0)","v":0},null,0]
[null,null,null,null,null,null,null,null,null,null,0,{"$f":"IFERROR(VLOOKUP(A12387,'Tipos de activos'!$F$2:$G$5,2,0),0)","v":0},null,0]
[null,null,null,null,null,null,null,null,null,null,0,{"$f":"IFERROR(VLOOKUP(A12395,'Tipos de activos'!$F$2:$G$5,2,0),0)","v":0},null,0]
[null,null,null,null,null,null,null,null,null,null,0,{"$f":"IFERROR(VLOOKUP(A12402,'Tipos de activos'!$F$2:$G$5,2,0),0)","v":0},null,0]
[null,null,null,null,null,null,null,null,null,null,0,{"$f":"IFERROR(VLOOKUP(A12405,'Tipos de activos'!$F$2:$G$5,2,0),0)","v":0},null,0]
[null,null,null,null,null,null,null,null,null,null,0,{"$f":"IFERROR(VLOOKUP(A12412,'Tipos de activos'!$F$2:$G$5,2,0),0)","v":0},null,0]
[null,null,null,null,null,null,null,null,null,null,0,{"$f":"IFERROR(VLOOKUP(A12414,'Tipos de activos'!$F$2:$G$5,2,0),0)","v":0},null,0]
[null,null,null,null,null,null,null,null,null,null,0,{"$f":"IFERROR(VLOOKUP(A12423,'Tipos de activos'!$F$2:$G$5,2,0),0)","v":0},null,0]
[null,null,null,null,null,null,null,null,null,null,0,{"$f":"IFERROR(VLOOKUP(A12430,'Tipos de activos'!$F$2:$G$5,2,0),0)","v":0},null,0]
[null,null,null,null,null,null,null,null,null,null,0,{"$f":"IFERROR(VLOOKUP(A12436,'Tipos de activos'!$F$2:$G$5,2,0),0)","v":0},null,0]
[null,null,null,null,null,null,null,null,null,null,0,{"$f":"IFERROR(VLOOKUP(A12439,'Tipos de activos'!$F$2:$G$5,2,0),0)","v":0},null,0]
[null,null,null,null,null,null,null,null,null,null,0,{"$f":"IFERROR(VLOOKUP(A12448,'Tipos de activos'!$F$2:$G$5,2,0),0)","v":0},null,0]
[null,null,null,null,null,null,null,null,null,null,0,{"$f":"IFERROR(VLOOKUP(A12451,'Tipos de activos'!$F$2:$G$5,2,0),0)","v":0},null,0]
[null,null,null,null,null,null,null,null,null,null,0,{"$f":"IFERROR(VLOOKUP(A12456,'Tipos de activos'!$F$2:$G$5,2,0),0)","v":0},null,0]
[null,null,null,null,null,null,null,null,null,null,0,{"$f":"IFERROR(VLOOKUP(A12460,'Tipos de activos'!$F$2:$G$5,2,0),0)","v":0},null,0]
[null,null,null,null,null,null,null,null,null,null,0,{"$f":"IFERROR(VLOOKUP(A12469,'Tipos de activos'!$F$2:$G$5,2,0),0)","v":0},null,0]
[null,null,null,null,null,null,null,null,null,null,0,{"$f":"IFERROR(VLOOKUP(A12476,'Tipos de activos'!$F$2:$G$5,2,0),0)","v":0},null,0]
[null,null,null,null,null,null,null,null,null,null,0,{"$f":"IFERROR(VLOOKUP(A12480,'Tipos de activos'!$F$2:$G$5,2,0),0)","v":0},null,0]
[null,null,null,null,null,null,null,null,null,null,0,{"$f":"IFERROR(VLOOKUP(A12485,'Tipos de activos'!$F$2:$G$5,2,0),0)","v":0},null,0]
[null,null,null,null,null,null,null,null,null,null,0,{"$f":"IFERROR(VLOOKUP(A12494,'Tipos de activos'!$F$2:$G$5,2,0),0)","v":0},null,0]
[null,null,null,null,null,null,null,null,null,null,0,{"$f":"IFERROR(VLOOKUP(A12497,'Tipos de activos'!$F$2:$G$5,2,0),0)","v":0},null,{"$f":"+K12497*L12497","v":0}]
[null,null,null,null,null,null,null,null,null,null,{"$f":"+I12505-J12505","v":0},{"$f":"IFERROR(VLOOKUP(A12505,'Tipos de activos'!$F$2:$G$5,2,0),0)","v":0},null,0]
[null,null,null,null,null,null,null,null,null,null,0,{"$f":"IFERROR(VLOOKUP(A12506,'Tipos de activos'!$F$2:$G$5,2,0),0)","v":0},null,0]
[null,null,null,null,null,null,null,null,null,null,0,{"$f":"IFERROR(VLOOKUP(A12515,'Tipos de activos'!$F$2:$G$5,2,0),0)","v":0},null,0]
[null,null,null,null,null,null,null,null,null,null,0,{"$f":"IFERROR(VLOOKUP(A12522,'Tipos de activos'!$F$2:$G$5,2,0),0)","v":0},null,0]
[null,null,null,null,null,null,null,null,null,null,0,{"$f":"IFERROR(VLOOKUP(A12524,'Tipos de activos'!$F$2:$G$5,2,0),0)","v":0},null,0]
[null,null,null,null,null,null,null,null,null,null,0,{"$f":"IFERROR(VLOOKUP(A12531,'Tipos de activos'!$F$2:$G$5,2,0),0)","v":0},null,0]
[null,null,null,null,null,null,null,null,null,null,0,{"$f":"IFERROR(VLOOKUP(A12540,'Tipos de activos'!$F$2:$G$5,2,0),0)","v":0},null,0]
[null,null,null,null,null,null,null,null,null,null,0,{"$f":"IFERROR(VLOOKUP(A12542,'Tipos de activos'!$F$2:$G$5,2,0),0)","v":0},null,0]
[null,null,null,null,null,null,null,null,null,null,0,{"$f":"IFERROR(VLOOKUP(A12549,'Tipos de activos'!$F$2:$G$5,2,0),0)","v":0},null,0]
[null,null,null,null,null,null,null,null,null,null,0,{"$f":"IFERROR(VLOOKUP(A12552,'Tipos de activos'!$F$2:$G$5,2,0),0)","v":0},null,0]
[null,null,null,null,null,null,null,null,null,null,0,{"$f":"IFERROR(VLOOKUP(A12559,'Tipos de activos'!$F$2:$G$5,2,0),0)","v":0},null,0]
[null,null,null,null,null,null,null,null,null,null,0,{"$f":"IFERROR(VLOOKUP(A12567,'Tipos de activos'!$F$2:$G$5,2,0),0)","v":0},null,0]
[null,null,null,null,null,null,null,null,null,null,0,{"$f":"IFERROR(VLOOKUP(A12570,'Tipos de activos'!$F$2:$G$5,2,0),0)","v":0},null,0]
[null,null,null,null,null,null,null,null,null,null,0,{"$f":"IFERROR(VLOOKUP(A12577,'Tipos de activos'!$F$2:$G$5,2,0),0)","v":0},null,0]
[null,null,null,null,null,null,null,null,null,null,0,{"$f":"IFERROR(VLOOKUP(A12586,'Tipos de activos'!$F$2:$G$5,2,0),0)","v":0},null,0]
[null,null,null,null,null,null,null,null,null,null,0,{"$f":"IFERROR(VLOOKUP(A12591,'Tipos de activos'!$F$2:$G$5,2,0),0)","v":0},null,0]
[null,null,null,null,null,null,null,null,null,null,0,{"$f":"IFERROR(VLOOKUP(A12595,'Tipos de activos'!$F$2:$G$5,2,0),0)","v":0},null,0]
[null,null,null,null,null,null,null,null,null,null,0,{"$f":"IFERROR(VLOOKUP(A12598,'Tipos de activos'!$F$2:$G$5,2,0),0)","v":0},null,0]
[null,null,null,null,null,null,null,null,null,null,0,{"$f":"IFERROR(VLOOKUP(A12605,'Tipos de activos'!$F$2:$G$5,2,0),0)","v":0},null,0]
[null,null,null,null,null,null,null,null,null,null,0,{"$f":"IFERROR(VLOOKUP(A12611,'Tipos de activos'!$F$2:$G$5,2,0),0)","v":0},null,0]
[null,null,null,null,null,null,null,null,null,null,0,{"$f":"IFERROR(VLOOKUP(A12616,'Tipos de activos'!$F$2:$G$5,2,0),0)","v":0},null,0]
[null,null,null,null,null,null,null,null,null,null,0,{"$f":"IFERROR(VLOOKUP(A12623,'Tipos de activos'!$F$2:$G$5,2,0),0)","v":0},null,0]
[null,null,null,null,null,null,null,null,null,null,0,{"$f":"IFERROR(VLOOKUP(A12632,'Tipos de activos'!$F$2:$G$5,2,0),0)","v":0},null,0]
[null,null,null,null,null,null,null,null,null,null,0,{"$f":"IFERROR(VLOOKUP(A12636,'Tipos de activos'!$F$2:$G$5,2,0),0)","v":0},null,0]
[null,null,null,null,null,null,null,null,null,null,0,{"$f":"IFERROR(VLOOKUP(A12641,'Tipos de activos'!$F$2:$G$5,2,0),0)","v":0},null,0]
[null,null,null,null,null,null,null,null,null,null,0,{"$f":"IFERROR(VLOOKUP(A12644,'Tipos de activos'!$F$2:$G$5,2,0),0)","v":0},null,0]
[null,null,null,null,null,null,null,null,null,null,0,{"$f":"IFERROR(VLOOKUP(A12651,'Tipos de activos'!$F$2:$G$5,2,0),0)","v":0},null,0]
[null,null,null,null,null,null,null,null,null,null,0,{"$f":"IFERROR(VLOOKUP(A12660,'Tipos de activos'!$F$2:$G$5,2,0),0)","v":0},null,0]
[null,null,null,null,null,null,null,null,null,null,0,{"$f":"IFERROR(VLOOKUP(A12662,'Tipos de activos'!$F$2:$G$5,2,0),0)","v":0},null,0]
[null,null,null,null,null,null,null,null,null,null,0,{"$f":"IFERROR(VLOOKUP(A12669,'Tipos de activos'!$F$2:$G$5,2,0),0)","v":0},null,0]
[null,null,null,null,null,null,null,null,null,null,0,{"$f":"IFERROR(VLOOKUP(A12678,'Tipos de activos'!$F$2:$G$5,2,0),0)","v":0},null,0]
[null,null,null,null,null,null,null,null,null,null,0,{"$f":"IFERROR(VLOOKUP(A12680,'Tipos de activos'!$F$2:$G$5,2,0),0)","v":0},null,0]
[null,null,null,null,null,null,null,null,null,null,0,{"$f":"IFERROR(VLOOKUP(A12687,'Tipos de activos'!$F$2:$G$5,2,0),0)","v":0},null,0]
[null,null,null,null,null,null,null,null,null,null,0,{"$f":"IFERROR(VLOOKUP(A12690,'Tipos de activos'!$F$2:$G$5,2,0),0)","v":0},null,0]
[null,null,null,null,null,null,null,null,null,null,{"$f":"+I12697-J12697","v":0},{"$f":"IFERROR(VLOOKUP(A12697,'Tipos de activos'!$F$2:$G$5,2,0),0)","v":0},null,0]
[null,null,null,null,null,null,null,null,null,null,0,{"$f":"IFERROR(VLOOKUP(A12704,'Tipos de activos'!$F$2:$G$5,2,0),0)","v":0},null,0]
[null,null,null,null,null,null,null,null,null,null,0,{"$f":"IFERROR(VLOOKUP(A12708,'Tipos de activos'!$F$2:$G$5,2,0),0)","v":0},null,0]
[null,null,null,null,null,null,null,null,null,null,0,{"$f":"IFERROR(VLOOKUP(A12715,'Tipos de activos'!$F$2:$G$5,2,0),0)","v":0},null,0]
[null,null,null,null,null,null,null,null,null,null,0,{"$f":"IFERROR(VLOOKUP(A12724,'Tipos de activos'!$F$2:$G$5,2,0),0)","v":0},null,0]
[null,null,null,null,null,null,null,null,null,null,0,{"$f":"IFERROR(VLOOKUP(A12729,'Tipos de activos'!$F$2:$G$5,2,0),0)","v":0},null,0]
[null,null,null,null,null,null,null,null,null,null,0,{"$f":"IFERROR(VLOOKUP(A12733,'Tipos de activos'!$F$2:$G$5,2,0),0)","v":0},null,0]
[null,null,null,null,null,null,null,null,null,null,0,{"$f":"IFERROR(VLOOKUP(A12736,'Tipos de activos'!$F$2:$G$5,2,0),0)","v":0},null,0]
[null,null,null,null,null,null,null,null,null,null,0,{"$f":"IFERROR(VLOOKUP(A12743,'Tipos de activos'!$F$2:$G$5,2,0),0)","v":0},null,0]
[null,null,null,null,null,null,null,null,null,null,0,{"$f":"IFERROR(VLOOKUP(A12748,'Tipos de activos'!$F$2:$G$5,2,0),0)","v":0},null,0]
[null,null,null,null,null,null,null,null,null,null,0,{"$f":"IFERROR(VLOOKUP(A12758,'Tipos de activos'!$F$2:$G$5,2,0),0)","v":0},null,0]
[null,null,null,null,null,null,null,null,null,null,{"$f":"+I12761-J12761","v":0},{"$f":"IFERROR(VLOOKUP(A12761,'Tipos de activos'!$F$2:$G$5,2,0),0)","v":0},null,0]
[null,null,null,null,null,null,null,null,null,null,0,{"$f":"IFERROR(VLOOKUP(A12770,'Tipos de activos'!$F$2:$G$5,2,0),0)","v":0},null,0]
[null,null,null,null,null,null,null,null,null,null,0,{"$f":"IFERROR(VLOOKUP(A12773,'Tipos de activos'!$F$2:$G$5,2,0),0)","v":0},null,0]
[null,null,null,null,null,null,null,null,null,null,0,{"$f":"IFERROR(VLOOKUP(A12779,'Tipos de activos'!$F$2:$G$5,2,0),0)","v":0},null,0]
[null,null,null,null,null,null,null,null,null,null,0,{"$f":"IFERROR(VLOOKUP(A12782,'Tipos de activos'!$F$2:$G$5,2,0),0)","v":0},null,0]
[null,null,null,null,null,null,null,null,null,null,0,{"$f":"IFERROR(VLOOKUP(A12791,'Tipos de activos'!$F$2:$G$5,2,0),0)","v":0},null,0]
[null,null,null,null,null,null,null,null,null,null,0,{"$f":"IFERROR(VLOOKUP(A12797,'Tipos de activos'!$F$2:$G$5,2,0),0)","v":0},null,0]
[null,null,null,null,null,null,null,null,null,null,0,{"$f":"IFERROR(VLOOKUP(A12804,'Tipos de activos'!$F$2:$G$5,2,0),0)","v":0},null,0]
[null,null,null,null,null,null,null,null,null,null,0,{"$f":"IFERROR(VLOOKUP(A12807,'Tipos de activos'!$F$2:$G$5,2,0),0)","v":0},null,0]
[null,null,null,null,null,null,null,null,null,null,0,{"$f":"IFERROR(VLOOKUP(A12815,'Tipos de activos'!$F$2:$G$5,2,0),0)","v":0},null,0]
[null,null,null,null,null,null,null,null,null,null,0,{"$f":"IFERROR(VLOOKUP(A12816,'Tipos de activos'!$F$2:$G$5,2,0),0)","v":0},null,0]
[null,null,null,null,null,null,null,null,null,null,{"$f":"+I12825-J12825","v":0},{"$f":"IFERROR(VLOOKUP(A12825,'Tipos de activos'!$F$2:$G$5,2,0),0)","v":0},null,0]
[null,null,null,null,null,null,null,null,null,null,0,{"$f":"IFERROR(VLOOKUP(A12832,'Tipos de activos'!$F$2:$G$5,2,0),0)","v":0},null,0]
[null,null,null,null,null,null,null,null,null,null,0,{"$f":"IFERROR(VLOOKUP(A12835,'Tipos de activos'!$F$2:$G$5,2,0),0)","v":0},null,0]
[null,null,null,null,null,null,null,null,null,null,0,{"$f":"IFERROR(VLOOKUP(A12843,'Tipos de activos'!$F$2:$G$5,2,0),0)","v":0},null,0]
[null,null,null,null,null,null,null,null,null,null,0,{"$f":"IFERROR(VLOOKUP(A12850,'Tipos de activos'!$F$2:$G$5,2,0),0)","v":0},null,0]
[null,null,null,null,null,null,null,null,null,null,0,{"$f":"IFERROR(VLOOKUP(A12853,'Tipos de activos'!$F$2:$G$5,2,0),0)","v":0},null,0]
[null,null,null,null,null,null,null,null,null,null,0,{"$f":"IFERROR(VLOOKUP(A12859,'Tipos de activos'!$F$2:$G$5,2,0),0)","v":0},null,0]
[null,null,null,null,null,null,null,null,null,null,0,{"$f":"IFERROR(VLOOKUP(A12862,'Tipos de activos'!$F$2:$G$5,2,0),0)","v":0},null,0]
[null,null,null,null,null,null,null,null,null,null,0,{"$f":"IFERROR(VLOOKUP(A12871,'Tipos de activos'!$F$2:$G$5,2,0),0)","v":0},null,0]
[null,null,null,null,null,null,null,null,null,null,0,{"$f":"IFERROR(VLOOKUP(A12878,'Tipos de activos'!$F$2:$G$5,2,0),0)","v":0},null,0]
[null,null,null,null,null,null,null,null,null,null,0,{"$f":"IFERROR(VLOOKUP(A12884,'Tipos de activos'!$F$2:$G$5,2,0),0)","v":0},null,0]
[null,null,null,null,null,null,null,null,null,null,{"$f":"+I12889-J12889","v":0},{"$f":"IFERROR(VLOOKUP(A12889,'Tipos de activos'!$F$2:$G$5,2,0),0)","v":0},null,0]
[null,null,null,null,null,null,null,null,null,null,0,{"$f":"IFERROR(VLOOKUP(A12896,'Tipos de activos'!$F$2:$G$5,2,0),0)","v":0},null,0]
[null,null,null,null,null,null,null,null,null,null,0,{"$f":"IFERROR(VLOOKUP(A12899,'Tipos de activos'!$F$2:$G$5,2,0),0)","v":0},null,0]
[null,null,null,null,null,null,null,null,null,null,0,{"$f":"IFERROR(VLOOKUP(A12903,'Tipos de activos'!$F$2:$G$5,2,0),0)","v":0},null,0]
[null,null,null,null,null,null,null,null,null,null,0,{"$f":"IFERROR(VLOOKUP(A12908,'Tipos de activos'!$F$2:$G$5,2,0),0)","v":0},null,0]
[null,null,null,null,null,null,null,null,null,null,0,{"$f":"IFERROR(VLOOKUP(A12917,'Tipos de activos'!$F$2:$G$5,2,0),0)","v":0},null,0]
[null,null,null,null,null,null,null,null,null,null,0,{"$f":"IFERROR(VLOOKUP(A12924,'Tipos de activos'!$F$2:$G$5,2,0),0)","v":0},null,0]
[null,null,null,null,null,null,null,null,null,null,0,{"$f":"IFERROR(VLOOKUP(A12928,'Tipos de activos'!$F$2:$G$5,2,0),0)","v":0},null,0]
[null,null,null,null,null,null,null,null,null,null,0,{"$f":"IFERROR(VLOOKUP(A12935,'Tipos de activos'!$F$2:$G$5,2,0),0)","v":0},null,0]
[null,null,null,null,null,null,null,null,null,null,0,{"$f":"IFERROR(VLOOKUP(A12942,'Tipos de activos'!$F$2:$G$5,2,0),0)","v":0},null,0]
[null,null,null,null,null,null,null,null,null,null,0,{"$f":"IFERROR(VLOOKUP(A12945,'Tipos de activos'!$F$2:$G$5,2,0),0)","v":0},null,{"$f":"+K12945*L12945","v":0}]
[null,null,null,null,null,null,null,null,null,null,{"$f":"+I12953-J12953","v":0},{"$f":"IFERROR(VLOOKUP(A12953,'Tipos de activos'!$F$2:$G$5,2,0),0)","v":0},null,0]
[null,null,null,null,null,null,null,null,null,null,0,{"$f":"IFERROR(VLOOKUP(A12954,'Tipos de activos'!$F$2:$G$5,2,0),0)","v":0},null,0]
[null,null,null,null,null,null,null,null,null,null,0,{"$f":"IFERROR(VLOOKUP(A12963,'Tipos de activos'!$F$2:$G$5,2,0),0)","v":0},null,0]
[null,null,null,null,null,null,null,null,null,null,0,{"$f":"IFERROR(VLOOKUP(A12970,'Tipos de activos'!$F$2:$G$5,2,0),0)","v":0},null,0]
[null,null,null,null,null,null,null,null,null,null,0,{"$f":"IFERROR(VLOOKUP(A12972,'Tipos de activos'!$F$2:$G$5,2,0),0)","v":0},null,0]
[null,null,null,null,null,null,null,null,null,null,0,{"$f":"IFERROR(VLOOKUP(A12981,'Tipos de activos'!$F$2:$G$5,2,0),0)","v":0},null,0]
[null,null,null,null,null,null,null,null,null,null,0,{"$f":"IFERROR(VLOOKUP(A12988,'Tipos de activos'!$F$2:$G$5,2,0),0)","v":0},null,0]
[null,null,null,null,null,null,null,null,null,null,0,{"$f":"IFERROR(VLOOKUP(A12991,'Tipos de activos'!$F$2:$G$5,2,0),0)","v":0},null,0]
[null,null,null,null,null,null,null,null,null,null,0,{"$f":"IFERROR(VLOOKUP(A12997,'Tipos de activos'!$F$2:$G$5,2,0),0)","v":0},null,0]
[null,null,null,null,null,null,null,null,null,null,0,{"$f":"IFERROR(VLOOKUP(A13000,'Tipos de activos'!$F$2:$G$5,2,0),0)","v":0},null,0]
[null,null,null,null,null,null,null,null,null,null,0,{"$f":"IFERROR(VLOOKUP(A13009,'Tipos de activos'!$F$2:$G$5,2,0),0)","v":0},null,{"$f":"+K13009*L13009","v":0}]
[null,null,null,null,null,null,null,null,null,null,0,{"$f":"IFERROR(VLOOKUP(A13015,'Tipos de activos'!$F$2:$G$5,2,0),0)","v":0},null,0]
[null,null,null,null,null,null,null,null,null,null,0,{"$f":"IFERROR(VLOOKUP(A13018,'Tipos de activos'!$F$2:$G$5,2,0),0)","v":0},null,0]
[null,null,null,null,null,null,null,null,null,null,0,{"$f":"IFERROR(VLOOKUP(A13027,'Tipos de activos'!$F$2:$G$5,2,0),0)","v":0},null,0]
[null,null,null,null,null,null,null,null,null,null,0,{"$f":"IFERROR(VLOOKUP(A13034,'Tipos de activos'!$F$2:$G$5,2,0),0)","v":0},null,0]
[null,null,null,null,null,null,null,null,null,null,0,{"$f":"IFERROR(VLOOKUP(A13039,'Tipos de activos'!$F$2:$G$5,2,0),0)","v":0},null,0]
[null,null,null,null,null,null,null,null,null,null,0,{"$f":"IFERROR(VLOOKUP(A13043,'Tipos de activos'!$F$2:$G$5,2,0),0)","v":0},null,0]
[null,null,null,null,null,null,null,null,null,null,0,{"$f":"IFERROR(VLOOKUP(A13046,'Tipos de activos'!$F$2:$G$5,2,0),0)","v":0},null,0]
[null,null,null,null,null,null,null,null,null,null,0,{"$f":"IFERROR(VLOOKUP(A13055,'Tipos de activos'!$F$2:$G$5,2,0),0)","v":0},null,0]
[null,null,null,null,null,null,null,null,null,null,0,{"$f":"IFERROR(VLOOKUP(A13059,'Tipos de activos'!$F$2:$G$5,2,0),0)","v":0},null,0]
[null,null,null,null,null,null,null,null,null,null,0,{"$f":"IFERROR(VLOOKUP(A13064,'Tipos de activos'!$F$2:$G$5,2,0),0)","v":0},null,0]
[null,null,null,null,null,null,null,null,null,null,0,{"$f":"IFERROR(VLOOKUP(A13071,'Tipos de activos'!$F$2:$G$5,2,0),0)","v":0},null,0]
[null,null,null,null,null,null,null,null,null,null,0,{"$f":"IFERROR(VLOOKUP(A13080,'Tipos de activos'!$F$2:$G$5,2,0),0)","v":0},null,0]
[null,null,null,null,null,null,null,null,null,null,0,{"$f":"IFERROR(VLOOKUP(A13083,'Tipos de activos'!$F$2:$G$5,2,0),0)","v":0},null,0]
[null,null,null,null,null,null,null,null,null,null,0,{"$f":"IFERROR(VLOOKUP(A13089,'Tipos de activos'!$F$2:$G$5,2,0),0)","v":0},null,0]
[null,null,null,null,null,null,null,null,null,null,0,{"$f":"IFERROR(VLOOKUP(A13092,'Tipos de activos'!$F$2:$G$5,2,0),0)","v":0},null,0]
[null,null,null,null,null,null,null,null,null,null,0,{"$f":"IFERROR(VLOOKUP(A13101,'Tipos de activos'!$F$2:$G$5,2,0),0)","v":0},null,0]
[null,null,null,null,null,null,null,null,null,null,0,{"$f":"IFERROR(VLOOKUP(A13108,'Tipos de activos'!$F$2:$G$5,2,0),0)","v":0},null,0]
[null,null,null,null,null,null,null,null,null,null,0,{"$f":"IFERROR(VLOOKUP(A13110,'Tipos de activos'!$F$2:$G$5,2,0),0)","v":0},null,0]
[null,null,null,null,null,null,null,null,null,null,0,{"$f":"IFERROR(VLOOKUP(A13117,'Tipos de activos'!$F$2:$G$5,2,0),0)","v":0},null,0]
[null,null,null,null,null,null,null,null,null,null,0,{"$f":"IFERROR(VLOOKUP(A13126,'Tipos de activos'!$F$2:$G$5,2,0),0)","v":0},null,0]
[null,null,null,null,null,null,null,null,null,null,0,{"$f":"IFERROR(VLOOKUP(A13127,'Tipos de activos'!$F$2:$G$5,2,0),0)","v":0},null,0]
[null,null,null,null,null,null,null,null,null,null,0,{"$f":"IFERROR(VLOOKUP(A13135,'Tipos de activos'!$F$2:$G$5,2,0),0)","v":0},null,0]
[null,null,null,null,null,null,null,null,null,null,0,{"$f":"IFERROR(VLOOKUP(A13138,'Tipos de activos'!$F$2:$G$5,2,0),0)","v":0},null,0]
[null,null,null,null,null,null,null,null,null,null,{"$f":"+I13145-J13145","v":0},{"$f":"IFERROR(VLOOKUP(A13145,'Tipos de activos'!$F$2:$G$5,2,0),0)","v":0},null,0]
[null,null,null,null,null,null,null,null,null,null,0,{"$f":"IFERROR(VLOOKUP(A13152,'Tipos de activos'!$F$2:$G$5,2,0),0)","v":0},null,0]
[null,null,null,null,null,null,null,null,null,null,0,{"$f":"IFERROR(VLOOKUP(A13156,'Tipos de activos'!$F$2:$G$5,2,0),0)","v":0},null,0]
[null,null,null,null,null,null,null,null,null,null,0,{"$f":"IFERROR(VLOOKUP(A13163,'Tipos de activos'!$F$2:$G$5,2,0),0)","v":0},null,0]
[null,null,null,null,null,null,null,null,null,null,0,{"$f":"IFERROR(VLOOKUP(A13172,'Tipos de activos'!$F$2:$G$5,2,0),0)","v":0},null,0]
[null,null,null,null,null,null,null,null,null,null,0,{"$f":"IFERROR(VLOOKUP(A13176,'Tipos de activos'!$F$2:$G$5,2,0),0)","v":0},null,0]
[null,null,null,null,null,null,null,null,null,null,0,{"$f":"IFERROR(VLOOKUP(A13181,'Tipos de activos'!$F$2:$G$5,2,0),0)","v":0},null,0]
[null,null,null,null,null,null,null,null,null,null,0,{"$f":"IFERROR(VLOOKUP(A13184,'Tipos de activos'!$F$2:$G$5,2,0),0)","v":0},null,0]
[null,null,null,null,null,null,null,null,null,null,0,{"$f":"IFERROR(VLOOKUP(A13191,'Tipos de activos'!$F$2:$G$5,2,0),0)","v":0},null,0]
[null,null,null,null,null,null,null,null,null,null,0,{"$f":"IFERROR(VLOOKUP(A13196,'Tipos de activos'!$F$2:$G$5,2,0),0)","v":0},null,0]
[null,null,null,null,null,null,null,null,null,null,0,{"$f":"IFERROR(VLOOKUP(A13202,'Tipos de activos'!$F$2:$G$5,2,0),0)","v":0},null,0]
[null,null,null,null,null,null,null,null,null,null,{"$f":"+I13209-J13209","v":0},{"$f":"IFERROR(VLOOKUP(A13209,'Tipos de activos'!$F$2:$G$5,2,0),0)","v":0},null,0]
[null,null,null,null,null,null,null,null,null,null,0,{"$f":"IFERROR(VLOOKUP(A13218,'Tipos de activos'!$F$2:$G$5,2,0),0)","v":0},null,0]
[null,null,null,null,null,null,null,null,null,null,0,{"$f":"IFERROR(VLOOKUP(A13220,'Tipos de activos'!$F$2:$G$5,2,0),0)","v":0},null,0]
[null,null,null,null,null,null,null,null,null,null,0,{"$f":"IFERROR(VLOOKUP(A13227,'Tipos de activos'!$F$2:$G$5,2,0),0)","v":0},null,0]
[null,null,null,null,null,null,null,null,null,null,0,{"$f":"IFERROR(VLOOKUP(A13230,'Tipos de activos'!$F$2:$G$5,2,0),0)","v":0},null,0]
[null,null,null,null,null,null,null,null,null,null,0,{"$f":"IFERROR(VLOOKUP(A13237,'Tipos de activos'!$F$2:$G$5,2,0),0)","v":0},null,0]
[null,null,null,null,null,null,null,null,null,null,0,{"$f":"IFERROR(VLOOKUP(A13245,'Tipos de activos'!$F$2:$G$5,2,0),0)","v":0},null,0]
[null,null,null,null,null,null,null,null,null,null,0,{"$f":"IFERROR(VLOOKUP(A13248,'Tipos de activos'!$F$2:$G$5,2,0),0)","v":0},null,0]
[null,null,null,null,null,null,null,null,null,null,0,{"$f":"IFERROR(VLOOKUP(A13255,'Tipos de activos'!$F$2:$G$5,2,0),0)","v":0},null,0]
[null,null,null,null,null,null,null,null,null,null,0,{"$f":"IFERROR(VLOOKUP(A13263,'Tipos de activos'!$F$2:$G$5,2,0),0)","v":0},null,0]
[null,null,null,null,null,null,null,null,null,null,0,{"$f":"IFERROR(VLOOKUP(A13264,'Tipos de activos'!$F$2:$G$5,2,0),0)","v":0},null,0]
[null,null,null,null,null,null,null,null,null,null,{"$f":"+I13273-J13273","v":0},{"$f":"IFERROR(VLOOKUP(A13273,'Tipos de activos'!$F$2:$G$5,2,0),0)","v":0},null,0]
[null,null,null,null,null,null,null,null,null,null,0,{"$f":"IFERROR(VLOOKUP(A13276,'Tipos de activos'!$F$2:$G$5,2,0),0)","v":0},null,0]
[null,null,null,null,null,null,null,null,null,null,0,{"$f":"IFERROR(VLOOKUP(A13283,'Tipos de activos'!$F$2:$G$5,2,0),0)","v":0},null,0]
[null,null,null,null,null,null,null,null,null,null,0,{"$f":"IFERROR(VLOOKUP(A13291,'Tipos de activos'!$F$2:$G$5,2,0),0)","v":0},null,0]
[null,null,null,null,null,null,null,null,null,null,0,{"$f":"IFERROR(VLOOKUP(A13294,'Tipos de activos'!$F$2:$G$5,2,0),0)","v":0},null,0]
[null,null,null,null,null,null,null,null,null,null,0,{"$f":"IFERROR(VLOOKUP(A13301,'Tipos de activos'!$F$2:$G$5,2,0),0)","v":0},null,0]
[null,null,null,null,null,null,null,null,null,null,0,{"$f":"IFERROR(VLOOKUP(A13307,'Tipos de activos'!$F$2:$G$5,2,0),0)","v":0},null,0]
[null,null,null,null,null,null,null,null,null,null,0,{"$f":"IFERROR(VLOOKUP(A13310,'Tipos de activos'!$F$2:$G$5,2,0),0)","v":0},null,0]
[null,null,null,null,null,null,null,null,null,null,0,{"$f":"IFERROR(VLOOKUP(A13319,'Tipos de activos'!$F$2:$G$5,2,0),0)","v":0},null,0]
[null,null,null,null,null,null,null,null,null,null,0,{"$f":"IFERROR(VLOOKUP(A13322,'Tipos de activos'!$F$2:$G$5,2,0),0)","v":0},null,0]
[null,null,null,null,null,null,null,null,null,null,0,{"$f":"IFERROR(VLOOKUP(A13332,'Tipos de activos'!$F$2:$G$5,2,0),0)","v":0},null,0]
[null,null,null,null,null,null,null,null,null,null,{"$f":"+I13337-J13337","v":0},{"$f":"IFERROR(VLOOKUP(A13337,'Tipos de activos'!$F$2:$G$5,2,0),0)","v":0},null,0]
[null,null,null,null,null,null,null,null,null,null,0,{"$f":"IFERROR(VLOOKUP(A13344,'Tipos de activos'!$F$2:$G$5,2,0),0)","v":0},null,0]
[null,null,null,null,null,null,null,null,null,null,0,{"$f":"IFERROR(VLOOKUP(A13347,'Tipos de activos'!$F$2:$G$5,2,0),0)","v":0},null,0]
[null,null,null,null,null,null,null,null,null,null,0,{"$f":"IFERROR(VLOOKUP(A13351,'Tipos de activos'!$F$2:$G$5,2,0),0)","v":0},null,0]
[null,null,null,null,null,null,null,null,null,null,0,{"$f":"IFERROR(VLOOKUP(A13356,'Tipos de activos'!$F$2:$G$5,2,0),0)","v":0},null,0]
[null,null,null,null,null,null,null,null,null,null,0,{"$f":"IFERROR(VLOOKUP(A13365,'Tipos de activos'!$F$2:$G$5,2,0),0)","v":0},null,0]
[null,null,null,null,null,null,null,null,null,null,0,{"$f":"IFERROR(VLOOKUP(A13368,'Tipos de activos'!$F$2:$G$5,2,0),0)","v":0},null,0]
[null,null,null,null,null,null,null,null,null,null,0,{"$f":"IFERROR(VLOOKUP(A13376,'Tipos de activos'!$F$2:$G$5,2,0),0)","v":0},null,0]
[null,null,null,null,null,null,null,null,null,null,0,{"$f":"IFERROR(VLOOKUP(A13383,'Tipos de activos'!$F$2:$G$5,2,0),0)","v":0},null,0]
[null,null,null,null,null,null,null,null,null,null,0,{"$f":"IFERROR(VLOOKUP(A13390,'Tipos de activos'!$F$2:$G$5,2,0),0)","v":0},null,0]
[null,null,null,null,null,null,null,null,null,null,0,{"$f":"IFERROR(VLOOKUP(A13393,'Tipos de activos'!$F$2:$G$5,2,0),0)","v":0},null,{"$f":"+K13393*L13393","v":0}]
[null,null,null,null,null,null,null,null,null,null,0,{"$f":"IFERROR(VLOOKUP(A13400,'Tipos de activos'!$F$2:$G$5,2,0),0)","v":0},null,0]
[null,null,null,null,null,null,null,null,null,null,0,{"$f":"IFERROR(VLOOKUP(A13402,'Tipos de activos'!$F$2:$G$5,2,0),0)","v":0},null,0]
[null,null,null,null,null,null,null,null,null,null,0,{"$f":"IFERROR(VLOOKUP(A13411,'Tipos de activos'!$F$2:$G$5,2,0),0)","v":0},null,0]
[null,null,null,null,null,null,null,null,null,null,0,{"$f":"IFERROR(VLOOKUP(A13414,'Tipos de activos'!$F$2:$G$5,2,0),0)","v":0},null,0]
[null,null,null,null,null,null,null,null,null,null,0,{"$f":"IFERROR(VLOOKUP(A13420,'Tipos de activos'!$F$2:$G$5,2,0),0)","v":0},null,0]
[null,null,null,null,null,null,null,null,null,null,0,{"$f":"IFERROR(VLOOKUP(A13429,'Tipos de activos'!$F$2:$G$5,2,0),0)","v":0},null,0]
[null,null,null,null,null,null,null,null,null,null,0,{"$f":"IFERROR(VLOOKUP(A13436,'Tipos de activos'!$F$2:$G$5,2,0),0)","v":0},null,0]
[null,null,null,null,null,null,null,null,null,null,0,{"$f":"IFERROR(VLOOKUP(A13439,'Tipos de activos'!$F$2:$G$5,2,0),0)","v":0},null,0]
[null,null,null,null,null,null,null,null,null,null,0,{"$f":"IFERROR(VLOOKUP(A13444,'Tipos de activos'!$F$2:$G$5,2,0),0)","v":0},null,0]
[null,null,null,null,null,null,null,null,null,null,0,{"$f":"IFERROR(VLOOKUP(A13448,'Tipos de activos'!$F$2:$G$5,2,0),0)","v":0},null,0]
[null,null,null,null,null,null,null,null,null,null,0,{"$f":"IFERROR(VLOOKUP(A13457,'Tipos de activos'!$F$2:$G$5,2,0),0)","v":0},null,{"$f":"+K13457*L13457","v":0}]
[null,null,null,null,null,null,null,null,null,null,0,{"$f":"IFERROR(VLOOKUP(A13464,'Tipos de activos'!$F$2:$G$5,2,0),0)","v":0},null,0]
[null,null,null,null,null,null,null,null,null,null,0,{"$f":"IFERROR(VLOOKUP(A13469,'Tipos de activos'!$F$2:$G$5,2,0),0)","v":0},null,0]
[null,null,null,null,null,null,null,null,null,null,0,{"$f":"IFERROR(VLOOKUP(A13475,'Tipos de activos'!$F$2:$G$5,2,0),0)","v":0},null,0]
[null,null,null,null,null,null,null,null,null,null,0,{"$f":"IFERROR(VLOOKUP(A13482,'Tipos de activos'!$F$2:$G$5,2,0),0)","v":0},null,0]
[null,null,null,null,null,null,null,null,null,null,0,{"$f":"IFERROR(VLOOKUP(A13485,'Tipos de activos'!$F$2:$G$5,2,0),0)","v":0},null,0]
[null,null,null,null,null,null,null,null,null,null,0,{"$f":"IFERROR(VLOOKUP(A13489,'Tipos de activos'!$F$2:$G$5,2,0),0)","v":0},null,0]
[null,null,null,null,null,null,null,null,null,null,0,{"$f":"IFERROR(VLOOKUP(A13490,'Tipos de activos'!$F$2:$G$5,2,0),0)","v":0},null,0]
[null,null,null,null,null,null,null,null,null,null,0,{"$f":"IFERROR(VLOOKUP(A13491,'Tipos de activos'!$F$2:$G$5,2,0),0)","v":0},null,0]
[null,null,null,null,null,null,null,null,null,null,0,{"$f":"IFERROR(VLOOKUP(A13492,'Tipos de activos'!$F$2:$G$5,2,0),0)","v":0},null,0]
[null,null,null,null,null,null,null,null,null,null,0,{"$f":"IFERROR(VLOOKUP(A13493,'Tipos de activos'!$F$2:$G$5,2,0),0)","v":0},null,0]
[null,null,null,null,null,null,null,null,null,null,0,{"$f":"IFERROR(VLOOKUP(A13494,'Tipos de activos'!$F$2:$G$5,2,0),0)","v":0},null,0]
[null,null,null,null,null,null,null,null,null,null,0,{"$f":"IFERROR(VLOOKUP(A13495,'Tipos de activos'!$F$2:$G$5,2,0),0)","v":0},null,0]
[null,null,null,null,null,null,null,null,null,null,0,{"$f":"IFERROR(VLOOKUP(A13496,'Tipos de activos'!$F$2:$G$5,2,0),0)","v":0},null,0]
[null,null,null,null,null,null,null,null,null,null,0,{"$f":"IFERROR(VLOOKUP(A13497,'Tipos de activos'!$F$2:$G$5,2,0),0)","v":0},null,0]
[null,null,null,null,null,null,null,null,null,null,0,{"$f":"IFERROR(VLOOKUP(A13498,'Tipos de activos'!$F$2:$G$5,2,0),0)","v":0},null,0]
[null,null,null,null,null,null,null,null,null,null,0,{"$f":"IFERROR(VLOOKUP(A13499,'Tipos de activos'!$F$2:$G$5,2,0),0)","v":0},null,0]
[null,null,null,null,null,null,null,null,null,null,0,{"$f":"IFERROR(VLOOKUP(A13500,'Tipos de activos'!$F$2:$G$5,2,0),0)","v":0},null,0]
[null,null,null,null,null,null,null,null,null,null,0,{"$f":"IFERROR(VLOOKUP(A13501,'Tipos de activos'!$F$2:$G$5,2,0),0)","v":0},null,0]
[null,null,null,null,null,null,null,null,null,null,0,{"$f":"IFERROR(VLOOKUP(A13502,'Tipos de activos'!$F$2:$G$5,2,0),0)","v":0},null,0]
[null,null,null,null,null,null,null,null,null,null,0,{"$f":"IFERROR(VLOOKUP(A13503,'Tipos de activos'!$F$2:$G$5,2,0),0)","v":0},null,0]
[null,null,null,null,null,null,null,null,null,null,0,{"$f":"IFERROR(VLOOKUP(A13504,'Tipos de activos'!$F$2:$G$5,2,0),0)","v":0},null,0]
[null,null,null,null,null,null,null,null,null,null,0,{"$f":"IFERROR(VLOOKUP(A13505,'Tipos de activos'!$F$2:$G$5,2,0),0)","v":0},null,0]
[null,null,null,null,null,null,null,null,null,null,0,{"$f":"IFERROR(VLOOKUP(A13506,'Tipos de activos'!$F$2:$G$5,2,0),0)","v":0},null,0]
[null,null,null,null,null,null,null,null,null,null,0,{"$f":"IFERROR(VLOOKUP(A13507,'Tipos de activos'!$F$2:$G$5,2,0),0)","v":0},null,0]
[null,null,null,null,null,null,null,null,null,null,0,{"$f":"IFERROR(VLOOKUP(A13508,'Tipos de activos'!$F$2:$G$5,2,0),0)","v":0},null,0]
[null,null,null,null,null,null,null,null,null,null,0,{"$f":"IFERROR(VLOOKUP(A13509,'Tipos de activos'!$F$2:$G$5,2,0),0)","v":0},null,0]
[null,null,null,null,null,null,null,null,null,null,0,{"$f":"IFERROR(VLOOKUP(A13510,'Tipos de activos'!$F$2:$G$5,2,0),0)","v":0},null,0]
[null,null,null,null,null,null,null,null,null,null,0,{"$f":"IFERROR(VLOOKUP(A13511,'Tipos de activos'!$F$2:$G$5,2,0),0)","v":0},null,0]
[null,null,null,null,null,null,null,null,null,null,0,{"$f":"IFERROR(VLOOKUP(A13512,'Tipos de activos'!$F$2:$G$5,2,0),0)","v":0},null,0]
[null,null,null,null,null,null,null,null,null,null,0,{"$f":"IFERROR(VLOOKUP(A13513,'Tipos de activos'!$F$2:$G$5,2,0),0)","v":0},null,0]
[null,null,null,null,null,null,null,null,null,null,0,{"$f":"IFERROR(VLOOKUP(A13514,'Tipos de activos'!$F$2:$G$5,2,0),0)","v":0},null,0]
[null,null,null,null,null,null,null,null,null,null,0,{"$f":"IFERROR(VLOOKUP(A13515,'Tipos de activos'!$F$2:$G$5,2,0),0)","v":0},null,0]
[null,null,null,null,null,null,null,null,null,null,0,{"$f":"IFERROR(VLOOKUP(A13516,'Tipos de activos'!$F$2:$G$5,2,0),0)","v":0},null,0]
[null,null,null,null,null,null,null,null,null,null,0,{"$f":"IFERROR(VLOOKUP(A13517,'Tipos de activos'!$F$2:$G$5,2,0),0)","v":0},null,0]
[null,null,null,null,null,null,null,null,null,null,0,{"$f":"IFERROR(VLOOKUP(A13518,'Tipos de activos'!$F$2:$G$5,2,0),0)","v":0},null,0]
[null,null,null,null,null,null,null,null,null,null,0,{"$f":"IFERROR(VLOOKUP(A13519,'Tipos de activos'!$F$2:$G$5,2,0),0)","v":0},null,0]
[null,null,null,null,null,null,null,null,null,null,0,{"$f":"IFERROR(VLOOKUP(A13520,'Tipos de activos'!$F$2:$G$5,2,0),0)","v":0},null,0]
[null,null,null,null,null,null,null,null,null,null,0,{"$f":"IFERROR(VLOOKUP(A13521,'Tipos de activos'!$F$2:$G$5,2,0),0)","v":0},null,{"$f":"+K13521*L13521","v":0}]
[null,null,null,null,null,null,null,null,null,null,0,{"$f":"IFERROR(VLOOKUP(A13522,'Tipos de activos'!$F$2:$G$5,2,0),0)","v":0},null,0]
[null,null,null,null,null,null,null,null,null,null,0,{"$f":"IFERROR(VLOOKUP(A13523,'Tipos de activos'!$F$2:$G$5,2,0),0)","v":0},null,0]
[null,null,null,null,null,null,null,null,null,null,0,{"$f":"IFERROR(VLOOKUP(A13524,'Tipos de activos'!$F$2:$G$5,2,0),0)","v":0},null,0]
[null,null,null,null,null,null,null,null,null,null,0,{"$f":"IFERROR(VLOOKUP(A13525,'Tipos de activos'!$F$2:$G$5,2,0),0)","v":0},null,0]
[null,null,null,null,null,null,null,null,null,null,0,{"$f":"IFERROR(VLOOKUP(A13526,'Tipos de activos'!$F$2:$G$5,2,0),0)","v":0},null,0]
[null,null,null,null,null,null,null,null,null,null,0,{"$f":"IFERROR(VLOOKUP(A13527,'Tipos de activos'!$F$2:$G$5,2,0),0)","v":0},null,0]
[null,null,null,null,null,null,null,null,null,null,0,{"$f":"IFERROR(VLOOKUP(A13528,'Tipos de activos'!$F$2:$G$5,2,0),0)","v":0},null,0]
[null,null,null,null,null,null,null,null,null,null,{"$f":"+I13529-J13529","v":0},{"$f":"IFERROR(VLOOKUP(A13529,'Tipos de activos'!$F$2:$G$5,2,0),0)","v":0},null,0]
[null,null,null,null,null,null,null,null,null,null,0,{"$f":"IFERROR(VLOOKUP(A13530,'Tipos de activos'!$F$2:$G$5,2,0),0)","v":0},null,0]
[null,null,null,null,null,null,null,null,null,null,0,{"$f":"IFERROR(VLOOKUP(A13531,'Tipos de activos'!$F$2:$G$5,2,0),0)","v":0},null,0]
[null,null,null,null,null,null,null,null,null,null,0,{"$f":"IFERROR(VLOOKUP(A13532,'Tipos de activos'!$F$2:$G$5,2,0),0)","v":0},null,0]
[null,null,null,null,null,null,null,null,null,null,0,{"$f":"IFERROR(VLOOKUP(A13533,'Tipos de activos'!$F$2:$G$5,2,0),0)","v":0},null,0]
[null,null,null,null,null,null,null,null,null,null,0,{"$f":"IFERROR(VLOOKUP(A13534,'Tipos de activos'!$F$2:$G$5,2,0),0)","v":0},null,0]
[null,null,null,null,null,null,null,null,null,null,0,{"$f":"IFERROR(VLOOKUP(A13535,'Tipos de activos'!$F$2:$G$5,2,0),0)","v":0},null,0]
[null,null,null,null,null,null,null,null,null,null,0,{"$f":"IFERROR(VLOOKUP(A13536,'Tipos de activos'!$F$2:$G$5,2,0),0)","v":0},null,0]
[null,null,null,null,null,null,null,null,null,null,0,{"$f":"IFERROR(VLOOKUP(A13537,'Tipos de activos'!$F$2:$G$5,2,0),0)","v":0},null,0]
[null,null,null,null,null,null,null,null,null,null,0,{"$f":"IFERROR(VLOOKUP(A13538,'Tipos de activos'!$F$2:$G$5,2,0),0)","v":0},null,0]
[null,null,null,null,null,null,null,null,null,null,0,{"$f":"IFERROR(VLOOKUP(A13539,'Tipos de activos'!$F$2:$G$5,2,0),0)","v":0},null,0]
[null,null,null,null,null,null,null,null,null,null,0,{"$f":"IFERROR(VLOOKUP(A13540,'Tipos de activos'!$F$2:$G$5,2,0),0)","v":0},null,0]
[null,null,null,null,null,null,null,null,null,null,0,{"$f":"IFERROR(VLOOKUP(A13541,'Tipos de activos'!$F$2:$G$5,2,0),0)","v":0},null,0]
[null,null,null,null,null,null,null,null,null,null,0,{"$f":"IFERROR(VLOOKUP(A13542,'Tipos de activos'!$F$2:$G$5,2,0),0)","v":0},null,0]
[null,null,null,null,null,null,null,null,null,null,0,{"$f":"IFERROR(VLOOKUP(A13543,'Tipos de activos'!$F$2:$G$5,2,0),0)","v":0},null,0]
[null,null,null,null,null,null,null,null,null,null,0,{"$f":"IFERROR(VLOOKUP(A13544,'Tipos de activos'!$F$2:$G$5,2,0),0)","v":0},null,0]
[null,null,null,null,null,null,null,null,null,null,0,{"$f":"IFERROR(VLOOKUP(A13545,'Tipos de activos'!$F$2:$G$5,2,0),0)","v":0},null,0]
[null,null,null,null,null,null,null,null,null,null,0,{"$f":"IFERROR(VLOOKUP(A13546,'Tipos de activos'!$F$2:$G$5,2,0),0)","v":0},null,0]
[null,null,null,null,null,null,null,null,null,null,0,{"$f":"IFERROR(VLOOKUP(A13547,'Tipos de activos'!$F$2:$G$5,2,0),0)","v":0},null,0]
[null,null,null,null,null,null,null,null,null,null,0,{"$f":"IFERROR(VLOOKUP(A13548,'Tipos de activos'!$F$2:$G$5,2,0),0)","v":0},null,0]
[null,null,null,null,null,null,null,null,null,null,0,{"$f":"IFERROR(VLOOKUP(A13549,'Tipos de activos'!$F$2:$G$5,2,0),0)","v":0},null,0]
[null,null,null,null,null,null,null,null,null,null,0,{"$f":"IFERROR(VLOOKUP(A13550,'Tipos de activos'!$F$2:$G$5,2,0),0)","v":0},null,0]
[null,null,null,null,null,null,null,null,null,null,0,{"$f":"IFERROR(VLOOKUP(A13551,'Tipos de activos'!$F$2:$G$5,2,0),0)","v":0},null,0]
[null,null,null,null,null,null,null,null,null,null,0,{"$f":"IFERROR(VLOOKUP(A13552,'Tipos de activos'!$F$2:$G$5,2,0),0)","v":0},null,0]
[null,null,null,null,null,null,null,null,null,null,0,{"$f":"IFERROR(VLOOKUP(A13553,'Tipos de activos'!$F$2:$G$5,2,0),0)","v":0},null,0]
[null,null,null,null,null,null,null,null,null,null,0,{"$f":"IFERROR(VLOOKUP(A13554,'Tipos de activos'!$F$2:$G$5,2,0),0)","v":0},null,0]
[null,null,null,null,null,null,null,null,null,null,0,{"$f":"IFERROR(VLOOKUP(A13555,'Tipos de activos'!$F$2:$G$5,2,0),0)","v":0},null,0]
[null,null,null,null,null,null,null,null,null,null,0,{"$f":"IFERROR(VLOOKUP(A13556,'Tipos de activos'!$F$2:$G$5,2,0),0)","v":0},null,0]
[null,null,null,null,null,null,null,null,null,null,0,{"$f":"IFERROR(VLOOKUP(A13557,'Tipos de activos'!$F$2:$G$5,2,0),0)","v":0},null,0]
[null,null,null,null,null,null,null,null,null,null,0,{"$f":"IFERROR(VLOOKUP(A13558,'Tipos de activos'!$F$2:$G$5,2,0),0)","v":0},null,0]
[null,null,null,null,null,null,null,null,null,null,0,{"$f":"IFERROR(VLOOKUP(A13559,'Tipos de activos'!$F$2:$G$5,2,0),0)","v":0},null,0]
[null,null,null,null,null,null,null,null,null,null,0,{"$f":"IFERROR(VLOOKUP(A13560,'Tipos de activos'!$F$2:$G$5,2,0),0)","v":0},null,0]
[null,null,null,null,null,null,null,null,null,null,0,{"$f":"IFERROR(VLOOKUP(A13561,'Tipos de activos'!$F$2:$G$5,2,0),0)","v":0},null,0]
[null,null,null,null,null,null,null,null,null,null,0,{"$f":"IFERROR(VLOOKUP(A13562,'Tipos de activos'!$F$2:$G$5,2,0),0)","v":0},null,0]
[null,null,null,null,null,null,null,null,null,null,0,{"$f":"IFERROR(VLOOKUP(A13563,'Tipos de activos'!$F$2:$G$5,2,0),0)","v":0},null,0]
[null,null,null,null,null,null,null,null,null,null,0,{"$f":"IFERROR(VLOOKUP(A13564,'Tipos de activos'!$F$2:$G$5,2,0),0)","v":0},null,0]
[null,null,null,null,null,null,null,null,null,null,0,{"$f":"IFERROR(VLOOKUP(A13565,'Tipos de activos'!$F$2:$G$5,2,0),0)","v":0},null,0]
[null,null,null,null,null,null,null,null,null,null,0,{"$f":"IFERROR(VLOOKUP(A13566,'Tipos de activos'!$F$2:$G$5,2,0),0)","v":0},null,0]
[null,null,null,null,null,null,null,null,null,null,0,{"$f":"IFERROR(VLOOKUP(A13567,'Tipos de activos'!$F$2:$G$5,2,0),0)","v":0},null,0]
[null,null,null,null,null,null,null,null,null,null,0,{"$f":"IFERROR(VLOOKUP(A13568,'Tipos de activos'!$F$2:$G$5,2,0),0)","v":0},null,0]
[null,null,null,null,null,null,null,null,null,null,0,{"$f":"IFERROR(VLOOKUP(A13569,'Tipos de activos'!$F$2:$G$5,2,0),0)","v":0},null,0]
[null,null,null,null,null,null,null,null,null,null,0,{"$f":"IFERROR(VLOOKUP(A13570,'Tipos de activos'!$F$2:$G$5,2,0),0)","v":0},null,0]
[null,null,null,null,null,null,null,null,null,null,0,{"$f":"IFERROR(VLOOKUP(A13571,'Tipos de activos'!$F$2:$G$5,2,0),0)","v":0},null,0]
[null,null,null,null,null,null,null,null,null,null,0,{"$f":"IFERROR(VLOOKUP(A13572,'Tipos de activos'!$F$2:$G$5,2,0),0)","v":0},null,0]
[null,null,null,null,null,null,null,null,null,null,0,{"$f":"IFERROR(VLOOKUP(A13573,'Tipos de activos'!$F$2:$G$5,2,0),0)","v":0},null,0]
[null,null,null,null,null,null,null,null,null,null,0,{"$f":"IFERROR(VLOOKUP(A13574,'Tipos de activos'!$F$2:$G$5,2,0),0)","v":0},null,0]
[null,null,null,null,null,null,null,null,null,null,0,{"$f":"IFERROR(VLOOKUP(A13575,'Tipos de activos'!$F$2:$G$5,2,0),0)","v":0},null,0]
[null,null,null,null,null,null,null,null,null,null,0,{"$f":"IFERROR(VLOOKUP(A13576,'Tipos de activos'!$F$2:$G$5,2,0),0)","v":0},null,0]
[null,null,null,null,null,null,null,null,null,null,0,{"$f":"IFERROR(VLOOKUP(A13577,'Tipos de activos'!$F$2:$G$5,2,0),0)","v":0},null,0]
[null,null,null,null,null,null,null,null,null,null,0,{"$f":"IFERROR(VLOOKUP(A13578,'Tipos de activos'!$F$2:$G$5,2,0),0)","v":0},null,0]
[null,null,null,null,null,null,null,null,null,null,0,{"$f":"IFERROR(VLOOKUP(A13579,'Tipos de activos'!$F$2:$G$5,2,0),0)","v":0},null,0]
[null,null,null,null,null,null,null,null,null,null,0,{"$f":"IFERROR(VLOOKUP(A13580,'Tipos de activos'!$F$2:$G$5,2,0),0)","v":0},null,0]
[null,null,null,null,null,null,null,null,null,null,0,{"$f":"IFERROR(VLOOKUP(A13581,'Tipos de activos'!$F$2:$G$5,2,0),0)","v":0},null,0]
[null,null,null,null,null,null,null,null,null,null,0,{"$f":"IFERROR(VLOOKUP(A13582,'Tipos de activos'!$F$2:$G$5,2,0),0)","v":0},null,0]
[null,null,null,null,null,null,null,null,null,null,0,{"$f":"IFERROR(VLOOKUP(A13583,'Tipos de activos'!$F$2:$G$5,2,0),0)","v":0},null,0]
[null,null,null,null,null,null,null,null,null,null,0,{"$f":"IFERROR(VLOOKUP(A13584,'Tipos de activos'!$F$2:$G$5,2,0),0)","v":0},null,0]
[null,null,null,null,null,null,null,null,null,null,0,{"$f":"IFERROR(VLOOKUP(A13585,'Tipos de activos'!$F$2:$G$5,2,0),0)","v":0},null,{"$f":"+K13585*L13585","v":0}]
[null,null,null,null,null,null,null,null,null,null,0,{"$f":"IFERROR(VLOOKUP(A13586,'Tipos de activos'!$F$2:$G$5,2,0),0)","v":0},null,0]
[null,null,null,null,null,null,null,null,null,null,0,{"$f":"IFERROR(VLOOKUP(A13587,'Tipos de activos'!$F$2:$G$5,2,0),0)","v":0},null,0]
[null,null,null,null,null,null,null,null,null,null,0,{"$f":"IFERROR(VLOOKUP(A13588,'Tipos de activos'!$F$2:$G$5,2,0),0)","v":0},null,0]
[null,null,null,null,null,null,null,null,null,null,0,{"$f":"IFERROR(VLOOKUP(A13589,'Tipos de activos'!$F$2:$G$5,2,0),0)","v":0},null,0]
[null,null,null,null,null,null,null,null,null,null,0,{"$f":"IFERROR(VLOOKUP(A13590,'Tipos de activos'!$F$2:$G$5,2,0),0)","v":0},null,0]
[null,null,null,null,null,null,null,null,null,null,0,{"$f":"IFERROR(VLOOKUP(A13591,'Tipos de activos'!$F$2:$G$5,2,0),0)","v":0},null,0]
[null,null,null,null,null,null,null,null,null,null,0,{"$f":"IFERROR(VLOOKUP(A13592,'Tipos de activos'!$F$2:$G$5,2,0),0)","v":0},null,0]
[null,null,null,null,null,null,null,null,null,null,{"$f":"+I13593-J13593","v":0},{"$f":"IFERROR(VLOOKUP(A13593,'Tipos de activos'!$F$2:$G$5,2,0),0)","v":0},null,0]
[null,null,null,null,null,null,null,null,null,null,0,{"$f":"IFERROR(VLOOKUP(A13594,'Tipos de activos'!$F$2:$G$5,2,0),0)","v":0},null,0]
[null,null,null,null,null,null,null,null,null,null,0,{"$f":"IFERROR(VLOOKUP(A13595,'Tipos de activos'!$F$2:$G$5,2,0),0)","v":0},null,0]
[null,null,null,null,null,null,null,null,null,null,0,{"$f":"IFERROR(VLOOKUP(A13596,'Tipos de activos'!$F$2:$G$5,2,0),0)","v":0},null,0]
[null,null,null,null,null,null,null,null,null,null,0,{"$f":"IFERROR(VLOOKUP(A13597,'Tipos de activos'!$F$2:$G$5,2,0),0)","v":0},null,0]
[null,null,null,null,null,null,null,null,null,null,0,{"$f":"IFERROR(VLOOKUP(A13598,'Tipos de activos'!$F$2:$G$5,2,0),0)","v":0},null,0]
[null,null,null,null,null,null,null,null,null,null,0,{"$f":"IFERROR(VLOOKUP(A13599,'Tipos de activos'!$F$2:$G$5,2,0),0)","v":0},null,0]
[null,null,null,null,null,null,null,null,null,null,0,{"$f":"IFERROR(VLOOKUP(A13600,'Tipos de activos'!$F$2:$G$5,2,0),0)","v":0},null,0]
[null,null,null,null,null,null,null,null,null,null,0,{"$f":"IFERROR(VLOOKUP(A13601,'Tipos de activos'!$F$2:$G$5,2,0),0)","v":0},null,0]
[null,null,null,null,null,null,null,null,null,null,0,{"$f":"IFERROR(VLOOKUP(A13602,'Tipos de activos'!$F$2:$G$5,2,0),0)","v":0},null,0]
[null,null,null,null,null,null,null,null,null,null,0,{"$f":"IFERROR(VLOOKUP(A13603,'Tipos de activos'!$F$2:$G$5,2,0),0)","v":0},null,0]
[null,null,null,null,null,null,null,null,null,null,0,{"$f":"IFERROR(VLOOKUP(A13604,'Tipos de activos'!$F$2:$G$5,2,0),0)","v":0},null,0]
[null,null,null,null,null,null,null,null,null,null,0,{"$f":"IFERROR(VLOOKUP(A13605,'Tipos de activos'!$F$2:$G$5,2,0),0)","v":0},null,0]
[null,null,null,null,null,null,null,null,null,null,0,{"$f":"IFERROR(VLOOKUP(A13606,'Tipos de activos'!$F$2:$G$5,2,0),0)","v":0},null,0]
[null,null,null,null,null,null,null,null,null,null,0,{"$f":"IFERROR(VLOOKUP(A13607,'Tipos de activos'!$F$2:$G$5,2,0),0)","v":0},null,0]
[null,null,null,null,null,null,null,null,null,null,0,{"$f":"IFERROR(VLOOKUP(A13608,'Tipos de activos'!$F$2:$G$5,2,0),0)","v":0},null,0]
[null,null,null,null,null,null,null,null,null,null,0,{"$f":"IFERROR(VLOOKUP(A13609,'Tipos de activos'!$F$2:$G$5,2,0),0)","v":0},null,0]
[null,null,null,null,null,null,null,null,null,null,0,{"$f":"IFERROR(VLOOKUP(A13610,'Tipos de activos'!$F$2:$G$5,2,0),0)","v":0},null,0]
[null,null,null,null,null,null,null,null,null,null,0,{"$f":"IFERROR(VLOOKUP(A13611,'Tipos de activos'!$F$2:$G$5,2,0),0)","v":0},null,0]
[null,null,null,null,null,null,null,null,null,null,0,{"$f":"IFERROR(VLOOKUP(A13612,'Tipos de activos'!$F$2:$G$5,2,0),0)","v":0},null,0]
[null,null,null,null,null,null,null,null,null,null,0,{"$f":"IFERROR(VLOOKUP(A13613,'Tipos de activos'!$F$2:$G$5,2,0),0)","v":0},null,0]
[null,null,null,null,null,null,null,null,null,null,0,{"$f":"IFERROR(VLOOKUP(A13614,'Tipos de activos'!$F$2:$G$5,2,0),0)","v":0},null,0]
[null,null,null,null,null,null,null,null,null,null,0,{"$f":"IFERROR(VLOOKUP(A13615,'Tipos de activos'!$F$2:$G$5,2,0),0)","v":0},null,0]
[null,null,null,null,null,null,null,null,null,null,0,{"$f":"IFERROR(VLOOKUP(A13616,'Tipos de activos'!$F$2:$G$5,2,0),0)","v":0},null,0]
[null,null,null,null,null,null,null,null,null,null,0,{"$f":"IFERROR(VLOOKUP(A13617,'Tipos de activos'!$F$2:$G$5,2,0),0)","v":0},null,0]
[null,null,null,null,null,null,null,null,null,null,0,{"$f":"IFERROR(VLOOKUP(A13618,'Tipos de activos'!$F$2:$G$5,2,0),0)","v":0},null,0]
[null,null,null,null,null,null,null,null,null,null,0,{"$f":"IFERROR(VLOOKUP(A13619,'Tipos de activos'!$F$2:$G$5,2,0),0)","v":0},null,0]
[null,null,null,null,null,null,null,null,null,null,0,{"$f":"IFERROR(VLOOKUP(A13620,'Tipos de activos'!$F$2:$G$5,2,0),0)","v":0},null,0]
[null,null,null,null,null,null,null,null,null,null,0,{"$f":"IFERROR(VLOOKUP(A13621,'Tipos de activos'!$F$2:$G$5,2,0),0)","v":0},null,0]
[null,null,null,null,null,null,null,null,null,null,0,{"$f":"IFERROR(VLOOKUP(A13622,'Tipos de activos'!$F$2:$G$5,2,0),0)","v":0},null,0]
[null,null,null,null,null,null,null,null,null,null,0,{"$f":"IFERROR(VLOOKUP(A13623,'Tipos de activos'!$F$2:$G$5,2,0),0)","v":0},null,0]
[null,null,null,null,null,null,null,null,null,null,0,{"$f":"IFERROR(VLOOKUP(A13624,'Tipos de activos'!$F$2:$G$5,2,0),0)","v":0},null,0]
[null,null,null,null,null,null,null,null,null,null,0,{"$f":"IFERROR(VLOOKUP(A13625,'Tipos de activos'!$F$2:$G$5,2,0),0)","v":0},null,0]
[null,null,null,null,null,null,null,null,null,null,0,{"$f":"IFERROR(VLOOKUP(A13626,'Tipos de activos'!$F$2:$G$5,2,0),0)","v":0},null,0]
[null,null,null,null,null,null,null,null,null,null,0,{"$f":"IFERROR(VLOOKUP(A13627,'Tipos de activos'!$F$2:$G$5,2,0),0)","v":0},null,0]
[null,null,null,null,null,null,null,null,null,null,0,{"$f":"IFERROR(VLOOKUP(A13628,'Tipos de activos'!$F$2:$G$5,2,0),0)","v":0},null,0]
[null,null,null,null,null,null,null,null,null,null,0,{"$f":"IFERROR(VLOOKUP(A13629,'Tipos de activos'!$F$2:$G$5,2,0),0)","v":0},null,0]
[null,null,null,null,null,null,null,null,null,null,0,{"$f":"IFERROR(VLOOKUP(A13630,'Tipos de activos'!$F$2:$G$5,2,0),0)","v":0},null,0]
[null,null,null,null,null,null,null,null,null,null,0,{"$f":"IFERROR(VLOOKUP(A13631,'Tipos de activos'!$F$2:$G$5,2,0),0)","v":0},null,0]
[null,null,null,null,null,null,null,null,null,null,0,{"$f":"IFERROR(VLOOKUP(A13632,'Tipos de activos'!$F$2:$G$5,2,0),0)","v":0},null,0]
[null,null,null,null,null,null,null,null,null,null,0,{"$f":"IFERROR(VLOOKUP(A13633,'Tipos de activos'!$F$2:$G$5,2,0),0)","v":0},null,0]
[null,null,null,null,null,null,null,null,null,null,0,{"$f":"IFERROR(VLOOKUP(A13634,'Tipos de activos'!$F$2:$G$5,2,0),0)","v":0},null,0]
[null,null,null,null,null,null,null,null,null,null,0,{"$f":"IFERROR(VLOOKUP(A13635,'Tipos de activos'!$F$2:$G$5,2,0),0)","v":0},null,0]
[null,null,null,null,null,null,null,null,null,null,0,{"$f":"IFERROR(VLOOKUP(A13636,'Tipos de activos'!$F$2:$G$5,2,0),0)","v":0},null,0]
[null,null,null,null,null,null,null,null,null,null,0,{"$f":"IFERROR(VLOOKUP(A13637,'Tipos de activos'!$F$2:$G$5,2,0),0)","v":0},null,0]
[null,null,null,null,null,null,null,null,null,null,0,{"$f":"IFERROR(VLOOKUP(A13638,'Tipos de activos'!$F$2:$G$5,2,0),0)","v":0},null,0]
[null,null,null,null,null,null,null,null,null,null,0,{"$f":"IFERROR(VLOOKUP(A13639,'Tipos de activos'!$F$2:$G$5,2,0),0)","v":0},null,0]
[null,null,null,null,null,null,null,null,null,null,0,{"$f":"IFERROR(VLOOKUP(A13640,'Tipos de activos'!$F$2:$G$5,2,0),0)","v":0},null,0]
[null,null,null,null,null,null,null,null,null,null,0,{"$f":"IFERROR(VLOOKUP(A13641,'Tipos de activos'!$F$2:$G$5,2,0),0)","v":0},null,0]
[null,null,null,null,null,null,null,null,null,null,0,{"$f":"IFERROR(VLOOKUP(A13642,'Tipos de activos'!$F$2:$G$5,2,0),0)","v":0},null,0]
[null,null,null,null,null,null,null,null,null,null,0,{"$f":"IFERROR(VLOOKUP(A13643,'Tipos de activos'!$F$2:$G$5,2,0),0)","v":0},null,0]
[null,null,null,null,null,null,null,null,null,null,0,{"$f":"IFERROR(VLOOKUP(A13644,'Tipos de activos'!$F$2:$G$5,2,0),0)","v":0},null,0]
[null,null,null,null,null,null,null,null,null,null,0,{"$f":"IFERROR(VLOOKUP(A13645,'Tipos de activos'!$F$2:$G$5,2,0),0)","v":0},null,0]
[null,null,null,null,null,null,null,null,null,null,0,{"$f":"IFERROR(VLOOKUP(A13646,'Tipos de activos'!$F$2:$G$5,2,0),0)","v":0},null,0]
[null,null,null,null,null,null,null,null,null,null,0,{"$f":"IFERROR(VLOOKUP(A13647,'Tipos de activos'!$F$2:$G$5,2,0),0)","v":0},null,0]
[null,null,null,null,null,null,null,null,null,null,0,{"$f":"IFERROR(VLOOKUP(A13648,'Tipos de activos'!$F$2:$G$5,2,0),0)","v":0},null,0]
[null,null,null,null,null,null,null,null,null,null,0,{"$f":"IFERROR(VLOOKUP(A13649,'Tipos de activos'!$F$2:$G$5,2,0),0)","v":0},null,{"$f":"+K13649*L13649","v":0}]
[null,null,null,null,null,null,null,null,null,null,0,{"$f":"IFERROR(VLOOKUP(A13650,'Tipos de activos'!$F$2:$G$5,2,0),0)","v":0},null,0]
[null,null,null,null,null,null,null,null,null,null,0,{"$f":"IFERROR(VLOOKUP(A13651,'Tipos de activos'!$F$2:$G$5,2,0),0)","v":0},null,0]
[null,null,null,null,null,null,null,null,null,null,0,{"$f":"IFERROR(VLOOKUP(A13652,'Tipos de activos'!$F$2:$G$5,2,0),0)","v":0},null,0]
[null,null,null,null,null,null,null,null,null,null,0,{"$f":"IFERROR(VLOOKUP(A13653,'Tipos de activos'!$F$2:$G$5,2,0),0)","v":0},null,0]
[null,null,null,null,null,null,null,null,null,null,0,{"$f":"IFERROR(VLOOKUP(A13654,'Tipos de activos'!$F$2:$G$5,2,0),0)","v":0},null,0]
[null,null,null,null,null,null,null,null,null,null,0,{"$f":"IFERROR(VLOOKUP(A13655,'Tipos de activos'!$F$2:$G$5,2,0),0)","v":0},null,0]
[null,null,null,null,null,null,null,null,null,null,0,{"$f":"IFERROR(VLOOKUP(A13656,'Tipos de activos'!$F$2:$G$5,2,0),0)","v":0},null,0]
[null,null,null,null,null,null,null,null,null,null,{"$f":"+I13657-J13657","v":0},{"$f":"IFERROR(VLOOKUP(A13657,'Tipos de activos'!$F$2:$G$5,2,0),0)","v":0},null,0]
[null,null,null,null,null,null,null,null,null,null,0,{"$f":"IFERROR(VLOOKUP(A13658,'Tipos de activos'!$F$2:$G$5,2,0),0)","v":0},null,0]
[null,null,null,null,null,null,null,null,null,null,0,{"$f":"IFERROR(VLOOKUP(A13659,'Tipos de activos'!$F$2:$G$5,2,0),0)","v":0},null,0]
[null,null,null,null,null,null,null,null,null,null,0,{"$f":"IFERROR(VLOOKUP(A13660,'Tipos de activos'!$F$2:$G$5,2,0),0)","v":0},null,0]
[null,null,null,null,null,null,null,null,null,null,0,{"$f":"IFERROR(VLOOKUP(A13661,'Tipos de activos'!$F$2:$G$5,2,0),0)","v":0},null,0]
[null,null,null,null,null,null,null,null,null,null,0,{"$f":"IFERROR(VLOOKUP(A13662,'Tipos de activos'!$F$2:$G$5,2,0),0)","v":0},null,0]
[null,null,null,null,null,null,null,null,null,null,0,{"$f":"IFERROR(VLOOKUP(A13663,'Tipos de activos'!$F$2:$G$5,2,0),0)","v":0},null,0]
[null,null,null,null,null,null,null,null,null,null,0,{"$f":"IFERROR(VLOOKUP(A13664,'Tipos de activos'!$F$2:$G$5,2,0),0)","v":0},null,0]
[null,null,null,null,null,null,null,null,null,null,0,{"$f":"IFERROR(VLOOKUP(A13665,'Tipos de activos'!$F$2:$G$5,2,0),0)","v":0},null,0]
[null,null,null,null,null,null,null,null,null,null,0,{"$f":"IFERROR(VLOOKUP(A13666,'Tipos de activos'!$F$2:$G$5,2,0),0)","v":0},null,0]
[null,null,null,null,null,null,null,null,null,null,0,{"$f":"IFERROR(VLOOKUP(A13667,'Tipos de activos'!$F$2:$G$5,2,0),0)","v":0},null,0]
[null,null,null,null,null,null,null,null,null,null,0,{"$f":"IFERROR(VLOOKUP(A13668,'Tipos de activos'!$F$2:$G$5,2,0),0)","v":0},null,0]
[null,null,null,null,null,null,null,null,null,null,0,{"$f":"IFERROR(VLOOKUP(A13669,'Tipos de activos'!$F$2:$G$5,2,0),0)","v":0},null,0]
[null,null,null,null,null,null,null,null,null,null,0,{"$f":"IFERROR(VLOOKUP(A13670,'Tipos de activos'!$F$2:$G$5,2,0),0)","v":0},null,0]
[null,null,null,null,null,null,null,null,null,null,0,{"$f":"IFERROR(VLOOKUP(A13671,'Tipos de activos'!$F$2:$G$5,2,0),0)","v":0},null,0]
[null,null,null,null,null,null,null,null,null,null,0,{"$f":"IFERROR(VLOOKUP(A13672,'Tipos de activos'!$F$2:$G$5,2,0),0)","v":0},null,0]
[null,null,null,null,null,null,null,null,null,null,0,{"$f":"IFERROR(VLOOKUP(A13673,'Tipos de activos'!$F$2:$G$5,2,0),0)","v":0},null,0]
[null,null,null,null,null,null,null,null,null,null,0,{"$f":"IFERROR(VLOOKUP(A13674,'Tipos de activos'!$F$2:$G$5,2,0),0)","v":0},null,0]
[null,null,null,null,null,null,null,null,null,null,0,{"$f":"IFERROR(VLOOKUP(A13675,'Tipos de activos'!$F$2:$G$5,2,0),0)","v":0},null,0]
[null,null,null,null,null,null,null,null,null,null,0,{"$f":"IFERROR(VLOOKUP(A13676,'Tipos de activos'!$F$2:$G$5,2,0),0)","v":0},null,0]
[null,null,null,null,null,null,null,null,null,null,0,{"$f":"IFERROR(VLOOKUP(A13677,'Tipos de activos'!$F$2:$G$5,2,0),0)","v":0},null,0]
[null,null,null,null,null,null,null,null,null,null,0,{"$f":"IFERROR(VLOOKUP(A13678,'Tipos de activos'!$F$2:$G$5,2,0),0)","v":0},null,0]
[null,null,null,null,null,null,null,null,null,null,0,{"$f":"IFERROR(VLOOKUP(A13679,'Tipos de activos'!$F$2:$G$5,2,0),0)","v":0},null,0]
[null,null,null,null,null,null,null,null,null,null,0,{"$f":"IFERROR(VLOOKUP(A13680,'Tipos de activos'!$F$2:$G$5,2,0),0)","v":0},null,0]
[null,null,null,null,null,null,null,null,null,null,0,{"$f":"IFERROR(VLOOKUP(A13681,'Tipos de activos'!$F$2:$G$5,2,0),0)","v":0},null,0]
[null,null,null,null,null,null,null,null,null,null,0,{"$f":"IFERROR(VLOOKUP(A13682,'Tipos de activos'!$F$2:$G$5,2,0),0)","v":0},null,0]
[null,null,null,null,null,null,null,null,null,null,0,{"$f":"IFERROR(VLOOKUP(A13683,'Tipos de activos'!$F$2:$G$5,2,0),0)","v":0},null,0]
[null,null,null,null,null,null,null,null,null,null,0,{"$f":"IFERROR(VLOOKUP(A13684,'Tipos de activos'!$F$2:$G$5,2,0),0)","v":0},null,0]
[null,null,null,null,null,null,null,null,null,null,0,{"$f":"IFERROR(VLOOKUP(A13685,'Tipos de activos'!$F$2:$G$5,2,0),0)","v":0},null,0]
[null,null,null,null,null,null,null,null,null,null,0,{"$f":"IFERROR(VLOOKUP(A13686,'Tipos de activos'!$F$2:$G$5,2,0),0)","v":0},null,0]
[null,null,null,null,null,null,null,null,null,null,0,{"$f":"IFERROR(VLOOKUP(A13687,'Tipos de activos'!$F$2:$G$5,2,0),0)","v":0},null,0]
[null,null,null,null,null,null,null,null,null,null,0,{"$f":"IFERROR(VLOOKUP(A13688,'Tipos de activos'!$F$2:$G$5,2,0),0)","v":0},null,0]
[null,null,null,null,null,null,null,null,null,null,0,{"$f":"IFERROR(VLOOKUP(A13689,'Tipos de activos'!$F$2:$G$5,2,0),0)","v":0},null,0]
[null,null,null,null,null,null,null,null,null,null,0,{"$f":"IFERROR(VLOOKUP(A13690,'Tipos de activos'!$F$2:$G$5,2,0),0)","v":0},null,0]
[null,null,null,null,null,null,null,null,null,null,0,{"$f":"IFERROR(VLOOKUP(A13691,'Tipos de activos'!$F$2:$G$5,2,0),0)","v":0},null,0]
[null,null,null,null,null,null,null,null,null,null,0,{"$f":"IFERROR(VLOOKUP(A13692,'Tipos de activos'!$F$2:$G$5,2,0),0)","v":0},null,0]
[null,null,null,null,null,null,null,null,null,null,0,{"$f":"IFERROR(VLOOKUP(A13693,'Tipos de activos'!$F$2:$G$5,2,0),0)","v":0},null,0]
[null,null,null,null,null,null,null,null,null,null,0,{"$f":"IFERROR(VLOOKUP(A13694,'Tipos de activos'!$F$2:$G$5,2,0),0)","v":0},null,0]
[null,null,null,null,null,null,null,null,null,null,0,{"$f":"IFERROR(VLOOKUP(A13695,'Tipos de activos'!$F$2:$G$5,2,0),0)","v":0},null,0]
[null,null,null,null,null,null,null,null,null,null,0,{"$f":"IFERROR(VLOOKUP(A13696,'Tipos de activos'!$F$2:$G$5,2,0),0)","v":0},null,0]
[null,null,null,null,null,null,null,null,null,null,0,{"$f":"IFERROR(VLOOKUP(A13697,'Tipos de activos'!$F$2:$G$5,2,0),0)","v":0},null,0]
[null,null,null,null,null,null,null,null,null,null,0,{"$f":"IFERROR(VLOOKUP(A13698,'Tipos de activos'!$F$2:$G$5,2,0),0)","v":0},null,0]
[null,null,null,null,null,null,null,null,null,null,0,{"$f":"IFERROR(VLOOKUP(A13699,'Tipos de activos'!$F$2:$G$5,2,0),0)","v":0},null,0]
[null,null,null,null,null,null,null,null,null,null,0,{"$f":"IFERROR(VLOOKUP(A13700,'Tipos de activos'!$F$2:$G$5,2,0),0)","v":0},null,0]
[null,null,null,null,null,null,null,null,null,null,0,{"$f":"IFERROR(VLOOKUP(A13701,'Tipos de activos'!$F$2:$G$5,2,0),0)","v":0},null,0]
[null,null,null,null,null,null,null,null,null,null,0,{"$f":"IFERROR(VLOOKUP(A13702,'Tipos de activos'!$F$2:$G$5,2,0),0)","v":0},null,0]
[null,null,null,null,null,null,null,null,null,null,0,{"$f":"IFERROR(VLOOKUP(A13703,'Tipos de activos'!$F$2:$G$5,2,0),0)","v":0},null,0]
[null,null,null,null,null,null,null,null,null,null,0,{"$f":"IFERROR(VLOOKUP(A13704,'Tipos de activos'!$F$2:$G$5,2,0),0)","v":0},null,0]
[null,null,null,null,null,null,null,null,null,null,0,{"$f":"IFERROR(VLOOKUP(A13705,'Tipos de activos'!$F$2:$G$5,2,0),0)","v":0},null,0]
[null,null,null,null,null,null,null,null,null,null,0,{"$f":"IFERROR(VLOOKUP(A13706,'Tipos de activos'!$F$2:$G$5,2,0),0)","v":0},null,0]
[null,null,null,null,null,null,null,null,null,null,0,{"$f":"IFERROR(VLOOKUP(A13707,'Tipos de activos'!$F$2:$G$5,2,0),0)","v":0},null,0]
[null,null,null,null,null,null,null,null,null,null,0,{"$f":"IFERROR(VLOOKUP(A13708,'Tipos de activos'!$F$2:$G$5,2,0),0)","v":0},null,0]
[null,null,null,null,null,null,null,null,null,null,0,{"$f":"IFERROR(VLOOKUP(A13709,'Tipos de activos'!$F$2:$G$5,2,0),0)","v":0},null,0]
[null,null,null,null,null,null,null,null,null,null,0,{"$f":"IFERROR(VLOOKUP(A13710,'Tipos de activos'!$F$2:$G$5,2,0),0)","v":0},null,0]
[null,null,null,null,null,null,null,null,null,null,0,{"$f":"IFERROR(VLOOKUP(A13711,'Tipos de activos'!$F$2:$G$5,2,0),0)","v":0},null,0]
[null,null,null,null,null,null,null,null,null,null,0,{"$f":"IFERROR(VLOOKUP(A13712,'Tipos de activos'!$F$2:$G$5,2,0),0)","v":0},null,0]
[null,null,null,null,null,null,null,null,null,null,0,{"$f":"IFERROR(VLOOKUP(A13713,'Tipos de activos'!$F$2:$G$5,2,0),0)","v":0},null,{"$f":"+K13713*L13713","v":0}]
[null,null,null,null,null,null,null,null,null,null,0,{"$f":"IFERROR(VLOOKUP(A13714,'Tipos de activos'!$F$2:$G$5,2,0),0)","v":0},null,0]
[null,null,null,null,null,null,null,null,null,null,0,{"$f":"IFERROR(VLOOKUP(A13715,'Tipos de activos'!$F$2:$G$5,2,0),0)","v":0},null,0]
[null,null,null,null,null,null,null,null,null,null,0,{"$f":"IFERROR(VLOOKUP(A13716,'Tipos de activos'!$F$2:$G$5,2,0),0)","v":0},null,0]
[null,null,null,null,null,null,null,null,null,null,0,{"$f":"IFERROR(VLOOKUP(A13717,'Tipos de activos'!$F$2:$G$5,2,0),0)","v":0},null,0]
[null,null,null,null,null,null,null,null,null,null,0,{"$f":"IFERROR(VLOOKUP(A13718,'Tipos de activos'!$F$2:$G$5,2,0),0)","v":0},null,0]
[null,null,null,null,null,null,null,null,null,null,0,{"$f":"IFERROR(VLOOKUP(A13719,'Tipos de activos'!$F$2:$G$5,2,0),0)","v":0},null,0]
[null,null,null,null,null,null,null,null,null,null,0,{"$f":"IFERROR(VLOOKUP(A13720,'Tipos de activos'!$F$2:$G$5,2,0),0)","v":0},null,0]
[null,null,null,null,null,null,null,null,null,null,{"$f":"+I13721-J13721","v":0},{"$f":"IFERROR(VLOOKUP(A13721,'Tipos de activos'!$F$2:$G$5,2,0),0)","v":0},null,0]
[null,null,null,null,null,null,null,null,null,null,0,{"$f":"IFERROR(VLOOKUP(A13722,'Tipos de activos'!$F$2:$G$5,2,0),0)","v":0},null,0]
[null,null,null,null,null,null,null,null,null,null,0,{"$f":"IFERROR(VLOOKUP(A13723,'Tipos de activos'!$F$2:$G$5,2,0),0)","v":0},null,0]
[null,null,null,null,null,null,null,null,null,null,0,{"$f":"IFERROR(VLOOKUP(A13724,'Tipos de activos'!$F$2:$G$5,2,0),0)","v":0},null,0]
[null,null,null,null,null,null,null,null,null,null,0,{"$f":"IFERROR(VLOOKUP(A13725,'Tipos de activos'!$F$2:$G$5,2,0),0)","v":0},null,0]
[null,null,null,null,null,null,null,null,null,null,0,{"$f":"IFERROR(VLOOKUP(A13726,'Tipos de activos'!$F$2:$G$5,2,0),0)","v":0},null,0]
[null,null,null,null,null,null,null,null,null,null,0,{"$f":"IFERROR(VLOOKUP(A13727,'Tipos de activos'!$F$2:$G$5,2,0),0)","v":0},null,0]
[null,null,null,null,null,null,null,null,null,null,0,{"$f":"IFERROR(VLOOKUP(A13728,'Tipos de activos'!$F$2:$G$5,2,0),0)","v":0},null,0]
[null,null,null,null,null,null,null,null,null,null,0,{"$f":"IFERROR(VLOOKUP(A13729,'Tipos de activos'!$F$2:$G$5,2,0),0)","v":0},null,0]
[null,null,null,null,null,null,null,null,null,null,0,{"$f":"IFERROR(VLOOKUP(A13730,'Tipos de activos'!$F$2:$G$5,2,0),0)","v":0},null,0]
[null,null,null,null,null,null,null,null,null,null,0,{"$f":"IFERROR(VLOOKUP(A13731,'Tipos de activos'!$F$2:$G$5,2,0),0)","v":0},null,0]
[null,null,null,null,null,null,null,null,null,null,0,{"$f":"IFERROR(VLOOKUP(A13732,'Tipos de activos'!$F$2:$G$5,2,0),0)","v":0},null,0]
[null,null,null,null,null,null,null,null,null,null,0,{"$f":"IFERROR(VLOOKUP(A13733,'Tipos de activos'!$F$2:$G$5,2,0),0)","v":0},null,0]
[null,null,null,null,null,null,null,null,null,null,0,{"$f":"IFERROR(VLOOKUP(A13734,'Tipos de activos'!$F$2:$G$5,2,0),0)","v":0},null,0]
[null,null,null,null,null,null,null,null,null,null,0,{"$f":"IFERROR(VLOOKUP(A13735,'Tipos de activos'!$F$2:$G$5,2,0),0)","v":0},null,0]
[null,null,null,null,null,null,null,null,null,null,0,{"$f":"IFERROR(VLOOKUP(A13736,'Tipos de activos'!$F$2:$G$5,2,0),0)","v":0},null,0]
[null,null,null,null,null,null,null,null,null,null,0,{"$f":"IFERROR(VLOOKUP(A13737,'Tipos de activos'!$F$2:$G$5,2,0),0)","v":0},null,0]
[null,null,null,null,null,null,null,null,null,null,0,{"$f":"IFERROR(VLOOKUP(A13738,'Tipos de activos'!$F$2:$G$5,2,0),0)","v":0},null,0]
[null,null,null,null,null,null,null,null,null,null,0,{"$f":"IFERROR(VLOOKUP(A13739,'Tipos de activos'!$F$2:$G$5,2,0),0)","v":0},null,0]
[null,null,null,null,null,null,null,null,null,null,0,{"$f":"IFERROR(VLOOKUP(A13740,'Tipos de activos'!$F$2:$G$5,2,0),0)","v":0},null,0]
[null,null,null,null,null,null,null,null,null,null,0,{"$f":"IFERROR(VLOOKUP(A13741,'Tipos de activos'!$F$2:$G$5,2,0),0)","v":0},null,0]
[null,null,null,null,null,null,null,null,null,null,0,{"$f":"IFERROR(VLOOKUP(A13742,'Tipos de activos'!$F$2:$G$5,2,0),0)","v":0},null,0]
[null,null,null,null,null,null,null,null,null,null,0,{"$f":"IFERROR(VLOOKUP(A13743,'Tipos de activos'!$F$2:$G$5,2,0),0)","v":0},null,0]
[null,null,null,null,null,null,null,null,null,null,0,{"$f":"IFERROR(VLOOKUP(A13744,'Tipos de activos'!$F$2:$G$5,2,0),0)","v":0},null,0]
[null,null,null,null,null,null,null,null,null,null,0,{"$f":"IFERROR(VLOOKUP(A13745,'Tipos de activos'!$F$2:$G$5,2,0),0)","v":0},null,0]
[null,null,null,null,null,null,null,null,null,null,0,{"$f":"IFERROR(VLOOKUP(A13746,'Tipos de activos'!$F$2:$G$5,2,0),0)","v":0},null,0]
[null,null,null,null,null,null,null,null,null,null,0,{"$f":"IFERROR(VLOOKUP(A13747,'Tipos de activos'!$F$2:$G$5,2,0),0)","v":0},null,0]
[null,null,null,null,null,null,null,null,null,null,0,{"$f":"IFERROR(VLOOKUP(A13748,'Tipos de activos'!$F$2:$G$5,2,0),0)","v":0},null,0]
[null,null,null,null,null,null,null,null,null,null,0,{"$f":"IFERROR(VLOOKUP(A13749,'Tipos de activos'!$F$2:$G$5,2,0),0)","v":0},null,0]
[null,null,null,null,null,null,null,null,null,null,0,{"$f":"IFERROR(VLOOKUP(A13750,'Tipos de activos'!$F$2:$G$5,2,0),0)","v":0},null,0]
[null,null,null,null,null,null,null,null,null,null,0,{"$f":"IFERROR(VLOOKUP(A13751,'Tipos de activos'!$F$2:$G$5,2,0),0)","v":0},null,0]
[null,null,null,null,null,null,null,null,null,null,0,{"$f":"IFERROR(VLOOKUP(A13752,'Tipos de activos'!$F$2:$G$5,2,0),0)","v":0},null,0]
[null,null,null,null,null,null,null,null,null,null,0,{"$f":"IFERROR(VLOOKUP(A13753,'Tipos de activos'!$F$2:$G$5,2,0),0)","v":0},null,0]
[null,null,null,null,null,null,null,null,null,null,0,{"$f":"IFERROR(VLOOKUP(A13754,'Tipos de activos'!$F$2:$G$5,2,0),0)","v":0},null,0]
[null,null,null,null,null,null,null,null,null,null,0,{"$f":"IFERROR(VLOOKUP(A13755,'Tipos de activos'!$F$2:$G$5,2,0),0)","v":0},null,0]
[null,null,null,null,null,null,null,null,null,null,0,{"$f":"IFERROR(VLOOKUP(A13756,'Tipos de activos'!$F$2:$G$5,2,0),0)","v":0},null,0]
[null,null,null,null,null,null,null,null,null,null,0,{"$f":"IFERROR(VLOOKUP(A13757,'Tipos de activos'!$F$2:$G$5,2,0),0)","v":0},null,0]
[null,null,null,null,null,null,null,null,null,null,0,{"$f":"IFERROR(VLOOKUP(A13758,'Tipos de activos'!$F$2:$G$5,2,0),0)","v":0},null,0]
[null,null,null,null,null,null,null,null,null,null,0,{"$f":"IFERROR(VLOOKUP(A13759,'Tipos de activos'!$F$2:$G$5,2,0),0)","v":0},null,0]
[null,null,null,null,null,null,null,null,null,null,0,{"$f":"IFERROR(VLOOKUP(A13760,'Tipos de activos'!$F$2:$G$5,2,0),0)","v":0},null,0]
[null,null,null,null,null,null,null,null,null,null,0,{"$f":"IFERROR(VLOOKUP(A13761,'Tipos de activos'!$F$2:$G$5,2,0),0)","v":0},null,0]
[null,null,null,null,null,null,null,null,null,null,0,{"$f":"IFERROR(VLOOKUP(A13762,'Tipos de activos'!$F$2:$G$5,2,0),0)","v":0},null,0]
[null,null,null,null,null,null,null,null,null,null,0,{"$f":"IFERROR(VLOOKUP(A13763,'Tipos de activos'!$F$2:$G$5,2,0),0)","v":0},null,0]
[null,null,null,null,null,null,null,null,null,null,0,{"$f":"IFERROR(VLOOKUP(A13764,'Tipos de activos'!$F$2:$G$5,2,0),0)","v":0},null,0]
[null,null,null,null,null,null,null,null,null,null,0,{"$f":"IFERROR(VLOOKUP(A13765,'Tipos de activos'!$F$2:$G$5,2,0),0)","v":0},null,0]
[null,null,null,null,null,null,null,null,null,null,0,{"$f":"IFERROR(VLOOKUP(A13766,'Tipos de activos'!$F$2:$G$5,2,0),0)","v":0},null,0]
[null,null,null,null,null,null,null,null,null,null,0,{"$f":"IFERROR(VLOOKUP(A13767,'Tipos de activos'!$F$2:$G$5,2,0),0)","v":0},null,0]
[null,null,null,null,null,null,null,null,null,null,0,{"$f":"IFERROR(VLOOKUP(A13768,'Tipos de activos'!$F$2:$G$5,2,0),0)","v":0},null,0]
[null,null,null,null,null,null,null,null,null,null,0,{"$f":"IFERROR(VLOOKUP(A13769,'Tipos de activos'!$F$2:$G$5,2,0),0)","v":0},null,0]
[null,null,null,null,null,null,null,null,null,null,0,{"$f":"IFERROR(VLOOKUP(A13770,'Tipos de activos'!$F$2:$G$5,2,0),0)","v":0},null,0]
[null,null,null,null,null,null,null,null,null,null,0,{"$f":"IFERROR(VLOOKUP(A13771,'Tipos de activos'!$F$2:$G$5,2,0),0)","v":0},null,0]
[null,null,null,null,null,null,null,null,null,null,0,{"$f":"IFERROR(VLOOKUP(A13772,'Tipos de activos'!$F$2:$G$5,2,0),0)","v":0},null,0]
[null,null,null,null,null,null,null,null,null,null,0,{"$f":"IFERROR(VLOOKUP(A13773,'Tipos de activos'!$F$2:$G$5,2,0),0)","v":0},null,0]
[null,null,null,null,null,null,null,null,null,null,0,{"$f":"IFERROR(VLOOKUP(A13774,'Tipos de activos'!$F$2:$G$5,2,0),0)","v":0},null,0]
[null,null,null,null,null,null,null,null,null,null,0,{"$f":"IFERROR(VLOOKUP(A13775,'Tipos de activos'!$F$2:$G$5,2,0),0)","v":0},null,0]
[null,null,null,null,null,null,null,null,null,null,0,{"$f":"IFERROR(VLOOKUP(A13776,'Tipos de activos'!$F$2:$G$5,2,0),0)","v":0},null,0]
[null,null,null,null,null,null,null,null,null,null,0,{"$f":"IFERROR(VLOOKUP(A13777,'Tipos de activos'!$F$2:$G$5,2,0),0)","v":0},null,{"$f":"+K13777*L13777","v":0}]
[null,null,null,null,null,null,null,null,null,null,0,{"$f":"IFERROR(VLOOKUP(A13778,'Tipos de activos'!$F$2:$G$5,2,0),0)","v":0},null,0]
[null,null,null,null,null,null,null,null,null,null,0,{"$f":"IFERROR(VLOOKUP(A13779,'Tipos de activos'!$F$2:$G$5,2,0),0)","v":0},null,0]
[null,null,null,null,null,null,null,null,null,null,0,{"$f":"IFERROR(VLOOKUP(A13780,'Tipos de activos'!$F$2:$G$5,2,0),0)","v":0},null,0]
[null,null,null,null,null,null,null,null,null,null,0,{"$f":"IFERROR(VLOOKUP(A13781,'Tipos de activos'!$F$2:$G$5,2,0),0)","v":0},null,0]
[null,null,null,null,null,null,null,null,null,null,0,{"$f":"IFERROR(VLOOKUP(A13782,'Tipos de activos'!$F$2:$G$5,2,0),0)","v":0},null,0]
[null,null,null,null,null,null,null,null,null,null,0,{"$f":"IFERROR(VLOOKUP(A13783,'Tipos de activos'!$F$2:$G$5,2,0),0)","v":0},null,0]
[null,null,null,null,null,null,null,null,null,null,0,{"$f":"IFERROR(VLOOKUP(A13784,'Tipos de activos'!$F$2:$G$5,2,0),0)","v":0},null,0]
[null,null,null,null,null,null,null,null,null,null,{"$f":"+I13785-J13785","v":0},{"$f":"IFERROR(VLOOKUP(A13785,'Tipos de activos'!$F$2:$G$5,2,0),0)","v":0},null,0]
[null,null,null,null,null,null,null,null,null,null,0,{"$f":"IFERROR(VLOOKUP(A13786,'Tipos de activos'!$F$2:$G$5,2,0),0)","v":0},null,0]
[null,null,null,null,null,null,null,null,null,null,0,{"$f":"IFERROR(VLOOKUP(A13787,'Tipos de activos'!$F$2:$G$5,2,0),0)","v":0},null,0]
[null,null,null,null,null,null,null,null,null,null,0,{"$f":"IFERROR(VLOOKUP(A13788,'Tipos de activos'!$F$2:$G$5,2,0),0)","v":0},null,0]
[null,null,null,null,null,null,null,null,null,null,0,{"$f":"IFERROR(VLOOKUP(A13789,'Tipos de activos'!$F$2:$G$5,2,0),0)","v":0},null,0]
[null,null,null,null,null,null,null,null,null,null,0,{"$f":"IFERROR(VLOOKUP(A13790,'Tipos de activos'!$F$2:$G$5,2,0),0)","v":0},null,0]
[null,null,null,null,null,null,null,null,null,null,0,{"$f":"IFERROR(VLOOKUP(A13791,'Tipos de activos'!$F$2:$G$5,2,0),0)","v":0},null,0]
[null,null,null,null,null,null,null,null,null,null,0,{"$f":"IFERROR(VLOOKUP(A13792,'Tipos de activos'!$F$2:$G$5,2,0),0)","v":0},null,0]
[null,null,null,null,null,null,null,null,null,null,0,{"$f":"IFERROR(VLOOKUP(A13793,'Tipos de activos'!$F$2:$G$5,2,0),0)","v":0},null,0]
[null,null,null,null,null,null,null,null,null,null,0,{"$f":"IFERROR(VLOOKUP(A13794,'Tipos de activos'!$F$2:$G$5,2,0),0)","v":0},null,0]
[null,null,null,null,null,null,null,null,null,null,0,{"$f":"IFERROR(VLOOKUP(A13795,'Tipos de activos'!$F$2:$G$5,2,0),0)","v":0},null,0]
[null,null,null,null,null,null,null,null,null,null,0,{"$f":"IFERROR(VLOOKUP(A13796,'Tipos de activos'!$F$2:$G$5,2,0),0)","v":0},null,0]
[null,null,null,null,null,null,null,null,null,null,0,{"$f":"IFERROR(VLOOKUP(A13797,'Tipos de activos'!$F$2:$G$5,2,0),0)","v":0},null,0]
[null,null,null,null,null,null,null,null,null,null,0,{"$f":"IFERROR(VLOOKUP(A13798,'Tipos de activos'!$F$2:$G$5,2,0),0)","v":0},null,0]
[null,null,null,null,null,null,null,null,null,null,0,{"$f":"IFERROR(VLOOKUP(A13799,'Tipos de activos'!$F$2:$G$5,2,0),0)","v":0},null,0]
[null,null,null,null,null,null,null,null,null,null,0,{"$f":"IFERROR(VLOOKUP(A13800,'Tipos de activos'!$F$2:$G$5,2,0),0)","v":0},null,0]
[null,null,null,null,null,null,null,null,null,null,0,{"$f":"IFERROR(VLOOKUP(A13801,'Tipos de activos'!$F$2:$G$5,2,0),0)","v":0},null,0]
[null,null,null,null,null,null,null,null,null,null,0,{"$f":"IFERROR(VLOOKUP(A13802,'Tipos de activos'!$F$2:$G$5,2,0),0)","v":0},null,0]
[null,null,null,null,null,null,null,null,null,null,0,{"$f":"IFERROR(VLOOKUP(A13803,'Tipos de activos'!$F$2:$G$5,2,0),0)","v":0},null,0]
[null,null,null,null,null,null,null,null,null,null,0,{"$f":"IFERROR(VLOOKUP(A13804,'Tipos de activos'!$F$2:$G$5,2,0),0)","v":0},null,0]
[null,null,null,null,null,null,null,null,null,null,0,{"$f":"IFERROR(VLOOKUP(A13805,'Tipos de activos'!$F$2:$G$5,2,0),0)","v":0},null,0]
[null,null,null,null,null,null,null,null,null,null,0,{"$f":"IFERROR(VLOOKUP(A13806,'Tipos de activos'!$F$2:$G$5,2,0),0)","v":0},null,0]
[null,null,null,null,null,null,null,null,null,null,0,{"$f":"IFERROR(VLOOKUP(A13807,'Tipos de activos'!$F$2:$G$5,2,0),0)","v":0},null,0]
[null,null,null,null,null,null,null,null,null,null,0,{"$f":"IFERROR(VLOOKUP(A13808,'Tipos de activos'!$F$2:$G$5,2,0),0)","v":0},null,0]
[null,null,null,null,null,null,null,null,null,null,0,{"$f":"IFERROR(VLOOKUP(A13809,'Tipos de activos'!$F$2:$G$5,2,0),0)","v":0},null,0]
[null,null,null,null,null,null,null,null,null,null,0,{"$f":"IFERROR(VLOOKUP(A13810,'Tipos de activos'!$F$2:$G$5,2,0),0)","v":0},null,0]
[null,null,null,null,null,null,null,null,null,null,0,{"$f":"IFERROR(VLOOKUP(A13811,'Tipos de activos'!$F$2:$G$5,2,0),0)","v":0},null,0]
[null,null,null,null,null,null,null,null,null,null,0,{"$f":"IFERROR(VLOOKUP(A13812,'Tipos de activos'!$F$2:$G$5,2,0),0)","v":0},null,0]
[null,null,null,null,null,null,null,null,null,null,0,{"$f":"IFERROR(VLOOKUP(A13813,'Tipos de activos'!$F$2:$G$5,2,0),0)","v":0},null,0]
[null,null,null,null,null,null,null,null,null,null,0,{"$f":"IFERROR(VLOOKUP(A13814,'Tipos de activos'!$F$2:$G$5,2,0),0)","v":0},null,0]
[null,null,null,null,null,null,null,null,null,null,0,{"$f":"IFERROR(VLOOKUP(A13815,'Tipos de activos'!$F$2:$G$5,2,0),0)","v":0},null,0]
[null,null,null,null,null,null,null,null,null,null,0,{"$f":"IFERROR(VLOOKUP(A13816,'Tipos de activos'!$F$2:$G$5,2,0),0)","v":0},null,0]
[null,null,null,null,null,null,null,null,null,null,0,{"$f":"IFERROR(VLOOKUP(A13817,'Tipos de activos'!$F$2:$G$5,2,0),0)","v":0},null,0]
[null,null,null,null,null,null,null,null,null,null,0,{"$f":"IFERROR(VLOOKUP(A13818,'Tipos de activos'!$F$2:$G$5,2,0),0)","v":0},null,0]
[null,null,null,null,null,null,null,null,null,null,0,{"$f":"IFERROR(VLOOKUP(A13819,'Tipos de activos'!$F$2:$G$5,2,0),0)","v":0},null,0]
[null,null,null,null,null,null,null,null,null,null,0,{"$f":"IFERROR(VLOOKUP(A13820,'Tipos de activos'!$F$2:$G$5,2,0),0)","v":0},null,0]
[null,null,null,null,null,null,null,null,null,null,0,{"$f":"IFERROR(VLOOKUP(A13821,'Tipos de activos'!$F$2:$G$5,2,0),0)","v":0},null,0]
[null,null,null,null,null,null,null,null,null,null,0,{"$f":"IFERROR(VLOOKUP(A13822,'Tipos de activos'!$F$2:$G$5,2,0),0)","v":0},null,0]
[null,null,null,null,null,null,null,null,null,null,0,{"$f":"IFERROR(VLOOKUP(A13823,'Tipos de activos'!$F$2:$G$5,2,0),0)","v":0},null,0]
[null,null,null,null,null,null,null,null,null,null,0,{"$f":"IFERROR(VLOOKUP(A13824,'Tipos de activos'!$F$2:$G$5,2,0),0)","v":0},null,0]
[null,null,null,null,null,null,null,null,null,null,0,{"$f":"IFERROR(VLOOKUP(A13825,'Tipos de activos'!$F$2:$G$5,2,0),0)","v":0},null,0]
[null,null,null,null,null,null,null,null,null,null,0,{"$f":"IFERROR(VLOOKUP(A13826,'Tipos de activos'!$F$2:$G$5,2,0),0)","v":0},null,0]
[null,null,null,null,null,null,null,null,null,null,0,{"$f":"IFERROR(VLOOKUP(A13827,'Tipos de activos'!$F$2:$G$5,2,0),0)","v":0},null,0]
[null,null,null,null,null,null,null,null,null,null,0,{"$f":"IFERROR(VLOOKUP(A13828,'Tipos de activos'!$F$2:$G$5,2,0),0)","v":0},null,0]
[null,null,null,null,null,null,null,null,null,null,0,{"$f":"IFERROR(VLOOKUP(A13829,'Tipos de activos'!$F$2:$G$5,2,0),0)","v":0},null,0]
[null,null,null,null,null,null,null,null,null,null,0,{"$f":"IFERROR(VLOOKUP(A13830,'Tipos de activos'!$F$2:$G$5,2,0),0)","v":0},null,0]
[null,null,null,null,null,null,null,null,null,null,0,{"$f":"IFERROR(VLOOKUP(A13831,'Tipos de activos'!$F$2:$G$5,2,0),0)","v":0},null,0]
[null,null,null,null,null,null,null,null,null,null,0,{"$f":"IFERROR(VLOOKUP(A13832,'Tipos de activos'!$F$2:$G$5,2,0),0)","v":0},null,0]
[null,null,null,null,null,null,null,null,null,null,0,{"$f":"IFERROR(VLOOKUP(A13833,'Tipos de activos'!$F$2:$G$5,2,0),0)","v":0},null,0]
[null,null,null,null,null,null,null,null,null,null,0,{"$f":"IFERROR(VLOOKUP(A13834,'Tipos de activos'!$F$2:$G$5,2,0),0)","v":0},null,0]
[null,null,null,null,null,null,null,null,null,null,0,{"$f":"IFERROR(VLOOKUP(A13835,'Tipos de activos'!$F$2:$G$5,2,0),0)","v":0},null,0]
[null,null,null,null,null,null,null,null,null,null,0,{"$f":"IFERROR(VLOOKUP(A13836,'Tipos de activos'!$F$2:$G$5,2,0),0)","v":0},null,0]
[null,null,null,null,null,null,null,null,null,null,0,{"$f":"IFERROR(VLOOKUP(A13837,'Tipos de activos'!$F$2:$G$5,2,0),0)","v":0},null,0]
[null,null,null,null,null,null,null,null,null,null,0,{"$f":"IFERROR(VLOOKUP(A13838,'Tipos de activos'!$F$2:$G$5,2,0),0)","v":0},null,0]
[null,null,null,null,null,null,null,null,null,null,0,{"$f":"IFERROR(VLOOKUP(A13839,'Tipos de activos'!$F$2:$G$5,2,0),0)","v":0},null,0]
[null,null,null,null,null,null,null,null,null,null,0,{"$f":"IFERROR(VLOOKUP(A13840,'Tipos de activos'!$F$2:$G$5,2,0),0)","v":0},null,0]
[null,null,null,null,null,null,null,null,null,null,0,{"$f":"IFERROR(VLOOKUP(A13841,'Tipos de activos'!$F$2:$G$5,2,0),0)","v":0},null,{"$f":"+K13841*L13841","v":0}]
[null,null,null,null,null,null,null,null,null,null,0,{"$f":"IFERROR(VLOOKUP(A13842,'Tipos de activos'!$F$2:$G$5,2,0),0)","v":0},null,0]
[null,null,null,null,null,null,null,null,null,null,0,{"$f":"IFERROR(VLOOKUP(A13843,'Tipos de activos'!$F$2:$G$5,2,0),0)","v":0},null,0]
[null,null,null,null,null,null,null,null,null,null,0,{"$f":"IFERROR(VLOOKUP(A13844,'Tipos de activos'!$F$2:$G$5,2,0),0)","v":0},null,0]
[null,null,null,null,null,null,null,null,null,null,0,{"$f":"IFERROR(VLOOKUP(A13845,'Tipos de activos'!$F$2:$G$5,2,0),0)","v":0},null,0]
[null,null,null,null,null,null,null,null,null,null,0,{"$f":"IFERROR(VLOOKUP(A13846,'Tipos de activos'!$F$2:$G$5,2,0),0)","v":0},null,0]
[null,null,null,null,null,null,null,null,null,null,0,{"$f":"IFERROR(VLOOKUP(A13847,'Tipos de activos'!$F$2:$G$5,2,0),0)","v":0},null,0]
[null,null,null,null,null,null,null,null,null,null,0,{"$f":"IFERROR(VLOOKUP(A13848,'Tipos de activos'!$F$2:$G$5,2,0),0)","v":0},null,0]
[null,null,null,null,null,null,null,null,null,null,{"$f":"+I13849-J13849","v":0},{"$f":"IFERROR(VLOOKUP(A13849,'Tipos de activos'!$F$2:$G$5,2,0),0)","v":0},null,0]
[null,null,null,null,null,null,null,null,null,null,0,{"$f":"IFERROR(VLOOKUP(A13850,'Tipos de activos'!$F$2:$G$5,2,0),0)","v":0},null,0]
[null,null,null,null,null,null,null,null,null,null,0,{"$f":"IFERROR(VLOOKUP(A13851,'Tipos de activos'!$F$2:$G$5,2,0),0)","v":0},null,0]
[null,null,null,null,null,null,null,null,null,null,0,{"$f":"IFERROR(VLOOKUP(A13852,'Tipos de activos'!$F$2:$G$5,2,0),0)","v":0},null,0]
[null,null,null,null,null,null,null,null,null,null,0,{"$f":"IFERROR(VLOOKUP(A13853,'Tipos de activos'!$F$2:$G$5,2,0),0)","v":0},null,0]
[null,null,null,null,null,null,null,null,null,null,0,{"$f":"IFERROR(VLOOKUP(A13854,'Tipos de activos'!$F$2:$G$5,2,0),0)","v":0},null,0]
[null,null,null,null,null,null,null,null,null,null,0,{"$f":"IFERROR(VLOOKUP(A13855,'Tipos de activos'!$F$2:$G$5,2,0),0)","v":0},null,0]
[null,null,null,null,null,null,null,null,null,null,0,{"$f":"IFERROR(VLOOKUP(A13856,'Tipos de activos'!$F$2:$G$5,2,0),0)","v":0},null,0]
[null,null,null,null,null,null,null,null,null,null,0,{"$f":"IFERROR(VLOOKUP(A13857,'Tipos de activos'!$F$2:$G$5,2,0),0)","v":0},null,0]
[null,null,null,null,null,null,null,null,null,null,0,{"$f":"IFERROR(VLOOKUP(A13858,'Tipos de activos'!$F$2:$G$5,2,0),0)","v":0},null,0]
[null,null,null,null,null,null,null,null,null,null,0,{"$f":"IFERROR(VLOOKUP(A13859,'Tipos de activos'!$F$2:$G$5,2,0),0)","v":0},null,0]
[null,null,null,null,null,null,null,null,null,null,0,{"$f":"IFERROR(VLOOKUP(A13860,'Tipos de activos'!$F$2:$G$5,2,0),0)","v":0},null,0]
[null,null,null,null,null,null,null,null,null,null,0,{"$f":"IFERROR(VLOOKUP(A13861,'Tipos de activos'!$F$2:$G$5,2,0),0)","v":0},null,0]
[null,null,null,null,null,null,null,null,null,null,0,{"$f":"IFERROR(VLOOKUP(A13862,'Tipos de activos'!$F$2:$G$5,2,0),0)","v":0},null,0]
[null,null,null,null,null,null,null,null,null,null,0,{"$f":"IFERROR(VLOOKUP(A13863,'Tipos de activos'!$F$2:$G$5,2,0),0)","v":0},null,0]
[null,null,null,null,null,null,null,null,null,null,0,{"$f":"IFERROR(VLOOKUP(A13864,'Tipos de activos'!$F$2:$G$5,2,0),0)","v":0},null,0]
[null,null,null,null,null,null,null,null,null,null,0,{"$f":"IFERROR(VLOOKUP(A13865,'Tipos de activos'!$F$2:$G$5,2,0),0)","v":0},null,0]
[null,null,null,null,null,null,null,null,null,null,0,{"$f":"IFERROR(VLOOKUP(A13866,'Tipos de activos'!$F$2:$G$5,2,0),0)","v":0},null,0]
[null,null,null,null,null,null,null,null,null,null,0,{"$f":"IFERROR(VLOOKUP(A13867,'Tipos de activos'!$F$2:$G$5,2,0),0)","v":0},null,0]
[null,null,null,null,null,null,null,null,null,null,0,{"$f":"IFERROR(VLOOKUP(A13868,'Tipos de activos'!$F$2:$G$5,2,0),0)","v":0},null,0]
[null,null,null,null,null,null,null,null,null,null,0,{"$f":"IFERROR(VLOOKUP(A13869,'Tipos de activos'!$F$2:$G$5,2,0),0)","v":0},null,0]
[null,null,null,null,null,null,null,null,null,null,0,{"$f":"IFERROR(VLOOKUP(A13870,'Tipos de activos'!$F$2:$G$5,2,0),0)","v":0},null,0]
[null,null,null,null,null,null,null,null,null,null,0,{"$f":"IFERROR(VLOOKUP(A13871,'Tipos de activos'!$F$2:$G$5,2,0),0)","v":0},null,0]
[null,null,null,null,null,null,null,null,null,null,0,{"$f":"IFERROR(VLOOKUP(A13872,'Tipos de activos'!$F$2:$G$5,2,0),0)","v":0},null,0]
[null,null,null,null,null,null,null,null,null,null,0,{"$f":"IFERROR(VLOOKUP(A13873,'Tipos de activos'!$F$2:$G$5,2,0),0)","v":0},null,0]
[null,null,null,null,null,null,null,null,null,null,0,{"$f":"IFERROR(VLOOKUP(A13874,'Tipos de activos'!$F$2:$G$5,2,0),0)","v":0},null,0]
[null,null,null,null,null,null,null,null,null,null,0,{"$f":"IFERROR(VLOOKUP(A13875,'Tipos de activos'!$F$2:$G$5,2,0),0)","v":0},null,0]
[null,null,null,null,null,null,null,null,null,null,0,{"$f":"IFERROR(VLOOKUP(A13876,'Tipos de activos'!$F$2:$G$5,2,0),0)","v":0},null,0]
[null,null,null,null,null,null,null,null,null,null,0,{"$f":"IFERROR(VLOOKUP(A13877,'Tipos de activos'!$F$2:$G$5,2,0),0)","v":0},null,0]
[null,null,null,null,null,null,null,null,null,null,0,{"$f":"IFERROR(VLOOKUP(A13878,'Tipos de activos'!$F$2:$G$5,2,0),0)","v":0},null,0]
[null,null,null,null,null,null,null,null,null,null,0,{"$f":"IFERROR(VLOOKUP(A13879,'Tipos de activos'!$F$2:$G$5,2,0),0)","v":0},null,0]
[null,null,null,null,null,null,null,null,null,null,0,{"$f":"IFERROR(VLOOKUP(A13880,'Tipos de activos'!$F$2:$G$5,2,0),0)","v":0},null,0]
[null,null,null,null,null,null,null,null,null,null,0,{"$f":"IFERROR(VLOOKUP(A13881,'Tipos de activos'!$F$2:$G$5,2,0),0)","v":0},null,0]
[null,null,null,null,null,null,null,null,null,null,0,{"$f":"IFERROR(VLOOKUP(A13882,'Tipos de activos'!$F$2:$G$5,2,0),0)","v":0},null,0]
[null,null,null,null,null,null,null,null,null,null,0,{"$f":"IFERROR(VLOOKUP(A13883,'Tipos de activos'!$F$2:$G$5,2,0),0)","v":0},null,0]
[null,null,null,null,null,null,null,null,null,null,0,{"$f":"IFERROR(VLOOKUP(A13884,'Tipos de activos'!$F$2:$G$5,2,0),0)","v":0},null,0]
[null,null,null,null,null,null,null,null,null,null,0,{"$f":"IFERROR(VLOOKUP(A13885,'Tipos de activos'!$F$2:$G$5,2,0),0)","v":0},null,0]
[null,null,null,null,null,null,null,null,null,null,0,{"$f":"IFERROR(VLOOKUP(A13886,'Tipos de activos'!$F$2:$G$5,2,0),0)","v":0},null,0]
[null,null,null,null,null,null,null,null,null,null,0,{"$f":"IFERROR(VLOOKUP(A13887,'Tipos de activos'!$F$2:$G$5,2,0),0)","v":0},null,0]
[null,null,null,null,null,null,null,null,null,null,0,{"$f":"IFERROR(VLOOKUP(A13888,'Tipos de activos'!$F$2:$G$5,2,0),0)","v":0},null,0]
[null,null,null,null,null,null,null,null,null,null,0,{"$f":"IFERROR(VLOOKUP(A13889,'Tipos de activos'!$F$2:$G$5,2,0),0)","v":0},null,0]
[null,null,null,null,null,null,null,null,null,null,0,{"$f":"IFERROR(VLOOKUP(A13890,'Tipos de activos'!$F$2:$G$5,2,0),0)","v":0},null,0]
[null,null,null,null,null,null,null,null,null,null,0,{"$f":"IFERROR(VLOOKUP(A13891,'Tipos de activos'!$F$2:$G$5,2,0),0)","v":0},null,0]
[null,null,null,null,null,null,null,null,null,null,0,{"$f":"IFERROR(VLOOKUP(A13892,'Tipos de activos'!$F$2:$G$5,2,0),0)","v":0},null,0]
[null,null,null,null,null,null,null,null,null,null,0,{"$f":"IFERROR(VLOOKUP(A13893,'Tipos de activos'!$F$2:$G$5,2,0),0)","v":0},null,0]
[null,null,null,null,null,null,null,null,null,null,0,{"$f":"IFERROR(VLOOKUP(A13894,'Tipos de activos'!$F$2:$G$5,2,0),0)","v":0},null,0]
[null,null,null,null,null,null,null,null,null,null,0,{"$f":"IFERROR(VLOOKUP(A13895,'Tipos de activos'!$F$2:$G$5,2,0),0)","v":0},null,0]
[null,null,null,null,null,null,null,null,null,null,0,{"$f":"IFERROR(VLOOKUP(A13896,'Tipos de activos'!$F$2:$G$5,2,0),0)","v":0},null,0]
[null,null,null,null,null,null,null,null,null,null,0,{"$f":"IFERROR(VLOOKUP(A13897,'Tipos de activos'!$F$2:$G$5,2,0),0)","v":0},null,0]
[null,null,null,null,null,null,null,null,null,null,0,{"$f":"IFERROR(VLOOKUP(A13898,'Tipos de activos'!$F$2:$G$5,2,0),0)","v":0},null,0]
[null,null,null,null,null,null,null,null,null,null,0,{"$f":"IFERROR(VLOOKUP(A13899,'Tipos de activos'!$F$2:$G$5,2,0),0)","v":0},null,0]
[null,null,null,null,null,null,null,null,null,null,0,{"$f":"IFERROR(VLOOKUP(A13900,'Tipos de activos'!$F$2:$G$5,2,0),0)","v":0},null,0]
[null,null,null,null,null,null,null,null,null,null,0,{"$f":"IFERROR(VLOOKUP(A13901,'Tipos de activos'!$F$2:$G$5,2,0),0)","v":0},null,0]
[null,null,null,null,null,null,null,null,null,null,0,{"$f":"IFERROR(VLOOKUP(A13902,'Tipos de activos'!$F$2:$G$5,2,0),0)","v":0},null,0]
[null,null,null,null,null,null,null,null,null,null,0,{"$f":"IFERROR(VLOOKUP(A13903,'Tipos de activos'!$F$2:$G$5,2,0),0)","v":0},null,0]
[null,null,null,null,null,null,null,null,null,null,0,{"$f":"IFERROR(VLOOKUP(A13904,'Tipos de activos'!$F$2:$G$5,2,0),0)","v":0},null,0]
[null,null,null,null,null,null,null,null,null,null,0,{"$f":"IFERROR(VLOOKUP(A13905,'Tipos de activos'!$F$2:$G$5,2,0),0)","v":0},null,{"$f":"+K13905*L13905","v":0}]
[null,null,null,null,null,null,null,null,null,null,0,{"$f":"IFERROR(VLOOKUP(A13906,'Tipos de activos'!$F$2:$G$5,2,0),0)","v":0},null,0]
[null,null,null,null,null,null,null,null,null,null,0,{"$f":"IFERROR(VLOOKUP(A13907,'Tipos de activos'!$F$2:$G$5,2,0),0)","v":0},null,0]
[null,null,null,null,null,null,null,null,null,null,0,{"$f":"IFERROR(VLOOKUP(A13908,'Tipos de activos'!$F$2:$G$5,2,0),0)","v":0},null,0]
[null,null,null,null,null,null,null,null,null,null,0,{"$f":"IFERROR(VLOOKUP(A13909,'Tipos de activos'!$F$2:$G$5,2,0),0)","v":0},null,0]
[null,null,null,null,null,null,null,null,null,null,0,{"$f":"IFERROR(VLOOKUP(A13910,'Tipos de activos'!$F$2:$G$5,2,0),0)","v":0},null,0]
[null,null,null,null,null,null,null,null,null,null,0,{"$f":"IFERROR(VLOOKUP(A13911,'Tipos de activos'!$F$2:$G$5,2,0),0)","v":0},null,0]
[null,null,null,null,null,null,null,null,null,null,0,{"$f":"IFERROR(VLOOKUP(A13912,'Tipos de activos'!$F$2:$G$5,2,0),0)","v":0},null,0]
[null,null,null,null,null,null,null,null,null,null,{"$f":"+I13913-J13913","v":0},{"$f":"IFERROR(VLOOKUP(A13913,'Tipos de activos'!$F$2:$G$5,2,0),0)","v":0},null,0]
[null,null,null,null,null,null,null,null,null,null,0,{"$f":"IFERROR(VLOOKUP(A13914,'Tipos de activos'!$F$2:$G$5,2,0),0)","v":0},null,0]
[null,null,null,null,null,null,null,null,null,null,0,{"$f":"IFERROR(VLOOKUP(A13915,'Tipos de activos'!$F$2:$G$5,2,0),0)","v":0},null,0]
[null,null,null,null,null,null,null,null,null,null,0,{"$f":"IFERROR(VLOOKUP(A13916,'Tipos de activos'!$F$2:$G$5,2,0),0)","v":0},null,0]
[null,null,null,null,null,null,null,null,null,null,0,{"$f":"IFERROR(VLOOKUP(A13917,'Tipos de activos'!$F$2:$G$5,2,0),0)","v":0},null,0]
[null,null,null,null,null,null,null,null,null,null,0,{"$f":"IFERROR(VLOOKUP(A13918,'Tipos de activos'!$F$2:$G$5,2,0),0)","v":0},null,0]
[null,null,null,null,null,null,null,null,null,null,0,{"$f":"IFERROR(VLOOKUP(A13919,'Tipos de activos'!$F$2:$G$5,2,0),0)","v":0},null,0]
[null,null,null,null,null,null,null,null,null,null,0,{"$f":"IFERROR(VLOOKUP(A13920,'Tipos de activos'!$F$2:$G$5,2,0),0)","v":0},null,0]
[null,null,null,null,null,null,null,null,null,null,0,{"$f":"IFERROR(VLOOKUP(A13921,'Tipos de activos'!$F$2:$G$5,2,0),0)","v":0},null,0]
[null,null,null,null,null,null,null,null,null,null,0,{"$f":"IFERROR(VLOOKUP(A13922,'Tipos de activos'!$F$2:$G$5,2,0),0)","v":0},null,0]
[null,null,null,null,null,null,null,null,null,null,0,{"$f":"IFERROR(VLOOKUP(A13923,'Tipos de activos'!$F$2:$G$5,2,0),0)","v":0},null,0]
[null,null,null,null,null,null,null,null,null,null,0,{"$f":"IFERROR(VLOOKUP(A13924,'Tipos de activos'!$F$2:$G$5,2,0),0)","v":0},null,0]
[null,null,null,null,null,null,null,null,null,null,0,{"$f":"IFERROR(VLOOKUP(A13925,'Tipos de activos'!$F$2:$G$5,2,0),0)","v":0},null,0]
[null,null,null,null,null,null,null,null,null,null,0,{"$f":"IFERROR(VLOOKUP(A13926,'Tipos de activos'!$F$2:$G$5,2,0),0)","v":0},null,0]
[null,null,null,null,null,null,null,null,null,null,0,{"$f":"IFERROR(VLOOKUP(A13927,'Tipos de activos'!$F$2:$G$5,2,0),0)","v":0},null,0]
[null,null,null,null,null,null,null,null,null,null,0,{"$f":"IFERROR(VLOOKUP(A13928,'Tipos de activos'!$F$2:$G$5,2,0),0)","v":0},null,0]
[null,null,null,null,null,null,null,null,null,null,0,{"$f":"IFERROR(VLOOKUP(A13929,'Tipos de activos'!$F$2:$G$5,2,0),0)","v":0},null,0]
[null,null,null,null,null,null,null,null,null,null,0,{"$f":"IFERROR(VLOOKUP(A13930,'Tipos de activos'!$F$2:$G$5,2,0),0)","v":0},null,0]
[null,null,null,null,null,null,null,null,null,null,0,{"$f":"IFERROR(VLOOKUP(A13931,'Tipos de activos'!$F$2:$G$5,2,0),0)","v":0},null,0]
[null,null,null,null,null,null,null,null,null,null,0,{"$f":"IFERROR(VLOOKUP(A13932,'Tipos de activos'!$F$2:$G$5,2,0),0)","v":0},null,0]
[null,null,null,null,null,null,null,null,null,null,0,{"$f":"IFERROR(VLOOKUP(A13933,'Tipos de activos'!$F$2:$G$5,2,0),0)","v":0},null,0]
[null,null,null,null,null,null,null,null,null,null,0,{"$f":"IFERROR(VLOOKUP(A13934,'Tipos de activos'!$F$2:$G$5,2,0),0)","v":0},null,0]
[null,null,null,null,null,null,null,null,null,null,0,{"$f":"IFERROR(VLOOKUP(A13935,'Tipos de activos'!$F$2:$G$5,2,0),0)","v":0},null,0]
[null,null,null,null,null,null,null,null,null,null,0,{"$f":"IFERROR(VLOOKUP(A13936,'Tipos de activos'!$F$2:$G$5,2,0),0)","v":0},null,0]
[null,null,null,null,null,null,null,null,null,null,0,{"$f":"IFERROR(VLOOKUP(A13937,'Tipos de activos'!$F$2:$G$5,2,0),0)","v":0},null,0]
[null,null,null,null,null,null,null,null,null,null,0,{"$f":"IFERROR(VLOOKUP(A13938,'Tipos de activos'!$F$2:$G$5,2,0),0)","v":0},null,0]
[null,null,null,null,null,null,null,null,null,null,0,{"$f":"IFERROR(VLOOKUP(A13939,'Tipos de activos'!$F$2:$G$5,2,0),0)","v":0},null,0]
[null,null,null,null,null,null,null,null,null,null,0,{"$f":"IFERROR(VLOOKUP(A13940,'Tipos de activos'!$F$2:$G$5,2,0),0)","v":0},null,0]
[null,null,null,null,null,null,null,null,null,null,0,{"$f":"IFERROR(VLOOKUP(A13941,'Tipos de activos'!$F$2:$G$5,2,0),0)","v":0},null,0]
[null,null,null,null,null,null,null,null,null,null,0,{"$f":"IFERROR(VLOOKUP(A13942,'Tipos de activos'!$F$2:$G$5,2,0),0)","v":0},null,0]
[null,null,null,null,null,null,null,null,null,null,0,{"$f":"IFERROR(VLOOKUP(A13943,'Tipos de activos'!$F$2:$G$5,2,0),0)","v":0},null,0]
[null,null,null,null,null,null,null,null,null,null,0,{"$f":"IFERROR(VLOOKUP(A13944,'Tipos de activos'!$F$2:$G$5,2,0),0)","v":0},null,0]
[null,null,null,null,null,null,null,null,null,null,0,{"$f":"IFERROR(VLOOKUP(A13945,'Tipos de activos'!$F$2:$G$5,2,0),0)","v":0},null,0]
[null,null,null,null,null,null,null,null,null,null,0,{"$f":"IFERROR(VLOOKUP(A13946,'Tipos de activos'!$F$2:$G$5,2,0),0)","v":0},null,0]
[null,null,null,null,null,null,null,null,null,null,0,{"$f":"IFERROR(VLOOKUP(A13947,'Tipos de activos'!$F$2:$G$5,2,0),0)","v":0},null,0]
[null,null,null,null,null,null,null,null,null,null,0,{"$f":"IFERROR(VLOOKUP(A13948,'Tipos de activos'!$F$2:$G$5,2,0),0)","v":0},null,0]
[null,null,null,null,null,null,null,null,null,null,0,{"$f":"IFERROR(VLOOKUP(A13949,'Tipos de activos'!$F$2:$G$5,2,0),0)","v":0},null,0]
[null,null,null,null,null,null,null,null,null,null,0,{"$f":"IFERROR(VLOOKUP(A13950,'Tipos de activos'!$F$2:$G$5,2,0),0)","v":0},null,0]
[null,null,null,null,null,null,null,null,null,null,0,{"$f":"IFERROR(VLOOKUP(A13951,'Tipos de activos'!$F$2:$G$5,2,0),0)","v":0},null,0]
[null,null,null,null,null,null,null,null,null,null,0,{"$f":"IFERROR(VLOOKUP(A13952,'Tipos de activos'!$F$2:$G$5,2,0),0)","v":0},null,0]
[null,null,null,null,null,null,null,null,null,null,0,{"$f":"IFERROR(VLOOKUP(A13953,'Tipos de activos'!$F$2:$G$5,2,0),0)","v":0},null,0]
[null,null,null,null,null,null,null,null,null,null,0,{"$f":"IFERROR(VLOOKUP(A13954,'Tipos de activos'!$F$2:$G$5,2,0),0)","v":0},null,0]
[null,null,null,null,null,null,null,null,null,null,0,{"$f":"IFERROR(VLOOKUP(A13955,'Tipos de activos'!$F$2:$G$5,2,0),0)","v":0},null,0]
[null,null,null,null,null,null,null,null,null,null,0,{"$f":"IFERROR(VLOOKUP(A13956,'Tipos de activos'!$F$2:$G$5,2,0),0)","v":0},null,0]
[null,null,null,null,null,null,null,null,null,null,0,{"$f":"IFERROR(VLOOKUP(A13957,'Tipos de activos'!$F$2:$G$5,2,0),0)","v":0},null,0]
[null,null,null,null,null,null,null,null,null,null,0,{"$f":"IFERROR(VLOOKUP(A13958,'Tipos de activos'!$F$2:$G$5,2,0),0)","v":0},null,0]
[null,null,null,null,null,null,null,null,null,null,0,{"$f":"IFERROR(VLOOKUP(A13959,'Tipos de activos'!$F$2:$G$5,2,0),0)","v":0},null,0]
[null,null,null,null,null,null,null,null,null,null,0,{"$f":"IFERROR(VLOOKUP(A13960,'Tipos de activos'!$F$2:$G$5,2,0),0)","v":0},null,0]
[null,null,null,null,null,null,null,null,null,null,0,{"$f":"IFERROR(VLOOKUP(A13961,'Tipos de activos'!$F$2:$G$5,2,0),0)","v":0},null,0]
[null,null,null,null,null,null,null,null,null,null,0,{"$f":"IFERROR(VLOOKUP(A13962,'Tipos de activos'!$F$2:$G$5,2,0),0)","v":0},null,0]
[null,null,null,null,null,null,null,null,null,null,0,{"$f":"IFERROR(VLOOKUP(A13963,'Tipos de activos'!$F$2:$G$5,2,0),0)","v":0},null,0]
[null,null,null,null,null,null,null,null,null,null,0,{"$f":"IFERROR(VLOOKUP(A13964,'Tipos de activos'!$F$2:$G$5,2,0),0)","v":0},null,0]
[null,null,null,null,null,null,null,null,null,null,0,{"$f":"IFERROR(VLOOKUP(A13965,'Tipos de activos'!$F$2:$G$5,2,0),0)","v":0},null,0]
[null,null,null,null,null,null,null,null,null,null,0,{"$f":"IFERROR(VLOOKUP(A13966,'Tipos de activos'!$F$2:$G$5,2,0),0)","v":0},null,0]
[null,null,null,null,null,null,null,null,null,null,0,{"$f":"IFERROR(VLOOKUP(A13967,'Tipos de activos'!$F$2:$G$5,2,0),0)","v":0},null,0]
[null,null,null,null,null,null,null,null,null,null,0,{"$f":"IFERROR(VLOOKUP(A13968,'Tipos de activos'!$F$2:$G$5,2,0),0)","v":0},null,0]
[null,null,null,null,null,null,null,null,null,null,0,{"$f":"IFERROR(VLOOKUP(A13969,'Tipos de activos'!$F$2:$G$5,2,0),0)","v":0},null,{"$f":"+K13969*L13969","v":0}]
[null,null,null,null,null,null,null,null,null,null,0,{"$f":"IFERROR(VLOOKUP(A13970,'Tipos de activos'!$F$2:$G$5,2,0),0)","v":0},null,0]
[null,null,null,null,null,null,null,null,null,null,0,{"$f":"IFERROR(VLOOKUP(A13971,'Tipos de activos'!$F$2:$G$5,2,0),0)","v":0},null,0]
[null,null,null,null,null,null,null,null,null,null,0,{"$f":"IFERROR(VLOOKUP(A13972,'Tipos de activos'!$F$2:$G$5,2,0),0)","v":0},null,0]
[null,null,null,null,null,null,null,null,null,null,0,{"$f":"IFERROR(VLOOKUP(A13973,'Tipos de activos'!$F$2:$G$5,2,0),0)","v":0},null,0]
[null,null,null,null,null,null,null,null,null,null,0,{"$f":"IFERROR(VLOOKUP(A13974,'Tipos de activos'!$F$2:$G$5,2,0),0)","v":0},null,0]
[null,null,null,null,null,null,null,null,null,null,0,{"$f":"IFERROR(VLOOKUP(A13975,'Tipos de activos'!$F$2:$G$5,2,0),0)","v":0},null,0]
[null,null,null,null,null,null,null,null,null,null,0,{"$f":"IFERROR(VLOOKUP(A13976,'Tipos de activos'!$F$2:$G$5,2,0),0)","v":0},null,0]
[null,null,null,null,null,null,null,null,null,null,{"$f":"+I13977-J13977","v":0},{"$f":"IFERROR(VLOOKUP(A13977,'Tipos de activos'!$F$2:$G$5,2,0),0)","v":0},null,0]
[null,null,null,null,null,null,null,null,null,null,0,{"$f":"IFERROR(VLOOKUP(A13978,'Tipos de activos'!$F$2:$G$5,2,0),0)","v":0},null,0]
[null,null,null,null,null,null,null,null,null,null,0,{"$f":"IFERROR(VLOOKUP(A13979,'Tipos de activos'!$F$2:$G$5,2,0),0)","v":0},null,0]
[null,null,null,null,null,null,null,null,null,null,0,{"$f":"IFERROR(VLOOKUP(A13980,'Tipos de activos'!$F$2:$G$5,2,0),0)","v":0},null,0]
[null,null,null,null,null,null,null,null,null,null,0,{"$f":"IFERROR(VLOOKUP(A13981,'Tipos de activos'!$F$2:$G$5,2,0),0)","v":0},null,0]
[null,null,null,null,null,null,null,null,null,null,0,{"$f":"IFERROR(VLOOKUP(A13982,'Tipos de activos'!$F$2:$G$5,2,0),0)","v":0},null,0]
[null,null,null,null,null,null,null,null,null,null,0,{"$f":"IFERROR(VLOOKUP(A13983,'Tipos de activos'!$F$2:$G$5,2,0),0)","v":0},null,0]
[null,null,null,null,null,null,null,null,null,null,0,{"$f":"IFERROR(VLOOKUP(A13984,'Tipos de activos'!$F$2:$G$5,2,0),0)","v":0},null,0]
[null,null,null,null,null,null,null,null,null,null,0,{"$f":"IFERROR(VLOOKUP(A13985,'Tipos de activos'!$F$2:$G$5,2,0),0)","v":0},null,0]
[null,null,null,null,null,null,null,null,null,null,0,{"$f":"IFERROR(VLOOKUP(A13986,'Tipos de activos'!$F$2:$G$5,2,0),0)","v":0},null,0]
[null,null,null,null,null,null,null,null,null,null,0,{"$f":"IFERROR(VLOOKUP(A13987,'Tipos de activos'!$F$2:$G$5,2,0),0)","v":0},null,0]
[null,null,null,null,null,null,null,null,null,null,0,{"$f":"IFERROR(VLOOKUP(A13988,'Tipos de activos'!$F$2:$G$5,2,0),0)","v":0},null,0]

{"sheet":"Instructivo DS-08","index":6,"n_rows":25,"n_cols":4,"rows_kept":25,"cut":false,"hidden":false,"merged":[[4,1,4,3],[6,0,6,3],[7,1,7,3],[8,1,8,3],[5,0,5,3]]}
[]
[]
[]
[]
[]
["Anexo No.7"]
["Instructivo DS-08"]
[null,"Acuerdo No. 4 de 2011"]
[null,"(Del 27 de junio de 2011)"]
[]
[]
[null,"Tema:",null,"Instructivo para la Evaluación o Medición del Riesgo de Liquidación / Entrega"]
[null,"Objetivo:",null,"Facilitar el proceso de evaluación de la exposición al riesgo de liquidación / entrega asumido por las Casas de Valores, por medio del control y cuantificación en días de incumplimiento en compromisos adquiridos."]
[null,"Observaciones Generales:"]
[null,"a)",null,"El cálculo de este riesgo no aplica en el desarrollo de operaciones repo, de cesión temporal y los préstamos de valores."]
[null,"b)",null,"Los valores o cifras deberán reportarse en US$ dólares."]
[null,"Columnas:"]
[null,"Columna 01:",null,"Detallar el instrumento o título / operación"]
[null,"Columna 02:",null,"Debe reportarse el número de días de incumplimiento que presenta el título relacionado en la columna 01."]
[null,"Columna 03:",null,"Debe reportarse el monto en dólares del valor de liquidación del respectivo título."]
[null,"Columna 04:",null,"Debe reportarse el valor a precios de mercado del respectivo título."]
[null,"Columna 05:",null,"Si el valor de la columna 03 es menor al valor de la columna 04, se debe reportar el valor o diferencia absoluta entre estas dos columnas. De lo contrario, se debe reportar el valor cero (0)."]
[null,"Columna 06:",null,"Debe reportarse el monto en dólares de la provisión realizada sobre dicha operación."]
[null,"Columna 07:",null,"Debe reportarse el valor positivo de la diferencia en dólares entre la columna 05 y la columna 06, si dicha diferencia es negativa se debe reportar el valor cero (0)."]
[null,"Columna 08:",null,"Multiplicar la columna 07 por el porcentaje respectivo de la exposición al incumplimiento de la operación, de acuerdo a lo establecido en la Tabla No.5 del presente acuerdo."]

{"sheet":"Formulario DS-09","index":7,"n_rows":9999,"n_cols":9,"rows_kept":9999,"cut":false,"hidden":false,"merged":[[13,0,13,1],[5,0,5,8],[7,0,7,8],[8,0,8,8],[9,0,9,8],[12,0,12,1],[6,0,6,8],[10,0,10,8]]}
[]
[]
[]
[]
[]
[]
["Anexo No.8"]
["Formulario DS-09"]
["Acuerdo No.4 de 2011"]
["(Del 27 de junio de 2011)"]
["Medición del Riesgo de Liquidación / Entrega"]
[]
["Tabla No.5 "]
["Acuerdo No. 4 de 2011"]
[]
["Cantidad de Días","Ponderación"]
["Entre 5 y 15 dias habiles",0.08]
["Entre 16 y 30 dias habiles",0.5]
["Entre 31 y 45 dias habiles",0.75]
["Mas de 45 dias habiles",1]
[]
[]
["COLUMNA 01","COLUMNA 02","COLUMNA 03","COLUMNA 04","COLUMNA 05","COLUMNA 06","COLUMNA 07","COLUMNA 08","COLUMNA 09"]
["Instrumento / Operación","Días de Incumplimiento a la Fecha de Corte","Valor de Liquidación","Valor de Mercado","Diferencia en US$ Dólares","Provisiones Realizadas","Diferencia Neta de Provisión","Factor de Ponderación","Valor de la Exposición"]
[null,null,null,null,{"$f":"IF(C25<D25,ABS(C25-D25),0)","v":0},null,{"$f":"IF(E25<F25,0,E25-F25)","v":0},{"$f":"IFERROR(VLOOKUP(B25,$A$17:$B$20,2,0),0)","v":0},{"$f":"G25*H25","v":0}]
[null,null,null,null,{"$f":"IF(C26<D26,ABS(C26-D26),0)","v":0},null,{"$f":"IF(E26<F26,0,E26-F26)","v":0},{"$f":"IFERROR(VLOOKUP(B26,$A$17:$B$20,2,0),0)","v":0},{"$f":"G26*H26","v":0}]
[null,null,null,null,0,null,0,0,0]
[null,null,null,null,0,null,0,0,0]
[null,null,null,null,0,null,0,0,0]
[null,null,null,null,0,null,0,0,0]
[null,null,null,null,0,null,0,0,0]
[null,null,null,null,0,null,0,0,0]
[null,null,null,null,0,null,0,0,0]
[null,null,null,null,0,null,0,0,0]
[null,null,null,null,0,null,0,0,0]
[null,null,null,null,0,null,0,0,0]
[null,null,null,null,0,null,0,0,0]
[null,null,null,null,0,null,0,0,0]
[null,null,null,null,0,null,0,0,0]
[null,null,null,null,0,null,0,0,0]
[null,null,null,null,0,null,0,0,0]
[null,null,null,null,0,null,0,0,0]
[null,null,null,null,0,null,0,0,0]
[null,null,null,null,0,null,0,0,0]
[null,null,null,null,0,null,0,0,0]
[null,null,null,null,0,null,0,0,0]
[null,null,null,null,0,null,0,0,0]
[null,null,null,null,0,null,0,0,0]
[null,null,null,null,0,null,0,0,0]
[null,null,null,null,0,null,0,0,0]
[null,null,null,null,0,null,0,0,0]
[null,null,null,null,0,null,0,0,0]
[null,null,null,null,0,null,0,0,0]
[null,null,null,null,0,null,0,0,0]
[null,null,null,null,0,null,0,0,0]
[null,null,null,null,0,null,0,0,0]
[null,null,null,null,0,null,0,0,0]
[null,null,null,null,0,null,0,0,0]
[null,null,null,null,0,null,0,0,0]
[null,null,null,null,0,null,0,0,0]
[null,null,null,null,0,null,0,0,0]
[null,null,null,null,0,null,0,0,0]
[null,null,null,null,0,null,0,0,0]
[null,null,null,null,0,null,0,0,0]
[null,null,null,null,0,null,0,0,0]
[null,null,null,null,0,null,0,0,0]
[null,null,null,null,0,null,0,0,0]
[null,null,null,null,0,null,0,0,0]
[null,null,null,null,0,null,0,0,0]
[null,null,null,null,0,null,0,0,0]
[null,null,null,null,0,null,0,0,0]
[null,null,null,null,0,null,0,0,0]
[null,null,null,null,0,null,0,0,0]
[null,null,null,null,0,null,0,0,0]
[null,null,null,null,0,null,0,0,0]
[null,null,null,null,0,null,0,0,0]
[null,null,null,null,0,null,0,0,0]
[null,null,null,null,0,null,0,0,0]
[null,null,null,null,0,null,0,0,0]
[null,null,null,null,0,null,0,0,0]
[null,null,null,null,0,null,0,0,0]
[null,null,null,null,0,null,0,0,0]
[null,null,null,null,0,null,0,0,0]
[null,null,null,null,0,null,0,0,0]
[null,null,null,null,0,null,0,0,0]
[null,null,null,null,0,null,0,0,0]
[null,null,null,null,0,null,0,0,0]
[null,null,null,null,0,null,0,0,0]
[null,null,null,null,0,null,0,0,0]
[null,null,null,null,{"$f":"IF(C90<D90,ABS(C90-D90),0)","v":0},null,{"$f":"IF(E90<F90,0,E90-F90)","v":0},{"$f":"IFERROR(VLOOKUP(B90,$A$17:$B$20,2,0),0)","v":0},{"$f":"G90*H90","v":0}]
[null,null,null,null,0,null,0,0,0]
[null,null,null,null,0,null,0,0,0]
[null,null,null,null,0,null,0,0,0]
[null,null,null,null,0,null,0,0,0]
[null,null,null,null,0,null,0,0,0]
[null,null,null,null,0,null,0,0,0]
[null,null,null,null,0,null,0,0,0]
[null,null,null,null,0,null,0,0,0]
[null,null,null,null,0,null,0,0,0]
[null,null,null,null,0,null,0,0,0]
[null,null,null,null,0,null,0,0,0]
[null,null,null,null,0,null,0,0,0]
[null,null,null,null,0,null,0,0,0]
[null,null,null,null,0,null,0,0,0]
[null,null,null,null,0,null,0,0,0]
[null,null,null,null,0,null,0,0,0]
[null,null,null,null,0,null,0,0,0]
[null,null,null,null,0,null,0,0,0]
[null,null,null,null,0,null,0,0,0]
[null,null,null,null,0,null,0,0,0]
[null,null,null,null,0,null,0,0,0]
[null,null,null,null,0,null,0,0,0]
[null,null,null,null,0,null,0,0,0]
[null,null,null,null,0,null,0,0,0]
[null,null,null,null,0,null,0,0,0]
[null,null,null,null,0,null,0,0,0]
[null,null,null,null,0,null,0,0,0]
[null,null,null,null,0,null,0,0,0]
[null,null,null,null,0,null,0,0,0]
[null,null,null,null,0,null,0,0,0]
[null,null,null,null,0,null,0,0,0]
[null,null,null,null,0,null,0,0,0]
[null,null,null,null,0,null,0,0,0]
[null,null,null,null,0,null,0,0,0]
[null,null,null,null,0,null,0,0,0]
[null,null,null,null,0,null,0,0,0]
[null,null,null,null,0,null,0,0,0]
[null,null,null,null,0,null,0,0,0]
[null,null,null,null,0,null,0,0,0]
[null,null,null,null,0,null,0,0,0]
[null,null,null,null,0,null,0,0,0]
[null,null,null,null,0,null,0,0,0]
[null,null,null,null,0,null,0,0,0]
[null,null,null,null,0,null,0,0,0]
[null,null,null,null,0,null,0,0,0]
[null,null,null,null,0,null,0,0,0]
[null,null,null,null,0,null,0,0,0]
[null,null,null,null,0,null,0,0,0]
[null,null,null,null,0,null,0,0,0]
[null,null,null,null,0,null,0,0,0]
[null,null,null,null,0,null,0,0,0]
[null,null,null,null,0,null,0,0,0]
[null,null,null,null,0,null,0,0,0]
[null,null,null,null,0,null,0,0,0]
[null,null,null,null,0,null,0,0,0]
[null,null,null,null,0,null,0,0,0]
[null,null,null,null,0,null,0,0,0]
[null,null,null,null,0,null,0,0,0]
[null,null,null,null,0,null,0,0,0]
[null,null,null,null,0,null,0,0,0]
[null,null,null,null,0,null,0,0,0]
[null,null,null,null,0,null,0,0,0]
[null,null,null,null,0,null,0,0,0]
[null,null,null,null,{"$f":"IF(C154<D154,ABS(C154-D154),0)","v":0},null,{"$f":"IF(E154<F154,0,E154-F154)","v":0},{"$f":"IFERROR(VLOOKUP(B154,$A$17:$B$20,2,0),0)","v":0},{"$f":"G154*H154","v":0}]
[null,null,null,null,0,null,0,0,0]
[null,null,null,null,0,null,0,0,0]
[null,null,null,null,0,null,0,0,0]
[null,null,null,null,0,null,0,0,0]
[null,null,null,null,0,null,0,0,0]
[null,null,null,null,0,null,0,0,0]
[null,null,null,null,0,null,0,0,0]
[null,null,null,null,0,null,0,0,0]
[null,null,null,null,0,null,0,0,0]
[null,null,null,null,0,null,0,0,0]
[null,null,null,null,0,null,0,0,0]
[null,null,null,null,0,null,0,0,0]
[null,null,null,null,0,null,0,0,0]
[null,null,null,null,0,null,0,0,0]
[null,null,null,null,0,null,0,0,0]
[null,null,null,null,0,null,0,0,0]
[null,null,null,null,0,null,0,0,0]
[null,null,null,null,0,null,0,0,0]
[null,null,null,null,0,null,0,0,0]
[null,null,null,null,0,null,0,0,0]
[null,null,null,null,0,null,0,0,0]
[null,null,null,null,0,null,0,0,0]
[null,null,null,null,0,null,0,0,0]
[null,null,null,null,0,null,0,0,0]
[null,null,null,null,0,null,0,0,0]
[null,null,null,null,0,null,0,0,0]
[null,null,null,null,0,null,0,0,0]
[null,null,null,null,0,null,0,0,0]
[null,null,null,null,0,null,0,0,0]
[null,null,null,null,0,null,0,0,0]
[null,null,null,null,0,null,0,0,0]
[null,null,null,null,0,null,0,0,0]
[null,null,null,null,0,null,0,0,0]
[null,null,null,null,0,null,0,0,0]
[null,null,null,null,0,null,0,0,0]
[null,null,null,null,0,null,0,0,0]
[null,null,null,null,0,null,0,0,0]
[null,null,null,null,0,null,0,0,0]
[null,null,null,null,0,null,0,0,0]
[null,null,null,null,0,null,0,0,0]
[null,null,null,null,0,null,0,0,0]
[null,null,null,null,0,null,0,0,0]
[null,null,null,null,0,null,0,0,0]
[null,null,null,null,0,null,0,0,0]
[null,null,null,null,0,null,0,0,0]
[null,null,null,null,0,null,0,0,0]
[null,null,null,null,0,null,0,0,0]
[null,null,null,null,0,null,0,0,0]
[null,null,null,null,0,null,0,0,0]
[null,null,null,null,0,null,0,0,0]
[null,null,null,null,0,null,0,0,0]
[null,null,null,null,0,null,0,0,0]
[null,null,null,null,0,null,0,0,0]
[null,null,null,null,0,null,0,0,0]
[null,null,null,null,0,null,0,0,0]
[null,null,null,null,0,null,0,0,0]
[null,null,null,null,0,null,0,0,0]
[null,null,null,null,0,null,0,0,0]
[null,null,null,null,0,null,0,0,0]
[null,null,null,null,0,null,0,0,0]
[null,null,null,null,0,null,0,0,0]
[null,null,null,null,0,null,0,0,0]
[null,null,null,null,0,null,0,0,0]
[null,null,null,null,{"$f":"IF(C218<D218,ABS(C218-D218),0)","v":0},null,{"$f":"IF(E218<F218,0,E218-F218)","v":0},{"$f":"IFERROR(VLOOKUP(B218,$A$17:$B$20,2,0),0)","v":0},{"$f":"G218*H218","v":0}]
[null,null,null,null,0,null,0,0,0]
[null,null,null,null,0,null,0,0,0]
[null,null,null,null,0,null,0,0,0]
[null,null,null,null,0,null,0,0,0]
[null,null,null,null,0,null,0,0,0]
[null,null,null,null,0,null,0,0,0]
[null,null,null,null,0,null,0,0,0]
[null,null,null,null,0,null,0,0,0]
[null,null,null,null,0,null,0,0,0]
[null,null,null,null,0,null,0,0,0]
[null,null,null,null,0,null,0,0,0]
[null,null,null,null,0,null,0,0,0]
[null,null,null,null,0,null,0,0,0]
[null,null,null,null,0,null,0,0,0]
[null,null,null,null,0,null,0,0,0]
[null,null,null,null,0,null,0,0,0]
[null,null,null,null,0,null,0,0,0]
[null,null,null,null,0,null,0,0,0]
[null,null,null,null,0,null,0,0,0]
[null,null,null,null,0,null,0,0,0]
[null,null,null,null,0,null,0,0,0]
[null,null,null,null,0,null,0,0,0]
[null,null,null,null,0,null,0,0,0]
[null,null,null,null,0,null,0,0,0]
[null,null,null,null,0,null,0,0,0]
[null,null,null,null,0,null,0,0,0]
[null,null,null,null,0,null,0,0,0]
[null,null,null,null,0,null,0,0,0]
[null,null,null,null,0,null,0,0,0]
[null,null,null,null,0,null,0,0,0]
[null,null,null,null,0,null,0,0,0]
[null,null,null,null,0,null,0,0,0]
[null,null,null,null,0,null,0,0,0]
[null,null,null,null,0,null,0,0,0]
[null,null,null,null,0,null,0,0,0]
[null,null,null,null,0,null,0,0,0]
[null,null,null,null,0,null,0,0,0]
[null,null,null,null,0,null,0,0,0]
[null,null,null,null,0,null,0,0,0]
[null,null,null,null,0,null,0,0,0]
[null,null,null,null,0,null,0,0,0]
[null,null,null,null,0,null,0,0,0]
[null,null,null,null,0,null,0,0,0]
[null,null,null,null,0,null,0,0,0]
[null,null,null,null,0,null,0,0,0]
[null,null,null,null,0,null,0,0,0]
[null,null,null,null,0,null,0,0,0]
[null,null,null,null,0,null,0,0,0]
[null,null,null,null,0,null,0,0,0]
[null,null,null,null,0,null,0,0,0]
[null,null,null,null,0,null,0,0,0]
[null,null,null,null,0,null,0,0,0]
[null,null,null,null,0,null,0,0,0]
[null,null,null,null,0,null,0,0,0]
[null,null,null,null,0,null,0,0,0]
[null,null,null,null,0,null,0,0,0]
[null,null,null,null,0,null,0,0,0]
[null,null,null,null,0,null,0,0,0]
[null,null,null,null,0,null,0,0,0]
[null,null,null,null,0,null,0,0,0]
[null,null,null,null,0,null,0,0,0]
[null,null,null,null,0,null,0,0,0]
[null,null,null,null,0,null,0,0,0]
[null,null,null,null,{"$f":"IF(C282<D282,ABS(C282-D282),0)","v":0},null,{"$f":"IF(E282<F282,0,E282-F282)","v":0},{"$f":"IFERROR(VLOOKUP(B282,$A$17:$B$20,2,0),0)","v":0},{"$f":"G282*H282","v":0}]
[null,null,null,null,0,null,0,0,0]
[null,null,null,null,0,null,0,0,0]
[null,null,null,null,0,null,0,0,0]
[null,null,null,null,0,null,0,0,0]
[null,null,null,null,0,null,0,0,0]
[null,null,null,null,0,null,0,0,0]
[null,null,null,null,0,null,0,0,0]
[null,null,null,null,0,null,0,0,0]
[null,null,null,null,0,null,0,0,0]
[null,null,null,null,0,null,0,0,0]
[null,null,null,null,0,null,0,0,0]
[null,null,null,null,0,null,0,0,0]
[null,null,null,null,0,null,0,0,0]
[null,null,null,null,0,null,0,0,0]
[null,null,null,null,0,null,0,0,0]
[null,null,null,null,0,null,0,0,0]
[null,null,null,null,0,null,0,0,0]
[null,null,null,null,0,null,0,0,0]
[null,null,null,null,0,null,0,0,0]
[null,null,null,null,0,null,0,0,0]
[null,null,null,null,0,null,0,0,0]
[null,null,null,null,0,null,0,0,0]
[null,null,null,null,0,null,0,0,0]
[null,null,null,null,0,null,0,0,0]
[null,null,null,null,0,null,0,0,0]
[null,null,null,null,0,null,0,0,0]
[null,null,null,null,0,null,0,0,0]
[null,null,null,null,0,null,0,0,0]
[null,null,null,null,0,null,0,0,0]
[null,null,null,null,0,null,0,0,0]
[null,null,null,null,0,null,0,0,0]
[null,null,null,null,0,null,0,0,0]
[null,null,null,null,0,null,0,0,0]
[null,null,null,null,0,null,0,0,0]
[null,null,null,null,0,null,0,0,0]
[null,null,null,null,0,null,0,0,0]
[null,null,null,null,0,null,0,0,0]
[null,null,null,null,0,null,0,0,0]
[null,null,null,null,0,null,0,0,0]
[null,null,null,null,0,null,0,0,0]
[null,null,null,null,0,null,0,0,0]
[null,null,null,null,0,null,0,0,0]
[null,null,null,null,0,null,0,0,0]
[null,null,null,null,0,null,0,0,0]
[null,null,null,null,0,null,0,0,0]
[null,null,null,null,0,null,0,0,0]
[null,null,null,null,0,null,0,0,0]
[null,null,null,null,0,null,0,0,0]
[null,null,null,null,0,null,0,0,0]
[null,null,null,null,0,null,0,0,0]
[null,null,null,null,0,null,0,0,0]
[null,null,null,null,0,null,0,0,0]
[null,null,null,null,0,null,0,0,0]
[null,null,null,null,0,null,0,0,0]
[null,null,null,null,0,null,0,0,0]
[null,null,null,null,0,null,0,0,0]
[null,null,null,null,0,null,0,0,0]
[null,null,null,null,0,null,0,0,0]
[null,null,null,null,0,null,0,0,0]
[null,null,null,null,0,null,0,0,0]
[null,null,null,null,0,null,0,0,0]
[null,null,null,null,0,null,0,0,0]
[null,null,null,null,0,null,0,0,0]
[null,null,null,null,{"$f":"IF(C346<D346,ABS(C346-D346),0)","v":0},null,{"$f":"IF(E346<F346,0,E346-F346)","v":0},{"$f":"IFERROR(VLOOKUP(B346,$A$17:$B$20,2,0),0)","v":0},{"$f":"G346*H346","v":0}]
[null,null,null,null,0,null,0,0,0]
[null,null,null,null,0,null,0,0,0]
[null,null,null,null,0,null,0,0,0]
[null,null,null,null,0,null,0,0,0]
[null,null,null,null,0,null,0,0,0]
[null,null,null,null,0,null,0,0,0]
[null,null,null,null,0,null,0,0,0]
[null,null,null,null,0,null,0,0,0]
[null,null,null,null,0,null,0,0,0]
[null,null,null,null,0,null,0,0,0]
[null,null,null,null,0,null,0,0,0]
[null,null,null,null,0,null,0,0,0]
[null,null,null,null,0,null,0,0,0]
[null,null,null,null,0,null,0,0,0]
[null,null,null,null,0,null,0,0,0]
[null,null,null,null,0,null,0,0,0]
[null,null,null,null,0,null,0,0,0]
[null,null,null,null,0,null,0,0,0]
[null,null,null,null,0,null,0,0,0]
[null,null,null,null,0,null,0,0,0]
[null,null,null,null,0,null,0,0,0]
[null,null,null,null,0,null,0,0,0]
[null,null,null,null,0,null,0,0,0]
[null,null,null,null,0,null,0,0,0]
[null,null,null,null,0,null,0,0,0]
[null,null,null,null,0,null,0,0,0]
[null,null,null,null,0,null,0,0,0]
[null,null,null,null,0,null,0,0,0]
[null,null,null,null,0,null,0,0,0]
[null,null,null,null,0,null,0,0,0]
[null,null,null,null,0,null,0,0,0]
[null,null,null,null,0,null,0,0,0]
[null,null,null,null,0,null,0,0,0]
[null,null,null,null,0,null,0,0,0]
[null,null,null,null,0,null,0,0,0]
[null,null,null,null,0,null,0,0,0]
[null,null,null,null,0,null,0,0,0]
[null,null,null,null,0,null,0,0,0]
[null,null,null,null,0,null,0,0,0]
[null,null,null,null,0,null,0,0,0]
[null,null,null,null,0,null,0,0,0]
[null,null,null,null,0,null,0,0,0]
[null,null,null,null,0,null,0,0,0]
[null,null,null,null,0,null,0,0,0]
[null,null,null,null,0,null,0,0,0]
[null,null,null,null,0,null,0,0,0]
[null,null,null,null,0,null,0,0,0]
[null,null,null,null,0,null,0,0,0]
[null,null,null,null,0,null,0,0,0]
[null,null,null,null,0,null,0,0,0]
[null,null,null,null,0,null,0,0,0]
[null,null,null,null,0,null,0,0,0]
[null,null,null,null,0,null,0,0,0]
[null,null,null,null,0,null,0,0,0]
[null,null,null,null,0,null,0,0,0]
[null,null,null,null,0,null,0,0,0]
[null,null,null,null,0,null,0,0,0]
[null,null,null,null,0,null,0,0,0]
[null,null,null,null,0,null,0,0,0]
[null,null,null,null,0,null,0,0,0]
[null,null,null,null,0,null,0,0,0]
[null,null,null,null,0,null,0,0,0]
[null,null,null,null,0,null,0,0,0]
[null,null,null,null,{"$f":"IF(C410<D410,ABS(C410-D410),0)","v":0},null,{"$f":"IF(E410<F410,0,E410-F410)","v":0},{"$f":"IFERROR(VLOOKUP(B410,$A$17:$B$20,2,0),0)","v":0},{"$f":"G410*H410","v":0}]
[null,null,null,null,0,null,0,0,0]
[null,null,null,null,0,null,0,0,0]
[null,null,null,null,0,null,0,0,0]
[null,null,null,null,0,null,0,0,0]
[null,null,null,null,0,null,0,0,0]
[null,null,null,null,0,null,0,0,0]
[null,null,null,null,0,null,0,0,0]
[null,null,null,null,0,null,0,0,0]
[null,null,null,null,0,null,0,0,0]
[null,null,null,null,0,null,0,0,0]
[null,null,null,null,0,null,0,0,0]
[null,null,null,null,0,null,0,0,0]
[null,null,null,null,0,null,0,0,0]
[null,null,null,null,0,null,0,0,0]
[null,null,null,null,0,null,0,0,0]
[null,null,null,null,0,null,0,0,0]
[null,null,null,null,0,null,0,0,0]
[null,null,null,null,0,null,0,0,0]
[null,null,null,null,0,null,0,0,0]
[null,null,null,null,0,null,0,0,0]
[null,null,null,null,0,null,0,0,0]
[null,null,null,null,0,null,0,0,0]
[null,null,null,null,0,null,0,0,0]
[null,null,null,null,0,null,0,0,0]
[null,null,null,null,0,null,0,0,0]
[null,null,null,null,0,null,0,0,0]
[null,null,null,null,0,null,0,0,0]
[null,null,null,null,0,null,0,0,0]
[null,null,null,null,0,null,0,0,0]
[null,null,null,null,0,null,0,0,0]
[null,null,null,null,0,null,0,0,0]
[null,null,null,null,0,null,0,0,0]
[null,null,null,null,0,null,0,0,0]
[null,null,null,null,0,null,0,0,0]
[null,null,null,null,0,null,0,0,0]
[null,null,null,null,0,null,0,0,0]
[null,null,null,null,0,null,0,0,0]
[null,null,null,null,0,null,0,0,0]
[null,null,null,null,0,null,0,0,0]
[null,null,null,null,0,null,0,0,0]
[null,null,null,null,0,null,0,0,0]
[null,null,null,null,0,null,0,0,0]
[null,null,null,null,0,null,0,0,0]
[null,null,null,null,0,null,0,0,0]
[null,null,null,null,0,null,0,0,0]
[null,null,null,null,0,null,0,0,0]
[null,null,null,null,0,null,0,0,0]
[null,null,null,null,0,null,0,0,0]
[null,null,null,null,0,null,0,0,0]
[null,null,null,null,0,null,0,0,0]
[null,null,null,null,0,null,0,0,0]
[null,null,null,null,0,null,0,0,0]
[null,null,null,null,0,null,0,0,0]
[null,null,null,null,0,null,0,0,0]
[null,null,null,null,0,null,0,0,0]
[null,null,null,null,0,null,0,0,0]
[null,null,null,null,0,null,0,0,0]
[null,null,null,null,0,null,0,0,0]
[null,null,null,null,0,null,0,0,0]
[null,null,null,null,0,null,0,0,0]
[null,null,null,null,0,null,0,0,0]
[null,null,null,null,0,null,0,0,0]
[null,null,null,null,0,null,0,0,0]
[null,null,null,null,{"$f":"IF(C474<D474,ABS(C474-D474),0)","v":0},null,{"$f":"IF(E474<F474,0,E474-F474)","v":0},{"$f":"IFERROR(VLOOKUP(B474,$A$17:$B$20,2,0),0)","v":0},{"$f":"G474*H474","v":0}]
[null,null,null,null,0,null,0,0,0]
[null,null,null,null,0,null,0,0,0]
[null,null,null,null,0,null,0,0,0]
[null,null,null,null,0,null,0,0,0]
[null,null,null,null,0,null,0,0,0]
[null,null,null,null,0,null,0,0,0]
[null,null,null,null,0,null,0,0,0]
[null,null,null,null,0,null,0,0,0]
[null,null,null,null,0,null,0,0,0]
[null,null,null,null,0,null,0,0,0]
[null,null,null,null,0,null,0,0,0]
[null,null,null,null,0,null,0,0,0]
[null,null,null,null,0,null,0,0,0]
[null,null,null,null,0,null,0,0,0]
[null,null,null,null,0,null,0,0,0]
[null,null,null,null,0,null,0,0,0]
[null,null,null,null,0,null,0,0,0]
[null,null,null,null,0,null,0,0,0]
[null,null,null,null,0,null,0,0,0]
[null,null,null,null,0,null,0,0,0]
[null,null,null,null,0,null,0,0,0]
[null,null,null,null,0,null,0,0,0]
[null,null,null,null,0,null,0,0,0]
[null,null,null,null,0,null,0,0,0]
[null,null,null,null,0,null,0,0,0]
[null,null,null,null,0,null,0,0,0]
[null,null,null,null,0,null,0,0,0]
[null,null,null,null,0,null,0,0,0]
[null,null,null,null,0,null,0,0,0]
[null,null,null,null,0,null,0,0,0]
[null,null,null,null,0,null,0,0,0]
[null,null,null,null,0,null,0,0,0]
[null,null,null,null,0,null,0,0,0]
[null,null,null,null,0,null,0,0,0]
[null,null,null,null,0,null,0,0,0]
[null,null,null,null,0,null,0,0,0]
[null,null,null,null,0,null,0,0,0]
[null,null,null,null,0,null,0,0,0]
[null,null,null,null,0,null,0,0,0]
[null,null,null,null,0,null,0,0,0]
[null,null,null,null,0,null,0,0,0]
[null,null,null,null,0,null,0,0,0]
[null,null,null,null,0,null,0,0,0]
[null,null,null,null,0,null,0,0,0]
[null,null,null,null,0,null,0,0,0]
[null,null,null,null,0,null,0,0,0]
[null,null,null,null,0,null,0,0,0]
[null,null,null,null,0,null,0,0,0]
[null,null,null,null,0,null,0,0,0]
[null,null,null,null,0,null,0,0,0]
[null,null,null,null,0,null,0,0,0]
[null,null,null,null,0,null,0,0,0]
[null,null,null,null,0,null,0,0,0]
[null,null,null,null,0,null,0,0,0]
[null,null,null,null,0,null,0,0,0]
[null,null,null,null,0,null,0,0,0]
[null,null,null,null,0,null,0,0,0]
[null,null,null,null,0,null,0,0,0]
[null,null,null,null,0,null,0,0,0]
[null,null,null,null,0,null,0,0,0]
[null,null,null,null,0,null,0,0,0]
[null,null,null,null,0,null,0,0,0]
[null,null,null,null,0,null,0,0,0]
[null,null,null,null,{"$f":"IF(C538<D538,ABS(C538-D538),0)","v":0},null,{"$f":"IF(E538<F538,0,E538-F538)","v":0},{"$f":"IFERROR(VLOOKUP(B538,$A$17:$B$20,2,0),0)","v":0},{"$f":"G538*H538","v":0}]
[null,null,null,null,0,null,0,0,0]
[null,null,null,null,0,null,0,0,0]
[null,null,null,null,0,null,0,0,0]
[null,null,null,null,0,null,0,0,0]
[null,null,null,null,0,null,0,0,0]
[null,null,null,null,0,null,0,0,0]
[null,null,null,null,0,null,0,0,0]
[null,null,null,null,0,null,0,0,0]
[null,null,null,null,0,null,0,0,0]
[null,null,null,null,0,null,0,0,0]
[null,null,null,null,0,null,0,0,0]
[null,null,null,null,0,null,0,0,0]
[null,null,null,null,0,null,0,0,0]
[null,null,null,null,0,null,0,0,0]
[null,null,null,null,0,null,0,0,0]
[null,null,null,null,0,null,0,0,0]
[null,null,null,null,0,null,0,0,0]
[null,null,null,null,0,null,0,0,0]
[null,null,null,null,0,null,0,0,0]
[null,null,null,null,0,null,0,0,0]
[null,null,null,null,0,null,0,0,0]
[null,null,null,null,0,null,0,0,0]
[null,null,null,null,0,null,0,0,0]
[null,null,null,null,0,null,0,0,0]
[null,null,null,null,0,null,0,0,0]
[null,null,null,null,0,null,0,0,0]
[null,null,null,null,0,null,0,0,0]
[null,null,null,null,0,null,0,0,0]
[null,null,null,null,0,null,0,0,0]
[null,null,null,null,0,null,0,0,0]
[null,null,null,null,0,null,0,0,0]
[null,null,null,null,0,null,0,0,0]
[null,null,null,null,0,null,0,0,0]
[null,null,null,null,0,null,0,0,0]
[null,null,null,null,0,null,0,0,0]
[null,null,null,null,0,null,0,0,0]
[null,null,null,null,0,null,0,0,0]
[null,null,null,null,0,null,0,0,0]
[null,null,null,null,0,null,0,0,0]
[null,null,null,null,0,null,0,0,0]
[null,null,null,null,0,null,0,0,0]
[null,null,null,null,0,null,0,0,0]
[null,null,null,null,0,null,0,0,0]
[null,null,null,null,0,null,0,0,0]
[null,null,null,null,0,null,0,0,0]
[null,null,null,null,0,null,0,0,0]
[null,null,null,null,0,null,0,0,0]
[null,null,null,null,0,null,0,0,0]
[null,null,null,null,0,null,0,0,0]
[null,null,null,null,0,null,0,0,0]
[null,null,null,null,0,null,0,0,0]
[null,null,null,null,0,null,0,0,0]
[null,null,null,null,0,null,0,0,0]
[null,null,null,null,0,null,0,0,0]
[null,null,null,null,0,null,0,0,0]
[null,null,null,null,0,null,0,0,0]
[null,null,null,null,0,null,0,0,0]
[null,null,null,null,0,null,0,0,0]
[null,null,null,null,0,null,0,0,0]
[null,null,null,null,0,null,0,0,0]
[null,null,null,null,0,null,0,0,0]
[null,null,null,null,0,null,0,0,0]
[null,null,null,null,0,null,0,0,0]
[null,null,null,null,{"$f":"IF(C602<D602,ABS(C602-D602),0)","v":0},null,{"$f":"IF(E602<F602,0,E602-F602)","v":0},{"$f":"IFERROR(VLOOKUP(B602,$A$17:$B$20,2,0),0)","v":0},{"$f":"G602*H602","v":0}]
[null,null,null,null,0,null,0,0,0]
[null,null,null,null,0,null,0,0,0]
[null,null,null,null,0,null,0,0,0]
[null,null,null,null,0,null,0,0,0]
[null,null,null,null,0,null,0,0,0]
[null,null,null,null,0,null,0,0,0]
[null,null,null,null,0,null,0,0,0]
[null,null,null,null,0,null,0,0,0]
[null,null,null,null,0,null,0,0,0]
[null,null,null,null,0,null,0,0,0]
[null,null,null,null,0,null,0,0,0]
[null,null,null,null,0,null,0,0,0]
[null,null,null,null,0,null,0,0,0]
[null,null,null,null,0,null,0,0,0]
[null,null,null,null,0,null,0,0,0]
[null,null,null,null,0,null,0,0,0]
[null,null,null,null,0,null,0,0,0]
[null,null,null,null,0,null,0,0,0]
[null,null,null,null,0,null,0,0,0]
[null,null,null,null,0,null,0,0,0]
[null,null,null,null,0,null,0,0,0]
[null,null,null,null,0,null,0,0,0]
[null,null,null,null,0,null,0,0,0]
[null,null,null,null,0,null,0,0,0]
[null,null,null,null,0,null,0,0,0]
[null,null,null,null,0,null,0,0,0]
[null,null,null,null,0,null,0,0,0]
[null,null,null,null,0,null,0,0,0]
[null,null,null,null,0,null,0,0,0]
[null,null,null,null,0,null,0,0,0]
[null,null,null,null,0,null,0,0,0]
[null,null,null,null,0,null,0,0,0]
[null,null,null,null,0,null,0,0,0]
[null,null,null,null,0,null,0,0,0]
[null,null,null,null,0,null,0,0,0]
[null,null,null,null,0,null,0,0,0]
[null,null,null,null,0,null,0,0,0]
[null,null,null,null,0,null,0,0,0]
[null,null,null,null,0,null,0,0,0]
[null,null,null,null,0,null,0,0,0]
[null,null,null,null,0,null,0,0,0]
[null,null,null,null,0,null,0,0,0]
[null,null,null,null,0,null,0,0,0]
[null,null,null,null,0,null,0,0,0]
[null,null,null,null,0,null,0,0,0]
[null,null,null,null,0,null,0,0,0]
[null,null,null,null,0,null,0,0,0]
[null,null,null,null,0,null,0,0,0]
[null,null,null,null,0,null,0,0,0]
[null,null,null,null,0,null,0,0,0]
[null,null,null,null,0,null,0,0,0]
[null,null,null,null,0,null,0,0,0]
[null,null,null,null,0,null,0,0,0]
[null,null,null,null,0,null,0,0,0]
[null,null,null,null,0,null,0,0,0]
[null,null,null,null,0,null,0,0,0]
[null,null,null,null,0,null,0,0,0]
[null,null,null,null,0,null,0,0,0]
[null,null,null,null,0,null,0,0,0]
[null,null,null,null,0,null,0,0,0]
[null,null,null,null,0,null,0,0,0]
[null,null,null,null,0,null,0,0,0]
[null,null,null,null,0,null,0,0,0]
[null,null,null,null,{"$f":"IF(C666<D666,ABS(C666-D666),0)","v":0},null,{"$f":"IF(E666<F666,0,E666-F666)","v":0},{"$f":"IFERROR(VLOOKUP(B666,$A$17:$B$20,2,0),0)","v":0},{"$f":"G666*H666","v":0}]
[null,null,null,null,0,null,0,0,0]
[null,null,null,null,0,null,0,0,0]
[null,null,null,null,0,null,0,0,0]
[null,null,null,null,0,null,0,0,0]
[null,null,null,null,0,null,0,0,0]
[null,null,null,null,0,null,0,0,0]
[null,null,null,null,0,null,0,0,0]
[null,null,null,null,0,null,0,0,0]
[null,null,null,null,0,null,0,0,0]
[null,null,null,null,0,null,0,0,0]
[null,null,null,null,0,null,0,0,0]
[null,null,null,null,0,null,0,0,0]
[null,null,null,null,0,null,0,0,0]
[null,null,null,null,0,null,0,0,0]
[null,null,null,null,0,null,0,0,0]
[null,null,null,null,0,null,0,0,0]
[null,null,null,null,0,null,0,0,0]
[null,null,null,null,0,null,0,0,0]
[null,null,null,null,0,null,0,0,0]
[null,null,null,null,0,null,0,0,0]
[null,null,null,null,0,null,0,0,0]
[null,null,null,null,0,null,0,0,0]
[null,null,null,null,0,null,0,0,0]
[null,null,null,null,0,null,0,0,0]
[null,null,null,null,0,null,0,0,0]
[null,null,null,null,0,null,0,0,0]
[null,null,null,null,0,null,0,0,0]
[null,null,null,null,0,null,0,0,0]
[null,null,null,null,0,null,0,0,0]
[null,null,null,null,0,null,0,0,0]
[null,null,null,null,0,null,0,0,0]
[null,null,null,null,0,null,0,0,0]
[null,null,null,null,0,null,0,0,0]
[null,null,null,null,0,null,0,0,0]
[null,null,null,null,0,null,0,0,0]
[null,null,null,null,0,null,0,0,0]
[null,null,null,null,0,null,0,0,0]
[null,null,null,null,0,null,0,0,0]
[null,null,null,null,0,null,0,0,0]
[null,null,null,null,0,null,0,0,0]
[null,null,null,null,0,null,0,0,0]
[null,null,null,null,0,null,0,0,0]
[null,null,null,null,0,null,0,0,0]
[null,null,null,null,0,null,0,0,0]
[null,null,null,null,0,null,0,0,0]
[null,null,null,null,0,null,0,0,0]
[null,null,null,null,0,null,0,0,0]
[null,null,null,null,0,null,0,0,0]
[null,null,null,null,0,null,0,0,0]
[null,null,null,null,0,null,0,0,0]
[null,null,null,null,0,null,0,0,0]
[null,null,null,null,0,null,0,0,0]
[null,null,null,null,0,null,0,0,0]
[null,null,null,null,0,null,0,0,0]
[null,null,null,null,0,null,0,0,0]
[null,null,null,null,0,null,0,0,0]
[null,null,null,null,0,null,0,0,0]
[null,null,null,null,0,null,0,0,0]
[null,null,null,null,0,null,0,0,0]
[null,null,null,null,0,null,0,0,0]
[null,null,null,null,0,null,0,0,0]
[null,null,null,null,0,null,0,0,0]
[null,null,null,null,0,null,0,0,0]
[null,null,null,null,{"$f":"IF(C730<D730,ABS(C730-D730),0)","v":0},null,{"$f":"IF(E730<F730,0,E730-F730)","v":0},{"$f":"IFERROR(VLOOKUP(B730,$A$17:$B$20,2,0),0)","v":0},{"$f":"G730*H730","v":0}]
[null,null,null,null,0,null,0,0,0]
[null,null,null,null,0,null,0,0,0]
[null,null,null,null,0,null,0,0,0]
[null,null,null,null,0,null,0,0,0]
[null,null,null,null,0,null,0,0,0]
[null,null,null,null,0,null,0,0,0]
[null,null,null,null,0,null,0,0,0]
[null,null,null,null,0,null,0,0,0]
[null,null,null,null,0,null,0,0,0]
[null,null,null,null,0,null,0,0,0]
[null,null,null,null,0,null,0,0,0]
[null,null,null,null,0,null,0,0,0]
[null,null,null,null,0,null,0,0,0]
[null,null,null,null,0,null,0,0,0]
[null,null,null,null,0,null,0,0,0]
[null,null,null,null,0,null,0,0,0]
[null,null,null,null,0,null,0,0,0]
[null,null,null,null,0,null,0,0,0]
[null,null,null,null,0,null,0,0,0]
[null,null,null,null,0,null,0,0,0]
[null,null,null,null,0,null,0,0,0]
[null,null,null,null,0,null,0,0,0]
[null,null,null,null,0,null,0,0,0]
[null,null,null,null,0,null,0,0,0]
[null,null,null,null,0,null,0,0,0]
[null,null,null,null,0,null,0,0,0]
[null,null,null,null,0,null,0,0,0]
[null,null,null,null,0,null,0,0,0]
[null,null,null,null,0,null,0,0,0]
[null,null,null,null,0,null,0,0,0]
[null,null,null,null,0,null,0,0,0]
[null,null,null,null,0,null,0,0,0]
[null,null,null,null,0,null,0,0,0]
[null,null,null,null,0,null,0,0,0]
[null,null,null,null,0,null,0,0,0]
[null,null,null,null,0,null,0,0,0]
[null,null,null,null,0,null,0,0,0]
[null,null,null,null,0,null,0,0,0]
[null,null,null,null,0,null,0,0,0]
[null,null,null,null,0,null,0,0,0]
[null,null,null,null,0,null,0,0,0]
[null,null,null,null,0,null,0,0,0]
[null,null,null,null,0,null,0,0,0]
[null,null,null,null,0,null,0,0,0]
[null,null,null,null,0,null,0,0,0]
[null,null,null,null,0,null,0,0,0]
[null,null,null,null,0,null,0,0,0]
[null,null,null,null,0,null,0,0,0]
[null,null,null,null,0,null,0,0,0]
[null,null,null,null,0,null,0,0,0]
[null,null,null,null,0,null,0,0,0]
[null,null,null,null,0,null,0,0,0]
[null,null,null,null,0,null,0,0,0]
[null,null,null,null,0,null,0,0,0]
[null,null,null,null,0,null,0,0,0]
[null,null,null,null,0,null,0,0,0]
[null,null,null,null,0,null,0,0,0]
[null,null,null,null,0,null,0,0,0]
[null,null,null,null,0,null,0,0,0]
[null,null,null,null,0,null,0,0,0]
[null,null,null,null,0,null,0,0,0]
[null,null,null,null,0,null,0,0,0]
[null,null,null,null,0,null,0,0,0]
[null,null,null,null,{"$f":"IF(C794<D794,ABS(C794-D794),0)","v":0},null,{"$f":"IF(E794<F794,0,E794-F794)","v":0},{"$f":"IFERROR(VLOOKUP(B794,$A$17:$B$20,2,0),0)","v":0},{"$f":"G794*H794","v":0}]
[null,null,null,null,0,null,0,0,0]
[null,null,null,null,0,null,0,0,0]
[null,null,null,null,0,null,0,0,0]
[null,null,null,null,0,null,0,0,0]
[null,null,null,null,0,null,0,0,0]
[null,null,null,null,0,null,0,0,0]
[null,null,null,null,0,null,0,0,0]
[null,null,null,null,0,null,0,0,0]
[null,null,null,null,0,null,0,0,0]
[null,null,null,null,0,null,0,0,0]
[null,null,null,null,0,null,0,0,0]
[null,null,null,null,0,null,0,0,0]
[null,null,null,null,0,null,0,0,0]
[null,null,null,null,0,null,0,0,0]
[null,null,null,null,0,null,0,0,0]
[null,null,null,null,0,null,0,0,0]
[null,null,null,null,0,null,0,0,0]
[null,null,null,null,0,null,0,0,0]
[null,null,null,null,0,null,0,0,0]
[null,null,null,null,0,null,0,0,0]
[null,null,null,null,0,null,0,0,0]
[null,null,null,null,0,null,0,0,0]
[null,null,null,null,0,null,0,0,0]
[null,null,null,null,0,null,0,0,0]
[null,null,null,null,0,null,0,0,0]
[null,null,null,null,0,null,0,0,0]
[null,null,null,null,0,null,0,0,0]
[null,null,null,null,0,null,0,0,0]
[null,null,null,null,0,null,0,0,0]
[null,null,null,null,0,null,0,0,0]
[null,null,null,null,0,null,0,0,0]
[null,null,null,null,0,null,0,0,0]
[null,null,null,null,0,null,0,0,0]
[null,null,null,null,0,null,0,0,0]
[null,null,null,null,0,null,0,0,0]
[null,null,null,null,0,null,0,0,0]
[null,null,null,null,0,null,0,0,0]
[null,null,null,null,0,null,0,0,0]
[null,null,null,null,0,null,0,0,0]
[null,null,null,null,0,null,0,0,0]
[null,null,null,null,0,null,0,0,0]
[null,null,null,null,0,null,0,0,0]
[null,null,null,null,0,null,0,0,0]
[null,null,null,null,0,null,0,0,0]
[null,null,null,null,0,null,0,0,0]
[null,null,null,null,0,null,0,0,0]
[null,null,null,null,0,null,0,0,0]
[null,null,null,null,0,null,0,0,0]
[null,null,null,null,0,null,0,0,0]
[null,null,null,null,0,null,0,0,0]
[null,null,null,null,0,null,0,0,0]
[null,null,null,null,0,null,0,0,0]
[null,null,null,null,0,null,0,0,0]
[null,null,null,null,0,null,0,0,0]
[null,null,null,null,0,null,0,0,0]
[null,null,null,null,0,null,0,0,0]
[null,null,null,null,0,null,0,0,0]
[null,null,null,null,0,null,0,0,0]
[null,null,null,null,0,null,0,0,0]
[null,null,null,null,0,null,0,0,0]
[null,null,null,null,0,null,0,0,0]
[null,null,null,null,0,null,0,0,0]
[null,null,null,null,0,null,0,0,0]
[null,null,null,null,{"$f":"IF(C858<D858,ABS(C858-D858),0)","v":0},null,{"$f":"IF(E858<F858,0,E858-F858)","v":0},{"$f":"IFERROR(VLOOKUP(B858,$A$17:$B$20,2,0),0)","v":0},{"$f":"G858*H858","v":0}]
[null,null,null,null,0,null,0,0,0]
[null,null,null,null,0,null,0,0,0]
[null,null,null,null,0,null,0,0,0]
[null,null,null,null,0,null,0,0,0]
[null,null,null,null,0,null,0,0,0]
[null,null,null,null,0,null,0,0,0]
[null,null,null,null,0,null,0,0,0]
[null,null,null,null,0,null,0,0,0]
[null,null,null,null,0,null,0,0,0]
[null,null,null,null,0,null,0,0,0]
[null,null,null,null,0,null,0,0,0]
[null,null,null,null,0,null,0,0,0]
[null,null,null,null,0,null,0,0,0]
[null,null,null,null,0,null,0,0,0]
[null,null,null,null,0,null,0,0,0]
[null,null,null,null,0,null,0,0,0]
[null,null,null,null,0,null,0,0,0]
[null,null,null,null,0,null,0,0,0]
[null,null,null,null,0,null,0,0,0]
[null,null,null,null,0,null,0,0,0]
[null,null,null,null,0,null,0,0,0]
[null,null,null,null,0,null,0,0,0]
[null,null,null,null,0,null,0,0,0]
[null,null,null,null,0,null,0,0,0]
[null,null,null,null,0,null,0,0,0]
[null,null,null,null,0,null,0,0,0]
[null,null,null,null,0,null,0,0,0]
[null,null,null,null,0,null,0,0,0]
[null,null,null,null,0,null,0,0,0]
[null,null,null,null,0,null,0,0,0]
[null,null,null,null,0,null,0,0,0]
[null,null,null,null,0,null,0,0,0]
[null,null,null,null,0,null,0,0,0]
[null,null,null,null,0,null,0,0,0]
[null,null,null,null,0,null,0,0,0]
[null,null,null,null,0,null,0,0,0]
[null,null,null,null,0,null,0,0,0]
[null,null,null,null,0,null,0,0,0]
[null,null,null,null,0,null,0,0,0]
[null,null,null,null,0,null,0,0,0]
[null,null,null,null,0,null,0,0,0]
[null,null,null,null,0,null,0,0,0]
[null,null,null,null,0,null,0,0,0]
[null,null,null,null,0,null,0,0,0]
[null,null,null,null,0,null,0,0,0]
[null,null,null,null,0,null,0,0,0]
[null,null,null,null,0,null,0,0,0]
[null,null,null,null,0,null,0,0,0]
[null,null,null,null,0,null,0,0,0]
[null,null,null,null,0,null,0,0,0]
[null,null,null,null,0,null,0,0,0]
[null,null,null,null,0,null,0,0,0]
[null,null,null,null,0,null,0,0,0]
[null,null,null,null,0,null,0,0,0]
[null,null,null,null,0,null,0,0,0]
[null,null,null,null,0,null,0,0,0]
[null,null,null,null,0,null,0,0,0]
[null,null,null,null,0,null,0,0,0]
[null,null,null,null,0,null,0,0,0]
[null,null,null,null,0,null,0,0,0]
[null,null,null,null,0,null,0,0,0]
[null,null,null,null,0,null,0,0,0]
[null,null,null,null,0,null,0,0,0]
[null,null,null,null,{"$f":"IF(C922<D922,ABS(C922-D922),0)","v":0},null,{"$f":"IF(E922<F922,0,E922-F922)","v":0},{"$f":"IFERROR(VLOOKUP(B922,$A$17:$B$20,2,0),0)","v":0},{"$f":"G922*H922","v":0}]
[null,null,null,null,0,null,0,0,0]
[null,null,null,null,0,null,0,0,0]
[null,null,null,null,0,null,0,0,0]
[null,null,null,null,0,null,0,0,0]
[null,null,null,null,0,null,0,0,0]
[null,null,null,null,0,null,0,0,0]
[null,null,null,null,0,null,0,0,0]
[null,null,null,null,0,null,0,0,0]
[null,null,null,null,0,null,0,0,0]
[null,null,null,null,0,null,0,0,0]
[null,null,null,null,0,null,0,0,0]
[null,null,null,null,0,null,0,0,0]
[null,null,null,null,0,null,0,0,0]
[null,null,null,null,0,null,0,0,0]
[null,null,null,null,0,null,0,0,0]
[null,null,null,null,0,null,0,0,0]
[null,null,null,null,0,null,0,0,0]
[null,null,null,null,0,null,0,0,0]
[null,null,null,null,0,null,0,0,0]
[null,null,null,null,0,null,0,0,0]
[null,null,null,null,0,null,0,0,0]
[null,null,null,null,0,null,0,0,0]
[null,null,null,null,0,null,0,0,0]
[null,null,null,null,0,null,0,0,0]
[null,null,null,null,0,null,0,0,0]
[null,null,null,null,0,null,0,0,0]
[null,null,null,null,0,null,0,0,0]
[null,null,null,null,0,null,0,0,0]
[null,null,null,null,0,null,0,0,0]
[null,null,null,null,0,null,0,0,0]
[null,null,null,null,0,null,0,0,0]
[null,null,null,null,0,null,0,0,0]
[null,null,null,null,0,null,0,0,0]
[null,null,null,null,0,null,0,0,0]
[null,null,null,null,0,null,0,0,0]
[null,null,null,null,0,null,0,0,0]
[null,null,null,null,0,null,0,0,0]
[null,null,null,null,0,null,0,0,0]
[null,null,null,null,0,null,0,0,0]
[null,null,null,null,0,null,0,0,0]
[null,null,null,null,0,null,0,0,0]
[null,null,null,null,0,null,0,0,0]
[null,null,null,null,0,null,0,0,0]
[null,null,null,null,0,null,0,0,0]
[null,null,null,null,0,null,0,0,0]
[null,null,null,null,0,null,0,0,0]
[null,null,null,null,0,null,0,0,0]
[null,null,null,null,0,null,0,0,0]
[null,null,null,null,0,null,0,0,0]
[null,null,null,null,0,null,0,0,0]
[null,null,null,null,0,null,0,0,0]
[null,null,null,null,0,null,0,0,0]
[null,null,null,null,0,null,0,0,0]
[null,null,null,null,0,null,0,0,0]
[null,null,null,null,0,null,0,0,0]
[null,null,null,null,0,null,0,0,0]
[null,null,null,null,0,null,0,0,0]
[null,null,null,null,0,null,0,0,0]
[null,null,null,null,0,null,0,0,0]
[null,null,null,null,0,null,0,0,0]
[null,null,null,null,0,null,0,0,0]
[null,null,null,null,0,null,0,0,0]
[null,null,null,null,0,null,0,0,0]
[null,null,null,null,{"$f":"IF(C986<D986,ABS(C986-D986),0)","v":0},null,{"$f":"IF(E986<F986,0,E986-F986)","v":0},{"$f":"IFERROR(VLOOKUP(B986,$A$17:$B$20,2,0),0)","v":0},{"$f":"G986*H986","v":0}]
[null,null,null,null,0,null,0,0,0]
[null,null,null,null,0,null,0,0,0]
[null,null,null,null,0,null,0,0,0]
[null,null,null,null,0,null,0,0,0]
[null,null,null,null,0,null,0,0,0]
[null,null,null,null,0,null,0,0,0]
[null,null,null,null,0,null,0,0,0]
[null,null,null,null,0,null,0,0,0]
[null,null,null,null,0,null,0,0,0]
[null,null,null,null,0,null,0,0,0]
[null,null,null,null,0,null,0,0,0]
[null,null,null,null,0,null,0,0,0]
[null,null,null,null,0,null,0,0,0]
[null,null,null,null,0,null,0,0,0]
[null,null,null,null,0,null,0,0,0]
[null,null,null,null,0,null,0,0,0]
[null,null,null,null,0,null,0,0,0]
[null,null,null,null,0,null,0,0,0]
[null,null,null,null,0,null,0,0,0]
[null,null,null,null,0,null,0,0,0]
[null,null,null,null,0,null,0,0,0]
[null,null,null,null,0,null,0,0,0]
[null,null,null,null,0,null,0,0,0]
[null,null,null,null,0,null,0,0,0]
[null,null,null,null,0,null,0,0,0]
[null,null,null,null,0,null,0,0,0]
[null,null,null,null,0,null,0,0,0]
[null,null,null,null,0,null,0,0,0]
[null,null,null,null,0,null,0,0,0]
[null,null,null,null,0,null,0,0,0]
[null,null,null,null,0,null,0,0,0]
[null,null,null,null,0,null,0,0,0]
[null,null,null,null,0,null,0,0,0]
[null,null,null,null,0,null,0,0,0]
[null,null,null,null,0,null,0,0,0]
[null,null,null,null,0,null,0,0,0]
[null,null,null,null,0,null,0,0,0]
[null,null,null,null,0,null,0,0,0]
[null,null,null,null,0,null,0,0,0]
[null,null,null,null,0,null,0,0,0]
[null,null,null,null,0,null,0,0,0]
[null,null,null,null,0,null,0,0,0]
[null,null,null,null,0,null,0,0,0]
[null,null,null,null,0,null,0,0,0]
[null,null,null,null,0,null,0,0,0]
[null,null,null,null,0,null,0,0,0]
[null,null,null,null,0,null,0,0,0]
[null,null,null,null,0,null,0,0,0]
[null,null,null,null,0,null,0,0,0]
[null,null,null,null,0,null,0,0,0]
[null,null,null,null,0,null,0,0,0]
[null,null,null,null,0,null,0,0,0]
[null,null,null,null,0,null,0,0,0]
[null,null,null,null,0,null,0,0,0]
[null,null,null,null,0,null,0,0,0]
[null,null,null,null,0,null,0,0,0]
[null,null,null,null,0,null,0,0,0]
[null,null,null,null,0,null,0,0,0]
[null,null,null,null,0,null,0,0,0]
[null,null,null,null,0,null,0,0,0]
[null,null,null,null,0,null,0,0,0]
[null,null,null,null,0,null,0,0,0]
[null,null,null,null,0,null,0,0,0]
[null,null,null,null,{"$f":"IF(C1050<D1050,ABS(C1050-D1050),0)","v":0},null,{"$f":"IF(E1050<F1050,0,E1050-F1050)","v":0},{"$f":"IFERROR(VLOOKUP(B1050,$A$17:$B$20,2,0),0)","v":0},{"$f":"G1050*H1050","v":0}]
[null,null,null,null,0,null,0,0,0]
[null,null,null,null,0,null,0,0,0]
[null,null,null,null,0,null,0,0,0]
[null,null,null,null,0,null,0,0,0]
[null,null,null,null,0,null,0,0,0]
[null,null,null,null,0,null,0,0,0]
[null,null,null,null,0,null,0,0,0]
[null,null,null,null,0,null,0,0,0]
[null,null,null,null,0,null,0,0,0]
[null,null,null,null,0,null,0,0,0]
[null,null,null,null,0,null,0,0,0]
[null,null,null,null,0,null,0,0,0]
[null,null,null,null,0,null,0,0,0]
[null,null,null,null,0,null,0,0,0]
[null,null,null,null,0,null,0,0,0]
[null,null,null,null,0,null,0,0,0]
[null,null,null,null,0,null,0,0,0]
[null,null,null,null,0,null,0,0,0]
[null,null,null,null,0,null,0,0,0]
[null,null,null,null,0,null,0,0,0]
[null,null,null,null,0,null,0,0,0]
[null,null,null,null,0,null,0,0,0]
[null,null,null,null,0,null,0,0,0]
[null,null,null,null,0,null,0,0,0]
[null,null,null,null,0,null,0,0,0]
[null,null,null,null,0,null,0,0,0]
[null,null,null,null,0,null,0,0,0]
[null,null,null,null,0,null,0,0,0]
[null,null,null,null,0,null,0,0,0]
[null,null,null,null,0,null,0,0,0]
[null,null,null,null,0,null,0,0,0]
[null,null,null,null,0,null,0,0,0]
[null,null,null,null,0,null,0,0,0]
[null,null,null,null,0,null,0,0,0]
[null,null,null,null,0,null,0,0,0]
[null,null,null,null,0,null,0,0,0]
[null,null,null,null,0,null,0,0,0]
[null,null,null,null,0,null,0,0,0]
[null,null,null,null,0,null,0,0,0]
[null,null,null,null,0,null,0,0,0]
[null,null,null,null,0,null,0,0,0]
[null,null,null,null,0,null,0,0,0]
[null,null,null,null,0,null,0,0,0]
[null,null,null,null,0,null,0,0,0]
[null,null,null,null,0,null,0,0,0]
[null,null,null,null,0,null,0,0,0]
[null,null,null,null,0,null,0,0,0]
[null,null,null,null,0,null,0,0,0]
[null,null,null,null,0,null,0,0,0]
[null,null,null,null,0,null,0,0,0]
[null,null,null,null,0,null,0,0,0]
[null,null,null,null,0,null,0,0,0]
[null,null,null,null,0,null,0,0,0]
[null,null,null,null,0,null,0,0,0]
[null,null,null,null,0,null,0,0,0]
[null,null,null,null,0,null,0,0,0]
[null,null,null,null,0,null,0,0,0]
[null,null,null,null,0,null,0,0,0]
[null,null,null,null,0,null,0,0,0]
[null,null,null,null,0,null,0,0,0]
[null,null,null,null,0,null,0,0,0]
[null,null,null,null,0,null,0,0,0]
[null,null,null,null,0,null,0,0,0]
[null,null,null,null,{"$f":"IF(C1114<D1114,ABS(C1114-D1114),0)","v":0},null,{"$f":"IF(E1114<F1114,0,E1114-F1114)","v":0},{"$f":"IFERROR(VLOOKUP(B1114,$A$17:$B$20,2,0),0)","v":0},{"$f":"G1114*H1114","v":0}]
[null,null,null,null,0,null,0,0,0]
[null,null,null,null,0,null,0,0,0]
[null,null,null,null,0,null,0,0,0]
[null,null,null,null,0,null,0,0,0]
[null,null,null,null,0,null,0,0,0]
[null,null,null,null,0,null,0,0,0]
[null,null,null,null,0,null,0,0,0]
[null,null,null,null,0,null,0,0,0]
[null,null,null,null,0,null,0,0,0]
[null,null,null,null,0,null,0,0,0]
[null,null,null,null,0,null,0,0,0]
[null,null,null,null,0,null,0,0,0]
[null,null,null,null,0,null,0,0,0]
[null,null,null,null,0,null,0,0,0]
[null,null,null,null,0,null,0,0,0]
[null,null,null,null,0,null,0,0,0]
[null,null,null,null,0,null,0,0,0]
[null,null,null,null,0,null,0,0,0]
[null,null,null,null,0,null,0,0,0]
[null,null,null,null,0,null,0,0,0]
[null,null,null,null,0,null,0,0,0]
[null,null,null,null,0,null,0,0,0]
[null,null,null,null,0,null,0,0,0]
[null,null,null,null,0,null,0,0,0]
[null,null,null,null,0,null,0,0,0]
[null,null,null,null,0,null,0,0,0]
[null,null,null,null,0,null,0,0,0]
[null,null,null,null,0,null,0,0,0]
[null,null,null,null,0,null,0,0,0]
[null,null,null,null,0,null,0,0,0]
[null,null,null,null,0,null,0,0,0]
[null,null,null,null,0,null,0,0,0]
[null,null,null,null,0,null,0,0,0]
[null,null,null,null,0,null,0,0,0]
[null,null,null,null,0,null,0,0,0]
[null,null,null,null,0,null,0,0,0]
[null,null,null,null,0,null,0,0,0]
[null,null,null,null,0,null,0,0,0]
[null,null,null,null,0,null,0,0,0]
[null,null,null,null,0,null,0,0,0]
[null,null,null,null,0,null,0,0,0]
[null,null,null,null,0,null,0,0,0]
[null,null,null,null,0,null,0,0,0]
[null,null,null,null,0,null,0,0,0]
[null,null,null,null,0,null,0,0,0]
[null,null,null,null,0,null,0,0,0]
[null,null,null,null,0,null,0,0,0]
[null,null,null,null,0,null,0,0,0]
[null,null,null,null,0,null,0,0,0]
[null,null,null,null,0,null,0,0,0]
[null,null,null,null,0,null,0,0,0]
[null,null,null,null,0,null,0,0,0]
[null,null,null,null,0,null,0,0,0]
[null,null,null,null,0,null,0,0,0]
[null,null,null,null,0,null,0,0,0]
[null,null,null,null,0,null,0,0,0]
[null,null,null,null,0,null,0,0,0]
[null,null,null,null,0,null,0,0,0]
[null,null,null,null,0,null,0,0,0]
[null,null,null,null,0,null,0,0,0]
[null,null,null,null,0,null,0,0,0]
[null,null,null,null,0,null,0,0,0]
[null,null,null,null,0,null,0,0,0]
[null,null,null,null,{"$f":"IF(C1178<D1178,ABS(C1178-D1178),0)","v":0},null,{"$f":"IF(E1178<F1178,0,E1178-F1178)","v":0},{"$f":"IFERROR(VLOOKUP(B1178,$A$17:$B$20,2,0),0)","v":0},{"$f":"G1178*H1178","v":0}]
[null,null,null,null,0,null,0,0,0]
[null,null,null,null,0,null,0,0,0]
[null,null,null,null,0,null,0,0,0]
[null,null,null,null,0,null,0,0,0]
[null,null,null,null,0,null,0,0,0]
[null,null,null,null,0,null,0,0,0]
[null,null,null,null,0,null,0,0,0]
[null,null,null,null,0,null,0,0,0]
[null,null,null,null,0,null,0,0,0]
[null,null,null,null,0,null,0,0,0]
[null,null,null,null,0,null,0,0,0]
[null,null,null,null,0,null,0,0,0]
[null,null,null,null,0,null,0,0,0]
[null,null,null,null,0,null,0,0,0]
[null,null,null,null,0,null,0,0,0]
[null,null,null,null,0,null,0,0,0]
[null,null,null,null,0,null,0,0,0]
[null,null,null,null,0,null,0,0,0]
[null,null,null,null,0,null,0,0,0]
[null,null,null,null,0,null,0,0,0]
[null,null,null,null,0,null,0,0,0]
[null,null,null,null,0,null,0,0,0]
[null,null,null,null,0,null,0,0,0]
[null,null,null,null,0,null,0,0,0]
[null,null,null,null,0,null,0,0,0]
[null,null,null,null,0,null,0,0,0]
[null,null,null,null,0,null,0,0,0]
[null,null,null,null,0,null,0,0,0]
[null,null,null,null,0,null,0,0,0]
[null,null,null,null,0,null,0,0,0]
[null,null,null,null,0,null,0,0,0]
[null,null,null,null,0,null,0,0,0]
[null,null,null,null,0,null,0,0,0]
[null,null,null,null,0,null,0,0,0]
[null,null,null,null,0,null,0,0,0]
[null,null,null,null,0,null,0,0,0]
[null,null,null,null,0,null,0,0,0]
[null,null,null,null,0,null,0,0,0]
[null,null,null,null,0,null,0,0,0]
[null,null,null,null,0,null,0,0,0]
[null,null,null,null,0,null,0,0,0]
[null,null,null,null,0,null,0,0,0]
[null,null,null,null,0,null,0,0,0]
[null,null,null,null,0,null,0,0,0]
[null,null,null,null,0,null,0,0,0]
[null,null,null,null,0,null,0,0,0]
[null,null,null,null,0,null,0,0,0]
[null,null,null,null,0,null,0,0,0]
[null,null,null,null,0,null,0,0,0]
[null,null,null,null,0,null,0,0,0]
[null,null,null,null,0,null,0,0,0]
[null,null,null,null,0,null,0,0,0]
[null,null,null,null,0,null,0,0,0]
[null,null,null,null,0,null,0,0,0]
[null,null,null,null,0,null,0,0,0]
[null,null,null,null,0,null,0,0,0]
[null,null,null,null,0,null,0,0,0]
[null,null,null,null,0,null,0,0,0]
[null,null,null,null,0,null,0,0,0]
[null,null,null,null,0,null,0,0,0]
[null,null,null,null,0,null,0,0,0]
[null,null,null,null,0,null,0,0,0]
[null,null,null,null,0,null,0,0,0]
[null,null,null,null,{"$f":"IF(C1242<D1242,ABS(C1242-D1242),0)","v":0},null,{"$f":"IF(E1242<F1242,0,E1242-F1242)","v":0},{"$f":"IFERROR(VLOOKUP(B1242,$A$17:$B$20,2,0),0)","v":0},{"$f":"G1242*H1242","v":0}]
[null,null,null,null,0,null,0,0,0]
[null,null,null,null,0,null,0,0,0]
[null,null,null,null,0,null,0,0,0]
[null,null,null,null,0,null,0,0,0]
[null,null,null,null,0,null,0,0,0]
[null,null,null,null,0,null,0,0,0]
[null,null,null,null,0,null,0,0,0]
[null,null,null,null,0,null,0,0,0]
[null,null,null,null,0,null,0,0,0]
[null,null,null,null,0,null,0,0,0]
[null,null,null,null,0,null,0,0,0]
[null,null,null,null,0,null,0,0,0]
[null,null,null,null,0,null,0,0,0]
[null,null,null,null,0,null,0,0,0]
[null,null,null,null,0,null,0,0,0]
[null,null,null,null,0,null,0,0,0]
[null,null,null,null,0,null,0,0,0]
[null,null,null,null,0,null,0,0,0]
[null,null,null,null,0,null,0,0,0]
[null,null,null,null,0,null,0,0,0]
[null,null,null,null,0,null,0,0,0]
[null,null,null,null,0,null,0,0,0]
[null,null,null,null,0,null,0,0,0]
[null,null,null,null,0,null,0,0,0]
[null,null,null,null,0,null,0,0,0]
[null,null,null,null,0,null,0,0,0]
[null,null,null,null,0,null,0,0,0]
[null,null,null,null,0,null,0,0,0]
[null,null,null,null,0,null,0,0,0]
[null,null,null,null,0,null,0,0,0]
[null,null,null,null,0,null,0,0,0]
[null,null,null,null,0,null,0,0,0]
[null,null,null,null,0,null,0,0,0]
[null,null,null,null,0,null,0,0,0]
[null,null,null,null,0,null,0,0,0]
[null,null,null,null,0,null,0,0,0]
[null,null,null,null,0,null,0,0,0]
[null,null,null,null,0,null,0,0,0]
[null,null,null,null,0,null,0,0,0]
[null,null,null,null,0,null,0,0,0]
[null,null,null,null,0,null,0,0,0]
[null,null,null,null,0,null,0,0,0]
[null,null,null,null,0,null,0,0,0]
[null,null,null,null,0,null,0,0,0]
[null,null,null,null,0,null,0,0,0]
[null,null,null,null,0,null,0,0,0]
[null,null,null,null,0,null,0,0,0]
[null,null,null,null,0,null,0,0,0]
[null,null,null,null,0,null,0,0,0]
[null,null,null,null,0,null,0,0,0]
[null,null,null,null,0,null,0,0,0]
[null,null,null,null,0,null,0,0,0]
[null,null,null,null,0,null,0,0,0]
[null,null,null,null,0,null,0,0,0]
[null,null,null,null,0,null,0,0,0]
[null,null,null,null,0,null,0,0,0]
[null,null,null,null,0,null,0,0,0]
[null,null,null,null,0,null,0,0,0]
[null,null,null,null,0,null,0,0,0]
[null,null,null,null,0,null,0,0,0]
[null,null,null,null,0,null,0,0,0]
[null,null,null,null,0,null,0,0,0]
[null,null,null,null,0,null,0,0,0]
[null,null,null,null,{"$f":"IF(C1306<D1306,ABS(C1306-D1306),0)","v":0},null,{"$f":"IF(E1306<F1306,0,E1306-F1306)","v":0},{"$f":"IFERROR(VLOOKUP(B1306,$A$17:$B$20,2,0),0)","v":0},{"$f":"G1306*H1306","v":0}]
[null,null,null,null,0,null,0,0,0]
[null,null,null,null,0,null,0,0,0]
[null,null,null,null,0,null,0,0,0]
[null,null,null,null,0,null,0,0,0]
[null,null,null,null,0,null,0,0,0]
[null,null,null,null,0,null,0,0,0]
[null,null,null,null,0,null,0,0,0]
[null,null,null,null,0,null,0,0,0]
[null,null,null,null,0,null,0,0,0]
[null,null,null,null,0,null,0,0,0]
[null,null,null,null,0,null,0,0,0]
[null,null,null,null,0,null,0,0,0]
[null,null,null,null,0,null,0,0,0]
[null,null,null,null,0,null,0,0,0]
[null,null,null,null,0,null,0,0,0]
[null,null,null,null,0,null,0,0,0]
[null,null,null,null,0,null,0,0,0]
[null,null,null,null,0,null,0,0,0]
[null,null,null,null,0,null,0,0,0]
[null,null,null,null,0,null,0,0,0]
[null,null,null,null,0,null,0,0,0]
[null,null,null,null,0,null,0,0,0]
[null,null,null,null,0,null,0,0,0]
[null,null,null,null,0,null,0,0,0]
[null,null,null,null,0,null,0,0,0]
[null,null,null,null,0,null,0,0,0]
[null,null,null,null,0,null,0,0,0]
[null,null,null,null,0,null,0,0,0]
[null,null,null,null,0,null,0,0,0]
[null,null,null,null,0,null,0,0,0]
[null,null,null,null,0,null,0,0,0]
[null,null,null,null,0,null,0,0,0]
[null,null,null,null,0,null,0,0,0]
[null,null,null,null,0,null,0,0,0]
[null,null,null,null,0,null,0,0,0]
[null,null,null,null,0,null,0,0,0]
[null,null,null,null,0,null,0,0,0]
[null,null,null,null,0,null,0,0,0]
[null,null,null,null,0,null,0,0,0]
[null,null,null,null,0,null,0,0,0]
[null,null,null,null,0,null,0,0,0]
[null,null,null,null,0,null,0,0,0]
[null,null,null,null,0,null,0,0,0]
[null,null,null,null,0,null,0,0,0]
[null,null,null,null,0,null,0,0,0]
[null,null,null,null,0,null,0,0,0]
[null,null,null,null,0,null,0,0,0]
[null,null,null,null,0,null,0,0,0]
[null,null,null,null,0,null,0,0,0]
[null,null,null,null,0,null,0,0,0]
[null,null,null,null,0,null,0,0,0]
[null,null,null,null,0,null,0,0,0]
[null,null,null,null,0,null,0,0,0]
[null,null,null,null,0,null,0,0,0]
[null,null,null,null,0,null,0,0,0]
[null,null,null,null,0,null,0,0,0]
[null,null,null,null,0,null,0,0,0]
[null,null,null,null,0,null,0,0,0]
[null,null,null,null,0,null,0,0,0]
[null,null,null,null,0,null,0,0,0]
[null,null,null,null,0,null,0,0,0]
[null,null,null,null,0,null,0,0,0]
[null,null,null,null,0,null,0,0,0]
[null,null,null,null,{"$f":"IF(C1370<D1370,ABS(C1370-D1370),0)","v":0},null,{"$f":"IF(E1370<F1370,0,E1370-F1370)","v":0},{"$f":"IFERROR(VLOOKUP(B1370,$A$17:$B$20,2,0),0)","v":0},{"$f":"G1370*H1370","v":0}]
[null,null,null,null,0,null,0,0,0]
[null,null,null,null,0,null,0,0,0]
[null,null,null,null,0,null,0,0,0]
[null,null,null,null,0,null,0,0,0]
[null,null,null,null,0,null,0,0,0]
[null,null,null,null,0,null,0,0,0]
[null,null,null,null,0,null,0,0,0]
[null,null,null,null,0,null,0,0,0]
[null,null,null,null,0,null,0,0,0]
[null,null,null,null,0,null,0,0,0]
[null,null,null,null,0,null,0,0,0]
[null,null,null,null,0,null,0,0,0]
[null,null,null,null,0,null,0,0,0]
[null,null,null,null,0,null,0,0,0]
[null,null,null,null,0,null,0,0,0]
[null,null,null,null,0,null,0,0,0]
[null,null,null,null,0,null,0,0,0]
[null,null,null,null,0,null,0,0,0]
[null,null,null,null,0,null,0,0,0]
[null,null,null,null,0,null,0,0,0]
[null,null,null,null,0,null,0,0,0]
[null,null,null,null,0,null,0,0,0]
[null,null,null,null,0,null,0,0,0]
[null,null,null,null,0,null,0,0,0]
[null,null,null,null,0,null,0,0,0]
[null,null,null,null,0,null,0,0,0]
[null,null,null,null,0,null,0,0,0]
[null,null,null,null,0,null,0,0,0]
[null,null,null,null,0,null,0,0,0]
[null,null,null,null,0,null,0,0,0]
[null,null,null,null,0,null,0,0,0]
[null,null,null,null,0,null,0,0,0]
[null,null,null,null,0,null,0,0,0]
[null,null,null,null,0,null,0,0,0]
[null,null,null,null,0,null,0,0,0]
[null,null,null,null,0,null,0,0,0]
[null,null,null,null,0,null,0,0,0]
[null,null,null,null,0,null,0,0,0]
[null,null,null,null,0,null,0,0,0]
[null,null,null,null,0,null,0,0,0]
[null,null,null,null,0,null,0,0,0]
[null,null,null,null,0,null,0,0,0]
[null,null,null,null,0,null,0,0,0]
[null,null,null,null,0,null,0,0,0]
[null,null,null,null,0,null,0,0,0]
[null,null,null,null,0,null,0,0,0]
[null,null,null,null,0,null,0,0,0]
[null,null,null,null,0,null,0,0,0]
[null,null,null,null,0,null,0,0,0]
[null,null,null,null,0,null,0,0,0]
[null,null,null,null,0,null,0,0,0]
[null,null,null,null,0,null,0,0,0]
[null,null,null,null,0,null,0,0,0]
[null,null,null,null,0,null,0,0,0]
[null,null,null,null,0,null,0,0,0]
[null,null,null,null,0,null,0,0,0]
[null,null,null,null,0,null,0,0,0]
[null,null,null,null,0,null,0,0,0]
[null,null,null,null,0,null,0,0,0]
[null,null,null,null,0,null,0,0,0]
[null,null,null,null,0,null,0,0,0]
[null,null,null,null,0,null,0,0,0]
[null,null,null,null,0,null,0,0,0]
[null,null,null,null,{"$f":"IF(C1434<D1434,ABS(C1434-D1434),0)","v":0},null,{"$f":"IF(E1434<F1434,0,E1434-F1434)","v":0},{"$f":"IFERROR(VLOOKUP(B1434,$A$17:$B$20,2,0),0)","v":0},{"$f":"G1434*H1434","v":0}]
[null,null,null,null,0,null,0,0,0]
[null,null,null,null,0,null,0,0,0]
[null,null,null,null,0,null,0,0,0]
[null,null,null,null,0,null,0,0,0]
[null,null,null,null,0,null,0,0,0]
[null,null,null,null,0,null,0,0,0]
[null,null,null,null,0,null,0,0,0]
[null,null,null,null,0,null,0,0,0]
[null,null,null,null,0,null,0,0,0]
[null,null,null,null,0,null,0,0,0]
[null,null,null,null,0,null,0,0,0]
[null,null,null,null,0,null,0,0,0]
[null,null,null,null,0,null,0,0,0]
[null,null,null,null,0,null,0,0,0]
[null,null,null,null,0,null,0,0,0]
[null,null,null,null,0,null,0,0,0]
[null,null,null,null,0,null,0,0,0]
[null,null,null,null,0,null,0,0,0]
[null,null,null,null,0,null,0,0,0]
[null,null,null,null,0,null,0,0,0]
[null,null,null,null,0,null,0,0,0]
[null,null,null,null,0,null,0,0,0]
[null,null,null,null,0,null,0,0,0]
[null,null,null,null,0,null,0,0,0]
[null,null,null,null,0,null,0,0,0]
[null,null,null,null,0,null,0,0,0]
[null,null,null,null,0,null,0,0,0]
[null,null,null,null,0,null,0,0,0]
[null,null,null,null,0,null,0,0,0]
[null,null,null,null,0,null,0,0,0]
[null,null,null,null,0,null,0,0,0]
[null,null,null,null,0,null,0,0,0]
[null,null,null,null,0,null,0,0,0]
[null,null,null,null,0,null,0,0,0]
[null,null,null,null,0,null,0,0,0]
[null,null,null,null,0,null,0,0,0]
[null,null,null,null,0,null,0,0,0]
[null,null,null,null,0,null,0,0,0]
[null,null,null,null,0,null,0,0,0]
[null,null,null,null,0,null,0,0,0]
[null,null,null,null,0,null,0,0,0]
[null,null,null,null,0,null,0,0,0]
[null,null,null,null,0,null,0,0,0]
[null,null,null,null,0,null,0,0,0]
[null,null,null,null,0,null,0,0,0]
[null,null,null,null,0,null,0,0,0]
[null,null,null,null,0,null,0,0,0]
[null,null,null,null,0,null,0,0,0]
[null,null,null,null,0,null,0,0,0]
[null,null,null,null,0,null,0,0,0]
[null,null,null,null,0,null,0,0,0]
[null,null,null,null,0,null,0,0,0]
[null,null,null,null,0,null,0,0,0]
[null,null,null,null,0,null,0,0,0]
[null,null,null,null,0,null,0,0,0]
[null,null,null,null,0,null,0,0,0]
[null,null,null,null,0,null,0,0,0]
[null,null,null,null,0,null,0,0,0]
[null,null,null,null,0,null,0,0,0]
[null,null,null,null,0,null,0,0,0]
[null,null,null,null,0,null,0,0,0]
[null,null,null,null,0,null,0,0,0]
[null,null,null,null,0,null,0,0,0]
[null,null,null,null,{"$f":"IF(C1498<D1498,ABS(C1498-D1498),0)","v":0},null,{"$f":"IF(E1498<F1498,0,E1498-F1498)","v":0},{"$f":"IFERROR(VLOOKUP(B1498,$A$17:$B$20,2,0),0)","v":0},{"$f":"G1498*H1498","v":0}]
[null,null,null,null,0,null,0,0,0]
[null,null,null,null,0,null,0,0,0]
[null,null,null,null,0,null,0,0,0]
[null,null,null,null,0,null,0,0,0]
[null,null,null,null,0,null,0,0,0]
[null,null,null,null,0,null,0,0,0]
[null,null,null,null,0,null,0,0,0]
[null,null,null,null,0,null,0,0,0]
[null,null,null,null,0,null,0,0,0]
[null,null,null,null,0,null,0,0,0]
[null,null,null,null,0,null,0,0,0]
[null,null,null,null,0,null,0,0,0]
[null,null,null,null,0,null,0,0,0]
[null,null,null,null,0,null,0,0,0]
[null,null,null,null,0,null,0,0,0]
[null,null,null,null,0,null,0,0,0]
[null,null,null,null,0,null,0,0,0]
[null,null,null,null,0,null,0,0,0]
[null,null,null,null,0,null,0,0,0]
[null,null,null,null,0,null,0,0,0]
[null,null,null,null,0,null,0,0,0]
[null,null,null,null,0,null,0,0,0]
[null,null,null,null,0,null,0,0,0]
[null,null,null,null,0,null,0,0,0]
[null,null,null,null,0,null,0,0,0]
[null,null,null,null,0,null,0,0,0]
[null,null,null,null,0,null,0,0,0]
[null,null,null,null,0,null,0,0,0]
[null,null,null,null,0,null,0,0,0]
[null,null,null,null,0,null,0,0,0]
[null,null,null,null,0,null,0,0,0]
[null,null,null,null,0,null,0,0,0]
[null,null,null,null,0,null,0,0,0]
[null,null,null,null,0,null,0,0,0]
[null,null,null,null,0,null,0,0,0]
[null,null,null,null,0,null,0,0,0]
[null,null,null,null,0,null,0,0,0]
[null,null,null,null,0,null,0,0,0]
[null,null,null,null,0,null,0,0,0]
[null,null,null,null,0,null,0,0,0]
[null,null,null,null,0,null,0,0,0]
[null,null,null,null,0,null,0,0,0]
[null,null,null,null,0,null,0,0,0]
[null,null,null,null,0,null,0,0,0]
[null,null,null,null,0,null,0,0,0]
[null,null,null,null,0,null,0,0,0]
[null,null,null,null,0,null,0,0,0]
[null,null,null,null,0,null,0,0,0]
[null,null,null,null,0,null,0,0,0]
[null,null,null,null,0,null,0,0,0]
[null,null,null,null,0,null,0,0,0]
[null,null,null,null,0,null,0,0,0]
[null,null,null,null,0,null,0,0,0]
[null,null,null,null,0,null,0,0,0]
[null,null,null,null,0,null,0,0,0]
[null,null,null,null,0,null,0,0,0]
[null,null,null,null,0,null,0,0,0]
[null,null,null,null,0,null,0,0,0]
[null,null,null,null,0,null,0,0,0]
[null,null,null,null,0,null,0,0,0]
[null,null,null,null,0,null,0,0,0]
[null,null,null,null,0,null,0,0,0]
[null,null,null,null,0,null,0,0,0]
[null,null,null,null,{"$f":"IF(C1562<D1562,ABS(C1562-D1562),0)","v":0},null,{"$f":"IF(E1562<F1562,0,E1562-F1562)","v":0},{"$f":"IFERROR(VLOOKUP(B1562,$A$17:$B$20,2,0),0)","v":0},{"$f":"G1562*H1562","v":0}]
[null,null,null,null,0,null,0,0,0]
[null,null,null,null,0,null,0,0,0]
[null,null,null,null,0,null,0,0,0]
[null,null,null,null,0,null,0,0,0]
[null,null,null,null,0,null,0,0,0]
[null,null,null,null,0,null,0,0,0]
[null,null,null,null,0,null,0,0,0]
[null,null,null,null,0,null,0,0,0]
[null,null,null,null,0,null,0,0,0]
[null,null,null,null,0,null,0,0,0]
[null,null,null,null,0,null,0,0,0]
[null,null,null,null,0,null,0,0,0]
[null,null,null,null,0,null,0,0,0]
[null,null,null,null,0,null,0,0,0]
[null,null,null,null,0,null,0,0,0]
[null,null,null,null,0,null,0,0,0]
[null,null,null,null,0,null,0,0,0]
[null,null,null,null,0,null,0,0,0]
[null,null,null,null,0,null,0,0,0]
[null,null,null,null,0,null,0,0,0]
[null,null,null,null,0,null,0,0,0]
[null,null,null,null,0,null,0,0,0]
[null,null,null,null,0,null,0,0,0]
[null,null,null,null,0,null,0,0,0]
[null,null,null,null,0,null,0,0,0]
[null,null,null,null,0,null,0,0,0]
[null,null,null,null,0,null,0,0,0]
[null,null,null,null,0,null,0,0,0]
[null,null,null,null,0,null,0,0,0]
[null,null,null,null,0,null,0,0,0]
[null,null,null,null,0,null,0,0,0]
[null,null,null,null,0,null,0,0,0]
[null,null,null,null,0,null,0,0,0]
[null,null,null,null,0,null,0,0,0]
[null,null,null,null,0,null,0,0,0]
[null,null,null,null,0,null,0,0,0]
[null,null,null,null,0,null,0,0,0]
[null,null,null,null,0,null,0,0,0]
[null,null,null,null,0,null,0,0,0]
[null,null,null,null,0,null,0,0,0]
[null,null,null,null,0,null,0,0,0]
[null,null,null,null,0,null,0,0,0]
[null,null,null,null,0,null,0,0,0]
[null,null,null,null,0,null,0,0,0]
[null,null,null,null,0,null,0,0,0]
[null,null,null,null,0,null,0,0,0]
[null,null,null,null,0,null,0,0,0]
[null,null,null,null,0,null,0,0,0]
[null,null,null,null,0,null,0,0,0]
[null,null,null,null,0,null,0,0,0]
[null,null,null,null,0,null,0,0,0]
[null,null,null,null,0,null,0,0,0]
[null,null,null,null,0,null,0,0,0]
[null,null,null,null,0,null,0,0,0]
[null,null,null,null,0,null,0,0,0]
[null,null,null,null,0,null,0,0,0]
[null,null,null,null,0,null,0,0,0]
[null,null,null,null,0,null,0,0,0]
[null,null,null,null,0,null,0,0,0]
[null,null,null,null,0,null,0,0,0]
[null,null,null,null,0,null,0,0,0]
[null,null,null,null,0,null,0,0,0]
[null,null,null,null,0,null,0,0,0]
[null,null,null,null,{"$f":"IF(C1626<D1626,ABS(C1626-D1626),0)","v":0},null,{"$f":"IF(E1626<F1626,0,E1626-F1626)","v":0},{"$f":"IFERROR(VLOOKUP(B1626,$A$17:$B$20,2,0),0)","v":0},{"$f":"G1626*H1626","v":0}]
[null,null,null,null,0,null,0,0,0]
[null,null,null,null,0,null,0,0,0]
[null,null,null,null,0,null,0,0,0]
[null,null,null,null,0,null,0,0,0]
[null,null,null,null,0,null,0,0,0]
[null,null,null,null,0,null,0,0,0]
[null,null,null,null,0,null,0,0,0]
[null,null,null,null,0,null,0,0,0]
[null,null,null,null,0,null,0,0,0]
[null,null,null,null,0,null,0,0,0]
[null,null,null,null,0,null,0,0,0]
[null,null,null,null,0,null,0,0,0]
[null,null,null,null,0,null,0,0,0]
[null,null,null,null,0,null,0,0,0]
[null,null,null,null,0,null,0,0,0]
[null,null,null,null,0,null,0,0,0]
[null,null,null,null,0,null,0,0,0]
[null,null,null,null,0,null,0,0,0]
[null,null,null,null,0,null,0,0,0]
[null,null,null,null,0,null,0,0,0]
[null,null,null,null,0,null,0,0,0]
[null,null,null,null,0,null,0,0,0]
[null,null,null,null,0,null,0,0,0]
[null,null,null,null,0,null,0,0,0]
[null,null,null,null,0,null,0,0,0]
[null,null,null,null,0,null,0,0,0]
[null,null,null,null,0,null,0,0,0]
[null,null,null,null,0,null,0,0,0]
[null,null,null,null,0,null,0,0,0]
[null,null,null,null,0,null,0,0,0]
[null,null,null,null,0,null,0,0,0]
[null,null,null,null,0,null,0,0,0]
[null,null,null,null,0,null,0,0,0]
[null,null,null,null,0,null,0,0,0]
[null,null,null,null,0,null,0,0,0]
[null,null,null,null,0,null,0,0,0]
[null,null,null,null,0,null,0,0,0]
[null,null,null,null,0,null,0,0,0]
[null,null,null,null,0,null,0,0,0]
[null,null,null,null,0,null,0,0,0]
[null,null,null,null,0,null,0,0,0]
[null,null,null,null,0,null,0,0,0]
[null,null,null,null,0,null,0,0,0]
[null,null,null,null,0,null,0,0,0]
[null,null,null,null,0,null,0,0,0]
[null,null,null,null,0,null,0,0,0]
[null,null,null,null,0,null,0,0,0]
[null,null,null,null,0,null,0,0,0]
[null,null,null,null,0,null,0,0,0]
[null,null,null,null,0,null,0,0,0]
[null,null,null,null,0,null,0,0,0]
[null,null,null,null,0,null,0,0,0]
[null,null,null,null,0,null,0,0,0]
[null,null,null,null,0,null,0,0,0]
[null,null,null,null,0,null,0,0,0]
[null,null,null,null,0,null,0,0,0]
[null,null,null,null,0,null,0,0,0]
[null,null,null,null,0,null,0,0,0]
[null,null,null,null,0,null,0,0,0]
[null,null,null,null,0,null,0,0,0]
[null,null,null,null,0,null,0,0,0]
[null,null,null,null,0,null,0,0,0]
[null,null,null,null,0,null,0,0,0]
[null,null,null,null,{"$f":"IF(C1690<D1690,ABS(C1690-D1690),0)","v":0},null,{"$f":"IF(E1690<F1690,0,E1690-F1690)","v":0},{"$f":"IFERROR(VLOOKUP(B1690,$A$17:$B$20,2,0),0)","v":0},{"$f":"G1690*H1690","v":0}]
[null,null,null,null,0,null,0,0,0]
[null,null,null,null,0,null,0,0,0]
[null,null,null,null,0,null,0,0,0]
[null,null,null,null,0,null,0,0,0]
[null,null,null,null,0,null,0,0,0]
[null,null,null,null,0,null,0,0,0]
[null,null,null,null,0,null,0,0,0]
[null,null,null,null,0,null,0,0,0]
[null,null,null,null,0,null,0,0,0]
[null,null,null,null,0,null,0,0,0]
[null,null,null,null,0,null,0,0,0]
[null,null,null,null,0,null,0,0,0]
[null,null,null,null,0,null,0,0,0]
[null,null,null,null,0,null,0,0,0]
[null,null,null,null,0,null,0,0,0]
[null,null,null,null,0,null,0,0,0]
[null,null,null,null,0,null,0,0,0]
[null,null,null,null,0,null,0,0,0]
[null,null,null,null,0,null,0,0,0]
[null,null,null,null,0,null,0,0,0]
[null,null,null,null,0,null,0,0,0]
[null,null,null,null,0,null,0,0,0]
[null,null,null,null,0,null,0,0,0]
[null,null,null,null,0,null,0,0,0]
[null,null,null,null,0,null,0,0,0]
[null,null,null,null,0,null,0,0,0]
[null,null,null,null,0,null,0,0,0]
[null,null,null,null,0,null,0,0,0]
[null,null,null,null,0,null,0,0,0]
[null,null,null,null,0,null,0,0,0]
[null,null,null,null,0,null,0,0,0]
[null,null,null,null,0,null,0,0,0]
[null,null,null,null,0,null,0,0,0]
[null,null,null,null,0,null,0,0,0]
[null,null,null,null,0,null,0,0,0]
[null,null,null,null,0,null,0,0,0]
[null,null,null,null,0,null,0,0,0]
[null,null,null,null,0,null,0,0,0]
[null,null,null,null,0,null,0,0,0]
[null,null,null,null,0,null,0,0,0]
[null,null,null,null,0,null,0,0,0]
[null,null,null,null,0,null,0,0,0]
[null,null,null,null,0,null,0,0,0]
[null,null,null,null,0,null,0,0,0]
[null,null,null,null,0,null,0,0,0]
[null,null,null,null,0,null,0,0,0]
[null,null,null,null,0,null,0,0,0]
[null,null,null,null,0,null,0,0,0]
[null,null,null,null,0,null,0,0,0]
[null,null,null,null,0,null,0,0,0]
[null,null,null,null,0,null,0,0,0]
[null,null,null,null,0,null,0,0,0]
[null,null,null,null,0,null,0,0,0]
[null,null,null,null,0,null,0,0,0]
[null,null,null,null,0,null,0,0,0]
[null,null,null,null,0,null,0,0,0]
[null,null,null,null,0,null,0,0,0]
[null,null,null,null,0,null,0,0,0]
[null,null,null,null,0,null,0,0,0]
[null,null,null,null,0,null,0,0,0]
[null,null,null,null,0,null,0,0,0]
[null,null,null,null,0,null,0,0,0]
[null,null,null,null,0,null,0,0,0]
[null,null,null,null,{"$f":"IF(C1754<D1754,ABS(C1754-D1754),0)","v":0},null,{"$f":"IF(E1754<F1754,0,E1754-F1754)","v":0},{"$f":"IFERROR(VLOOKUP(B1754,$A$17:$B$20,2,0),0)","v":0},{"$f":"G1754*H1754","v":0}]
[null,null,null,null,0,null,0,0,0]
[null,null,null,null,0,null,0,0,0]
[null,null,null,null,0,null,0,0,0]
[null,null,null,null,0,null,0,0,0]
[null,null,null,null,0,null,0,0,0]
[null,null,null,null,0,null,0,0,0]
[null,null,null,null,0,null,0,0,0]
[null,null,null,null,0,null,0,0,0]
[null,null,null,null,0,null,0,0,0]
[null,null,null,null,0,null,0,0,0]
[null,null,null,null,0,null,0,0,0]
[null,null,null,null,0,null,0,0,0]
[null,null,null,null,0,null,0,0,0]
[null,null,null,null,0,null,0,0,0]
[null,null,null,null,0,null,0,0,0]
[null,null,null,null,0,null,0,0,0]
[null,null,null,null,0,null,0,0,0]
[null,null,null,null,0,null,0,0,0]
[null,null,null,null,0,null,0,0,0]
[null,null,null,null,0,null,0,0,0]
[null,null,null,null,0,null,0,0,0]
[null,null,null,null,0,null,0,0,0]
[null,null,null,null,0,null,0,0,0]
[null,null,null,null,0,null,0,0,0]
[null,null,null,null,0,null,0,0,0]
[null,null,null,null,0,null,0,0,0]
[null,null,null,null,0,null,0,0,0]
[null,null,null,null,0,null,0,0,0]
[null,null,null,null,0,null,0,0,0]
[null,null,null,null,0,null,0,0,0]
[null,null,null,null,0,null,0,0,0]
[null,null,null,null,0,null,0,0,0]
[null,null,null,null,0,null,0,0,0]
[null,null,null,null,0,null,0,0,0]
[null,null,null,null,0,null,0,0,0]
[null,null,null,null,0,null,0,0,0]
[null,null,null,null,0,null,0,0,0]
[null,null,null,null,0,null,0,0,0]
[null,null,null,null,0,null,0,0,0]
[null,null,null,null,0,null,0,0,0]
[null,null,null,null,0,null,0,0,0]
[null,null,null,null,0,null,0,0,0]
[null,null,null,null,0,null,0,0,0]
[null,null,null,null,0,null,0,0,0]
[null,null,null,null,0,null,0,0,0]
[null,null,null,null,0,null,0,0,0]
[null,null,null,null,0,null,0,0,0]
[null,null,null,null,0,null,0,0,0]
[null,null,null,null,0,null,0,0,0]
[null,null,null,null,0,null,0,0,0]
[null,null,null,null,0,null,0,0,0]
[null,null,null,null,0,null,0,0,0]
[null,null,null,null,0,null,0,0,0]
[null,null,null,null,0,null,0,0,0]
[null,null,null,null,0,null,0,0,0]
[null,null,null,null,0,null,0,0,0]
[null,null,null,null,0,null,0,0,0]
[null,null,null,null,0,null,0,0,0]
[null,null,null,null,0,null,0,0,0]
[null,null,null,null,0,null,0,0,0]
[null,null,null,null,0,null,0,0,0]
[null,null,null,null,0,null,0,0,0]
[null,null,null,null,0,null,0,0,0]
[null,null,null,null,{"$f":"IF(C1818<D1818,ABS(C1818-D1818),0)","v":0},null,{"$f":"IF(E1818<F1818,0,E1818-F1818)","v":0},{"$f":"IFERROR(VLOOKUP(B1818,$A$17:$B$20,2,0),0)","v":0},{"$f":"G1818*H1818","v":0}]
[null,null,null,null,0,null,0,0,0]
[null,null,null,null,0,null,0,0,0]
[null,null,null,null,0,null,0,0,0]
[null,null,null,null,0,null,0,0,0]
[null,null,null,null,0,null,0,0,0]
[null,null,null,null,0,null,0,0,0]
[null,null,null,null,0,null,0,0,0]
[null,null,null,null,0,null,0,0,0]
[null,null,null,null,0,null,0,0,0]
[null,null,null,null,0,null,0,0,0]
[null,null,null,null,0,null,0,0,0]
[null,null,null,null,0,null,0,0,0]
[null,null,null,null,0,null,0,0,0]
[null,null,null,null,0,null,0,0,0]
[null,null,null,null,0,null,0,0,0]
[null,null,null,null,0,null,0,0,0]
[null,null,null,null,0,null,0,0,0]
[null,null,null,null,0,null,0,0,0]
[null,null,null,null,0,null,0,0,0]
[null,null,null,null,0,null,0,0,0]
[null,null,null,null,0,null,0,0,0]
[null,null,null,null,0,null,0,0,0]
[null,null,null,null,0,null,0,0,0]
[null,null,null,null,0,null,0,0,0]
[null,null,null,null,0,null,0,0,0]
[null,null,null,null,0,null,0,0,0]
[null,null,null,null,0,null,0,0,0]
[null,null,null,null,0,null,0,0,0]
[null,null,null,null,0,null,0,0,0]
[null,null,null,null,0,null,0,0,0]
[null,null,null,null,0,null,0,0,0]
[null,null,null,null,0,null,0,0,0]
[null,null,null,null,0,null,0,0,0]
[null,null,null,null,0,null,0,0,0]
[null,null,null,null,0,null,0,0,0]
[null,null,null,null,0,null,0,0,0]
[null,null,null,null,0,null,0,0,0]
[null,null,null,null,0,null,0,0,0]
[null,null,null,null,0,null,0,0,0]
[null,null,null,null,0,null,0,0,0]
[null,null,null,null,0,null,0,0,0]
[null,null,null,null,0,null,0,0,0]
[null,null,null,null,0,null,0,0,0]
[null,null,null,null,0,null,0,0,0]
[null,null,null,null,0,null,0,0,0]
[null,null,null,null,0,null,0,0,0]
[null,null,null,null,0,null,0,0,0]
[null,null,null,null,0,null,0,0,0]
[null,null,null,null,0,null,0,0,0]
[null,null,null,null,0,null,0,0,0]
[null,null,null,null,0,null,0,0,0]
[null,null,null,null,0,null,0,0,0]
[null,null,null,null,0,null,0,0,0]
[null,null,null,null,0,null,0,0,0]
[null,null,null,null,0,null,0,0,0]
[null,null,null,null,0,null,0,0,0]
[null,null,null,null,0,null,0,0,0]
[null,null,null,null,0,null,0,0,0]
[null,null,null,null,0,null,0,0,0]
[null,null,null,null,0,null,0,0,0]
[null,null,null,null,0,null,0,0,0]
[null,null,null,null,0,null,0,0,0]
[null,null,null,null,0,null,0,0,0]
[null,null,null,null,{"$f":"IF(C1882<D1882,ABS(C1882-D1882),0)","v":0},null,{"$f":"IF(E1882<F1882,0,E1882-F1882)","v":0},{"$f":"IFERROR(VLOOKUP(B1882,$A$17:$B$20,2,0),0)","v":0},{"$f":"G1882*H1882","v":0}]
[null,null,null,null,0,null,0,0,0]
[null,null,null,null,0,null,0,0,0]
[null,null,null,null,0,null,0,0,0]
[null,null,null,null,0,null,0,0,0]
[null,null,null,null,0,null,0,0,0]
[null,null,null,null,0,null,0,0,0]
[null,null,null,null,0,null,0,0,0]
[null,null,null,null,0,null,0,0,0]
[null,null,null,null,0,null,0,0,0]
[null,null,null,null,0,null,0,0,0]
[null,null,null,null,0,null,0,0,0]
[null,null,null,null,0,null,0,0,0]
[null,null,null,null,0,null,0,0,0]
[null,null,null,null,0,null,0,0,0]
[null,null,null,null,0,null,0,0,0]
[null,null,null,null,0,null,0,0,0]
[null,null,null,null,0,null,0,0,0]
[null,null,null,null,0,null,0,0,0]
[null,null,null,null,0,null,0,0,0]
[null,null,null,null,0,null,0,0,0]
[null,null,null,null,0,null,0,0,0]
[null,null,null,null,0,null,0,0,0]
[null,null,null,null,0,null,0,0,0]
[null,null,null,null,0,null,0,0,0]
[null,null,null,null,0,null,0,0,0]
[null,null,null,null,0,null,0,0,0]
[null,null,null,null,0,null,0,0,0]
[null,null,null,null,0,null,0,0,0]
[null,null,null,null,0,null,0,0,0]
[null,null,null,null,0,null,0,0,0]
[null,null,null,null,0,null,0,0,0]
[null,null,null,null,0,null,0,0,0]
[null,null,null,null,0,null,0,0,0]
[null,null,null,null,0,null,0,0,0]
[null,null,null,null,0,null,0,0,0]
[null,null,null,null,0,null,0,0,0]
[null,null,null,null,0,null,0,0,0]
[null,null,null,null,0,null,0,0,0]
[null,null,null,null,0,null,0,0,0]
[null,null,null,null,0,null,0,0,0]
[null,null,null,null,0,null,0,0,0]
[null,null,null,null,0,null,0,0,0]
[null,null,null,null,0,null,0,0,0]
[null,null,null,null,0,null,0,0,0]
[null,null,null,null,0,null,0,0,0]
[null,null,null,null,0,null,0,0,0]
[null,null,null,null,0,null,0,0,0]
[null,null,null,null,0,null,0,0,0]
[null,null,null,null,0,null,0,0,0]
[null,null,null,null,0,null,0,0,0]
[null,null,null,null,0,null,0,0,0]
[null,null,null,null,0,null,0,0,0]
[null,null,null,null,0,null,0,0,0]
[null,null,null,null,0,null,0,0,0]
[null,null,null,null,0,null,0,0,0]
[null,null,null,null,0,null,0,0,0]
[null,null,null,null,0,null,0,0,0]
[null,null,null,null,0,null,0,0,0]
[null,null,null,null,0,null,0,0,0]
[null,null,null,null,0,null,0,0,0]
[null,null,null,null,0,null,0,0,0]
[null,null,null,null,0,null,0,0,0]
[null,null,null,null,0,null,0,0,0]
[null,null,null,null,{"$f":"IF(C1946<D1946,ABS(C1946-D1946),0)","v":0},null,{"$f":"IF(E1946<F1946,0,E1946-F1946)","v":0},{"$f":"IFERROR(VLOOKUP(B1946,$A$17:$B$20,2,0),0)","v":0},{"$f":"G1946*H1946","v":0}]
[null,null,null,null,0,null,0,0,0]
[null,null,null,null,0,null,0,0,0]
[null,null,null,null,0,null,0,0,0]
[null,null,null,null,0,null,0,0,0]
[null,null,null,null,0,null,0,0,0]
[null,null,null,null,0,null,0,0,0]
[null,null,null,null,0,null,0,0,0]
[null,null,null,null,0,null,0,0,0]
[null,null,null,null,0,null,0,0,0]
[null,null,null,null,0,null,0,0,0]
[null,null,null,null,0,null,0,0,0]
[null,null,null,null,0,null,0,0,0]
[null,null,null,null,0,null,0,0,0]
[null,null,null,null,0,null,0,0,0]
[null,null,null,null,0,null,0,0,0]
[null,null,null,null,0,null,0,0,0]
[null,null,null,null,0,null,0,0,0]
[null,null,null,null,0,null,0,0,0]
[null,null,null,null,0,null,0,0,0]
[null,null,null,null,0,null,0,0,0]
[null,null,null,null,0,null,0,0,0]
[null,null,null,null,0,null,0,0,0]
[null,null,null,null,0,null,0,0,0]
[null,null,null,null,0,null,0,0,0]
[null,null,null,null,0,null,0,0,0]
[null,null,null,null,0,null,0,0,0]
[null,null,null,null,0,null,0,0,0]
[null,null,null,null,0,null,0,0,0]
[null,null,null,null,0,null,0,0,0]
[null,null,null,null,0,null,0,0,0]
[null,null,null,null,0,null,0,0,0]
[null,null,null,null,0,null,0,0,0]
[null,null,null,null,0,null,0,0,0]
[null,null,null,null,0,null,0,0,0]
[null,null,null,null,0,null,0,0,0]
[null,null,null,null,0,null,0,0,0]
[null,null,null,null,0,null,0,0,0]
[null,null,null,null,0,null,0,0,0]
[null,null,null,null,0,null,0,0,0]
[null,null,null,null,0,null,0,0,0]
[null,null,null,null,0,null,0,0,0]
[null,null,null,null,0,null,0,0,0]
[null,null,null,null,0,null,0,0,0]
[null,null,null,null,0,null,0,0,0]
[null,null,null,null,0,null,0,0,0]
[null,null,null,null,0,null,0,0,0]
[null,null,null,null,0,null,0,0,0]
[null,null,null,null,0,null,0,0,0]
[null,null,null,null,0,null,0,0,0]
[null,null,null,null,0,null,0,0,0]
[null,null,null,null,0,null,0,0,0]
[null,null,null,null,0,null,0,0,0]
[null,null,null,null,0,null,0,0,0]
[null,null,null,null,0,null,0,0,0]
[null,null,null,null,0,null,0,0,0]
[null,null,null,null,0,null,0,0,0]
[null,null,null,null,0,null,0,0,0]
[null,null,null,null,0,null,0,0,0]
[null,null,null,null,0,null,0,0,0]
[null,null,null,null,0,null,0,0,0]
[null,null,null,null,0,null,0,0,0]
[null,null,null,null,0,null,0,0,0]
[null,null,null,null,0,null,0,0,0]
[null,null,null,null,{"$f":"IF(C2010<D2010,ABS(C2010-D2010),0)","v":0},null,{"$f":"IF(E2010<F2010,0,E2010-F2010)","v":0},{"$f":"IFERROR(VLOOKUP(B2010,$A$17:$B$20,2,0),0)","v":0},{"$f":"G2010*H2010","v":0}]
[null,null,null,null,0,null,0,0,0]
[null,null,null,null,0,null,0,0,0]
[null,null,null,null,0,null,0,0,0]
[null,null,null,null,0,null,0,0,0]
[null,null,null,null,0,null,0,0,0]
[null,null,null,null,0,null,0,0,0]
[null,null,null,null,0,null,0,0,0]
[null,null,null,null,0,null,0,0,0]
[null,null,null,null,0,null,0,0,0]
[null,null,null,null,0,null,0,0,0]
[null,null,null,null,0,null,0,0,0]
[null,null,null,null,0,null,0,0,0]
[null,null,null,null,0,null,0,0,0]
[null,null,null,null,0,null,0,0,0]
[null,null,null,null,0,null,0,0,0]
[null,null,null,null,0,null,0,0,0]
[null,null,null,null,0,null,0,0,0]
[null,null,null,null,0,null,0,0,0]
[null,null,null,null,0,null,0,0,0]
[null,null,null,null,0,null,0,0,0]
[null,null,null,null,0,null,0,0,0]
[null,null,null,null,0,null,0,0,0]
[null,null,null,null,0,null,0,0,0]
[null,null,null,null,0,null,0,0,0]
[null,null,null,null,0,null,0,0,0]
[null,null,null,null,0,null,0,0,0]
[null,null,null,null,0,null,0,0,0]
[null,null,null,null,0,null,0,0,0]
[null,null,null,null,0,null,0,0,0]
[null,null,null,null,0,null,0,0,0]
[null,null,null,null,0,null,0,0,0]
[null,null,null,null,0,null,0,0,0]
[null,null,null,null,0,null,0,0,0]
[null,null,null,null,0,null,0,0,0]
[null,null,null,null,0,null,0,0,0]
[null,null,null,null,0,null,0,0,0]
[null,null,null,null,0,null,0,0,0]
[null,null,null,null,0,null,0,0,0]
[null,null,null,null,0,null,0,0,0]
[null,null,null,null,0,null,0,0,0]
[null,null,null,null,0,null,0,0,0]
[null,null,null,null,0,null,0,0,0]
[null,null,null,null,0,null,0,0,0]
[null,null,null,null,0,null,0,0,0]
[null,null,null,null,0,null,0,0,0]
[null,null,null,null,0,null,0,0,0]
[null,null,null,null,0,null,0,0,0]
[null,null,null,null,0,null,0,0,0]
[null,null,null,null,0,null,0,0,0]
[null,null,null,null,0,null,0,0,0]
[null,null,null,null,0,null,0,0,0]
[null,null,null,null,0,null,0,0,0]
[null,null,null,null,0,null,0,0,0]
[null,null,null,null,0,null,0,0,0]
[null,null,null,null,0,null,0,0,0]
[null,null,null,null,0,null,0,0,0]
[null,null,null,null,0,null,0,0,0]
[null,null,null,null,0,null,0,0,0]
[null,null,null,null,0,null,0,0,0]
[null,null,null,null,0,null,0,0,0]
[null,null,null,null,0,null,0,0,0]
[null,null,null,null,0,null,0,0,0]
[null,null,null,null,0,null,0,0,0]
[null,null,null,null,{"$f":"IF(C2074<D2074,ABS(C2074-D2074),0)","v":0},null,{"$f":"IF(E2074<F2074,0,E2074-F2074)","v":0},{"$f":"IFERROR(VLOOKUP(B2074,$A$17:$B$20,2,0),0)","v":0},{"$f":"G2074*H2074","v":0}]
[null,null,null,null,0,null,0,0,0]
[null,null,null,null,0,null,0,0,0]
[null,null,null,null,0,null,0,0,0]
[null,null,null,null,0,null,0,0,0]
[null,null,null,null,0,null,0,0,0]
[null,null,null,null,0,null,0,0,0]
[null,null,null,null,0,null,0,0,0]
[null,null,null,null,0,null,0,0,0]
[null,null,null,null,0,null,0,0,0]
[null,null,null,null,0,null,0,0,0]
[null,null,null,null,0,null,0,0,0]
[null,null,null,null,0,null,0,0,0]
[null,null,null,null,0,null,0,0,0]
[null,null,null,null,0,null,0,0,0]
[null,null,null,null,0,null,0,0,0]
[null,null,null,null,0,null,0,0,0]
[null,null,null,null,0,null,0,0,0]
[null,null,null,null,0,null,0,0,0]
[null,null,null,null,0,null,0,0,0]
[null,null,null,null,0,null,0,0,0]
[null,null,null,null,0,null,0,0,0]
[null,null,null,null,0,null,0,0,0]
[null,null,null,null,0,null,0,0,0]
[null,null,null,null,0,null,0,0,0]
[null,null,null,null,0,null,0,0,0]
[null,null,null,null,0,null,0,0,0]
[null,null,null,null,0,null,0,0,0]
[null,null,null,null,0,null,0,0,0]
[null,null,null,null,0,null,0,0,0]
[null,null,null,null,0,null,0,0,0]
[null,null,null,null,0,null,0,0,0]
[null,null,null,null,0,null,0,0,0]
[null,null,null,null,0,null,0,0,0]
[null,null,null,null,0,null,0,0,0]
[null,null,null,null,0,null,0,0,0]
[null,null,null,null,0,null,0,0,0]
[null,null,null,null,0,null,0,0,0]
[null,null,null,null,0,null,0,0,0]
[null,null,null,null,0,null,0,0,0]
[null,null,null,null,0,null,0,0,0]
[null,null,null,null,0,null,0,0,0]
[null,null,null,null,0,null,0,0,0]
[null,null,null,null,0,null,0,0,0]
[null,null,null,null,0,null,0,0,0]
[null,null,null,null,0,null,0,0,0]
[null,null,null,null,0,null,0,0,0]
[null,null,null,null,0,null,0,0,0]
[null,null,null,null,0,null,0,0,0]
[null,null,null,null,0,null,0,0,0]
[null,null,null,null,0,null,0,0,0]
[null,null,null,null,0,null,0,0,0]
[null,null,null,null,0,null,0,0,0]
[null,null,null,null,0,null,0,0,0]
[null,null,null,null,0,null,0,0,0]
[null,null,null,null,0,null,0,0,0]
[null,null,null,null,0,null,0,0,0]
[null,null,null,null,0,null,0,0,0]
[null,null,null,null,0,null,0,0,0]
[null,null,null,null,0,null,0,0,0]
[null,null,null,null,0,null,0,0,0]
[null,null,null,null,0,null,0,0,0]
[null,null,null,null,0,null,0,0,0]
[null,null,null,null,0,null,0,0,0]
[null,null,null,null,{"$f":"IF(C2138<D2138,ABS(C2138-D2138),0)","v":0},null,{"$f":"IF(E2138<F2138,0,E2138-F2138)","v":0},{"$f":"IFERROR(VLOOKUP(B2138,$A$17:$B$20,2,0),0)","v":0},{"$f":"G2138*H2138","v":0}]
[null,null,null,null,0,null,0,0,0]
[null,null,null,null,0,null,0,0,0]
[null,null,null,null,0,null,0,0,0]
[null,null,null,null,0,null,0,0,0]
[null,null,null,null,0,null,0,0,0]
[null,null,null,null,0,null,0,0,0]
[null,null,null,null,0,null,0,0,0]
[null,null,null,null,0,null,0,0,0]
[null,null,null,null,0,null,0,0,0]
[null,null,null,null,0,null,0,0,0]
[null,null,null,null,0,null,0,0,0]
[null,null,null,null,0,null,0,0,0]
[null,null,null,null,0,null,0,0,0]
[null,null,null,null,0,null,0,0,0]
[null,null,null,null,0,null,0,0,0]
[null,null,null,null,0,null,0,0,0]
[null,null,null,null,0,null,0,0,0]
[null,null,null,null,0,null,0,0,0]
[null,null,null,null,0,null,0,0,0]
[null,null,null,null,0,null,0,0,0]
[null,null,null,null,0,null,0,0,0]
[null,null,null,null,0,null,0,0,0]
[null,null,null,null,0,null,0,0,0]
[null,null,null,null,0,null,0,0,0]
[null,null,null,null,0,null,0,0,0]
[null,null,null,null,0,null,0,0,0]
[null,null,null,null,0,null,0,0,0]
[null,null,null,null,0,null,0,0,0]
[null,null,null,null,0,null,0,0,0]
[null,null,null,null,0,null,0,0,0]
[null,null,null,null,0,null,0,0,0]
[null,null,null,null,0,null,0,0,0]
[null,null,null,null,0,null,0,0,0]
[null,null,null,null,0,null,0,0,0]
[null,null,null,null,0,null,0,0,0]
[null,null,null,null,0,null,0,0,0]
[null,null,null,null,0,null,0,0,0]
[null,null,null,null,0,null,0,0,0]
[null,null,null,null,0,null,0,0,0]
[null,null,null,null,0,null,0,0,0]
[null,null,null,null,0,null,0,0,0]
[null,null,null,null,0,null,0,0,0]
[null,null,null,null,0,null,0,0,0]
[null,null,null,null,0,null,0,0,0]
[null,null,null,null,0,null,0,0,0]
[null,null,null,null,0,null,0,0,0]
[null,null,null,null,0,null,0,0,0]
[null,null,null,null,0,null,0,0,0]
[null,null,null,null,0,null,0,0,0]
[null,null,null,null,0,null,0,0,0]
[null,null,null,null,0,null,0,0,0]
[null,null,null,null,0,null,0,0,0]
[null,null,null,null,0,null,0,0,0]
[null,null,null,null,0,null,0,0,0]
[null,null,null,null,0,null,0,0,0]
[null,null,null,null,0,null,0,0,0]
[null,null,null,null,0,null,0,0,0]
[null,null,null,null,0,null,0,0,0]
[null,null,null,null,0,null,0,0,0]
[null,null,null,null,0,null,0,0,0]
[null,null,null,null,0,null,0,0,0]
[null,null,null,null,0,null,0,0,0]
[null,null,null,null,0,null,0,0,0]
[null,null,null,null,{"$f":"IF(C2202<D2202,ABS(C2202-D2202),0)","v":0},null,{"$f":"IF(E2202<F2202,0,E2202-F2202)","v":0},{"$f":"IFERROR(VLOOKUP(B2202,$A$17:$B$20,2,0),0)","v":0},{"$f":"G2202*H2202","v":0}]
[null,null,null,null,0,null,0,0,0]
[null,null,null,null,0,null,0,0,0]
[null,null,null,null,0,null,0,0,0]
[null,null,null,null,0,null,0,0,0]
[null,null,null,null,0,null,0,0,0]
[null,null,null,null,0,null,0,0,0]
[null,null,null,null,0,null,0,0,0]
[null,null,null,null,0,null,0,0,0]
[null,null,null,null,0,null,0,0,0]
[null,null,null,null,0,null,0,0,0]
[null,null,null,null,0,null,0,0,0]
[null,null,null,null,0,null,0,0,0]
[null,null,null,null,0,null,0,0,0]
[null,null,null,null,0,null,0,0,0]
[null,null,null,null,0,null,0,0,0]
[null,null,null,null,0,null,0,0,0]
[null,null,null,null,0,null,0,0,0]
[null,null,null,null,0,null,0,0,0]
[null,null,null,null,0,null,0,0,0]
[null,null,null,null,0,null,0,0,0]
[null,null,null,null,0,null,0,0,0]
[null,null,null,null,0,null,0,0,0]
[null,null,null,null,0,null,0,0,0]
[null,null,null,null,0,null,0,0,0]
[null,null,null,null,0,null,0,0,0]
[null,null,null,null,0,null,0,0,0]
[null,null,null,null,0,null,0,0,0]
[null,null,null,null,0,null,0,0,0]
[null,null,null,null,0,null,0,0,0]
[null,null,null,null,0,null,0,0,0]
[null,null,null,null,0,null,0,0,0]
[null,null,null,null,0,null,0,0,0]
[null,null,null,null,0,null,0,0,0]
[null,null,null,null,0,null,0,0,0]
[null,null,null,null,0,null,0,0,0]
[null,null,null,null,0,null,0,0,0]
[null,null,null,null,0,null,0,0,0]
[null,null,null,null,0,null,0,0,0]
[null,null,null,null,0,null,0,0,0]
[null,null,null,null,0,null,0,0,0]
[null,null,null,null,0,null,0,0,0]
[null,null,null,null,0,null,0,0,0]
[null,null,null,null,0,null,0,0,0]
[null,null,null,null,0,null,0,0,0]
[null,null,null,null,0,null,0,0,0]
[null,null,null,null,0,null,0,0,0]
[null,null,null,null,0,null,0,0,0]
[null,null,null,null,0,null,0,0,0]
[null,null,null,null,0,null,0,0,0]
[null,null,null,null,0,null,0,0,0]
[null,null,null,null,0,null,0,0,0]
[null,null,null,null,0,null,0,0,0]
[null,null,null,null,0,null,0,0,0]
[null,null,null,null,0,null,0,0,0]
[null,null,null,null,0,null,0,0,0]
[null,null,null,null,0,null,0,0,0]
[null,null,null,null,0,null,0,0,0]
[null,null,null,null,0,null,0,0,0]
[null,null,null,null,0,null,0,0,0]
[null,null,null,null,0,null,0,0,0]
[null,null,null,null,0,null,0,0,0]
[null,null,null,null,0,null,0,0,0]
[null,null,null,null,0,null,0,0,0]
[null,null,null,null,{"$f":"IF(C2266<D2266,ABS(C2266-D2266),0)","v":0},null,{"$f":"IF(E2266<F2266,0,E2266-F2266)","v":0},{"$f":"IFERROR(VLOOKUP(B2266,$A$17:$B$20,2,0),0)","v":0},{"$f":"G2266*H2266","v":0}]
[null,null,null,null,0,null,0,0,0]
[null,null,null,null,0,null,0,0,0]
[null,null,null,null,0,null,0,0,0]
[null,null,null,null,0,null,0,0,0]
[null,null,null,null,0,null,0,0,0]
[null,null,null,null,0,null,0,0,0]
[null,null,null,null,0,null,0,0,0]
[null,null,null,null,0,null,0,0,0]
[null,null,null,null,0,null,0,0,0]
[null,null,null,null,0,null,0,0,0]
[null,null,null,null,0,null,0,0,0]
[null,null,null,null,0,null,0,0,0]
[null,null,null,null,0,null,0,0,0]
[null,null,null,null,0,null,0,0,0]
[null,null,null,null,0,null,0,0,0]
[null,null,null,null,0,null,0,0,0]
[null,null,null,null,0,null,0,0,0]
[null,null,null,null,0,null,0,0,0]
[null,null,null,null,0,null,0,0,0]
[null,null,null,null,0,null,0,0,0]
[null,null,null,null,0,null,0,0,0]
[null,null,null,null,0,null,0,0,0]
[null,null,null,null,0,null,0,0,0]
[null,null,null,null,0,null,0,0,0]
[null,null,null,null,0,null,0,0,0]
[null,null,null,null,0,null,0,0,0]
[null,null,null,null,0,null,0,0,0]
[null,null,null,null,0,null,0,0,0]
[null,null,null,null,0,null,0,0,0]
[null,null,null,null,0,null,0,0,0]
[null,null,null,null,0,null,0,0,0]
[null,null,null,null,0,null,0,0,0]
[null,null,null,null,0,null,0,0,0]
[null,null,null,null,0,null,0,0,0]
[null,null,null,null,0,null,0,0,0]
[null,null,null,null,0,null,0,0,0]
[null,null,null,null,0,null,0,0,0]
[null,null,null,null,0,null,0,0,0]
[null,null,null,null,0,null,0,0,0]
[null,null,null,null,0,null,0,0,0]
[null,null,null,null,0,null,0,0,0]
[null,null,null,null,0,null,0,0,0]
[null,null,null,null,0,null,0,0,0]
[null,null,null,null,0,null,0,0,0]
[null,null,null,null,0,null,0,0,0]
[null,null,null,null,0,null,0,0,0]
[null,null,null,null,0,null,0,0,0]
[null,null,null,null,0,null,0,0,0]
[null,null,null,null,0,null,0,0,0]
[null,null,null,null,0,null,0,0,0]
[null,null,null,null,0,null,0,0,0]
[null,null,null,null,0,null,0,0,0]
[null,null,null,null,0,null,0,0,0]
[null,null,null,null,0,null,0,0,0]
[null,null,null,null,0,null,0,0,0]
[null,null,null,null,0,null,0,0,0]
[null,null,null,null,0,null,0,0,0]
[null,null,null,null,0,null,0,0,0]
[null,null,null,null,0,null,0,0,0]
[null,null,null,null,0,null,0,0,0]
[null,null,null,null,0,null,0,0,0]
[null,null,null,null,0,null,0,0,0]
[null,null,null,null,0,null,0,0,0]
[null,null,null,null,{"$f":"IF(C2330<D2330,ABS(C2330-D2330),0)","v":0},null,{"$f":"IF(E2330<F2330,0,E2330-F2330)","v":0},{"$f":"IFERROR(VLOOKUP(B2330,$A$17:$B$20,2,0),0)","v":0},{"$f":"G2330*H2330","v":0}]
[null,null,null,null,0,null,0,0,0]
[null,null,null,null,0,null,0,0,0]
[null,null,null,null,0,null,0,0,0]
[null,null,null,null,0,null,0,0,0]
[null,null,null,null,0,null,0,0,0]
[null,null,null,null,0,null,0,0,0]
[null,null,null,null,0,null,0,0,0]
[null,null,null,null,0,null,0,0,0]
[null,null,null,null,0,null,0,0,0]
[null,null,null,null,0,null,0,0,0]
[null,null,null,null,0,null,0,0,0]
[null,null,null,null,0,null,0,0,0]
[null,null,null,null,0,null,0,0,0]
[null,null,null,null,0,null,0,0,0]
[null,null,null,null,0,null,0,0,0]
[null,null,null,null,0,null,0,0,0]
[null,null,null,null,0,null,0,0,0]
[null,null,null,null,0,null,0,0,0]
[null,null,null,null,0,null,0,0,0]
[null,null,null,null,0,null,0,0,0]
[null,null,null,null,0,null,0,0,0]
[null,null,null,null,0,null,0,0,0]
[null,null,null,null,0,null,0,0,0]
[null,null,null,null,0,null,0,0,0]
[null,null,null,null,0,null,0,0,0]
[null,null,null,null,0,null,0,0,0]
[null,null,null,null,0,null,0,0,0]
[null,null,null,null,0,null,0,0,0]
[null,null,null,null,0,null,0,0,0]
[null,null,null,null,0,null,0,0,0]
[null,null,null,null,0,null,0,0,0]
[null,null,null,null,0,null,0,0,0]
[null,null,null,null,0,null,0,0,0]
[null,null,null,null,0,null,0,0,0]
[null,null,null,null,0,null,0,0,0]
[null,null,null,null,0,null,0,0,0]
[null,null,null,null,0,null,0,0,0]
[null,null,null,null,0,null,0,0,0]
[null,null,null,null,0,null,0,0,0]
[null,null,null,null,0,null,0,0,0]
[null,null,null,null,0,null,0,0,0]
[null,null,null,null,0,null,0,0,0]
[null,null,null,null,0,null,0,0,0]
[null,null,null,null,0,null,0,0,0]
[null,null,null,null,0,null,0,0,0]
[null,null,null,null,0,null,0,0,0]
[null,null,null,null,0,null,0,0,0]
[null,null,null,null,0,null,0,0,0]
[null,null,null,null,0,null,0,0,0]
[null,null,null,null,0,null,0,0,0]
[null,null,null,null,0,null,0,0,0]
[null,null,null,null,0,null,0,0,0]
[null,null,null,null,0,null,0,0,0]
[null,null,null,null,0,null,0,0,0]
[null,null,null,null,0,null,0,0,0]
[null,null,null,null,0,null,0,0,0]
[null,null,null,null,0,null,0,0,0]
[null,null,null,null,0,null,0,0,0]
[null,null,null,null,0,null,0,0,0]
[null,null,null,null,0,null,0,0,0]
[null,null,null,null,0,null,0,0,0]
[null,null,null,null,0,null,0,0,0]
[null,null,null,null,0,null,0,0,0]
[null,null,null,null,{"$f":"IF(C2394<D2394,ABS(C2394-D2394),0)","v":0},null,{"$f":"IF(E2394<F2394,0,E2394-F2394)","v":0},{"$f":"IFERROR(VLOOKUP(B2394,$A$17:$B$20,2,0),0)","v":0},{"$f":"G2394*H2394","v":0}]
[null,null,null,null,0,null,0,0,0]
[null,null,null,null,0,null,0,0,0]
[null,null,null,null,0,null,0,0,0]
[null,null,null,null,0,null,0,0,0]
[null,null,null,null,0,null,0,0,0]
[null,null,null,null,0,null,0,0,0]
[null,null,null,null,0,null,0,0,0]
[null,null,null,null,0,null,0,0,0]
[null,null,null,null,0,null,0,0,0]
[null,null,null,null,0,null,0,0,0]
[null,null,null,null,0,null,0,0,0]
[null,null,null,null,0,null,0,0,0]
[null,null,null,null,0,null,0,0,0]
[null,null,null,null,0,null,0,0,0]
[null,null,null,null,0,null,0,0,0]
[null,null,null,null,0,null,0,0,0]
[null,null,null,null,0,null,0,0,0]
[null,null,null,null,0,null,0,0,0]
[null,null,null,null,0,null,0,0,0]
[null,null,null,null,0,null,0,0,0]
[null,null,null,null,0,null,0,0,0]
[null,null,null,null,0,null,0,0,0]
[null,null,null,null,0,null,0,0,0]
[null,null,null,null,0,null,0,0,0]
[null,null,null,null,0,null,0,0,0]
[null,null,null,null,0,null,0,0,0]
[null,null,null,null,0,null,0,0,0]
[null,null,null,null,0,null,0,0,0]
[null,null,null,null,0,null,0,0,0]
[null,null,null,null,0,null,0,0,0]
[null,null,null,null,0,null,0,0,0]
[null,null,null,null,0,null,0,0,0]
[null,null,null,null,0,null,0,0,0]
[null,null,null,null,0,null,0,0,0]
[null,null,null,null,0,null,0,0,0]
[null,null,null,null,0,null,0,0,0]
[null,null,null,null,0,null,0,0,0]
[null,null,null,null,0,null,0,0,0]
[null,null,null,null,0,null,0,0,0]
[null,null,null,null,0,null,0,0,0]
[null,null,null,null,0,null,0,0,0]
[null,null,null,null,0,null,0,0,0]
[null,null,null,null,0,null,0,0,0]
[null,null,null,null,0,null,0,0,0]
[null,null,null,null,0,null,0,0,0]
[null,null,null,null,0,null,0,0,0]
[null,null,null,null,0,null,0,0,0]
[null,null,null,null,0,null,0,0,0]
[null,null,null,null,0,null,0,0,0]
[null,null,null,null,0,null,0,0,0]
[null,null,null,null,0,null,0,0,0]
[null,null,null,null,0,null,0,0,0]
[null,null,null,null,0,null,0,0,0]
[null,null,null,null,0,null,0,0,0]
[null,null,null,null,0,null,0,0,0]
[null,null,null,null,0,null,0,0,0]
[null,null,null,null,0,null,0,0,0]
[null,null,null,null,0,null,0,0,0]
[null,null,null,null,0,null,0,0,0]
[null,null,null,null,0,null,0,0,0]
[null,null,null,null,0,null,0,0,0]
[null,null,null,null,0,null,0,0,0]
[null,null,null,null,0,null,0,0,0]
[null,null,null,null,{"$f":"IF(C2458<D2458,ABS(C2458-D2458),0)","v":0},null,{"$f":"IF(E2458<F2458,0,E2458-F2458)","v":0},{"$f":"IFERROR(VLOOKUP(B2458,$A$17:$B$20,2,0),0)","v":0},{"$f":"G2458*H2458","v":0}]
[null,null,null,null,0,null,0,0,0]
[null,null,null,null,0,null,0,0,0]
[null,null,null,null,0,null,0,0,0]
[null,null,null,null,0,null,0,0,0]
[null,null,null,null,0,null,0,0,0]
[null,null,null,null,0,null,0,0,0]
[null,null,null,null,0,null,0,0,0]
[null,null,null,null,0,null,0,0,0]
[null,null,null,null,0,null,0,0,0]
[null,null,null,null,0,null,0,0,0]
[null,null,null,null,0,null,0,0,0]
[null,null,null,null,0,null,0,0,0]
[null,null,null,null,0,null,0,0,0]
[null,null,null,null,0,null,0,0,0]
[null,null,null,null,0,null,0,0,0]
[null,null,null,null,0,null,0,0,0]
[null,null,null,null,0,null,0,0,0]
[null,null,null,null,0,null,0,0,0]
[null,null,null,null,0,null,0,0,0]
[null,null,null,null,0,null,0,0,0]
[null,null,null,null,0,null,0,0,0]
[null,null,null,null,0,null,0,0,0]
[null,null,null,null,0,null,0,0,0]
[null,null,null,null,0,null,0,0,0]
[null,null,null,null,0,null,0,0,0]
[null,null,null,null,0,null,0,0,0]
[null,null,null,null,0,null,0,0,0]
[null,null,null,null,0,null,0,0,0]
[null,null,null,null,0,null,0,0,0]
[null,null,null,null,0,null,0,0,0]
[null,null,null,null,0,null,0,0,0]
[null,null,null,null,0,null,0,0,0]
[null,null,null,null,0,null,0,0,0]
[null,null,null,null,0,null,0,0,0]
[null,null,null,null,0,null,0,0,0]
[null,null,null,null,0,null,0,0,0]
[null,null,null,null,0,null,0,0,0]
[null,null,null,null,0,null,0,0,0]
[null,null,null,null,0,null,0,0,0]
[null,null,null,null,0,null,0,0,0]
[null,null,null,null,0,null,0,0,0]
[null,null,null,null,0,null,0,0,0]
[null,null,null,null,0,null,0,0,0]
[null,null,null,null,0,null,0,0,0]
[null,null,null,null,0,null,0,0,0]
[null,null,null,null,0,null,0,0,0]
[null,null,null,null,0,null,0,0,0]
[null,null,null,null,0,null,0,0,0]
[null,null,null,null,0,null,0,0,0]
[null,null,null,null,0,null,0,0,0]
[null,null,null,null,0,null,0,0,0]
[null,null,null,null,0,null,0,0,0]
[null,null,null,null,0,null,0,0,0]
[null,null,null,null,0,null,0,0,0]
[null,null,null,null,0,null,0,0,0]
[null,null,null,null,0,null,0,0,0]
[null,null,null,null,0,null,0,0,0]
[null,null,null,null,0,null,0,0,0]
[null,null,null,null,0,null,0,0,0]
[null,null,null,null,0,null,0,0,0]
[null,null,null,null,0,null,0,0,0]
[null,null,null,null,0,null,0,0,0]
[null,null,null,null,0,null,0,0,0]
[null,null,null,null,{"$f":"IF(C2522<D2522,ABS(C2522-D2522),0)","v":0},null,{"$f":"IF(E2522<F2522,0,E2522-F2522)","v":0},{"$f":"IFERROR(VLOOKUP(B2522,$A$17:$B$20,2,0),0)","v":0},{"$f":"G2522*H2522","v":0}]
[null,null,null,null,0,null,0,0,0]
[null,null,null,null,0,null,0,0,0]
[null,null,null,null,0,null,0,0,0]
[null,null,null,null,0,null,0,0,0]
[null,null,null,null,0,null,0,0,0]
[null,null,null,null,0,null,0,0,0]
[null,null,null,null,0,null,0,0,0]
[null,null,null,null,0,null,0,0,0]
[null,null,null,null,0,null,0,0,0]
[null,null,null,null,0,null,0,0,0]
[null,null,null,null,0,null,0,0,0]
[null,null,null,null,0,null,0,0,0]
[null,null,null,null,0,null,0,0,0]
[null,null,null,null,0,null,0,0,0]
[null,null,null,null,0,null,0,0,0]
[null,null,null,null,0,null,0,0,0]
[null,null,null,null,0,null,0,0,0]
[null,null,null,null,0,null,0,0,0]
[null,null,null,null,0,null,0,0,0]
[null,null,null,null,0,null,0,0,0]
[null,null,null,null,0,null,0,0,0]
[null,null,null,null,0,null,0,0,0]
[null,null,null,null,0,null,0,0,0]
[null,null,null,null,0,null,0,0,0]
[null,null,null,null,0,null,0,0,0]
[null,null,null,null,0,null,0,0,0]
[null,null,null,null,0,null,0,0,0]
[null,null,null,null,0,null,0,0,0]
[null,null,null,null,0,null,0,0,0]
[null,null,null,null,0,null,0,0,0]
[null,null,null,null,0,null,0,0,0]
[null,null,null,null,0,null,0,0,0]
[null,null,null,null,0,null,0,0,0]
[null,null,null,null,0,null,0,0,0]
[null,null,null,null,0,null,0,0,0]
[null,null,null,null,0,null,0,0,0]
[null,null,null,null,0,null,0,0,0]
[null,null,null,null,0,null,0,0,0]
[null,null,null,null,0,null,0,0,0]
[null,null,null,null,0,null,0,0,0]
[null,null,null,null,0,null,0,0,0]
[null,null,null,null,0,null,0,0,0]
[null,null,null,null,0,null,0,0,0]
[null,null,null,null,0,null,0,0,0]
[null,null,null,null,0,null,0,0,0]
[null,null,null,null,0,null,0,0,0]
[null,null,null,null,0,null,0,0,0]
[null,null,null,null,0,null,0,0,0]
[null,null,null,null,0,null,0,0,0]
[null,null,null,null,0,null,0,0,0]
[null,null,null,null,0,null,0,0,0]
[null,null,null,null,0,null,0,0,0]
[null,null,null,null,0,null,0,0,0]
[null,null,null,null,0,null,0,0,0]
[null,null,null,null,0,null,0,0,0]
[null,null,null,null,0,null,0,0,0]
[null,null,null,null,0,null,0,0,0]
[null,null,null,null,0,null,0,0,0]
[null,null,null,null,0,null,0,0,0]
[null,null,null,null,0,null,0,0,0]
[null,null,null,null,0,null,0,0,0]
[null,null,null,null,0,null,0,0,0]
[null,null,null,null,0,null,0,0,0]
[null,null,null,null,{"$f":"IF(C2586<D2586,ABS(C2586-D2586),0)","v":0},null,{"$f":"IF(E2586<F2586,0,E2586-F2586)","v":0},{"$f":"IFERROR(VLOOKUP(B2586,$A$17:$B$20,2,0),0)","v":0},{"$f":"G2586*H2586","v":0}]
[null,null,null,null,0,null,0,0,0]
[null,null,null,null,0,null,0,0,0]
[null,null,null,null,0,null,0,0,0]
[null,null,null,null,0,null,0,0,0]
[null,null,null,null,0,null,0,0,0]
[null,null,null,null,0,null,0,0,0]
[null,null,null,null,0,null,0,0,0]
[null,null,null,null,0,null,0,0,0]
[null,null,null,null,0,null,0,0,0]
[null,null,null,null,0,null,0,0,0]
[null,null,null,null,0,null,0,0,0]
[null,null,null,null,0,null,0,0,0]
[null,null,null,null,0,null,0,0,0]
[null,null,null,null,0,null,0,0,0]
[null,null,null,null,0,null,0,0,0]
[null,null,null,null,0,null,0,0,0]
[null,null,null,null,0,null,0,0,0]
[null,null,null,null,0,null,0,0,0]
[null,null,null,null,0,null,0,0,0]
[null,null,null,null,0,null,0,0,0]
[null,null,null,null,0,null,0,0,0]
[null,null,null,null,0,null,0,0,0]
[null,null,null,null,0,null,0,0,0]
[null,null,null,null,0,null,0,0,0]
[null,null,null,null,0,null,0,0,0]
[null,null,null,null,0,null,0,0,0]
[null,null,null,null,0,null,0,0,0]
[null,null,null,null,0,null,0,0,0]
[null,null,null,null,0,null,0,0,0]
[null,null,null,null,0,null,0,0,0]
[null,null,null,null,0,null,0,0,0]
[null,null,null,null,0,null,0,0,0]
[null,null,null,null,0,null,0,0,0]
[null,null,null,null,0,null,0,0,0]
[null,null,null,null,0,null,0,0,0]
[null,null,null,null,0,null,0,0,0]
[null,null,null,null,0,null,0,0,0]
[null,null,null,null,0,null,0,0,0]
[null,null,null,null,0,null,0,0,0]
[null,null,null,null,0,null,0,0,0]
[null,null,null,null,0,null,0,0,0]
[null,null,null,null,0,null,0,0,0]
[null,null,null,null,0,null,0,0,0]
[null,null,null,null,0,null,0,0,0]
[null,null,null,null,0,null,0,0,0]
[null,null,null,null,0,null,0,0,0]
[null,null,null,null,0,null,0,0,0]
[null,null,null,null,0,null,0,0,0]
[null,null,null,null,0,null,0,0,0]
[null,null,null,null,0,null,0,0,0]
[null,null,null,null,0,null,0,0,0]
[null,null,null,null,0,null,0,0,0]
[null,null,null,null,0,null,0,0,0]
[null,null,null,null,0,null,0,0,0]
[null,null,null,null,0,null,0,0,0]
[null,null,null,null,0,null,0,0,0]
[null,null,null,null,0,null,0,0,0]
[null,null,null,null,0,null,0,0,0]
[null,null,null,null,0,null,0,0,0]
[null,null,null,null,0,null,0,0,0]
[null,null,null,null,0,null,0,0,0]
[null,null,null,null,0,null,0,0,0]
[null,null,null,null,0,null,0,0,0]
[null,null,null,null,{"$f":"IF(C2650<D2650,ABS(C2650-D2650),0)","v":0},null,{"$f":"IF(E2650<F2650,0,E2650-F2650)","v":0},{"$f":"IFERROR(VLOOKUP(B2650,$A$17:$B$20,2,0),0)","v":0},{"$f":"G2650*H2650","v":0}]
[null,null,null,null,0,null,0,0,0]
[null,null,null,null,0,null,0,0,0]
[null,null,null,null,0,null,0,0,0]
[null,null,null,null,0,null,0,0,0]
[null,null,null,null,0,null,0,0,0]
[null,null,null,null,0,null,0,0,0]
[null,null,null,null,0,null,0,0,0]
[null,null,null,null,0,null,0,0,0]
[null,null,null,null,0,null,0,0,0]
[null,null,null,null,0,null,0,0,0]
[null,null,null,null,0,null,0,0,0]
[null,null,null,null,0,null,0,0,0]
[null,null,null,null,0,null,0,0,0]
[null,null,null,null,0,null,0,0,0]
[null,null,null,null,0,null,0,0,0]
[null,null,null,null,0,null,0,0,0]
[null,null,null,null,0,null,0,0,0]
[null,null,null,null,0,null,0,0,0]
[null,null,null,null,0,null,0,0,0]
[null,null,null,null,0,null,0,0,0]
[null,null,null,null,0,null,0,0,0]
[null,null,null,null,0,null,0,0,0]
[null,null,null,null,0,null,0,0,0]
[null,null,null,null,0,null,0,0,0]
[null,null,null,null,0,null,0,0,0]
[null,null,null,null,0,null,0,0,0]
[null,null,null,null,0,null,0,0,0]
[null,null,null,null,0,null,0,0,0]
[null,null,null,null,0,null,0,0,0]
[null,null,null,null,0,null,0,0,0]
[null,null,null,null,0,null,0,0,0]
[null,null,null,null,0,null,0,0,0]
[null,null,null,null,0,null,0,0,0]
[null,null,null,null,0,null,0,0,0]
[null,null,null,null,0,null,0,0,0]
[null,null,null,null,0,null,0,0,0]
[null,null,null,null,0,null,0,0,0]
[null,null,null,null,0,null,0,0,0]
[null,null,null,null,0,null,0,0,0]
[null,null,null,null,0,null,0,0,0]
[null,null,null,null,0,null,0,0,0]
[null,null,null,null,0,null,0,0,0]
[null,null,null,null,0,null,0,0,0]
[null,null,null,null,0,null,0,0,0]
[null,null,null,null,0,null,0,0,0]
[null,null,null,null,0,null,0,0,0]
[null,null,null,null,0,null,0,0,0]
[null,null,null,null,0,null,0,0,0]
[null,null,null,null,0,null,0,0,0]
[null,null,null,null,0,null,0,0,0]
[null,null,null,null,0,null,0,0,0]
[null,null,null,null,0,null,0,0,0]
[null,null,null,null,0,null,0,0,0]
[null,null,null,null,0,null,0,0,0]
[null,null,null,null,0,null,0,0,0]
[null,null,null,null,0,null,0,0,0]
[null,null,null,null,0,null,0,0,0]
[null,null,null,null,0,null,0,0,0]
[null,null,null,null,0,null,0,0,0]
[null,null,null,null,0,null,0,0,0]
[null,null,null,null,0,null,0,0,0]
[null,null,null,null,0,null,0,0,0]
[null,null,null,null,0,null,0,0,0]
[null,null,null,null,{"$f":"IF(C2714<D2714,ABS(C2714-D2714),0)","v":0},null,{"$f":"IF(E2714<F2714,0,E2714-F2714)","v":0},{"$f":"IFERROR(VLOOKUP(B2714,$A$17:$B$20,2,0),0)","v":0},{"$f":"G2714*H2714","v":0}]
[null,null,null,null,0,null,0,0,0]
[null,null,null,null,0,null,0,0,0]
[null,null,null,null,0,null,0,0,0]
[null,null,null,null,0,null,0,0,0]
[null,null,null,null,0,null,0,0,0]
[null,null,null,null,0,null,0,0,0]
[null,null,null,null,0,null,0,0,0]
[null,null,null,null,0,null,0,0,0]
[null,null,null,null,0,null,0,0,0]
[null,null,null,null,0,null,0,0,0]
[null,null,null,null,0,null,0,0,0]
[null,null,null,null,0,null,0,0,0]
[null,null,null,null,0,null,0,0,0]
[null,null,null,null,0,null,0,0,0]
[null,null,null,null,0,null,0,0,0]
[null,null,null,null,0,null,0,0,0]
[null,null,null,null,0,null,0,0,0]
[null,null,null,null,0,null,0,0,0]
[null,null,null,null,0,null,0,0,0]
[null,null,null,null,0,null,0,0,0]
[null,null,null,null,0,null,0,0,0]
[null,null,null,null,0,null,0,0,0]
[null,null,null,null,0,null,0,0,0]
[null,null,null,null,0,null,0,0,0]
[null,null,null,null,0,null,0,0,0]
[null,null,null,null,0,null,0,0,0]
[null,null,null,null,0,null,0,0,0]
[null,null,null,null,0,null,0,0,0]
[null,null,null,null,0,null,0,0,0]
[null,null,null,null,0,null,0,0,0]
[null,null,null,null,0,null,0,0,0]
[null,null,null,null,0,null,0,0,0]
[null,null,null,null,0,null,0,0,0]
[null,null,null,null,0,null,0,0,0]
[null,null,null,null,0,null,0,0,0]
[null,null,null,null,0,null,0,0,0]
[null,null,null,null,0,null,0,0,0]
[null,null,null,null,0,null,0,0,0]
[null,null,null,null,0,null,0,0,0]
[null,null,null,null,0,null,0,0,0]
[null,null,null,null,0,null,0,0,0]
[null,null,null,null,0,null,0,0,0]
[null,null,null,null,0,null,0,0,0]
[null,null,null,null,0,null,0,0,0]
[null,null,null,null,0,null,0,0,0]
[null,null,null,null,0,null,0,0,0]
[null,null,null,null,0,null,0,0,0]
[null,null,null,null,0,null,0,0,0]
[null,null,null,null,0,null,0,0,0]
[null,null,null,null,0,null,0,0,0]
[null,null,null,null,0,null,0,0,0]
[null,null,null,null,0,null,0,0,0]
[null,null,null,null,0,null,0,0,0]
[null,null,null,null,0,null,0,0,0]
[null,null,null,null,0,null,0,0,0]
[null,null,null,null,0,null,0,0,0]
[null,null,null,null,0,null,0,0,0]
[null,null,null,null,0,null,0,0,0]
[null,null,null,null,0,null,0,0,0]
[null,null,null,null,0,null,0,0,0]
[null,null,null,null,0,null,0,0,0]
[null,null,null,null,0,null,0,0,0]
[null,null,null,null,0,null,0,0,0]
[null,null,null,null,{"$f":"IF(C2778<D2778,ABS(C2778-D2778),0)","v":0},null,{"$f":"IF(E2778<F2778,0,E2778-F2778)","v":0},{"$f":"IFERROR(VLOOKUP(B2778,$A$17:$B$20,2,0),0)","v":0},{"$f":"G2778*H2778","v":0}]
[null,null,null,null,0,null,0,0,0]
[null,null,null,null,0,null,0,0,0]
[null,null,null,null,0,null,0,0,0]
[null,null,null,null,0,null,0,0,0]
[null,null,null,null,0,null,0,0,0]
[null,null,null,null,0,null,0,0,0]
[null,null,null,null,0,null,0,0,0]
[null,null,null,null,0,null,0,0,0]
[null,null,null,null,0,null,0,0,0]
[null,null,null,null,0,null,0,0,0]
[null,null,null,null,0,null,0,0,0]
[null,null,null,null,0,null,0,0,0]
[null,null,null,null,0,null,0,0,0]
[null,null,null,null,0,null,0,0,0]
[null,null,null,null,0,null,0,0,0]
[null,null,null,null,0,null,0,0,0]
[null,null,null,null,0,null,0,0,0]
[null,null,null,null,0,null,0,0,0]
[null,null,null,null,0,null,0,0,0]
[null,null,null,null,0,null,0,0,0]
[null,null,null,null,0,null,0,0,0]
[null,null,null,null,0,null,0,0,0]
[null,null,null,null,0,null,0,0,0]
[null,null,null,null,0,null,0,0,0]
[null,null,null,null,0,null,0,0,0]
[null,null,null,null,0,null,0,0,0]
[null,null,null,null,0,null,0,0,0]
[null,null,null,null,0,null,0,0,0]
[null,null,null,null,0,null,0,0,0]
[null,null,null,null,0,null,0,0,0]
[null,null,null,null,0,null,0,0,0]
[null,null,null,null,0,null,0,0,0]
[null,null,null,null,0,null,0,0,0]
[null,null,null,null,0,null,0,0,0]
[null,null,null,null,0,null,0,0,0]
[null,null,null,null,0,null,0,0,0]
[null,null,null,null,0,null,0,0,0]
[null,null,null,null,0,null,0,0,0]
[null,null,null,null,0,null,0,0,0]
[null,null,null,null,0,null,0,0,0]
[null,null,null,null,0,null,0,0,0]
[null,null,null,null,0,null,0,0,0]
[null,null,null,null,0,null,0,0,0]
[null,null,null,null,0,null,0,0,0]
[null,null,null,null,0,null,0,0,0]
[null,null,null,null,0,null,0,0,0]
[null,null,null,null,0,null,0,0,0]
[null,null,null,null,0,null,0,0,0]
[null,null,null,null,0,null,0,0,0]
[null,null,null,null,0,null,0,0,0]
[null,null,null,null,0,null,0,0,0]
[null,null,null,null,0,null,0,0,0]
[null,null,null,null,0,null,0,0,0]
[null,null,null,null,0,null,0,0,0]
[null,null,null,null,0,null,0,0,0]
[null,null,null,null,0,null,0,0,0]
[null,null,null,null,0,null,0,0,0]
[null,null,null,null,0,null,0,0,0]
[null,null,null,null,0,null,0,0,0]
[null,null,null,null,0,null,0,0,0]
[null,null,null,null,0,null,0,0,0]
[null,null,null,null,0,null,0,0,0]
[null,null,null,null,0,null,0,0,0]
[null,null,null,null,{"$f":"IF(C2842<D2842,ABS(C2842-D2842),0)","v":0},null,{"$f":"IF(E2842<F2842,0,E2842-F2842)","v":0},{"$f":"IFERROR(VLOOKUP(B2842,$A$17:$B$20,2,0),0)","v":0},{"$f":"G2842*H2842","v":0}]
[null,null,null,null,0,null,0,0,0]
[null,null,null,null,0,null,0,0,0]
[null,null,null,null,0,null,0,0,0]
[null,null,null,null,0,null,0,0,0]
[null,null,null,null,0,null,0,0,0]
[null,null,null,null,0,null,0,0,0]
[null,null,null,null,0,null,0,0,0]
[null,null,null,null,0,null,0,0,0]
[null,null,null,null,0,null,0,0,0]
[null,null,null,null,0,null,0,0,0]
[null,null,null,null,0,null,0,0,0]
[null,null,null,null,0,null,0,0,0]
[null,null,null,null,0,null,0,0,0]
[null,null,null,null,0,null,0,0,0]
[null,null,null,null,0,null,0,0,0]
[null,null,null,null,0,null,0,0,0]
[null,null,null,null,0,null,0,0,0]
[null,null,null,null,0,null,0,0,0]
[null,null,null,null,0,null,0,0,0]
[null,null,null,null,0,null,0,0,0]
[null,null,null,null,0,null,0,0,0]
[null,null,null,null,0,null,0,0,0]
[null,null,null,null,0,null,0,0,0]
[null,null,null,null,0,null,0,0,0]
[null,null,null,null,0,null,0,0,0]
[null,null,null,null,0,null,0,0,0]
[null,null,null,null,0,null,0,0,0]
[null,null,null,null,0,null,0,0,0]
[null,null,null,null,0,null,0,0,0]
[null,null,null,null,0,null,0,0,0]
[null,null,null,null,0,null,0,0,0]
[null,null,null,null,0,null,0,0,0]
[null,null,null,null,0,null,0,0,0]
[null,null,null,null,0,null,0,0,0]
[null,null,null,null,0,null,0,0,0]
[null,null,null,null,0,null,0,0,0]
[null,null,null,null,0,null,0,0,0]
[null,null,null,null,0,null,0,0,0]
[null,null,null,null,0,null,0,0,0]
[null,null,null,null,0,null,0,0,0]
[null,null,null,null,0,null,0,0,0]
[null,null,null,null,0,null,0,0,0]
[null,null,null,null,0,null,0,0,0]
[null,null,null,null,0,null,0,0,0]
[null,null,null,null,0,null,0,0,0]
[null,null,null,null,0,null,0,0,0]
[null,null,null,null,0,null,0,0,0]
[null,null,null,null,0,null,0,0,0]
[null,null,null,null,0,null,0,0,0]
[null,null,null,null,0,null,0,0,0]
[null,null,null,null,0,null,0,0,0]
[null,null,null,null,0,null,0,0,0]
[null,null,null,null,0,null,0,0,0]
[null,null,null,null,0,null,0,0,0]
[null,null,null,null,0,null,0,0,0]
[null,null,null,null,0,null,0,0,0]
[null,null,null,null,0,null,0,0,0]
[null,null,null,null,0,null,0,0,0]
[null,null,null,null,0,null,0,0,0]
[null,null,null,null,0,null,0,0,0]
[null,null,null,null,0,null,0,0,0]
[null,null,null,null,0,null,0,0,0]
[null,null,null,null,0,null,0,0,0]
[null,null,null,null,{"$f":"IF(C2906<D2906,ABS(C2906-D2906),0)","v":0},null,{"$f":"IF(E2906<F2906,0,E2906-F2906)","v":0},{"$f":"IFERROR(VLOOKUP(B2906,$A$17:$B$20,2,0),0)","v":0},{"$f":"G2906*H2906","v":0}]
[null,null,null,null,0,null,0,0,0]
[null,null,null,null,0,null,0,0,0]
[null,null,null,null,0,null,0,0,0]
[null,null,null,null,0,null,0,0,0]
[null,null,null,null,0,null,0,0,0]
[null,null,null,null,0,null,0,0,0]
[null,null,null,null,0,null,0,0,0]
[null,null,null,null,0,null,0,0,0]
[null,null,null,null,0,null,0,0,0]
[null,null,null,null,0,null,0,0,0]
[null,null,null,null,0,null,0,0,0]
[null,null,null,null,0,null,0,0,0]
[null,null,null,null,0,null,0,0,0]
[null,null,null,null,0,null,0,0,0]
[null,null,null,null,0,null,0,0,0]
[null,null,null,null,0,null,0,0,0]
[null,null,null,null,0,null,0,0,0]
[null,null,null,null,0,null,0,0,0]
[null,null,null,null,0,null,0,0,0]
[null,null,null,null,0,null,0,0,0]
[null,null,null,null,0,null,0,0,0]
[null,null,null,null,0,null,0,0,0]
[null,null,null,null,0,null,0,0,0]
[null,null,null,null,0,null,0,0,0]
[null,null,null,null,0,null,0,0,0]
[null,null,null,null,0,null,0,0,0]
[null,null,null,null,0,null,0,0,0]
[null,null,null,null,0,null,0,0,0]
[null,null,null,null,0,null,0,0,0]
[null,null,null,null,0,null,0,0,0]
[null,null,null,null,0,null,0,0,0]
[null,null,null,null,0,null,0,0,0]
[null,null,null,null,0,null,0,0,0]
[null,null,null,null,0,null,0,0,0]
[null,null,null,null,0,null,0,0,0]
[null,null,null,null,0,null,0,0,0]
[null,null,null,null,0,null,0,0,0]
[null,null,null,null,0,null,0,0,0]
[null,null,null,null,0,null,0,0,0]
[null,null,null,null,0,null,0,0,0]
[null,null,null,null,0,null,0,0,0]
[null,null,null,null,0,null,0,0,0]
[null,null,null,null,0,null,0,0,0]
[null,null,null,null,0,null,0,0,0]
[null,null,null,null,0,null,0,0,0]
[null,null,null,null,0,null,0,0,0]
[null,null,null,null,0,null,0,0,0]
[null,null,null,null,0,null,0,0,0]
[null,null,null,null,0,null,0,0,0]
[null,null,null,null,0,null,0,0,0]
[null,null,null,null,0,null,0,0,0]
[null,null,null,null,0,null,0,0,0]
[null,null,null,null,0,null,0,0,0]
[null,null,null,null,0,null,0,0,0]
[null,null,null,null,0,null,0,0,0]
[null,null,null,null,0,null,0,0,0]
[null,null,null,null,0,null,0,0,0]
[null,null,null,null,0,null,0,0,0]
[null,null,null,null,0,null,0,0,0]
[null,null,null,null,0,null,0,0,0]
[null,null,null,null,0,null,0,0,0]
[null,null,null,null,0,null,0,0,0]
[null,null,null,null,0,null,0,0,0]
[null,null,null,null,{"$f":"IF(C2970<D2970,ABS(C2970-D2970),0)","v":0},null,{"$f":"IF(E2970<F2970,0,E2970-F2970)","v":0},{"$f":"IFERROR(VLOOKUP(B2970,$A$17:$B$20,2,0),0)","v":0},{"$f":"G2970*H2970","v":0}]
[null,null,null,null,0,null,0,0,0]
[null,null,null,null,0,null,0,0,0]
[null,null,null,null,0,null,0,0,0]
[null,null,null,null,0,null,0,0,0]
[null,null,null,null,0,null,0,0,0]
[null,null,null,null,0,null,0,0,0]
[null,null,null,null,0,null,0,0,0]
[null,null,null,null,0,null,0,0,0]
[null,null,null,null,0,null,0,0,0]
[null,null,null,null,0,null,0,0,0]
[null,null,null,null,0,null,0,0,0]
[null,null,null,null,0,null,0,0,0]
[null,null,null,null,0,null,0,0,0]
[null,null,null,null,0,null,0,0,0]
[null,null,null,null,0,null,0,0,0]
[null,null,null,null,0,null,0,0,0]
[null,null,null,null,0,null,0,0,0]
[null,null,null,null,0,null,0,0,0]
[null,null,null,null,0,null,0,0,0]
[null,null,null,null,0,null,0,0,0]
[null,null,null,null,0,null,0,0,0]
[null,null,null,null,0,null,0,0,0]
[null,null,null,null,0,null,0,0,0]
[null,null,null,null,0,null,0,0,0]
[null,null,null,null,0,null,0,0,0]
[null,null,null,null,0,null,0,0,0]
[null,null,null,null,0,null,0,0,0]
[null,null,null,null,0,null,0,0,0]
[null,null,null,null,0,null,0,0,0]
[null,null,null,null,0,null,0,0,0]
[null,null,null,null,0,null,0,0,0]
[null,null,null,null,0,null,0,0,0]
[null,null,null,null,0,null,0,0,0]
[null,null,null,null,0,null,0,0,0]
[null,null,null,null,0,null,0,0,0]
[null,null,null,null,0,null,0,0,0]
[null,null,null,null,0,null,0,0,0]
[null,null,null,null,0,null,0,0,0]
[null,null,null,null,0,null,0,0,0]
[null,null,null,null,0,null,0,0,0]
[null,null,null,null,0,null,0,0,0]
[null,null,null,null,0,null,0,0,0]
[null,null,null,null,0,null,0,0,0]
[null,null,null,null,0,null,0,0,0]
[null,null,null,null,0,null,0,0,0]
[null,null,null,null,0,null,0,0,0]
[null,null,null,null,0,null,0,0,0]
[null,null,null,null,0,null,0,0,0]
[null,null,null,null,0,null,0,0,0]
[null,null,null,null,0,null,0,0,0]
[null,null,null,null,0,null,0,0,0]
[null,null,null,null,0,null,0,0,0]
[null,null,null,null,0,null,0,0,0]
[null,null,null,null,0,null,0,0,0]
[null,null,null,null,0,null,0,0,0]
[null,null,null,null,0,null,0,0,0]
[null,null,null,null,0,null,0,0,0]
[null,null,null,null,0,null,0,0,0]
[null,null,null,null,0,null,0,0,0]
[null,null,null,null,0,null,0,0,0]
[null,null,null,null,0,null,0,0,0]
[null,null,null,null,0,null,0,0,0]
[null,null,null,null,0,null,0,0,0]
[null,null,null,null,{"$f":"IF(C3034<D3034,ABS(C3034-D3034),0)","v":0},null,{"$f":"IF(E3034<F3034,0,E3034-F3034)","v":0},{"$f":"IFERROR(VLOOKUP(B3034,$A$17:$B$20,2,0),0)","v":0},{"$f":"G3034*H3034","v":0}]
[null,null,null,null,0,null,0,0,0]
[null,null,null,null,0,null,0,0,0]
[null,null,null,null,0,null,0,0,0]
[null,null,null,null,0,null,0,0,0]
[null,null,null,null,0,null,0,0,0]
[null,null,null,null,0,null,0,0,0]
[null,null,null,null,0,null,0,0,0]
[null,null,null,null,0,null,0,0,0]
[null,null,null,null,0,null,0,0,0]
[null,null,null,null,0,null,0,0,0]
[null,null,null,null,0,null,0,0,0]
[null,null,null,null,0,null,0,0,0]
[null,null,null,null,0,null,0,0,0]
[null,null,null,null,0,null,0,0,0]
[null,null,null,null,0,null,0,0,0]
[null,null,null,null,0,null,0,0,0]
[null,null,null,null,0,null,0,0,0]
[null,null,null,null,0,null,0,0,0]
[null,null,null,null,0,null,0,0,0]
[null,null,null,null,0,null,0,0,0]
[null,null,null,null,0,null,0,0,0]
[null,null,null,null,0,null,0,0,0]
[null,null,null,null,0,null,0,0,0]
[null,null,null,null,0,null,0,0,0]
[null,null,null,null,0,null,0,0,0]
[null,null,null,null,0,null,0,0,0]
[null,null,null,null,0,null,0,0,0]
[null,null,null,null,0,null,0,0,0]
[null,null,null,null,0,null,0,0,0]
[null,null,null,null,0,null,0,0,0]
[null,null,null,null,0,null,0,0,0]
[null,null,null,null,0,null,0,0,0]
[null,null,null,null,0,null,0,0,0]
[null,null,null,null,0,null,0,0,0]
[null,null,null,null,0,null,0,0,0]
[null,null,null,null,0,null,0,0,0]
[null,null,null,null,0,null,0,0,0]
[null,null,null,null,0,null,0,0,0]
[null,null,null,null,0,null,0,0,0]
[null,null,null,null,0,null,0,0,0]
[null,null,null,null,0,null,0,0,0]
[null,null,null,null,0,null,0,0,0]
[null,null,null,null,0,null,0,0,0]
[null,null,null,null,0,null,0,0,0]
[null,null,null,null,0,null,0,0,0]
[null,null,null,null,0,null,0,0,0]
[null,null,null,null,0,null,0,0,0]
[null,null,null,null,0,null,0,0,0]
[null,null,null,null,0,null,0,0,0]
[null,null,null,null,0,null,0,0,0]
[null,null,null,null,0,null,0,0,0]
[null,null,null,null,0,null,0,0,0]
[null,null,null,null,0,null,0,0,0]
[null,null,null,null,0,null,0,0,0]
[null,null,null,null,0,null,0,0,0]
[null,null,null,null,0,null,0,0,0]
[null,null,null,null,0,null,0,0,0]
[null,null,null,null,0,null,0,0,0]
[null,null,null,null,0,null,0,0,0]
[null,null,null,null,0,null,0,0,0]
[null,null,null,null,0,null,0,0,0]
[null,null,null,null,0,null,0,0,0]
[null,null,null,null,0,null,0,0,0]
[null,null,null,null,{"$f":"IF(C3098<D3098,ABS(C3098-D3098),0)","v":0},null,{"$f":"IF(E3098<F3098,0,E3098-F3098)","v":0},{"$f":"IFERROR(VLOOKUP(B3098,$A$17:$B$20,2,0),0)","v":0},{"$f":"G3098*H3098","v":0}]
[null,null,null,null,0,null,0,0,0]
[null,null,null,null,0,null,0,0,0]
[null,null,null,null,0,null,0,0,0]
[null,null,null,null,0,null,0,0,0]
[null,null,null,null,0,null,0,0,0]
[null,null,null,null,0,null,0,0,0]
[null,null,null,null,0,null,0,0,0]
[null,null,null,null,0,null,0,0,0]
[null,null,null,null,0,null,0,0,0]
[null,null,null,null,0,null,0,0,0]
[null,null,null,null,0,null,0,0,0]
[null,null,null,null,0,null,0,0,0]
[null,null,null,null,0,null,0,0,0]
[null,null,null,null,0,null,0,0,0]
[null,null,null,null,0,null,0,0,0]
[null,null,null,null,0,null,0,0,0]
[null,null,null,null,0,null,0,0,0]
[null,null,null,null,0,null,0,0,0]
[null,null,null,null,0,null,0,0,0]
[null,null,null,null,0,null,0,0,0]
[null,null,null,null,0,null,0,0,0]
[null,null,null,null,0,null,0,0,0]
[null,null,null,null,0,null,0,0,0]
[null,null,null,null,0,null,0,0,0]
[null,null,null,null,0,null,0,0,0]
[null,null,null,null,0,null,0,0,0]
[null,null,null,null,0,null,0,0,0]
[null,null,null,null,0,null,0,0,0]
[null,null,null,null,0,null,0,0,0]
[null,null,null,null,0,null,0,0,0]
[null,null,null,null,0,null,0,0,0]
[null,null,null,null,0,null,0,0,0]
[null,null,null,null,0,null,0,0,0]
[null,null,null,null,0,null,0,0,0]
[null,null,null,null,0,null,0,0,0]
[null,null,null,null,0,null,0,0,0]
[null,null,null,null,0,null,0,0,0]
[null,null,null,null,0,null,0,0,0]
[null,null,null,null,0,null,0,0,0]
[null,null,null,null,0,null,0,0,0]
[null,null,null,null,0,null,0,0,0]
[null,null,null,null,0,null,0,0,0]
[null,null,null,null,0,null,0,0,0]
[null,null,null,null,0,null,0,0,0]
[null,null,null,null,0,null,0,0,0]
[null,null,null,null,0,null,0,0,0]
[null,null,null,null,0,null,0,0,0]
[null,null,null,null,0,null,0,0,0]
[null,null,null,null,0,null,0,0,0]
[null,null,null,null,0,null,0,0,0]
[null,null,null,null,0,null,0,0,0]
[null,null,null,null,0,null,0,0,0]
[null,null,null,null,0,null,0,0,0]
[null,null,null,null,0,null,0,0,0]
[null,null,null,null,0,null,0,0,0]
[null,null,null,null,0,null,0,0,0]
[null,null,null,null,0,null,0,0,0]
[null,null,null,null,0,null,0,0,0]
[null,null,null,null,0,null,0,0,0]
[null,null,null,null,0,null,0,0,0]
[null,null,null,null,0,null,0,0,0]
[null,null,null,null,0,null,0,0,0]
[null,null,null,null,0,null,0,0,0]
[null,null,null,null,{"$f":"IF(C3162<D3162,ABS(C3162-D3162),0)","v":0},null,{"$f":"IF(E3162<F3162,0,E3162-F3162)","v":0},{"$f":"IFERROR(VLOOKUP(B3162,$A$17:$B$20,2,0),0)","v":0},{"$f":"G3162*H3162","v":0}]
[null,null,null,null,0,null,0,0,0]
[null,null,null,null,0,null,0,0,0]
[null,null,null,null,0,null,0,0,0]
[null,null,null,null,0,null,0,0,0]
[null,null,null,null,0,null,0,0,0]
[null,null,null,null,0,null,0,0,0]
[null,null,null,null,0,null,0,0,0]
[null,null,null,null,0,null,0,0,0]
[null,null,null,null,0,null,0,0,0]
[null,null,null,null,0,null,0,0,0]
[null,null,null,null,0,null,0,0,0]
[null,null,null,null,0,null,0,0,0]
[null,null,null,null,0,null,0,0,0]
[null,null,null,null,0,null,0,0,0]
[null,null,null,null,0,null,0,0,0]
[null,null,null,null,0,null,0,0,0]
[null,null,null,null,0,null,0,0,0]
[null,null,null,null,0,null,0,0,0]
[null,null,null,null,0,null,0,0,0]
[null,null,null,null,0,null,0,0,0]
[null,null,null,null,0,null,0,0,0]
[null,null,null,null,0,null,0,0,0]
[null,null,null,null,0,null,0,0,0]
[null,null,null,null,0,null,0,0,0]
[null,null,null,null,0,null,0,0,0]
[null,null,null,null,0,null,0,0,0]
[null,null,null,null,0,null,0,0,0]
[null,null,null,null,0,null,0,0,0]
[null,null,null,null,0,null,0,0,0]
[null,null,null,null,0,null,0,0,0]
[null,null,null,null,0,null,0,0,0]
[null,null,null,null,0,null,0,0,0]
[null,null,null,null,0,null,0,0,0]
[null,null,null,null,0,null,0,0,0]
[null,null,null,null,0,null,0,0,0]
[null,null,null,null,0,null,0,0,0]
[null,null,null,null,0,null,0,0,0]
[null,null,null,null,0,null,0,0,0]
[null,null,null,null,0,null,0,0,0]
[null,null,null,null,0,null,0,0,0]
[null,null,null,null,0,null,0,0,0]
[null,null,null,null,0,null,0,0,0]
[null,null,null,null,0,null,0,0,0]
[null,null,null,null,0,null,0,0,0]
[null,null,null,null,0,null,0,0,0]
[null,null,null,null,0,null,0,0,0]
[null,null,null,null,0,null,0,0,0]
[null,null,null,null,0,null,0,0,0]
[null,null,null,null,0,null,0,0,0]
[null,null,null,null,0,null,0,0,0]
[null,null,null,null,0,null,0,0,0]
[null,null,null,null,0,null,0,0,0]
[null,null,null,null,0,null,0,0,0]
[null,null,null,null,0,null,0,0,0]
[null,null,null,null,0,null,0,0,0]
[null,null,null,null,0,null,0,0,0]
[null,null,null,null,0,null,0,0,0]
[null,null,null,null,0,null,0,0,0]
[null,null,null,null,0,null,0,0,0]
[null,null,null,null,0,null,0,0,0]
[null,null,null,null,0,null,0,0,0]
[null,null,null,null,0,null,0,0,0]
[null,null,null,null,0,null,0,0,0]
[null,null,null,null,{"$f":"IF(C3226<D3226,ABS(C3226-D3226),0)","v":0},null,{"$f":"IF(E3226<F3226,0,E3226-F3226)","v":0},{"$f":"IFERROR(VLOOKUP(B3226,$A$17:$B$20,2,0),0)","v":0},{"$f":"G3226*H3226","v":0}]
[null,null,null,null,0,null,0,0,0]
[null,null,null,null,0,null,0,0,0]
[null,null,null,null,0,null,0,0,0]
[null,null,null,null,0,null,0,0,0]
[null,null,null,null,0,null,0,0,0]
[null,null,null,null,0,null,0,0,0]
[null,null,null,null,0,null,0,0,0]
[null,null,null,null,0,null,0,0,0]
[null,null,null,null,0,null,0,0,0]
[null,null,null,null,0,null,0,0,0]
[null,null,null,null,0,null,0,0,0]
[null,null,null,null,0,null,0,0,0]
[null,null,null,null,0,null,0,0,0]
[null,null,null,null,0,null,0,0,0]
[null,null,null,null,0,null,0,0,0]
[null,null,null,null,0,null,0,0,0]
[null,null,null,null,0,null,0,0,0]
[null,null,null,null,0,null,0,0,0]
[null,null,null,null,0,null,0,0,0]
[null,null,null,null,0,null,0,0,0]
[null,null,null,null,0,null,0,0,0]
[null,null,null,null,0,null,0,0,0]
[null,null,null,null,0,null,0,0,0]
[null,null,null,null,0,null,0,0,0]
[null,null,null,null,0,null,0,0,0]
[null,null,null,null,0,null,0,0,0]
[null,null,null,null,0,null,0,0,0]
[null,null,null,null,0,null,0,0,0]
[null,null,null,null,0,null,0,0,0]
[null,null,null,null,0,null,0,0,0]
[null,null,null,null,0,null,0,0,0]
[null,null,null,null,0,null,0,0,0]
[null,null,null,null,0,null,0,0,0]
[null,null,null,null,0,null,0,0,0]
[null,null,null,null,0,null,0,0,0]
[null,null,null,null,0,null,0,0,0]
[null,null,null,null,0,null,0,0,0]
[null,null,null,null,0,null,0,0,0]
[null,null,null,null,0,null,0,0,0]
[null,null,null,null,0,null,0,0,0]
[null,null,null,null,0,null,0,0,0]
[null,null,null,null,0,null,0,0,0]
[null,null,null,null,0,null,0,0,0]
[null,null,null,null,0,null,0,0,0]
[null,null,null,null,0,null,0,0,0]
[null,null,null,null,0,null,0,0,0]
[null,null,null,null,0,null,0,0,0]
[null,null,null,null,0,null,0,0,0]
[null,null,null,null,0,null,0,0,0]
[null,null,null,null,0,null,0,0,0]
[null,null,null,null,0,null,0,0,0]
[null,null,null,null,0,null,0,0,0]
[null,null,null,null,0,null,0,0,0]
[null,null,null,null,0,null,0,0,0]
[null,null,null,null,0,null,0,0,0]
[null,null,null,null,0,null,0,0,0]
[null,null,null,null,0,null,0,0,0]
[null,null,null,null,0,null,0,0,0]
[null,null,null,null,0,null,0,0,0]
[null,null,null,null,0,null,0,0,0]
[null,null,null,null,0,null,0,0,0]
[null,null,null,null,0,null,0,0,0]
[null,null,null,null,0,null,0,0,0]
[null,null,null,null,{"$f":"IF(C3290<D3290,ABS(C3290-D3290),0)","v":0},null,{"$f":"IF(E3290<F3290,0,E3290-F3290)","v":0},{"$f":"IFERROR(VLOOKUP(B3290,$A$17:$B$20,2,0),0)","v":0},{"$f":"G3290*H3290","v":0}]
[null,null,null,null,0,null,0,0,0]
[null,null,null,null,0,null,0,0,0]
[null,null,null,null,0,null,0,0,0]
[null,null,null,null,0,null,0,0,0]
[null,null,null,null,0,null,0,0,0]
[null,null,null,null,0,null,0,0,0]
[null,null,null,null,0,null,0,0,0]
[null,null,null,null,0,null,0,0,0]
[null,null,null,null,0,null,0,0,0]
[null,null,null,null,0,null,0,0,0]
[null,null,null,null,0,null,0,0,0]
[null,null,null,null,0,null,0,0,0]
[null,null,null,null,0,null,0,0,0]
[null,null,null,null,0,null,0,0,0]
[null,null,null,null,0,null,0,0,0]
[null,null,null,null,0,null,0,0,0]
[null,null,null,null,0,null,0,0,0]
[null,null,null,null,0,null,0,0,0]
[null,null,null,null,0,null,0,0,0]
[null,null,null,null,0,null,0,0,0]
[null,null,null,null,0,null,0,0,0]
[null,null,null,null,0,null,0,0,0]
[null,null,null,null,0,null,0,0,0]
[null,null,null,null,0,null,0,0,0]
[null,null,null,null,0,null,0,0,0]
[null,null,null,null,0,null,0,0,0]
[null,null,null,null,0,null,0,0,0]
[null,null,null,null,0,null,0,0,0]
[null,null,null,null,0,null,0,0,0]
[null,null,null,null,0,null,0,0,0]
[null,null,null,null,0,null,0,0,0]
[null,null,null,null,0,null,0,0,0]
[null,null,null,null,0,null,0,0,0]
[null,null,null,null,0,null,0,0,0]
[null,null,null,null,0,null,0,0,0]
[null,null,null,null,0,null,0,0,0]
[null,null,null,null,0,null,0,0,0]
[null,null,null,null,0,null,0,0,0]
[null,null,null,null,0,null,0,0,0]
[null,null,null,null,0,null,0,0,0]
[null,null,null,null,0,null,0,0,0]
[null,null,null,null,0,null,0,0,0]
[null,null,null,null,0,null,0,0,0]
[null,null,null,null,0,null,0,0,0]
[null,null,null,null,0,null,0,0,0]
[null,null,null,null,0,null,0,0,0]
[null,null,null,null,0,null,0,0,0]
[null,null,null,null,0,null,0,0,0]
[null,null,null,null,0,null,0,0,0]
[null,null,null,null,0,null,0,0,0]
[null,null,null,null,0,null,0,0,0]
[null,null,null,null,0,null,0,0,0]
[null,null,null,null,0,null,0,0,0]
[null,null,null,null,0,null,0,0,0]
[null,null,null,null,0,null,0,0,0]
[null,null,null,null,0,null,0,0,0]
[null,null,null,null,0,null,0,0,0]
[null,null,null,null,0,null,0,0,0]
[null,null,null,null,0,null,0,0,0]
[null,null,null,null,0,null,0,0,0]
[null,null,null,null,0,null,0,0,0]
[null,null,null,null,0,null,0,0,0]
[null,null,null,null,0,null,0,0,0]
[null,null,null,null,{"$f":"IF(C3354<D3354,ABS(C3354-D3354),0)","v":0},null,{"$f":"IF(E3354<F3354,0,E3354-F3354)","v":0},{"$f":"IFERROR(VLOOKUP(B3354,$A$17:$B$20,2,0),0)","v":0},{"$f":"G3354*H3354","v":0}]
[null,null,null,null,0,null,0,0,0]
[null,null,null,null,0,null,0,0,0]
[null,null,null,null,0,null,0,0,0]
[null,null,null,null,0,null,0,0,0]
[null,null,null,null,0,null,0,0,0]
[null,null,null,null,0,null,0,0,0]
[null,null,null,null,0,null,0,0,0]
[null,null,null,null,0,null,0,0,0]
[null,null,null,null,0,null,0,0,0]
[null,null,null,null,0,null,0,0,0]
[null,null,null,null,0,null,0,0,0]
[null,null,null,null,0,null,0,0,0]
[null,null,null,null,0,null,0,0,0]
[null,null,null,null,0,null,0,0,0]
[null,null,null,null,0,null,0,0,0]
[null,null,null,null,0,null,0,0,0]
[null,null,null,null,0,null,0,0,0]
[null,null,null,null,0,null,0,0,0]
[null,null,null,null,0,null,0,0,0]
[null,null,null,null,0,null,0,0,0]
[null,null,null,null,0,null,0,0,0]
[null,null,null,null,0,null,0,0,0]
[null,null,null,null,0,null,0,0,0]
[null,null,null,null,0,null,0,0,0]
[null,null,null,null,0,null,0,0,0]
[null,null,null,null,0,null,0,0,0]
[null,null,null,null,0,null,0,0,0]
[null,null,null,null,0,null,0,0,0]
[null,null,null,null,0,null,0,0,0]
[null,null,null,null,0,null,0,0,0]
[null,null,null,null,0,null,0,0,0]
[null,null,null,null,0,null,0,0,0]
[null,null,null,null,0,null,0,0,0]
[null,null,null,null,0,null,0,0,0]
[null,null,null,null,0,null,0,0,0]
[null,null,null,null,0,null,0,0,0]
[null,null,null,null,0,null,0,0,0]
[null,null,null,null,0,null,0,0,0]
[null,null,null,null,0,null,0,0,0]
[null,null,null,null,0,null,0,0,0]
[null,null,null,null,0,null,0,0,0]
[null,null,null,null,0,null,0,0,0]
[null,null,null,null,0,null,0,0,0]
[null,null,null,null,0,null,0,0,0]
[null,null,null,null,0,null,0,0,0]
[null,null,null,null,0,null,0,0,0]
[null,null,null,null,0,null,0,0,0]
[null,null,null,null,0,null,0,0,0]
[null,null,null,null,0,null,0,0,0]
[null,null,null,null,0,null,0,0,0]
[null,null,null,null,0,null,0,0,0]
[null,null,null,null,0,null,0,0,0]
[null,null,null,null,0,null,0,0,0]
[null,null,null,null,0,null,0,0,0]
[null,null,null,null,0,null,0,0,0]
[null,null,null,null,0,null,0,0,0]
[null,null,null,null,0,null,0,0,0]
[null,null,null,null,0,null,0,0,0]
[null,null,null,null,0,null,0,0,0]
[null,null,null,null,0,null,0,0,0]
[null,null,null,null,0,null,0,0,0]
[null,null,null,null,0,null,0,0,0]
[null,null,null,null,0,null,0,0,0]
[null,null,null,null,{"$f":"IF(C3418<D3418,ABS(C3418-D3418),0)","v":0},null,{"$f":"IF(E3418<F3418,0,E3418-F3418)","v":0},{"$f":"IFERROR(VLOOKUP(B3418,$A$17:$B$20,2,0),0)","v":0},{"$f":"G3418*H3418","v":0}]
[null,null,null,null,0,null,0,0,0]
[null,null,null,null,0,null,0,0,0]
[null,null,null,null,0,null,0,0,0]
[null,null,null,null,0,null,0,0,0]
[null,null,null,null,0,null,0,0,0]
[null,null,null,null,0,null,0,0,0]
[null,null,null,null,0,null,0,0,0]
[null,null,null,null,0,null,0,0,0]
[null,null,null,null,0,null,0,0,0]
[null,null,null,null,0,null,0,0,0]
[null,null,null,null,0,null,0,0,0]
[null,null,null,null,0,null,0,0,0]
[null,null,null,null,0,null,0,0,0]
[null,null,null,null,0,null,0,0,0]
[null,null,null,null,0,null,0,0,0]
[null,null,null,null,0,null,0,0,0]
[null,null,null,null,0,null,0,0,0]
[null,null,null,null,0,null,0,0,0]
[null,null,null,null,0,null,0,0,0]
[null,null,null,null,0,null,0,0,0]
[null,null,null,null,0,null,0,0,0]
[null,null,null,null,0,null,0,0,0]
[null,null,null,null,0,null,0,0,0]
[null,null,null,null,0,null,0,0,0]
[null,null,null,null,0,null,0,0,0]
[null,null,null,null,0,null,0,0,0]
[null,null,null,null,0,null,0,0,0]
[null,null,null,null,0,null,0,0,0]
[null,null,null,null,0,null,0,0,0]
[null,null,null,null,0,null,0,0,0]
[null,null,null,null,0,null,0,0,0]
[null,null,null,null,0,null,0,0,0]
[null,null,null,null,0,null,0,0,0]
[null,null,null,null,0,null,0,0,0]
[null,null,null,null,0,null,0,0,0]
[null,null,null,null,0,null,0,0,0]
[null,null,null,null,0,null,0,0,0]
[null,null,null,null,0,null,0,0,0]
[null,null,null,null,0,null,0,0,0]
[null,null,null,null,0,null,0,0,0]
[null,null,null,null,0,null,0,0,0]
[null,null,null,null,0,null,0,0,0]
[null,null,null,null,0,null,0,0,0]
[null,null,null,null,0,null,0,0,0]
[null,null,null,null,0,null,0,0,0]
[null,null,null,null,0,null,0,0,0]
[null,null,null,null,0,null,0,0,0]
[null,null,null,null,0,null,0,0,0]
[null,null,null,null,0,null,0,0,0]
[null,null,null,null,0,null,0,0,0]
[null,null,null,null,0,null,0,0,0]
[null,null,null,null,0,null,0,0,0]
[null,null,null,null,0,null,0,0,0]
[null,null,null,null,0,null,0,0,0]
[null,null,null,null,0,null,0,0,0]
[null,null,null,null,0,null,0,0,0]
[null,null,null,null,0,null,0,0,0]
[null,null,null,null,0,null,0,0,0]
[null,null,null,null,0,null,0,0,0]
[null,null,null,null,0,null,0,0,0]
[null,null,null,null,0,null,0,0,0]
[null,null,null,null,0,null,0,0,0]
[null,null,null,null,0,null,0,0,0]
[null,null,null,null,{"$f":"IF(C3482<D3482,ABS(C3482-D3482),0)","v":0},null,{"$f":"IF(E3482<F3482,0,E3482-F3482)","v":0},{"$f":"IFERROR(VLOOKUP(B3482,$A$17:$B$20,2,0),0)","v":0},{"$f":"G3482*H3482","v":0}]
[null,null,null,null,0,null,0,0,0]
[null,null,null,null,0,null,0,0,0]
[null,null,null,null,0,null,0,0,0]
[null,null,null,null,0,null,0,0,0]
[null,null,null,null,0,null,0,0,0]
[null,null,null,null,0,null,0,0,0]
[null,null,null,null,0,null,0,0,0]
[null,null,null,null,0,null,0,0,0]
[null,null,null,null,0,null,0,0,0]
[null,null,null,null,0,null,0,0,0]
[null,null,null,null,0,null,0,0,0]
[null,null,null,null,0,null,0,0,0]
[null,null,null,null,0,null,0,0,0]
[null,null,null,null,0,null,0,0,0]
[null,null,null,null,0,null,0,0,0]
[null,null,null,null,0,null,0,0,0]
[null,null,null,null,0,null,0,0,0]
[null,null,null,null,0,null,0,0,0]
[null,null,null,null,0,null,0,0,0]
[null,null,null,null,0,null,0,0,0]
[null,null,null,null,0,null,0,0,0]
[null,null,null,null,0,null,0,0,0]
[null,null,null,null,0,null,0,0,0]
[null,null,null,null,0,null,0,0,0]
[null,null,null,null,0,null,0,0,0]
[null,null,null,null,0,null,0,0,0]
[null,null,null,null,0,null,0,0,0]
[null,null,null,null,0,null,0,0,0]
[null,null,null,null,0,null,0,0,0]
[null,null,null,null,0,null,0,0,0]
[null,null,null,null,0,null,0,0,0]
[null,null,null,null,0,null,0,0,0]
[null,null,null,null,0,null,0,0,0]
[null,null,null,null,0,null,0,0,0]
[null,null,null,null,0,null,0,0,0]
[null,null,null,null,0,null,0,0,0]
[null,null,null,null,0,null,0,0,0]
[null,null,null,null,0,null,0,0,0]
[null,null,null,null,0,null,0,0,0]
[null,null,null,null,0,null,0,0,0]
[null,null,null,null,0,null,0,0,0]
[null,null,null,null,0,null,0,0,0]
[null,null,null,null,0,null,0,0,0]
[null,null,null,null,0,null,0,0,0]
[null,null,null,null,0,null,0,0,0]
[null,null,null,null,0,null,0,0,0]
[null,null,null,null,0,null,0,0,0]
[null,null,null,null,0,null,0,0,0]
[null,null,null,null,0,null,0,0,0]
[null,null,null,null,0,null,0,0,0]
[null,null,null,null,0,null,0,0,0]
[null,null,null,null,0,null,0,0,0]
[null,null,null,null,0,null,0,0,0]
[null,null,null,null,0,null,0,0,0]
[null,null,null,null,0,null,0,0,0]
[null,null,null,null,0,null,0,0,0]
[null,null,null,null,0,null,0,0,0]
[null,null,null,null,0,null,0,0,0]
[null,null,null,null,0,null,0,0,0]
[null,null,null,null,0,null,0,0,0]
[null,null,null,null,0,null,0,0,0]
[null,null,null,null,0,null,0,0,0]
[null,null,null,null,0,null,0,0,0]
[null,null,null,null,{"$f":"IF(C3546<D3546,ABS(C3546-D3546),0)","v":0},null,{"$f":"IF(E3546<F3546,0,E3546-F3546)","v":0},{"$f":"IFERROR(VLOOKUP(B3546,$A$17:$B$20,2,0),0)","v":0},{"$f":"G3546*H3546","v":0}]
[null,null,null,null,0,null,0,0,0]
[null,null,null,null,0,null,0,0,0]
[null,null,null,null,0,null,0,0,0]
[null,null,null,null,0,null,0,0,0]
[null,null,null,null,0,null,0,0,0]
[null,null,null,null,0,null,0,0,0]
[null,null,null,null,0,null,0,0,0]
[null,null,null,null,0,null,0,0,0]
[null,null,null,null,0,null,0,0,0]
[null,null,null,null,0,null,0,0,0]
[null,null,null,null,0,null,0,0,0]
[null,null,null,null,0,null,0,0,0]
[null,null,null,null,0,null,0,0,0]
[null,null,null,null,0,null,0,0,0]
[null,null,null,null,0,null,0,0,0]
[null,null,null,null,0,null,0,0,0]
[null,null,null,null,0,null,0,0,0]
[null,null,null,null,0,null,0,0,0]
[null,null,null,null,0,null,0,0,0]
[null,null,null,null,0,null,0,0,0]
[null,null,null,null,0,null,0,0,0]
[null,null,null,null,0,null,0,0,0]
[null,null,null,null,0,null,0,0,0]
[null,null,null,null,0,null,0,0,0]
[null,null,null,null,0,null,0,0,0]
[null,null,null,null,0,null,0,0,0]
[null,null,null,null,0,null,0,0,0]
[null,null,null,null,0,null,0,0,0]
[null,null,null,null,0,null,0,0,0]
[null,null,null,null,0,null,0,0,0]
[null,null,null,null,0,null,0,0,0]
[null,null,null,null,0,null,0,0,0]
[null,null,null,null,0,null,0,0,0]
[null,null,null,null,0,null,0,0,0]
[null,null,null,null,0,null,0,0,0]
[null,null,null,null,0,null,0,0,0]
[null,null,null,null,0,null,0,0,0]
[null,null,null,null,0,null,0,0,0]
[null,null,null,null,0,null,0,0,0]
[null,null,null,null,0,null,0,0,0]
[null,null,null,null,0,null,0,0,0]
[null,null,null,null,0,null,0,0,0]
[null,null,null,null,0,null,0,0,0]
[null,null,null,null,0,null,0,0,0]
[null,null,null,null,0,null,0,0,0]
[null,null,null,null,0,null,0,0,0]
[null,null,null,null,0,null,0,0,0]
[null,null,null,null,0,null,0,0,0]
[null,null,null,null,0,null,0,0,0]
[null,null,null,null,0,null,0,0,0]
[null,null,null,null,0,null,0,0,0]
[null,null,null,null,0,null,0,0,0]
[null,null,null,null,0,null,0,0,0]
[null,null,null,null,0,null,0,0,0]
[null,null,null,null,0,null,0,0,0]
[null,null,null,null,0,null,0,0,0]
[null,null,null,null,0,null,0,0,0]
[null,null,null,null,0,null,0,0,0]
[null,null,null,null,0,null,0,0,0]
[null,null,null,null,0,null,0,0,0]
[null,null,null,null,0,null,0,0,0]
[null,null,null,null,0,null,0,0,0]
[null,null,null,null,0,null,0,0,0]
[null,null,null,null,{"$f":"IF(C3610<D3610,ABS(C3610-D3610),0)","v":0},null,{"$f":"IF(E3610<F3610,0,E3610-F3610)","v":0},{"$f":"IFERROR(VLOOKUP(B3610,$A$17:$B$20,2,0),0)","v":0},{"$f":"G3610*H3610","v":0}]
[null,null,null,null,0,null,0,0,0]
[null,null,null,null,0,null,0,0,0]
[null,null,null,null,0,null,0,0,0]
[null,null,null,null,0,null,0,0,0]
[null,null,null,null,0,null,0,0,0]
[null,null,null,null,0,null,0,0,0]
[null,null,null,null,0,null,0,0,0]
[null,null,null,null,0,null,0,0,0]
[null,null,null,null,0,null,0,0,0]
[null,null,null,null,0,null,0,0,0]
[null,null,null,null,0,null,0,0,0]
[null,null,null,null,0,null,0,0,0]
[null,null,null,null,0,null,0,0,0]
[null,null,null,null,0,null,0,0,0]
[null,null,null,null,0,null,0,0,0]
[null,null,null,null,0,null,0,0,0]
[null,null,null,null,0,null,0,0,0]
[null,null,null,null,0,null,0,0,0]
[null,null,null,null,0,null,0,0,0]
[null,null,null,null,0,null,0,0,0]
[null,null,null,null,0,null,0,0,0]
[null,null,null,null,0,null,0,0,0]
[null,null,null,null,0,null,0,0,0]
[null,null,null,null,0,null,0,0,0]
[null,null,null,null,0,null,0,0,0]
[null,null,null,null,0,null,0,0,0]
[null,null,null,null,0,null,0,0,0]
[null,null,null,null,0,null,0,0,0]
[null,null,null,null,0,null,0,0,0]
[null,null,null,null,0,null,0,0,0]
[null,null,null,null,0,null,0,0,0]
[null,null,null,null,0,null,0,0,0]
[null,null,null,null,0,null,0,0,0]
[null,null,null,null,0,null,0,0,0]
[null,null,null,null,0,null,0,0,0]
[null,null,null,null,0,null,0,0,0]
[null,null,null,null,0,null,0,0,0]
[null,null,null,null,0,null,0,0,0]
[null,null,null,null,0,null,0,0,0]
[null,null,null,null,0,null,0,0,0]
[null,null,null,null,0,null,0,0,0]
[null,null,null,null,0,null,0,0,0]
[null,null,null,null,0,null,0,0,0]
[null,null,null,null,0,null,0,0,0]
[null,null,null,null,0,null,0,0,0]
[null,null,null,null,0,null,0,0,0]
[null,null,null,null,0,null,0,0,0]
[null,null,null,null,0,null,0,0,0]
[null,null,null,null,0,null,0,0,0]
[null,null,null,null,0,null,0,0,0]
[null,null,null,null,0,null,0,0,0]
[null,null,null,null,0,null,0,0,0]
[null,null,null,null,0,null,0,0,0]
[null,null,null,null,0,null,0,0,0]
[null,null,null,null,0,null,0,0,0]
[null,null,null,null,0,null,0,0,0]
[null,null,null,null,0,null,0,0,0]
[null,null,null,null,0,null,0,0,0]
[null,null,null,null,0,null,0,0,0]
[null,null,null,null,0,null,0,0,0]
[null,null,null,null,0,null,0,0,0]
[null,null,null,null,0,null,0,0,0]
[null,null,null,null,0,null,0,0,0]
[null,null,null,null,{"$f":"IF(C3674<D3674,ABS(C3674-D3674),0)","v":0},null,{"$f":"IF(E3674<F3674,0,E3674-F3674)","v":0},{"$f":"IFERROR(VLOOKUP(B3674,$A$17:$B$20,2,0),0)","v":0},{"$f":"G3674*H3674","v":0}]
[null,null,null,null,0,null,0,0,0]
[null,null,null,null,0,null,0,0,0]
[null,null,null,null,0,null,0,0,0]
[null,null,null,null,0,null,0,0,0]
[null,null,null,null,0,null,0,0,0]
[null,null,null,null,0,null,0,0,0]
[null,null,null,null,0,null,0,0,0]
[null,null,null,null,0,null,0,0,0]
[null,null,null,null,0,null,0,0,0]
[null,null,null,null,0,null,0,0,0]
[null,null,null,null,0,null,0,0,0]
[null,null,null,null,0,null,0,0,0]
[null,null,null,null,0,null,0,0,0]
[null,null,null,null,0,null,0,0,0]
[null,null,null,null,0,null,0,0,0]
[null,null,null,null,0,null,0,0,0]
[null,null,null,null,0,null,0,0,0]
[null,null,null,null,0,null,0,0,0]
[null,null,null,null,0,null,0,0,0]
[null,null,null,null,0,null,0,0,0]
[null,null,null,null,0,null,0,0,0]
[null,null,null,null,0,null,0,0,0]
[null,null,null,null,0,null,0,0,0]
[null,null,null,null,0,null,0,0,0]
[null,null,null,null,0,null,0,0,0]
[null,null,null,null,0,null,0,0,0]
[null,null,null,null,0,null,0,0,0]
[null,null,null,null,0,null,0,0,0]
[null,null,null,null,0,null,0,0,0]
[null,null,null,null,0,null,0,0,0]
[null,null,null,null,0,null,0,0,0]
[null,null,null,null,0,null,0,0,0]
[null,null,null,null,0,null,0,0,0]
[null,null,null,null,0,null,0,0,0]
[null,null,null,null,0,null,0,0,0]
[null,null,null,null,0,null,0,0,0]
[null,null,null,null,0,null,0,0,0]
[null,null,null,null,0,null,0,0,0]
[null,null,null,null,0,null,0,0,0]
[null,null,null,null,0,null,0,0,0]
[null,null,null,null,0,null,0,0,0]
[null,null,null,null,0,null,0,0,0]
[null,null,null,null,0,null,0,0,0]
[null,null,null,null,0,null,0,0,0]
[null,null,null,null,0,null,0,0,0]
[null,null,null,null,0,null,0,0,0]
[null,null,null,null,0,null,0,0,0]
[null,null,null,null,0,null,0,0,0]
[null,null,null,null,0,null,0,0,0]
[null,null,null,null,0,null,0,0,0]
[null,null,null,null,0,null,0,0,0]
[null,null,null,null,0,null,0,0,0]
[null,null,null,null,0,null,0,0,0]
[null,null,null,null,0,null,0,0,0]
[null,null,null,null,0,null,0,0,0]
[null,null,null,null,0,null,0,0,0]
[null,null,null,null,0,null,0,0,0]
[null,null,null,null,0,null,0,0,0]
[null,null,null,null,0,null,0,0,0]
[null,null,null,null,0,null,0,0,0]
[null,null,null,null,0,null,0,0,0]
[null,null,null,null,0,null,0,0,0]
[null,null,null,null,0,null,0,0,0]
[null,null,null,null,{"$f":"IF(C3738<D3738,ABS(C3738-D3738),0)","v":0},null,{"$f":"IF(E3738<F3738,0,E3738-F3738)","v":0},{"$f":"IFERROR(VLOOKUP(B3738,$A$17:$B$20,2,0),0)","v":0},{"$f":"G3738*H3738","v":0}]
[null,null,null,null,0,null,0,0,0]
[null,null,null,null,0,null,0,0,0]
[null,null,null,null,0,null,0,0,0]
[null,null,null,null,0,null,0,0,0]
[null,null,null,null,0,null,0,0,0]
[null,null,null,null,0,null,0,0,0]
[null,null,null,null,0,null,0,0,0]
[null,null,null,null,0,null,0,0,0]
[null,null,null,null,0,null,0,0,0]
[null,null,null,null,0,null,0,0,0]
[null,null,null,null,0,null,0,0,0]
[null,null,null,null,0,null,0,0,0]
[null,null,null,null,0,null,0,0,0]
[null,null,null,null,0,null,0,0,0]
[null,null,null,null,0,null,0,0,0]
[null,null,null,null,0,null,0,0,0]
[null,null,null,null,0,null,0,0,0]
[null,null,null,null,0,null,0,0,0]
[null,null,null,null,0,null,0,0,0]
[null,null,null,null,0,null,0,0,0]
[null,null,null,null,0,null,0,0,0]
[null,null,null,null,0,null,0,0,0]
[null,null,null,null,0,null,0,0,0]
[null,null,null,null,0,null,0,0,0]
[null,null,null,null,0,null,0,0,0]
[null,null,null,null,0,null,0,0,0]
[null,null,null,null,0,null,0,0,0]
[null,null,null,null,0,null,0,0,0]
[null,null,null,null,0,null,0,0,0]
[null,null,null,null,0,null,0,0,0]
[null,null,null,null,0,null,0,0,0]
[null,null,null,null,0,null,0,0,0]
[null,null,null,null,0,null,0,0,0]
[null,null,null,null,0,null,0,0,0]
[null,null,null,null,0,null,0,0,0]
[null,null,null,null,0,null,0,0,0]
[null,null,null,null,0,null,0,0,0]
[null,null,null,null,0,null,0,0,0]
[null,null,null,null,0,null,0,0,0]
[null,null,null,null,0,null,0,0,0]
[null,null,null,null,0,null,0,0,0]
[null,null,null,null,0,null,0,0,0]
[null,null,null,null,0,null,0,0,0]
[null,null,null,null,0,null,0,0,0]
[null,null,null,null,0,null,0,0,0]
[null,null,null,null,0,null,0,0,0]
[null,null,null,null,0,null,0,0,0]
[null,null,null,null,0,null,0,0,0]
[null,null,null,null,0,null,0,0,0]
[null,null,null,null,0,null,0,0,0]
[null,null,null,null,0,null,0,0,0]
[null,null,null,null,0,null,0,0,0]
[null,null,null,null,0,null,0,0,0]
[null,null,null,null,0,null,0,0,0]
[null,null,null,null,0,null,0,0,0]
[null,null,null,null,0,null,0,0,0]
[null,null,null,null,0,null,0,0,0]
[null,null,null,null,0,null,0,0,0]
[null,null,null,null,0,null,0,0,0]
[null,null,null,null,0,null,0,0,0]
[null,null,null,null,0,null,0,0,0]
[null,null,null,null,0,null,0,0,0]
[null,null,null,null,0,null,0,0,0]
[null,null,null,null,{"$f":"IF(C3802<D3802,ABS(C3802-D3802),0)","v":0},null,{"$f":"IF(E3802<F3802,0,E3802-F3802)","v":0},{"$f":"IFERROR(VLOOKUP(B3802,$A$17:$B$20,2,0),0)","v":0},{"$f":"G3802*H3802","v":0}]
[null,null,null,null,0,null,0,0,0]
[null,null,null,null,0,null,0,0,0]
[null,null,null,null,0,null,0,0,0]
[null,null,null,null,0,null,0,0,0]
[null,null,null,null,0,null,0,0,0]
[null,null,null,null,0,null,0,0,0]
[null,null,null,null,0,null,0,0,0]
[null,null,null,null,0,null,0,0,0]
[null,null,null,null,0,null,0,0,0]
[null,null,null,null,0,null,0,0,0]
[null,null,null,null,0,null,0,0,0]
[null,null,null,null,0,null,0,0,0]
[null,null,null,null,0,null,0,0,0]
[null,null,null,null,0,null,0,0,0]
[null,null,null,null,0,null,0,0,0]
[null,null,null,null,0,null,0,0,0]
[null,null,null,null,0,null,0,0,0]
[null,null,null,null,0,null,0,0,0]
[null,null,null,null,0,null,0,0,0]
[null,null,null,null,0,null,0,0,0]
[null,null,null,null,0,null,0,0,0]
[null,null,null,null,0,null,0,0,0]
[null,null,null,null,0,null,0,0,0]
[null,null,null,null,0,null,0,0,0]
[null,null,null,null,0,null,0,0,0]
[null,null,null,null,0,null,0,0,0]
[null,null,null,null,0,null,0,0,0]
[null,null,null,null,0,null,0,0,0]
[null,null,null,null,0,null,0,0,0]
[null,null,null,null,0,null,0,0,0]
[null,null,null,null,0,null,0,0,0]
[null,null,null,null,0,null,0,0,0]
[null,null,null,null,0,null,0,0,0]
[null,null,null,null,0,null,0,0,0]
[null,null,null,null,0,null,0,0,0]
[null,null,null,null,0,null,0,0,0]
[null,null,null,null,0,null,0,0,0]
[null,null,null,null,0,null,0,0,0]
[null,null,null,null,0,null,0,0,0]
[null,null,null,null,0,null,0,0,0]
[null,null,null,null,0,null,0,0,0]
[null,null,null,null,0,null,0,0,0]
[null,null,null,null,0,null,0,0,0]
[null,null,null,null,0,null,0,0,0]
[null,null,null,null,0,null,0,0,0]
[null,null,null,null,0,null,0,0,0]
[null,null,null,null,0,null,0,0,0]
[null,null,null,null,0,null,0,0,0]
[null,null,null,null,0,null,0,0,0]
[null,null,null,null,0,null,0,0,0]
[null,null,null,null,0,null,0,0,0]
[null,null,null,null,0,null,0,0,0]
[null,null,null,null,0,null,0,0,0]
[null,null,null,null,0,null,0,0,0]
[null,null,null,null,0,null,0,0,0]
[null,null,null,null,0,null,0,0,0]
[null,null,null,null,0,null,0,0,0]
[null,null,null,null,0,null,0,0,0]
[null,null,null,null,0,null,0,0,0]
[null,null,null,null,0,null,0,0,0]
[null,null,null,null,0,null,0,0,0]
[null,null,null,null,0,null,0,0,0]
[null,null,null,null,0,null,0,0,0]
[null,null,null,null,{"$f":"IF(C3866<D3866,ABS(C3866-D3866),0)","v":0},null,{"$f":"IF(E3866<F3866,0,E3866-F3866)","v":0},{"$f":"IFERROR(VLOOKUP(B3866,$A$17:$B$20,2,0),0)","v":0},{"$f":"G3866*H3866","v":0}]
[null,null,null,null,0,null,0,0,0]
[null,null,null,null,0,null,0,0,0]
[null,null,null,null,0,null,0,0,0]
[null,null,null,null,0,null,0,0,0]
[null,null,null,null,0,null,0,0,0]
[null,null,null,null,0,null,0,0,0]
[null,null,null,null,0,null,0,0,0]
[null,null,null,null,0,null,0,0,0]
[null,null,null,null,0,null,0,0,0]
[null,null,null,null,0,null,0,0,0]
[null,null,null,null,0,null,0,0,0]
[null,null,null,null,0,null,0,0,0]
[null,null,null,null,0,null,0,0,0]
[null,null,null,null,0,null,0,0,0]
[null,null,null,null,0,null,0,0,0]
[null,null,null,null,0,null,0,0,0]
[null,null,null,null,0,null,0,0,0]
[null,null,null,null,0,null,0,0,0]
[null,null,null,null,0,null,0,0,0]
[null,null,null,null,0,null,0,0,0]
[null,null,null,null,0,null,0,0,0]
[null,null,null,null,0,null,0,0,0]
[null,null,null,null,0,null,0,0,0]
[null,null,null,null,0,null,0,0,0]
[null,null,null,null,0,null,0,0,0]
[null,null,null,null,0,null,0,0,0]
[null,null,null,null,0,null,0,0,0]
[null,null,null,null,0,null,0,0,0]
[null,null,null,null,0,null,0,0,0]
[null,null,null,null,0,null,0,0,0]
[null,null,null,null,0,null,0,0,0]
[null,null,null,null,0,null,0,0,0]
[null,null,null,null,0,null,0,0,0]
[null,null,null,null,0,null,0,0,0]
[null,null,null,null,0,null,0,0,0]
[null,null,null,null,0,null,0,0,0]
[null,null,null,null,0,null,0,0,0]
[null,null,null,null,0,null,0,0,0]
[null,null,null,null,0,null,0,0,0]
[null,null,null,null,0,null,0,0,0]
[null,null,null,null,0,null,0,0,0]
[null,null,null,null,0,null,0,0,0]
[null,null,null,null,0,null,0,0,0]
[null,null,null,null,0,null,0,0,0]
[null,null,null,null,0,null,0,0,0]
[null,null,null,null,0,null,0,0,0]
[null,null,null,null,0,null,0,0,0]
[null,null,null,null,0,null,0,0,0]
[null,null,null,null,0,null,0,0,0]
[null,null,null,null,0,null,0,0,0]
[null,null,null,null,0,null,0,0,0]
[null,null,null,null,0,null,0,0,0]
[null,null,null,null,0,null,0,0,0]
[null,null,null,null,0,null,0,0,0]
[null,null,null,null,0,null,0,0,0]
[null,null,null,null,0,null,0,0,0]
[null,null,null,null,0,null,0,0,0]
[null,null,null,null,0,null,0,0,0]
[null,null,null,null,0,null,0,0,0]
[null,null,null,null,0,null,0,0,0]
[null,null,null,null,0,null,0,0,0]
[null,null,null,null,0,null,0,0,0]
[null,null,null,null,0,null,0,0,0]
[null,null,null,null,{"$f":"IF(C3930<D3930,ABS(C3930-D3930),0)","v":0},null,{"$f":"IF(E3930<F3930,0,E3930-F3930)","v":0},{"$f":"IFERROR(VLOOKUP(B3930,$A$17:$B$20,2,0),0)","v":0},{"$f":"G3930*H3930","v":0}]
[null,null,null,null,0,null,0,0,0]
[null,null,null,null,0,null,0,0,0]
[null,null,null,null,0,null,0,0,0]
[null,null,null,null,0,null,0,0,0]
[null,null,null,null,0,null,0,0,0]
[null,null,null,null,0,null,0,0,0]
[null,null,null,null,0,null,0,0,0]
[null,null,null,null,0,null,0,0,0]
[null,null,null,null,0,null,0,0,0]
[null,null,null,null,0,null,0,0,0]
[null,null,null,null,0,null,0,0,0]
[null,null,null,null,0,null,0,0,0]
[null,null,null,null,0,null,0,0,0]
[null,null,null,null,0,null,0,0,0]
[null,null,null,null,0,null,0,0,0]
[null,null,null,null,0,null,0,0,0]
[null,null,null,null,0,null,0,0,0]
[null,null,null,null,0,null,0,0,0]
[null,null,null,null,0,null,0,0,0]
[null,null,null,null,0,null,0,0,0]
[null,null,null,null,0,null,0,0,0]
[null,null,null,null,0,null,0,0,0]
[null,null,null,null,0,null,0,0,0]
[null,null,null,null,0,null,0,0,0]
[null,null,null,null,0,null,0,0,0]
[null,null,null,null,0,null,0,0,0]
[null,null,null,null,0,null,0,0,0]
[null,null,null,null,0,null,0,0,0]
[null,null,null,null,0,null,0,0,0]
[null,null,null,null,0,null,0,0,0]
[null,null,null,null,0,null,0,0,0]
[null,null,null,null,0,null,0,0,0]
[null,null,null,null,0,null,0,0,0]
[null,null,null,null,0,null,0,0,0]
[null,null,null,null,0,null,0,0,0]
[null,null,null,null,0,null,0,0,0]
[null,null,null,null,0,null,0,0,0]
[null,null,null,null,0,null,0,0,0]
[null,null,null,null,0,null,0,0,0]
[null,null,null,null,0,null,0,0,0]
[null,null,null,null,0,null,0,0,0]
[null,null,null,null,0,null,0,0,0]
[null,null,null,null,0,null,0,0,0]
[null,null,null,null,0,null,0,0,0]
[null,null,null,null,0,null,0,0,0]
[null,null,null,null,0,null,0,0,0]
[null,null,null,null,0,null,0,0,0]
[null,null,null,null,0,null,0,0,0]
[null,null,null,null,0,null,0,0,0]
[null,null,null,null,0,null,0,0,0]
[null,null,null,null,0,null,0,0,0]
[null,null,null,null,0,null,0,0,0]
[null,null,null,null,0,null,0,0,0]
[null,null,null,null,0,null,0,0,0]
[null,null,null,null,0,null,0,0,0]
[null,null,null,null,0,null,0,0,0]
[null,null,null,null,0,null,0,0,0]
[null,null,null,null,0,null,0,0,0]
[null,null,null,null,0,null,0,0,0]
[null,null,null,null,0,null,0,0,0]
[null,null,null,null,0,null,0,0,0]
[null,null,null,null,0,null,0,0,0]
[null,null,null,null,0,null,0,0,0]
[null,null,null,null,{"$f":"IF(C3994<D3994,ABS(C3994-D3994),0)","v":0},null,{"$f":"IF(E3994<F3994,0,E3994-F3994)","v":0},{"$f":"IFERROR(VLOOKUP(B3994,$A$17:$B$20,2,0),0)","v":0},{"$f":"G3994*H3994","v":0}]
[null,null,null,null,0,null,0,0,0]
[null,null,null,null,0,null,0,0,0]
[null,null,null,null,0,null,0,0,0]
[null,null,null,null,0,null,0,0,0]
[null,null,null,null,0,null,0,0,0]
[null,null,null,null,0,null,0,0,0]
[null,null,null,null,0,null,0,0,0]
[null,null,null,null,0,null,0,0,0]
[null,null,null,null,0,null,0,0,0]
[null,null,null,null,0,null,0,0,0]
[null,null,null,null,0,null,0,0,0]
[null,null,null,null,0,null,0,0,0]
[null,null,null,null,0,null,0,0,0]
[null,null,null,null,0,null,0,0,0]
[null,null,null,null,0,null,0,0,0]
[null,null,null,null,0,null,0,0,0]
[null,null,null,null,0,null,0,0,0]
[null,null,null,null,0,null,0,0,0]
[null,null,null,null,0,null,0,0,0]
[null,null,null,null,0,null,0,0,0]
[null,null,null,null,0,null,0,0,0]
[null,null,null,null,0,null,0,0,0]
[null,null,null,null,0,null,0,0,0]
[null,null,null,null,0,null,0,0,0]
[null,null,null,null,0,null,0,0,0]
[null,null,null,null,0,null,0,0,0]
[null,null,null,null,0,null,0,0,0]
[null,null,null,null,0,null,0,0,0]
[null,null,null,null,0,null,0,0,0]
[null,null,null,null,0,null,0,0,0]
[null,null,null,null,0,null,0,0,0]
[null,null,null,null,0,null,0,0,0]
[null,null,null,null,0,null,0,0,0]
[null,null,null,null,0,null,0,0,0]
[null,null,null,null,0,null,0,0,0]
[null,null,null,null,0,null,0,0,0]
[null,null,null,null,0,null,0,0,0]
[null,null,null,null,0,null,0,0,0]
[null,null,null,null,0,null,0,0,0]
[null,null,null,null,0,null,0,0,0]
[null,null,null,null,0,null,0,0,0]
[null,null,null,null,0,null,0,0,0]
[null,null,null,null,0,null,0,0,0]
[null,null,null,null,0,null,0,0,0]
[null,null,null,null,0,null,0,0,0]
[null,null,null,null,0,null,0,0,0]
[null,null,null,null,0,null,0,0,0]
[null,null,null,null,0,null,0,0,0]
[null,null,null,null,0,null,0,0,0]
[null,null,null,null,0,null,0,0,0]
[null,null,null,null,0,null,0,0,0]
[null,null,null,null,0,null,0,0,0]
[null,null,null,null,0,null,0,0,0]
[null,null,null,null,0,null,0,0,0]
[null,null,null,null,0,null,0,0,0]
[null,null,null,null,0,null,0,0,0]
[null,null,null,null,0,null,0,0,0]
[null,null,null,null,0,null,0,0,0]
[null,null,null,null,0,null,0,0,0]
[null,null,null,null,0,null,0,0,0]
[null,null,null,null,0,null,0,0,0]
[null,null,null,null,0,null,0,0,0]
[null,null,null,null,0,null,0,0,0]
[null,null,null,null,{"$f":"IF(C4058<D4058,ABS(C4058-D4058),0)","v":0},null,{"$f":"IF(E4058<F4058,0,E4058-F4058)","v":0},{"$f":"IFERROR(VLOOKUP(B4058,$A$17:$B$20,2,0),0)","v":0},{"$f":"G4058*H4058","v":0}]
[null,null,null,null,0,null,0,0,0]
[null,null,null,null,0,null,0,0,0]
[null,null,null,null,0,null,0,0,0]
[null,null,null,null,0,null,0,0,0]
[null,null,null,null,0,null,0,0,0]
[null,null,null,null,0,null,0,0,0]
[null,null,null,null,0,null,0,0,0]
[null,null,null,null,0,null,0,0,0]
[null,null,null,null,0,null,0,0,0]
[null,null,null,null,0,null,0,0,0]
[null,null,null,null,0,null,0,0,0]
[null,null,null,null,0,null,0,0,0]
[null,null,null,null,0,null,0,0,0]
[null,null,null,null,0,null,0,0,0]
[null,null,null,null,0,null,0,0,0]
[null,null,null,null,0,null,0,0,0]
[null,null,null,null,0,null,0,0,0]
[null,null,null,null,0,null,0,0,0]
[null,null,null,null,0,null,0,0,0]
[null,null,null,null,0,null,0,0,0]
[null,null,null,null,0,null,0,0,0]
[null,null,null,null,0,null,0,0,0]
[null,null,null,null,0,null,0,0,0]
[null,null,null,null,0,null,0,0,0]
[null,null,null,null,0,null,0,0,0]
[null,null,null,null,0,null,0,0,0]
[null,null,null,null,0,null,0,0,0]
[null,null,null,null,0,null,0,0,0]
[null,null,null,null,0,null,0,0,0]
[null,null,null,null,0,null,0,0,0]
[null,null,null,null,0,null,0,0,0]
[null,null,null,null,0,null,0,0,0]
[null,null,null,null,0,null,0,0,0]
[null,null,null,null,0,null,0,0,0]
[null,null,null,null,0,null,0,0,0]
[null,null,null,null,0,null,0,0,0]
[null,null,null,null,0,null,0,0,0]
[null,null,null,null,0,null,0,0,0]
[null,null,null,null,0,null,0,0,0]
[null,null,null,null,0,null,0,0,0]
[null,null,null,null,0,null,0,0,0]
[null,null,null,null,0,null,0,0,0]
[null,null,null,null,0,null,0,0,0]
[null,null,null,null,0,null,0,0,0]
[null,null,null,null,0,null,0,0,0]
[null,null,null,null,0,null,0,0,0]
[null,null,null,null,0,null,0,0,0]
[null,null,null,null,0,null,0,0,0]
[null,null,null,null,0,null,0,0,0]
[null,null,null,null,0,null,0,0,0]
[null,null,null,null,0,null,0,0,0]
[null,null,null,null,0,null,0,0,0]
[null,null,null,null,0,null,0,0,0]
[null,null,null,null,0,null,0,0,0]
[null,null,null,null,0,null,0,0,0]
[null,null,null,null,0,null,0,0,0]
[null,null,null,null,0,null,0,0,0]
[null,null,null,null,0,null,0,0,0]
[null,null,null,null,0,null,0,0,0]
[null,null,null,null,0,null,0,0,0]
[null,null,null,null,0,null,0,0,0]
[null,null,null,null,0,null,0,0,0]
[null,null,null,null,0,null,0,0,0]
[null,null,null,null,{"$f":"IF(C4122<D4122,ABS(C4122-D4122),0)","v":0},null,{"$f":"IF(E4122<F4122,0,E4122-F4122)","v":0},{"$f":"IFERROR(VLOOKUP(B4122,$A$17:$B$20,2,0),0)","v":0},{"$f":"G4122*H4122","v":0}]
[null,null,null,null,0,null,0,0,0]
[null,null,null,null,0,null,0,0,0]
[null,null,null,null,0,null,0,0,0]
[null,null,null,null,0,null,0,0,0]
[null,null,null,null,0,null,0,0,0]
[null,null,null,null,0,null,0,0,0]
[null,null,null,null,0,null,0,0,0]
[null,null,null,null,0,null,0,0,0]
[null,null,null,null,0,null,0,0,0]
[null,null,null,null,0,null,0,0,0]
[null,null,null,null,0,null,0,0,0]
[null,null,null,null,0,null,0,0,0]
[null,null,null,null,0,null,0,0,0]
[null,null,null,null,0,null,0,0,0]
[null,null,null,null,0,null,0,0,0]
[null,null,null,null,0,null,0,0,0]
[null,null,null,null,0,null,0,0,0]
[null,null,null,null,0,null,0,0,0]
[null,null,null,null,0,null,0,0,0]
[null,null,null,null,0,null,0,0,0]
[null,null,null,null,0,null,0,0,0]
[null,null,null,null,0,null,0,0,0]
[null,null,null,null,0,null,0,0,0]
[null,null,null,null,0,null,0,0,0]
[null,null,null,null,0,null,0,0,0]
[null,null,null,null,0,null,0,0,0]
[null,null,null,null,0,null,0,0,0]
[null,null,null,null,0,null,0,0,0]
[null,null,null,null,0,null,0,0,0]
[null,null,null,null,0,null,0,0,0]
[null,null,null,null,0,null,0,0,0]
[null,null,null,null,0,null,0,0,0]
[null,null,null,null,0,null,0,0,0]
[null,null,null,null,0,null,0,0,0]
[null,null,null,null,0,null,0,0,0]
[null,null,null,null,0,null,0,0,0]
[null,null,null,null,0,null,0,0,0]
[null,null,null,null,0,null,0,0,0]
[null,null,null,null,0,null,0,0,0]
[null,null,null,null,0,null,0,0,0]
[null,null,null,null,0,null,0,0,0]
[null,null,null,null,0,null,0,0,0]
[null,null,null,null,0,null,0,0,0]
[null,null,null,null,0,null,0,0,0]
[null,null,null,null,0,null,0,0,0]
[null,null,null,null,0,null,0,0,0]
[null,null,null,null,0,null,0,0,0]
[null,null,null,null,0,null,0,0,0]
[null,null,null,null,0,null,0,0,0]
[null,null,null,null,0,null,0,0,0]
[null,null,null,null,0,null,0,0,0]
[null,null,null,null,0,null,0,0,0]
[null,null,null,null,0,null,0,0,0]
[null,null,null,null,0,null,0,0,0]
[null,null,null,null,0,null,0,0,0]
[null,null,null,null,0,null,0,0,0]
[null,null,null,null,0,null,0,0,0]
[null,null,null,null,0,null,0,0,0]
[null,null,null,null,0,null,0,0,0]
[null,null,null,null,0,null,0,0,0]
[null,null,null,null,0,null,0,0,0]
[null,null,null,null,0,null,0,0,0]
[null,null,null,null,0,null,0,0,0]
[null,null,null,null,{"$f":"IF(C4186<D4186,ABS(C4186-D4186),0)","v":0},null,{"$f":"IF(E4186<F4186,0,E4186-F4186)","v":0},{"$f":"IFERROR(VLOOKUP(B4186,$A$17:$B$20,2,0),0)","v":0},{"$f":"G4186*H4186","v":0}]
[null,null,null,null,0,null,0,0,0]
[null,null,null,null,0,null,0,0,0]
[null,null,null,null,0,null,0,0,0]
[null,null,null,null,0,null,0,0,0]
[null,null,null,null,0,null,0,0,0]
[null,null,null,null,0,null,0,0,0]
[null,null,null,null,0,null,0,0,0]
[null,null,null,null,0,null,0,0,0]
[null,null,null,null,0,null,0,0,0]
[null,null,null,null,0,null,0,0,0]
[null,null,null,null,0,null,0,0,0]
[null,null,null,null,0,null,0,0,0]
[null,null,null,null,0,null,0,0,0]
[null,null,null,null,0,null,0,0,0]
[null,null,null,null,0,null,0,0,0]
[null,null,null,null,0,null,0,0,0]
[null,null,null,null,0,null,0,0,0]
[null,null,null,null,0,null,0,0,0]
[null,null,null,null,0,null,0,0,0]
[null,null,null,null,0,null,0,0,0]
[null,null,null,null,0,null,0,0,0]
[null,null,null,null,0,null,0,0,0]
[null,null,null,null,0,null,0,0,0]
[null,null,null,null,0,null,0,0,0]
[null,null,null,null,0,null,0,0,0]
[null,null,null,null,0,null,0,0,0]
[null,null,null,null,0,null,0,0,0]
[null,null,null,null,0,null,0,0,0]
[null,null,null,null,0,null,0,0,0]
[null,null,null,null,0,null,0,0,0]
[null,null,null,null,0,null,0,0,0]
[null,null,null,null,0,null,0,0,0]
[null,null,null,null,0,null,0,0,0]
[null,null,null,null,0,null,0,0,0]
[null,null,null,null,0,null,0,0,0]
[null,null,null,null,0,null,0,0,0]
[null,null,null,null,0,null,0,0,0]
[null,null,null,null,0,null,0,0,0]
[null,null,null,null,0,null,0,0,0]
[null,null,null,null,0,null,0,0,0]
[null,null,null,null,0,null,0,0,0]
[null,null,null,null,0,null,0,0,0]
[null,null,null,null,0,null,0,0,0]
[null,null,null,null,0,null,0,0,0]
[null,null,null,null,0,null,0,0,0]
[null,null,null,null,0,null,0,0,0]
[null,null,null,null,0,null,0,0,0]
[null,null,null,null,0,null,0,0,0]
[null,null,null,null,0,null,0,0,0]
[null,null,null,null,0,null,0,0,0]
[null,null,null,null,0,null,0,0,0]
[null,null,null,null,0,null,0,0,0]
[null,null,null,null,0,null,0,0,0]
[null,null,null,null,0,null,0,0,0]
[null,null,null,null,0,null,0,0,0]
[null,null,null,null,0,null,0,0,0]
[null,null,null,null,0,null,0,0,0]
[null,null,null,null,0,null,0,0,0]
[null,null,null,null,0,null,0,0,0]
[null,null,null,null,0,null,0,0,0]
[null,null,null,null,0,null,0,0,0]
[null,null,null,null,0,null,0,0,0]
[null,null,null,null,0,null,0,0,0]
[null,null,null,null,{"$f":"IF(C4250<D4250,ABS(C4250-D4250),0)","v":0},null,{"$f":"IF(E4250<F4250,0,E4250-F4250)","v":0},{"$f":"IFERROR(VLOOKUP(B4250,$A$17:$B$20,2,0),0)","v":0},{"$f":"G4250*H4250","v":0}]
[null,null,null,null,0,null,0,0,0]
[null,null,null,null,0,null,0,0,0]
[null,null,null,null,0,null,0,0,0]
[null,null,null,null,0,null,0,0,0]
[null,null,null,null,0,null,0,0,0]
[null,null,null,null,0,null,0,0,0]
[null,null,null,null,0,null,0,0,0]
[null,null,null,null,0,null,0,0,0]
[null,null,null,null,0,null,0,0,0]
[null,null,null,null,0,null,0,0,0]
[null,null,null,null,0,null,0,0,0]
[null,null,null,null,0,null,0,0,0]
[null,null,null,null,0,null,0,0,0]
[null,null,null,null,0,null,0,0,0]
[null,null,null,null,0,null,0,0,0]
[null,null,null,null,0,null,0,0,0]
[null,null,null,null,0,null,0,0,0]
[null,null,null,null,0,null,0,0,0]
[null,null,null,null,0,null,0,0,0]
[null,null,null,null,0,null,0,0,0]
[null,null,null,null,0,null,0,0,0]
[null,null,null,null,0,null,0,0,0]
[null,null,null,null,0,null,0,0,0]
[null,null,null,null,0,null,0,0,0]
[null,null,null,null,0,null,0,0,0]
[null,null,null,null,0,null,0,0,0]
[null,null,null,null,0,null,0,0,0]
[null,null,null,null,0,null,0,0,0]
[null,null,null,null,0,null,0,0,0]
[null,null,null,null,0,null,0,0,0]
[null,null,null,null,0,null,0,0,0]
[null,null,null,null,0,null,0,0,0]
[null,null,null,null,0,null,0,0,0]
[null,null,null,null,0,null,0,0,0]
[null,null,null,null,0,null,0,0,0]
[null,null,null,null,0,null,0,0,0]
[null,null,null,null,0,null,0,0,0]
[null,null,null,null,0,null,0,0,0]
[null,null,null,null,0,null,0,0,0]
[null,null,null,null,0,null,0,0,0]
[null,null,null,null,0,null,0,0,0]
[null,null,null,null,0,null,0,0,0]
[null,null,null,null,0,null,0,0,0]
[null,null,null,null,0,null,0,0,0]
[null,null,null,null,0,null,0,0,0]
[null,null,null,null,0,null,0,0,0]
[null,null,null,null,0,null,0,0,0]
[null,null,null,null,0,null,0,0,0]
[null,null,null,null,0,null,0,0,0]
[null,null,null,null,0,null,0,0,0]
[null,null,null,null,0,null,0,0,0]
[null,null,null,null,0,null,0,0,0]
[null,null,null,null,0,null,0,0,0]
[null,null,null,null,0,null,0,0,0]
[null,null,null,null,0,null,0,0,0]
[null,null,null,null,0,null,0,0,0]
[null,null,null,null,0,null,0,0,0]
[null,null,null,null,0,null,0,0,0]
[null,null,null,null,0,null,0,0,0]
[null,null,null,null,0,null,0,0,0]
[null,null,null,null,0,null,0,0,0]
[null,null,null,null,0,null,0,0,0]
[null,null,null,null,0,null,0,0,0]
[null,null,null,null,{"$f":"IF(C4314<D4314,ABS(C4314-D4314),0)","v":0},null,{"$f":"IF(E4314<F4314,0,E4314-F4314)","v":0},{"$f":"IFERROR(VLOOKUP(B4314,$A$17:$B$20,2,0),0)","v":0},{"$f":"G4314*H4314","v":0}]
[null,null,null,null,0,null,0,0,0]
[null,null,null,null,0,null,0,0,0]
[null,null,null,null,0,null,0,0,0]
[null,null,null,null,0,null,0,0,0]
[null,null,null,null,0,null,0,0,0]
[null,null,null,null,0,null,0,0,0]
[null,null,null,null,0,null,0,0,0]
[null,null,null,null,0,null,0,0,0]
[null,null,null,null,0,null,0,0,0]
[null,null,null,null,0,null,0,0,0]
[null,null,null,null,0,null,0,0,0]
[null,null,null,null,0,null,0,0,0]
[null,null,null,null,0,null,0,0,0]
[null,null,null,null,0,null,0,0,0]
[null,null,null,null,0,null,0,0,0]
[null,null,null,null,0,null,0,0,0]
[null,null,null,null,0,null,0,0,0]
[null,null,null,null,0,null,0,0,0]
[null,null,null,null,0,null,0,0,0]
[null,null,null,null,0,null,0,0,0]
[null,null,null,null,0,null,0,0,0]
[null,null,null,null,0,null,0,0,0]
[null,null,null,null,0,null,0,0,0]
[null,null,null,null,0,null,0,0,0]
[null,null,null,null,0,null,0,0,0]
[null,null,null,null,0,null,0,0,0]
[null,null,null,null,0,null,0,0,0]
[null,null,null,null,0,null,0,0,0]
[null,null,null,null,0,null,0,0,0]
[null,null,null,null,0,null,0,0,0]
[null,null,null,null,0,null,0,0,0]
[null,null,null,null,0,null,0,0,0]
[null,null,null,null,0,null,0,0,0]
[null,null,null,null,0,null,0,0,0]
[null,null,null,null,0,null,0,0,0]
[null,null,null,null,0,null,0,0,0]
[null,null,null,null,0,null,0,0,0]
[null,null,null,null,0,null,0,0,0]
[null,null,null,null,0,null,0,0,0]
[null,null,null,null,0,null,0,0,0]
[null,null,null,null,0,null,0,0,0]
[null,null,null,null,0,null,0,0,0]
[null,null,null,null,0,null,0,0,0]
[null,null,null,null,0,null,0,0,0]
[null,null,null,null,0,null,0,0,0]
[null,null,null,null,0,null,0,0,0]
[null,null,null,null,0,null,0,0,0]
[null,null,null,null,0,null,0,0,0]
[null,null,null,null,0,null,0,0,0]
[null,null,null,null,0,null,0,0,0]
[null,null,null,null,0,null,0,0,0]
[null,null,null,null,0,null,0,0,0]
[null,null,null,null,0,null,0,0,0]
[null,null,null,null,0,null,0,0,0]
[null,null,null,null,0,null,0,0,0]
[null,null,null,null,0,null,0,0,0]
[null,null,null,null,0,null,0,0,0]
[null,null,null,null,0,null,0,0,0]
[null,null,null,null,0,null,0,0,0]
[null,null,null,null,0,null,0,0,0]
[null,null,null,null,0,null,0,0,0]
[null,null,null,null,0,null,0,0,0]
[null,null,null,null,0,null,0,0,0]
[null,null,null,null,{"$f":"IF(C4378<D4378,ABS(C4378-D4378),0)","v":0},null,{"$f":"IF(E4378<F4378,0,E4378-F4378)","v":0},{"$f":"IFERROR(VLOOKUP(B4378,$A$17:$B$20,2,0),0)","v":0},{"$f":"G4378*H4378","v":0}]
[null,null,null,null,0,null,0,0,0]
[null,null,null,null,0,null,0,0,0]
[null,null,null,null,0,null,0,0,0]
[null,null,null,null,0,null,0,0,0]
[null,null,null,null,0,null,0,0,0]
[null,null,null,null,0,null,0,0,0]
[null,null,null,null,0,null,0,0,0]
[null,null,null,null,0,null,0,0,0]
[null,null,null,null,0,null,0,0,0]
[null,null,null,null,0,null,0,0,0]
[null,null,null,null,0,null,0,0,0]
[null,null,null,null,0,null,0,0,0]
[null,null,null,null,0,null,0,0,0]
[null,null,null,null,0,null,0,0,0]
[null,null,null,null,0,null,0,0,0]
[null,null,null,null,0,null,0,0,0]
[null,null,null,null,0,null,0,0,0]
[null,null,null,null,0,null,0,0,0]
[null,null,null,null,0,null,0,0,0]
[null,null,null,null,0,null,0,0,0]
[null,null,null,null,0,null,0,0,0]
[null,null,null,null,0,null,0,0,0]
[null,null,null,null,0,null,0,0,0]
[null,null,null,null,0,null,0,0,0]
[null,null,null,null,0,null,0,0,0]
[null,null,null,null,0,null,0,0,0]
[null,null,null,null,0,null,0,0,0]
[null,null,null,null,0,null,0,0,0]
[null,null,null,null,0,null,0,0,0]
[null,null,null,null,0,null,0,0,0]
[null,null,null,null,0,null,0,0,0]
[null,null,null,null,0,null,0,0,0]
[null,null,null,null,0,null,0,0,0]
[null,null,null,null,0,null,0,0,0]
[null,null,null,null,0,null,0,0,0]
[null,null,null,null,0,null,0,0,0]
[null,null,null,null,0,null,0,0,0]
[null,null,null,null,0,null,0,0,0]
[null,null,null,null,0,null,0,0,0]
[null,null,null,null,0,null,0,0,0]
[null,null,null,null,0,null,0,0,0]
[null,null,null,null,0,null,0,0,0]
[null,null,null,null,0,null,0,0,0]
[null,null,null,null,0,null,0,0,0]
[null,null,null,null,0,null,0,0,0]
[null,null,null,null,0,null,0,0,0]
[null,null,null,null,0,null,0,0,0]
[null,null,null,null,0,null,0,0,0]
[null,null,null,null,0,null,0,0,0]
[null,null,null,null,0,null,0,0,0]
[null,null,null,null,0,null,0,0,0]
[null,null,null,null,0,null,0,0,0]
[null,null,null,null,0,null,0,0,0]
[null,null,null,null,0,null,0,0,0]
[null,null,null,null,0,null,0,0,0]
[null,null,null,null,0,null,0,0,0]
[null,null,null,null,0,null,0,0,0]
[null,null,null,null,0,null,0,0,0]
[null,null,null,null,0,null,0,0,0]
[null,null,null,null,0,null,0,0,0]
[null,null,null,null,0,null,0,0,0]
[null,null,null,null,0,null,0,0,0]
[null,null,null,null,0,null,0,0,0]
[null,null,null,null,{"$f":"IF(C4442<D4442,ABS(C4442-D4442),0)","v":0},null,{"$f":"IF(E4442<F4442,0,E4442-F4442)","v":0},{"$f":"IFERROR(VLOOKUP(B4442,$A$17:$B$20,2,0),0)","v":0},{"$f":"G4442*H4442","v":0}]
[null,null,null,null,0,null,0,0,0]
[null,null,null,null,0,null,0,0,0]
[null,null,null,null,0,null,0,0,0]
[null,null,null,null,0,null,0,0,0]
[null,null,null,null,0,null,0,0,0]
[null,null,null,null,0,null,0,0,0]
[null,null,null,null,0,null,0,0,0]
[null,null,null,null,0,null,0,0,0]
[null,null,null,null,0,null,0,0,0]
[null,null,null,null,0,null,0,0,0]
[null,null,null,null,0,null,0,0,0]
[null,null,null,null,0,null,0,0,0]
[null,null,null,null,0,null,0,0,0]
[null,null,null,null,0,null,0,0,0]
[null,null,null,null,0,null,0,0,0]
[null,null,null,null,0,null,0,0,0]
[null,null,null,null,0,null,0,0,0]
[null,null,null,null,0,null,0,0,0]
[null,null,null,null,0,null,0,0,0]
[null,null,null,null,0,null,0,0,0]
[null,null,null,null,0,null,0,0,0]
[null,null,null,null,0,null,0,0,0]
[null,null,null,null,0,null,0,0,0]
[null,null,null,null,0,null,0,0,0]
[null,null,null,null,0,null,0,0,0]
[null,null,null,null,0,null,0,0,0]
[null,null,null,null,0,null,0,0,0]
[null,null,null,null,0,null,0,0,0]
[null,null,null,null,0,null,0,0,0]
[null,null,null,null,0,null,0,0,0]
[null,null,null,null,0,null,0,0,0]
[null,null,null,null,0,null,0,0,0]
[null,null,null,null,0,null,0,0,0]
[null,null,null,null,0,null,0,0,0]
[null,null,null,null,0,null,0,0,0]
[null,null,null,null,0,null,0,0,0]
[null,null,null,null,0,null,0,0,0]
[null,null,null,null,0,null,0,0,0]
[null,null,null,null,0,null,0,0,0]
[null,null,null,null,0,null,0,0,0]
[null,null,null,null,0,null,0,0,0]
[null,null,null,null,0,null,0,0,0]
[null,null,null,null,0,null,0,0,0]
[null,null,null,null,0,null,0,0,0]
[null,null,null,null,0,null,0,0,0]
[null,null,null,null,0,null,0,0,0]
[null,null,null,null,0,null,0,0,0]
[null,null,null,null,0,null,0,0,0]
[null,null,null,null,0,null,0,0,0]
[null,null,null,null,0,null,0,0,0]
[null,null,null,null,0,null,0,0,0]
[null,null,null,null,0,null,0,0,0]
[null,null,null,null,0,null,0,0,0]
[null,null,null,null,0,null,0,0,0]
[null,null,null,null,0,null,0,0,0]
[null,null,null,null,0,null,0,0,0]
[null,null,null,null,0,null,0,0,0]
[null,null,null,null,0,null,0,0,0]
[null,null,null,null,0,null,0,0,0]
[null,null,null,null,0,null,0,0,0]
[null,null,null,null,0,null,0,0,0]
[null,null,null,null,0,null,0,0,0]
[null,null,null,null,0,null,0,0,0]
[null,null,null,null,{"$f":"IF(C4506<D4506,ABS(C4506-D4506),0)","v":0},null,{"$f":"IF(E4506<F4506,0,E4506-F4506)","v":0},{"$f":"IFERROR(VLOOKUP(B4506,$A$17:$B$20,2,0),0)","v":0},{"$f":"G4506*H4506","v":0}]
[null,null,null,null,0,null,0,0,0]
[null,null,null,null,0,null,0,0,0]
[null,null,null,null,0,null,0,0,0]
[null,null,null,null,0,null,0,0,0]
[null,null,null,null,0,null,0,0,0]
[null,null,null,null,0,null,0,0,0]
[null,null,null,null,0,null,0,0,0]
[null,null,null,null,0,null,0,0,0]
[null,null,null,null,0,null,0,0,0]
[null,null,null,null,0,null,0,0,0]
[null,null,null,null,0,null,0,0,0]
[null,null,null,null,0,null,0,0,0]
[null,null,null,null,0,null,0,0,0]
[null,null,null,null,0,null,0,0,0]
[null,null,null,null,0,null,0,0,0]
[null,null,null,null,0,null,0,0,0]
[null,null,null,null,0,null,0,0,0]
[null,null,null,null,0,null,0,0,0]
[null,null,null,null,0,null,0,0,0]
[null,null,null,null,0,null,0,0,0]
[null,null,null,null,0,null,0,0,0]
[null,null,null,null,0,null,0,0,0]
[null,null,null,null,0,null,0,0,0]
[null,null,null,null,0,null,0,0,0]
[null,null,null,null,0,null,0,0,0]
[null,null,null,null,0,null,0,0,0]
[null,null,null,null,0,null,0,0,0]
[null,null,null,null,0,null,0,0,0]
[null,null,null,null,0,null,0,0,0]
[null,null,null,null,0,null,0,0,0]
[null,null,null,null,0,null,0,0,0]
[null,null,null,null,0,null,0,0,0]
[null,null,null,null,0,null,0,0,0]
[null,null,null,null,0,null,0,0,0]
[null,null,null,null,0,null,0,0,0]
[null,null,null,null,0,null,0,0,0]
[null,null,null,null,0,null,0,0,0]
[null,null,null,null,0,null,0,0,0]
[null,null,null,null,0,null,0,0,0]
[null,null,null,null,0,null,0,0,0]
[null,null,null,null,0,null,0,0,0]
[null,null,null,null,0,null,0,0,0]
[null,null,null,null,0,null,0,0,0]
[null,null,null,null,0,null,0,0,0]
[null,null,null,null,0,null,0,0,0]
[null,null,null,null,0,null,0,0,0]
[null,null,null,null,0,null,0,0,0]
[null,null,null,null,0,null,0,0,0]
[null,null,null,null,0,null,0,0,0]
[null,null,null,null,0,null,0,0,0]
[null,null,null,null,0,null,0,0,0]
[null,null,null,null,0,null,0,0,0]
[null,null,null,null,0,null,0,0,0]
[null,null,null,null,0,null,0,0,0]
[null,null,null,null,0,null,0,0,0]
[null,null,null,null,0,null,0,0,0]
[null,null,null,null,0,null,0,0,0]
[null,null,null,null,0,null,0,0,0]
[null,null,null,null,0,null,0,0,0]
[null,null,null,null,0,null,0,0,0]
[null,null,null,null,0,null,0,0,0]
[null,null,null,null,0,null,0,0,0]
[null,null,null,null,0,null,0,0,0]
[null,null,null,null,{"$f":"IF(C4570<D4570,ABS(C4570-D4570),0)","v":0},null,{"$f":"IF(E4570<F4570,0,E4570-F4570)","v":0},{"$f":"IFERROR(VLOOKUP(B4570,$A$17:$B$20,2,0),0)","v":0},{"$f":"G4570*H4570","v":0}]
[null,null,null,null,0,null,0,0,0]
[null,null,null,null,0,null,0,0,0]
[null,null,null,null,0,null,0,0,0]
[null,null,null,null,0,null,0,0,0]
[null,null,null,null,0,null,0,0,0]
[null,null,null,null,0,null,0,0,0]
[null,null,null,null,0,null,0,0,0]
[null,null,null,null,0,null,0,0,0]
[null,null,null,null,0,null,0,0,0]
[null,null,null,null,0,null,0,0,0]
[null,null,null,null,0,null,0,0,0]
[null,null,null,null,0,null,0,0,0]
[null,null,null,null,0,null,0,0,0]
[null,null,null,null,0,null,0,0,0]
[null,null,null,null,0,null,0,0,0]
[null,null,null,null,0,null,0,0,0]
[null,null,null,null,0,null,0,0,0]
[null,null,null,null,0,null,0,0,0]
[null,null,null,null,0,null,0,0,0]
[null,null,null,null,0,null,0,0,0]
[null,null,null,null,0,null,0,0,0]
[null,null,null,null,0,null,0,0,0]
[null,null,null,null,0,null,0,0,0]
[null,null,null,null,0,null,0,0,0]
[null,null,null,null,0,null,0,0,0]
[null,null,null,null,0,null,0,0,0]
[null,null,null,null,0,null,0,0,0]
[null,null,null,null,0,null,0,0,0]
[null,null,null,null,0,null,0,0,0]
[null,null,null,null,0,null,0,0,0]
[null,null,null,null,0,null,0,0,0]
[null,null,null,null,0,null,0,0,0]
[null,null,null,null,0,null,0,0,0]
[null,null,null,null,0,null,0,0,0]
[null,null,null,null,0,null,0,0,0]
[null,null,null,null,0,null,0,0,0]
[null,null,null,null,0,null,0,0,0]
[null,null,null,null,0,null,0,0,0]
[null,null,null,null,0,null,0,0,0]
[null,null,null,null,0,null,0,0,0]
[null,null,null,null,0,null,0,0,0]
[null,null,null,null,0,null,0,0,0]
[null,null,null,null,0,null,0,0,0]
[null,null,null,null,0,null,0,0,0]
[null,null,null,null,0,null,0,0,0]
[null,null,null,null,0,null,0,0,0]
[null,null,null,null,0,null,0,0,0]
[null,null,null,null,0,null,0,0,0]
[null,null,null,null,0,null,0,0,0]
[null,null,null,null,0,null,0,0,0]
[null,null,null,null,0,null,0,0,0]
[null,null,null,null,0,null,0,0,0]
[null,null,null,null,0,null,0,0,0]
[null,null,null,null,0,null,0,0,0]
[null,null,null,null,0,null,0,0,0]
[null,null,null,null,0,null,0,0,0]
[null,null,null,null,0,null,0,0,0]
[null,null,null,null,0,null,0,0,0]
[null,null,null,null,0,null,0,0,0]
[null,null,null,null,0,null,0,0,0]
[null,null,null,null,0,null,0,0,0]
[null,null,null,null,0,null,0,0,0]
[null,null,null,null,0,null,0,0,0]
[null,null,null,null,{"$f":"IF(C4634<D4634,ABS(C4634-D4634),0)","v":0},null,{"$f":"IF(E4634<F4634,0,E4634-F4634)","v":0},{"$f":"IFERROR(VLOOKUP(B4634,$A$17:$B$20,2,0),0)","v":0},{"$f":"G4634*H4634","v":0}]
[null,null,null,null,0,null,0,0,0]
[null,null,null,null,0,null,0,0,0]
[null,null,null,null,0,null,0,0,0]
[null,null,null,null,0,null,0,0,0]
[null,null,null,null,0,null,0,0,0]
[null,null,null,null,0,null,0,0,0]
[null,null,null,null,0,null,0,0,0]
[null,null,null,null,0,null,0,0,0]
[null,null,null,null,0,null,0,0,0]
[null,null,null,null,0,null,0,0,0]
[null,null,null,null,0,null,0,0,0]
[null,null,null,null,0,null,0,0,0]
[null,null,null,null,0,null,0,0,0]
[null,null,null,null,0,null,0,0,0]
[null,null,null,null,0,null,0,0,0]
[null,null,null,null,0,null,0,0,0]
[null,null,null,null,0,null,0,0,0]
[null,null,null,null,0,null,0,0,0]
[null,null,null,null,0,null,0,0,0]
[null,null,null,null,0,null,0,0,0]
[null,null,null,null,0,null,0,0,0]
[null,null,null,null,0,null,0,0,0]
[null,null,null,null,0,null,0,0,0]
[null,null,null,null,0,null,0,0,0]
[null,null,null,null,0,null,0,0,0]
[null,null,null,null,0,null,0,0,0]
[null,null,null,null,0,null,0,0,0]
[null,null,null,null,0,null,0,0,0]
[null,null,null,null,0,null,0,0,0]
[null,null,null,null,0,null,0,0,0]
[null,null,null,null,0,null,0,0,0]
[null,null,null,null,0,null,0,0,0]
[null,null,null,null,0,null,0,0,0]
[null,null,null,null,0,null,0,0,0]
[null,null,null,null,0,null,0,0,0]
[null,null,null,null,0,null,0,0,0]
[null,null,null,null,0,null,0,0,0]
[null,null,null,null,0,null,0,0,0]
[null,null,null,null,0,null,0,0,0]
[null,null,null,null,0,null,0,0,0]
[null,null,null,null,0,null,0,0,0]
[null,null,null,null,0,null,0,0,0]
[null,null,null,null,0,null,0,0,0]
[null,null,null,null,0,null,0,0,0]
[null,null,null,null,0,null,0,0,0]
[null,null,null,null,0,null,0,0,0]
[null,null,null,null,0,null,0,0,0]
[null,null,null,null,0,null,0,0,0]
[null,null,null,null,0,null,0,0,0]
[null,null,null,null,0,null,0,0,0]
[null,null,null,null,0,null,0,0,0]
[null,null,null,null,0,null,0,0,0]
[null,null,null,null,0,null,0,0,0]
[null,null,null,null,0,null,0,0,0]
[null,null,null,null,0,null,0,0,0]
[null,null,null,null,0,null,0,0,0]
[null,null,null,null,0,null,0,0,0]
[null,null,null,null,0,null,0,0,0]
[null,null,null,null,0,null,0,0,0]
[null,null,null,null,0,null,0,0,0]
[null,null,null,null,0,null,0,0,0]
[null,null,null,null,0,null,0,0,0]
[null,null,null,null,0,null,0,0,0]
[null,null,null,null,{"$f":"IF(C4698<D4698,ABS(C4698-D4698),0)","v":0},null,{"$f":"IF(E4698<F4698,0,E4698-F4698)","v":0},{"$f":"IFERROR(VLOOKUP(B4698,$A$17:$B$20,2,0),0)","v":0},{"$f":"G4698*H4698","v":0}]
[null,null,null,null,0,null,0,0,0]
[null,null,null,null,0,null,0,0,0]
[null,null,null,null,0,null,0,0,0]
[null,null,null,null,0,null,0,0,0]
[null,null,null,null,0,null,0,0,0]
[null,null,null,null,0,null,0,0,0]
[null,null,null,null,0,null,0,0,0]
[null,null,null,null,0,null,0,0,0]
[null,null,null,null,0,null,0,0,0]
[null,null,null,null,0,null,0,0,0]
[null,null,null,null,0,null,0,0,0]
[null,null,null,null,0,null,0,0,0]
[null,null,null,null,0,null,0,0,0]
[null,null,null,null,0,null,0,0,0]
[null,null,null,null,0,null,0,0,0]
[null,null,null,null,0,null,0,0,0]
[null,null,null,null,0,null,0,0,0]
[null,null,null,null,0,null,0,0,0]
[null,null,null,null,0,null,0,0,0]
[null,null,null,null,0,null,0,0,0]
[null,null,null,null,0,null,0,0,0]
[null,null,null,null,0,null,0,0,0]
[null,null,null,null,0,null,0,0,0]
[null,null,null,null,0,null,0,0,0]
[null,null,null,null,0,null,0,0,0]
[null,null,null,null,0,null,0,0,0]
[null,null,null,null,0,null,0,0,0]
[null,null,null,null,0,null,0,0,0]
[null,null,null,null,0,null,0,0,0]
[null,null,null,null,0,null,0,0,0]
[null,null,null,null,0,null,0,0,0]
[null,null,null,null,0,null,0,0,0]
[null,null,null,null,0,null,0,0,0]
[null,null,null,null,0,null,0,0,0]
[null,null,null,null,0,null,0,0,0]
[null,null,null,null,0,null,0,0,0]
[null,null,null,null,0,null,0,0,0]
[null,null,null,null,0,null,0,0,0]
[null,null,null,null,0,null,0,0,0]
[null,null,null,null,0,null,0,0,0]
[null,null,null,null,0,null,0,0,0]
[null,null,null,null,0,null,0,0,0]
[null,null,null,null,0,null,0,0,0]
[null,null,null,null,0,null,0,0,0]
[null,null,null,null,0,null,0,0,0]
[null,null,null,null,0,null,0,0,0]
[null,null,null,null,0,null,0,0,0]
[null,null,null,null,0,null,0,0,0]
[null,null,null,null,0,null,0,0,0]
[null,null,null,null,0,null,0,0,0]
[null,null,null,null,0,null,0,0,0]
[null,null,null,null,0,null,0,0,0]
[null,null,null,null,0,null,0,0,0]
[null,null,null,null,0,null,0,0,0]
[null,null,null,null,0,null,0,0,0]
[null,null,null,null,0,null,0,0,0]
[null,null,null,null,0,null,0,0,0]
[null,null,null,null,0,null,0,0,0]
[null,null,null,null,0,null,0,0,0]
[null,null,null,null,0,null,0,0,0]
[null,null,null,null,0,null,0,0,0]
[null,null,null,null,0,null,0,0,0]
[null,null,null,null,0,null,0,0,0]
[null,null,null,null,{"$f":"IF(C4762<D4762,ABS(C4762-D4762),0)","v":0},null,{"$f":"IF(E4762<F4762,0,E4762-F4762)","v":0},{"$f":"IFERROR(VLOOKUP(B4762,$A$17:$B$20,2,0),0)","v":0},{"$f":"G4762*H4762","v":0}]
[null,null,null,null,0,null,0,0,0]
[null,null,null,null,0,null,0,0,0]
[null,null,null,null,0,null,0,0,0]
[null,null,null,null,0,null,0,0,0]
[null,null,null,null,0,null,0,0,0]
[null,null,null,null,0,null,0,0,0]
[null,null,null,null,0,null,0,0,0]
[null,null,null,null,0,null,0,0,0]
[null,null,null,null,0,null,0,0,0]
[null,null,null,null,0,null,0,0,0]
[null,null,null,null,0,null,0,0,0]
[null,null,null,null,0,null,0,0,0]
[null,null,null,null,0,null,0,0,0]
[null,null,null,null,0,null,0,0,0]
[null,null,null,null,0,null,0,0,0]
[null,null,null,null,0,null,0,0,0]
[null,null,null,null,0,null,0,0,0]
[null,null,null,null,0,null,0,0,0]
[null,null,null,null,0,null,0,0,0]
[null,null,null,null,0,null,0,0,0]
[null,null,null,null,0,null,0,0,0]
[null,null,null,null,0,null,0,0,0]
[null,null,null,null,0,null,0,0,0]
[null,null,null,null,0,null,0,0,0]
[null,null,null,null,0,null,0,0,0]
[null,null,null,null,0,null,0,0,0]
[null,null,null,null,0,null,0,0,0]
[null,null,null,null,0,null,0,0,0]
[null,null,null,null,0,null,0,0,0]
[null,null,null,null,0,null,0,0,0]
[null,null,null,null,0,null,0,0,0]
[null,null,null,null,0,null,0,0,0]
[null,null,null,null,0,null,0,0,0]
[null,null,null,null,0,null,0,0,0]
[null,null,null,null,0,null,0,0,0]
[null,null,null,null,0,null,0,0,0]
[null,null,null,null,0,null,0,0,0]
[null,null,null,null,0,null,0,0,0]
[null,null,null,null,0,null,0,0,0]
[null,null,null,null,0,null,0,0,0]
[null,null,null,null,0,null,0,0,0]
[null,null,null,null,0,null,0,0,0]
[null,null,null,null,0,null,0,0,0]
[null,null,null,null,0,null,0,0,0]
[null,null,null,null,0,null,0,0,0]
[null,null,null,null,0,null,0,0,0]
[null,null,null,null,0,null,0,0,0]
[null,null,null,null,0,null,0,0,0]
[null,null,null,null,0,null,0,0,0]
[null,null,null,null,0,null,0,0,0]
[null,null,null,null,0,null,0,0,0]
[null,null,null,null,0,null,0,0,0]
[null,null,null,null,0,null,0,0,0]
[null,null,null,null,0,null,0,0,0]
[null,null,null,null,0,null,0,0,0]
[null,null,null,null,0,null,0,0,0]
[null,null,null,null,0,null,0,0,0]
[null,null,null,null,0,null,0,0,0]
[null,null,null,null,0,null,0,0,0]
[null,null,null,null,0,null,0,0,0]
[null,null,null,null,0,null,0,0,0]
[null,null,null,null,0,null,0,0,0]
[null,null,null,null,0,null,0,0,0]
[null,null,null,null,{"$f":"IF(C4826<D4826,ABS(C4826-D4826),0)","v":0},null,{"$f":"IF(E4826<F4826,0,E4826-F4826)","v":0},{"$f":"IFERROR(VLOOKUP(B4826,$A$17:$B$20,2,0),0)","v":0},{"$f":"G4826*H4826","v":0}]
[null,null,null,null,0,null,0,0,0]
[null,null,null,null,0,null,0,0,0]
[null,null,null,null,0,null,0,0,0]
[null,null,null,null,0,null,0,0,0]
[null,null,null,null,0,null,0,0,0]
[null,null,null,null,0,null,0,0,0]
[null,null,null,null,0,null,0,0,0]
[null,null,null,null,0,null,0,0,0]
[null,null,null,null,0,null,0,0,0]
[null,null,null,null,0,null,0,0,0]
[null,null,null,null,0,null,0,0,0]
[null,null,null,null,0,null,0,0,0]
[null,null,null,null,0,null,0,0,0]
[null,null,null,null,0,null,0,0,0]
[null,null,null,null,0,null,0,0,0]
[null,null,null,null,0,null,0,0,0]
[null,null,null,null,0,null,0,0,0]
[null,null,null,null,0,null,0,0,0]
[null,null,null,null,0,null,0,0,0]
[null,null,null,null,0,null,0,0,0]
[null,null,null,null,0,null,0,0,0]
[null,null,null,null,0,null,0,0,0]
[null,null,null,null,0,null,0,0,0]
[null,null,null,null,0,null,0,0,0]
[null,null,null,null,0,null,0,0,0]
[null,null,null,null,0,null,0,0,0]
[null,null,null,null,0,null,0,0,0]
[null,null,null,null,0,null,0,0,0]
[null,null,null,null,0,null,0,0,0]
[null,null,null,null,0,null,0,0,0]
[null,null,null,null,0,null,0,0,0]
[null,null,null,null,0,null,0,0,0]
[null,null,null,null,0,null,0,0,0]
[null,null,null,null,0,null,0,0,0]
[null,null,null,null,0,null,0,0,0]
[null,null,null,null,0,null,0,0,0]
[null,null,null,null,0,null,0,0,0]
[null,null,null,null,0,null,0,0,0]
[null,null,null,null,0,null,0,0,0]
[null,null,null,null,0,null,0,0,0]
[null,null,null,null,0,null,0,0,0]
[null,null,null,null,0,null,0,0,0]
[null,null,null,null,0,null,0,0,0]
[null,null,null,null,0,null,0,0,0]
[null,null,null,null,0,null,0,0,0]
[null,null,null,null,0,null,0,0,0]
[null,null,null,null,0,null,0,0,0]
[null,null,null,null,0,null,0,0,0]
[null,null,null,null,0,null,0,0,0]
[null,null,null,null,0,null,0,0,0]
[null,null,null,null,0,null,0,0,0]
[null,null,null,null,0,null,0,0,0]
[null,null,null,null,0,null,0,0,0]
[null,null,null,null,0,null,0,0,0]
[null,null,null,null,0,null,0,0,0]
[null,null,null,null,0,null,0,0,0]
[null,null,null,null,0,null,0,0,0]
[null,null,null,null,0,null,0,0,0]
[null,null,null,null,0,null,0,0,0]
[null,null,null,null,0,null,0,0,0]
[null,null,null,null,0,null,0,0,0]
[null,null,null,null,0,null,0,0,0]
[null,null,null,null,0,null,0,0,0]
[null,null,null,null,{"$f":"IF(C4890<D4890,ABS(C4890-D4890),0)","v":0},null,{"$f":"IF(E4890<F4890,0,E4890-F4890)","v":0},{"$f":"IFERROR(VLOOKUP(B4890,$A$17:$B$20,2,0),0)","v":0},{"$f":"G4890*H4890","v":0}]
[null,null,null,null,0,null,0,0,0]
[null,null,null,null,0,null,0,0,0]
[null,null,null,null,0,null,0,0,0]
[null,null,null,null,0,null,0,0,0]
[null,null,null,null,0,null,0,0,0]
[null,null,null,null,0,null,0,0,0]
[null,null,null,null,0,null,0,0,0]
[null,null,null,null,0,null,0,0,0]
[null,null,null,null,0,null,0,0,0]
[null,null,null,null,0,null,0,0,0]
[null,null,null,null,0,null,0,0,0]
[null,null,null,null,0,null,0,0,0]
[null,null,null,null,0,null,0,0,0]
[null,null,null,null,0,null,0,0,0]
[null,null,null,null,0,null,0,0,0]
[null,null,null,null,0,null,0,0,0]
[null,null,null,null,0,null,0,0,0]
[null,null,null,null,0,null,0,0,0]
[null,null,null,null,0,null,0,0,0]
[null,null,null,null,0,null,0,0,0]
[null,null,null,null,0,null,0,0,0]
[null,null,null,null,0,null,0,0,0]
[null,null,null,null,0,null,0,0,0]
[null,null,null,null,0,null,0,0,0]
[null,null,null,null,0,null,0,0,0]
[null,null,null,null,0,null,0,0,0]
[null,null,null,null,0,null,0,0,0]
[null,null,null,null,0,null,0,0,0]
[null,null,null,null,0,null,0,0,0]
[null,null,null,null,0,null,0,0,0]
[null,null,null,null,0,null,0,0,0]
[null,null,null,null,0,null,0,0,0]
[null,null,null,null,0,null,0,0,0]
[null,null,null,null,0,null,0,0,0]
[null,null,null,null,0,null,0,0,0]
[null,null,null,null,0,null,0,0,0]
[null,null,null,null,0,null,0,0,0]
[null,null,null,null,0,null,0,0,0]
[null,null,null,null,0,null,0,0,0]
[null,null,null,null,0,null,0,0,0]
[null,null,null,null,0,null,0,0,0]
[null,null,null,null,0,null,0,0,0]
[null,null,null,null,0,null,0,0,0]
[null,null,null,null,0,null,0,0,0]
[null,null,null,null,0,null,0,0,0]
[null,null,null,null,0,null,0,0,0]
[null,null,null,null,0,null,0,0,0]
[null,null,null,null,0,null,0,0,0]
[null,null,null,null,0,null,0,0,0]
[null,null,null,null,0,null,0,0,0]
[null,null,null,null,0,null,0,0,0]
[null,null,null,null,0,null,0,0,0]
[null,null,null,null,0,null,0,0,0]
[null,null,null,null,0,null,0,0,0]
[null,null,null,null,0,null,0,0,0]
[null,null,null,null,0,null,0,0,0]
[null,null,null,null,0,null,0,0,0]
[null,null,null,null,0,null,0,0,0]
[null,null,null,null,0,null,0,0,0]
[null,null,null,null,0,null,0,0,0]
[null,null,null,null,0,null,0,0,0]
[null,null,null,null,0,null,0,0,0]
[null,null,null,null,0,null,0,0,0]
[null,null,null,null,{"$f":"IF(C4954<D4954,ABS(C4954-D4954),0)","v":0},null,{"$f":"IF(E4954<F4954,0,E4954-F4954)","v":0},{"$f":"IFERROR(VLOOKUP(B4954,$A$17:$B$20,2,0),0)","v":0},{"$f":"G4954*H4954","v":0}]
[null,null,null,null,0,null,0,0,0]
[null,null,null,null,0,null,0,0,0]
[null,null,null,null,0,null,0,0,0]
[null,null,null,null,0,null,0,0,0]
[null,null,null,null,0,null,0,0,0]
[null,null,null,null,0,null,0,0,0]
[null,null,null,null,0,null,0,0,0]
[null,null,null,null,0,null,0,0,0]
[null,null,null,null,0,null,0,0,0]
[null,null,null,null,0,null,0,0,0]
[null,null,null,null,0,null,0,0,0]
[null,null,null,null,0,null,0,0,0]
[null,null,null,null,0,null,0,0,0]
[null,null,null,null,0,null,0,0,0]
[null,null,null,null,0,null,0,0,0]
[null,null,null,null,0,null,0,0,0]
[null,null,null,null,0,null,0,0,0]
[null,null,null,null,0,null,0,0,0]
[null,null,null,null,0,null,0,0,0]
[null,null,null,null,0,null,0,0,0]
[null,null,null,null,0,null,0,0,0]
[null,null,null,null,0,null,0,0,0]
[null,null,null,null,0,null,0,0,0]
[null,null,null,null,0,null,0,0,0]
[null,null,null,null,0,null,0,0,0]
[null,null,null,null,0,null,0,0,0]
[null,null,null,null,0,null,0,0,0]
[null,null,null,null,0,null,0,0,0]
[null,null,null,null,0,null,0,0,0]
[null,null,null,null,0,null,0,0,0]
[null,null,null,null,0,null,0,0,0]
[null,null,null,null,0,null,0,0,0]
[null,null,null,null,0,null,0,0,0]
[null,null,null,null,0,null,0,0,0]
[null,null,null,null,0,null,0,0,0]
[null,null,null,null,0,null,0,0,0]
[null,null,null,null,0,null,0,0,0]
[null,null,null,null,0,null,0,0,0]
[null,null,null,null,0,null,0,0,0]
[null,null,null,null,0,null,0,0,0]
[null,null,null,null,0,null,0,0,0]
[null,null,null,null,0,null,0,0,0]
[null,null,null,null,0,null,0,0,0]
[null,null,null,null,0,null,0,0,0]
[null,null,null,null,0,null,0,0,0]
[null,null,null,null,0,null,0,0,0]
[null,null,null,null,0,null,0,0,0]
[null,null,null,null,0,null,0,0,0]
[null,null,null,null,0,null,0,0,0]
[null,null,null,null,0,null,0,0,0]
[null,null,null,null,0,null,0,0,0]
[null,null,null,null,0,null,0,0,0]
[null,null,null,null,0,null,0,0,0]
[null,null,null,null,0,null,0,0,0]
[null,null,null,null,0,null,0,0,0]
[null,null,null,null,0,null,0,0,0]
[null,null,null,null,0,null,0,0,0]
[null,null,null,null,0,null,0,0,0]
[null,null,null,null,0,null,0,0,0]
[null,null,null,null,0,null,0,0,0]
[null,null,null,null,0,null,0,0,0]
[null,null,null,null,0,null,0,0,0]
[null,null,null,null,0,null,0,0,0]
[null,null,null,null,{"$f":"IF(C5018<D5018,ABS(C5018-D5018),0)","v":0},null,{"$f":"IF(E5018<F5018,0,E5018-F5018)","v":0},{"$f":"IFERROR(VLOOKUP(B5018,$A$17:$B$20,2,0),0)","v":0},{"$f":"G5018*H5018","v":0}]
[null,null,null,null,0,null,0,0,0]
[null,null,null,null,0,null,0,0,0]
[null,null,null,null,0,null,0,0,0]
[null,null,null,null,0,null,0,0,0]
[null,null,null,null,0,null,0,0,0]
[null,null,null,null,0,null,0,0,0]
[null,null,null,null,0,null,0,0,0]
[null,null,null,null,0,null,0,0,0]
[null,null,null,null,0,null,0,0,0]
[null,null,null,null,0,null,0,0,0]
[null,null,null,null,0,null,0,0,0]
[null,null,null,null,0,null,0,0,0]
[null,null,null,null,0,null,0,0,0]
[null,null,null,null,0,null,0,0,0]
[null,null,null,null,0,null,0,0,0]
[null,null,null,null,0,null,0,0,0]
[null,null,null,null,0,null,0,0,0]
[null,null,null,null,0,null,0,0,0]
[null,null,null,null,0,null,0,0,0]
[null,null,null,null,0,null,0,0,0]
[null,null,null,null,0,null,0,0,0]
[null,null,null,null,0,null,0,0,0]
[null,null,null,null,0,null,0,0,0]
[null,null,null,null,0,null,0,0,0]
[null,null,null,null,0,null,0,0,0]
[null,null,null,null,0,null,0,0,0]
[null,null,null,null,0,null,0,0,0]
[null,null,null,null,0,null,0,0,0]
[null,null,null,null,0,null,0,0,0]
[null,null,null,null,0,null,0,0,0]
[null,null,null,null,0,null,0,0,0]
[null,null,null,null,0,null,0,0,0]
[null,null,null,null,0,null,0,0,0]
[null,null,null,null,0,null,0,0,0]
[null,null,null,null,0,null,0,0,0]
[null,null,null,null,0,null,0,0,0]
[null,null,null,null,0,null,0,0,0]
[null,null,null,null,0,null,0,0,0]
[null,null,null,null,0,null,0,0,0]
[null,null,null,null,0,null,0,0,0]
[null,null,null,null,0,null,0,0,0]
[null,null,null,null,0,null,0,0,0]
[null,null,null,null,0,null,0,0,0]
[null,null,null,null,0,null,0,0,0]
[null,null,null,null,0,null,0,0,0]
[null,null,null,null,0,null,0,0,0]
[null,null,null,null,0,null,0,0,0]
[null,null,null,null,0,null,0,0,0]
[null,null,null,null,0,null,0,0,0]
[null,null,null,null,0,null,0,0,0]
[null,null,null,null,0,null,0,0,0]
[null,null,null,null,0,null,0,0,0]
[null,null,null,null,0,null,0,0,0]
[null,null,null,null,0,null,0,0,0]
[null,null,null,null,0,null,0,0,0]
[null,null,null,null,0,null,0,0,0]
[null,null,null,null,0,null,0,0,0]
[null,null,null,null,0,null,0,0,0]
[null,null,null,null,0,null,0,0,0]
[null,null,null,null,0,null,0,0,0]
[null,null,null,null,0,null,0,0,0]
[null,null,null,null,0,null,0,0,0]
[null,null,null,null,0,null,0,0,0]
[null,null,null,null,{"$f":"IF(C5082<D5082,ABS(C5082-D5082),0)","v":0},null,{"$f":"IF(E5082<F5082,0,E5082-F5082)","v":0},{"$f":"IFERROR(VLOOKUP(B5082,$A$17:$B$20,2,0),0)","v":0},{"$f":"G5082*H5082","v":0}]
[null,null,null,null,0,null,0,0,0]
[null,null,null,null,0,null,0,0,0]
[null,null,null,null,0,null,0,0,0]
[null,null,null,null,0,null,0,0,0]
[null,null,null,null,0,null,0,0,0]
[null,null,null,null,0,null,0,0,0]
[null,null,null,null,0,null,0,0,0]
[null,null,null,null,0,null,0,0,0]
[null,null,null,null,0,null,0,0,0]
[null,null,null,null,0,null,0,0,0]
[null,null,null,null,0,null,0,0,0]
[null,null,null,null,0,null,0,0,0]
[null,null,null,null,0,null,0,0,0]
[null,null,null,null,0,null,0,0,0]
[null,null,null,null,0,null,0,0,0]
[null,null,null,null,0,null,0,0,0]
[null,null,null,null,0,null,0,0,0]
[null,null,null,null,0,null,0,0,0]
[null,null,null,null,0,null,0,0,0]
[null,null,null,null,0,null,0,0,0]
[null,null,null,null,0,null,0,0,0]
[null,null,null,null,0,null,0,0,0]
[null,null,null,null,0,null,0,0,0]
[null,null,null,null,0,null,0,0,0]
[null,null,null,null,0,null,0,0,0]
[null,null,null,null,0,null,0,0,0]
[null,null,null,null,0,null,0,0,0]
[null,null,null,null,0,null,0,0,0]
[null,null,null,null,0,null,0,0,0]
[null,null,null,null,0,null,0,0,0]
[null,null,null,null,0,null,0,0,0]
[null,null,null,null,0,null,0,0,0]
[null,null,null,null,0,null,0,0,0]
[null,null,null,null,0,null,0,0,0]
[null,null,null,null,0,null,0,0,0]
[null,null,null,null,0,null,0,0,0]
[null,null,null,null,0,null,0,0,0]
[null,null,null,null,0,null,0,0,0]
[null,null,null,null,0,null,0,0,0]
[null,null,null,null,0,null,0,0,0]
[null,null,null,null,0,null,0,0,0]
[null,null,null,null,0,null,0,0,0]
[null,null,null,null,0,null,0,0,0]
[null,null,null,null,0,null,0,0,0]
[null,null,null,null,0,null,0,0,0]
[null,null,null,null,0,null,0,0,0]
[null,null,null,null,0,null,0,0,0]
[null,null,null,null,0,null,0,0,0]
[null,null,null,null,0,null,0,0,0]
[null,null,null,null,0,null,0,0,0]
[null,null,null,null,0,null,0,0,0]
[null,null,null,null,0,null,0,0,0]
[null,null,null,null,0,null,0,0,0]
[null,null,null,null,0,null,0,0,0]
[null,null,null,null,0,null,0,0,0]
[null,null,null,null,0,null,0,0,0]
[null,null,null,null,0,null,0,0,0]
[null,null,null,null,0,null,0,0,0]
[null,null,null,null,0,null,0,0,0]
[null,null,null,null,0,null,0,0,0]
[null,null,null,null,0,null,0,0,0]
[null,null,null,null,0,null,0,0,0]
[null,null,null,null,0,null,0,0,0]
[null,null,null,null,{"$f":"IF(C5146<D5146,ABS(C5146-D5146),0)","v":0},null,{"$f":"IF(E5146<F5146,0,E5146-F5146)","v":0},{"$f":"IFERROR(VLOOKUP(B5146,$A$17:$B$20,2,0),0)","v":0},{"$f":"G5146*H5146","v":0}]
[null,null,null,null,0,null,0,0,0]
[null,null,null,null,0,null,0,0,0]
[null,null,null,null,0,null,0,0,0]
[null,null,null,null,0,null,0,0,0]
[null,null,null,null,0,null,0,0,0]
[null,null,null,null,0,null,0,0,0]
[null,null,null,null,0,null,0,0,0]
[null,null,null,null,0,null,0,0,0]
[null,null,null,null,0,null,0,0,0]
[null,null,null,null,0,null,0,0,0]
[null,null,null,null,0,null,0,0,0]
[null,null,null,null,0,null,0,0,0]
[null,null,null,null,0,null,0,0,0]
[null,null,null,null,0,null,0,0,0]
[null,null,null,null,0,null,0,0,0]
[null,null,null,null,0,null,0,0,0]
[null,null,null,null,0,null,0,0,0]
[null,null,null,null,0,null,0,0,0]
[null,null,null,null,0,null,0,0,0]
[null,null,null,null,0,null,0,0,0]
[null,null,null,null,0,null,0,0,0]
[null,null,null,null,0,null,0,0,0]
[null,null,null,null,0,null,0,0,0]
[null,null,null,null,0,null,0,0,0]
[null,null,null,null,0,null,0,0,0]
[null,null,null,null,0,null,0,0,0]
[null,null,null,null,0,null,0,0,0]
[null,null,null,null,0,null,0,0,0]
[null,null,null,null,0,null,0,0,0]
[null,null,null,null,0,null,0,0,0]
[null,null,null,null,0,null,0,0,0]
[null,null,null,null,0,null,0,0,0]
[null,null,null,null,0,null,0,0,0]
[null,null,null,null,0,null,0,0,0]
[null,null,null,null,0,null,0,0,0]
[null,null,null,null,0,null,0,0,0]
[null,null,null,null,0,null,0,0,0]
[null,null,null,null,0,null,0,0,0]
[null,null,null,null,0,null,0,0,0]
[null,null,null,null,0,null,0,0,0]
[null,null,null,null,0,null,0,0,0]
[null,null,null,null,0,null,0,0,0]
[null,null,null,null,0,null,0,0,0]
[null,null,null,null,0,null,0,0,0]
[null,null,null,null,0,null,0,0,0]
[null,null,null,null,0,null,0,0,0]
[null,null,null,null,0,null,0,0,0]
[null,null,null,null,0,null,0,0,0]
[null,null,null,null,0,null,0,0,0]
[null,null,null,null,0,null,0,0,0]
[null,null,null,null,0,null,0,0,0]
[null,null,null,null,0,null,0,0,0]
[null,null,null,null,0,null,0,0,0]
[null,null,null,null,0,null,0,0,0]
[null,null,null,null,0,null,0,0,0]
[null,null,null,null,0,null,0,0,0]
[null,null,null,null,0,null,0,0,0]
[null,null,null,null,0,null,0,0,0]
[null,null,null,null,0,null,0,0,0]
[null,null,null,null,0,null,0,0,0]
[null,null,null,null,0,null,0,0,0]
[null,null,null,null,0,null,0,0,0]
[null,null,null,null,0,null,0,0,0]
[null,null,null,null,{"$f":"IF(C5210<D5210,ABS(C5210-D5210),0)","v":0},null,{"$f":"IF(E5210<F5210,0,E5210-F5210)","v":0},{"$f":"IFERROR(VLOOKUP(B5210,$A$17:$B$20,2,0),0)","v":0},{"$f":"G5210*H5210","v":0}]
[null,null,null,null,0,null,0,0,0]
[null,null,null,null,0,null,0,0,0]
[null,null,null,null,0,null,0,0,0]
[null,null,null,null,0,null,0,0,0]
[null,null,null,null,0,null,0,0,0]
[null,null,null,null,0,null,0,0,0]
[null,null,null,null,0,null,0,0,0]
[null,null,null,null,0,null,0,0,0]
[null,null,null,null,0,null,0,0,0]
[null,null,null,null,0,null,0,0,0]
[null,null,null,null,0,null,0,0,0]
[null,null,null,null,0,null,0,0,0]
[null,null,null,null,0,null,0,0,0]
[null,null,null,null,0,null,0,0,0]
[null,null,null,null,0,null,0,0,0]
[null,null,null,null,0,null,0,0,0]
[null,null,null,null,0,null,0,0,0]
[null,null,null,null,0,null,0,0,0]
[null,null,null,null,0,null,0,0,0]
[null,null,null,null,0,null,0,0,0]
[null,null,null,null,0,null,0,0,0]
[null,null,null,null,0,null,0,0,0]
[null,null,null,null,0,null,0,0,0]
[null,null,null,null,0,null,0,0,0]
[null,null,null,null,0,null,0,0,0]
[null,null,null,null,0,null,0,0,0]
[null,null,null,null,0,null,0,0,0]
[null,null,null,null,0,null,0,0,0]
[null,null,null,null,0,null,0,0,0]
[null,null,null,null,0,null,0,0,0]
[null,null,null,null,0,null,0,0,0]
[null,null,null,null,0,null,0,0,0]
[null,null,null,null,0,null,0,0,0]
[null,null,null,null,0,null,0,0,0]
[null,null,null,null,0,null,0,0,0]
[null,null,null,null,0,null,0,0,0]
[null,null,null,null,0,null,0,0,0]
[null,null,null,null,0,null,0,0,0]
[null,null,null,null,0,null,0,0,0]
[null,null,null,null,0,null,0,0,0]
[null,null,null,null,0,null,0,0,0]
[null,null,null,null,0,null,0,0,0]
[null,null,null,null,0,null,0,0,0]
[null,null,null,null,0,null,0,0,0]
[null,null,null,null,0,null,0,0,0]
[null,null,null,null,0,null,0,0,0]
[null,null,null,null,0,null,0,0,0]
[null,null,null,null,0,null,0,0,0]
[null,null,null,null,0,null,0,0,0]
[null,null,null,null,0,null,0,0,0]
[null,null,null,null,0,null,0,0,0]
[null,null,null,null,0,null,0,0,0]
[null,null,null,null,0,null,0,0,0]
[null,null,null,null,0,null,0,0,0]
[null,null,null,null,0,null,0,0,0]
[null,null,null,null,0,null,0,0,0]
[null,null,null,null,0,null,0,0,0]
[null,null,null,null,0,null,0,0,0]
[null,null,null,null,0,null,0,0,0]
[null,null,null,null,0,null,0,0,0]
[null,null,null,null,0,null,0,0,0]
[null,null,null,null,0,null,0,0,0]
[null,null,null,null,0,null,0,0,0]
[null,null,null,null,{"$f":"IF(C5274<D5274,ABS(C5274-D5274),0)","v":0},null,{"$f":"IF(E5274<F5274,0,E5274-F5274)","v":0},{"$f":"IFERROR(VLOOKUP(B5274,$A$17:$B$20,2,0),0)","v":0},{"$f":"G5274*H5274","v":0}]
[null,null,null,null,0,null,0,0,0]
[null,null,null,null,0,null,0,0,0]
[null,null,null,null,0,null,0,0,0]
[null,null,null,null,0,null,0,0,0]
[null,null,null,null,0,null,0,0,0]
[null,null,null,null,0,null,0,0,0]
[null,null,null,null,0,null,0,0,0]
[null,null,null,null,0,null,0,0,0]
[null,null,null,null,0,null,0,0,0]
[null,null,null,null,0,null,0,0,0]
[null,null,null,null,0,null,0,0,0]
[null,null,null,null,0,null,0,0,0]
[null,null,null,null,0,null,0,0,0]
[null,null,null,null,0,null,0,0,0]
[null,null,null,null,0,null,0,0,0]
[null,null,null,null,0,null,0,0,0]
[null,null,null,null,0,null,0,0,0]
[null,null,null,null,0,null,0,0,0]
[null,null,null,null,0,null,0,0,0]
[null,null,null,null,0,null,0,0,0]
[null,null,null,null,0,null,0,0,0]
[null,null,null,null,0,null,0,0,0]
[null,null,null,null,0,null,0,0,0]
[null,null,null,null,0,null,0,0,0]
[null,null,null,null,0,null,0,0,0]
[null,null,null,null,0,null,0,0,0]
[null,null,null,null,0,null,0,0,0]
[null,null,null,null,0,null,0,0,0]
[null,null,null,null,0,null,0,0,0]
[null,null,null,null,0,null,0,0,0]
[null,null,null,null,0,null,0,0,0]
[null,null,null,null,0,null,0,0,0]
[null,null,null,null,0,null,0,0,0]
[null,null,null,null,0,null,0,0,0]
[null,null,null,null,0,null,0,0,0]
[null,null,null,null,0,null,0,0,0]
[null,null,null,null,0,null,0,0,0]
[null,null,null,null,0,null,0,0,0]
[null,null,null,null,0,null,0,0,0]
[null,null,null,null,0,null,0,0,0]
[null,null,null,null,0,null,0,0,0]
[null,null,null,null,0,null,0,0,0]
[null,null,null,null,0,null,0,0,0]
[null,null,null,null,0,null,0,0,0]
[null,null,null,null,0,null,0,0,0]
[null,null,null,null,0,null,0,0,0]
[null,null,null,null,0,null,0,0,0]
[null,null,null,null,0,null,0,0,0]
[null,null,null,null,0,null,0,0,0]
[null,null,null,null,0,null,0,0,0]
[null,null,null,null,0,null,0,0,0]
[null,null,null,null,0,null,0,0,0]
[null,null,null,null,0,null,0,0,0]
[null,null,null,null,0,null,0,0,0]
[null,null,null,null,0,null,0,0,0]
[null,null,null,null,0,null,0,0,0]
[null,null,null,null,0,null,0,0,0]
[null,null,null,null,0,null,0,0,0]
[null,null,null,null,0,null,0,0,0]
[null,null,null,null,0,null,0,0,0]
[null,null,null,null,0,null,0,0,0]
[null,null,null,null,0,null,0,0,0]
[null,null,null,null,0,null,0,0,0]
[null,null,null,null,{"$f":"IF(C5338<D5338,ABS(C5338-D5338),0)","v":0},null,{"$f":"IF(E5338<F5338,0,E5338-F5338)","v":0},{"$f":"IFERROR(VLOOKUP(B5338,$A$17:$B$20,2,0),0)","v":0},{"$f":"G5338*H5338","v":0}]
[null,null,null,null,0,null,0,0,0]
[null,null,null,null,0,null,0,0,0]
[null,null,null,null,0,null,0,0,0]
[null,null,null,null,0,null,0,0,0]
[null,null,null,null,0,null,0,0,0]
[null,null,null,null,0,null,0,0,0]
[null,null,null,null,0,null,0,0,0]
[null,null,null,null,0,null,0,0,0]
[null,null,null,null,0,null,0,0,0]
[null,null,null,null,0,null,0,0,0]
[null,null,null,null,0,null,0,0,0]
[null,null,null,null,0,null,0,0,0]
[null,null,null,null,0,null,0,0,0]
[null,null,null,null,0,null,0,0,0]
[null,null,null,null,0,null,0,0,0]
[null,null,null,null,0,null,0,0,0]
[null,null,null,null,0,null,0,0,0]
[null,null,null,null,0,null,0,0,0]
[null,null,null,null,0,null,0,0,0]
[null,null,null,null,0,null,0,0,0]
[null,null,null,null,0,null,0,0,0]
[null,null,null,null,0,null,0,0,0]
[null,null,null,null,0,null,0,0,0]
[null,null,null,null,0,null,0,0,0]
[null,null,null,null,0,null,0,0,0]
[null,null,null,null,0,null,0,0,0]
[null,null,null,null,0,null,0,0,0]
[null,null,null,null,0,null,0,0,0]
[null,null,null,null,0,null,0,0,0]
[null,null,null,null,0,null,0,0,0]
[null,null,null,null,0,null,0,0,0]
[null,null,null,null,0,null,0,0,0]
[null,null,null,null,0,null,0,0,0]
[null,null,null,null,0,null,0,0,0]
[null,null,null,null,0,null,0,0,0]
[null,null,null,null,0,null,0,0,0]
[null,null,null,null,0,null,0,0,0]
[null,null,null,null,0,null,0,0,0]
[null,null,null,null,0,null,0,0,0]
[null,null,null,null,0,null,0,0,0]
[null,null,null,null,0,null,0,0,0]
[null,null,null,null,0,null,0,0,0]
[null,null,null,null,0,null,0,0,0]
[null,null,null,null,0,null,0,0,0]
[null,null,null,null,0,null,0,0,0]
[null,null,null,null,0,null,0,0,0]
[null,null,null,null,0,null,0,0,0]
[null,null,null,null,0,null,0,0,0]
[null,null,null,null,0,null,0,0,0]
[null,null,null,null,0,null,0,0,0]
[null,null,null,null,0,null,0,0,0]
[null,null,null,null,0,null,0,0,0]
[null,null,null,null,0,null,0,0,0]
[null,null,null,null,0,null,0,0,0]
[null,null,null,null,0,null,0,0,0]
[null,null,null,null,0,null,0,0,0]
[null,null,null,null,0,null,0,0,0]
[null,null,null,null,0,null,0,0,0]
[null,null,null,null,0,null,0,0,0]
[null,null,null,null,0,null,0,0,0]
[null,null,null,null,0,null,0,0,0]
[null,null,null,null,0,null,0,0,0]
[null,null,null,null,0,null,0,0,0]
[null,null,null,null,{"$f":"IF(C5402<D5402,ABS(C5402-D5402),0)","v":0},null,{"$f":"IF(E5402<F5402,0,E5402-F5402)","v":0},{"$f":"IFERROR(VLOOKUP(B5402,$A$17:$B$20,2,0),0)","v":0},{"$f":"G5402*H5402","v":0}]
[null,null,null,null,0,null,0,0,0]
[null,null,null,null,0,null,0,0,0]
[null,null,null,null,0,null,0,0,0]
[null,null,null,null,0,null,0,0,0]
[null,null,null,null,0,null,0,0,0]
[null,null,null,null,0,null,0,0,0]
[null,null,null,null,0,null,0,0,0]
[null,null,null,null,0,null,0,0,0]
[null,null,null,null,0,null,0,0,0]
[null,null,null,null,0,null,0,0,0]
[null,null,null,null,0,null,0,0,0]
[null,null,null,null,0,null,0,0,0]
[null,null,null,null,0,null,0,0,0]
[null,null,null,null,0,null,0,0,0]
[null,null,null,null,0,null,0,0,0]
[null,null,null,null,0,null,0,0,0]
[null,null,null,null,0,null,0,0,0]
[null,null,null,null,0,null,0,0,0]
[null,null,null,null,0,null,0,0,0]
[null,null,null,null,0,null,0,0,0]
[null,null,null,null,0,null,0,0,0]
[null,null,null,null,0,null,0,0,0]
[null,null,null,null,0,null,0,0,0]
[null,null,null,null,0,null,0,0,0]
[null,null,null,null,0,null,0,0,0]
[null,null,null,null,0,null,0,0,0]
[null,null,null,null,0,null,0,0,0]
[null,null,null,null,0,null,0,0,0]
[null,null,null,null,0,null,0,0,0]
[null,null,null,null,0,null,0,0,0]
[null,null,null,null,0,null,0,0,0]
[null,null,null,null,0,null,0,0,0]
[null,null,null,null,0,null,0,0,0]
[null,null,null,null,0,null,0,0,0]
[null,null,null,null,0,null,0,0,0]
[null,null,null,null,0,null,0,0,0]
[null,null,null,null,0,null,0,0,0]
[null,null,null,null,0,null,0,0,0]
[null,null,null,null,0,null,0,0,0]
[null,null,null,null,0,null,0,0,0]
[null,null,null,null,0,null,0,0,0]
[null,null,null,null,0,null,0,0,0]
[null,null,null,null,0,null,0,0,0]
[null,null,null,null,0,null,0,0,0]
[null,null,null,null,0,null,0,0,0]
[null,null,null,null,0,null,0,0,0]
[null,null,null,null,0,null,0,0,0]
[null,null,null,null,0,null,0,0,0]
[null,null,null,null,0,null,0,0,0]
[null,null,null,null,0,null,0,0,0]
[null,null,null,null,0,null,0,0,0]
[null,null,null,null,0,null,0,0,0]
[null,null,null,null,0,null,0,0,0]
[null,null,null,null,0,null,0,0,0]
[null,null,null,null,0,null,0,0,0]
[null,null,null,null,0,null,0,0,0]
[null,null,null,null,0,null,0,0,0]
[null,null,null,null,0,null,0,0,0]
[null,null,null,null,0,null,0,0,0]
[null,null,null,null,0,null,0,0,0]
[null,null,null,null,0,null,0,0,0]
[null,null,null,null,0,null,0,0,0]
[null,null,null,null,0,null,0,0,0]
[null,null,null,null,{"$f":"IF(C5466<D5466,ABS(C5466-D5466),0)","v":0},null,{"$f":"IF(E5466<F5466,0,E5466-F5466)","v":0},{"$f":"IFERROR(VLOOKUP(B5466,$A$17:$B$20,2,0),0)","v":0},{"$f":"G5466*H5466","v":0}]
[null,null,null,null,0,null,0,0,0]
[null,null,null,null,0,null,0,0,0]
[null,null,null,null,0,null,0,0,0]
[null,null,null,null,0,null,0,0,0]
[null,null,null,null,0,null,0,0,0]
[null,null,null,null,0,null,0,0,0]
[null,null,null,null,0,null,0,0,0]
[null,null,null,null,0,null,0,0,0]
[null,null,null,null,0,null,0,0,0]
[null,null,null,null,0,null,0,0,0]
[null,null,null,null,0,null,0,0,0]
[null,null,null,null,0,null,0,0,0]
[null,null,null,null,0,null,0,0,0]
[null,null,null,null,0,null,0,0,0]
[null,null,null,null,0,null,0,0,0]
[null,null,null,null,0,null,0,0,0]
[null,null,null,null,0,null,0,0,0]
[null,null,null,null,0,null,0,0,0]
[null,null,null,null,0,null,0,0,0]
[null,null,null,null,0,null,0,0,0]
[null,null,null,null,0,null,0,0,0]
[null,null,null,null,0,null,0,0,0]
[null,null,null,null,0,null,0,0,0]
[null,null,null,null,0,null,0,0,0]
[null,null,null,null,0,null,0,0,0]
[null,null,null,null,0,null,0,0,0]
[null,null,null,null,0,null,0,0,0]
[null,null,null,null,0,null,0,0,0]
[null,null,null,null,0,null,0,0,0]
[null,null,null,null,0,null,0,0,0]
[null,null,null,null,0,null,0,0,0]
[null,null,null,null,0,null,0,0,0]
[null,null,null,null,0,null,0,0,0]
[null,null,null,null,0,null,0,0,0]
[null,null,null,null,0,null,0,0,0]
[null,null,null,null,0,null,0,0,0]
[null,null,null,null,0,null,0,0,0]
[null,null,null,null,0,null,0,0,0]
[null,null,null,null,0,null,0,0,0]
[null,null,null,null,0,null,0,0,0]
[null,null,null,null,0,null,0,0,0]
[null,null,null,null,0,null,0,0,0]
[null,null,null,null,0,null,0,0,0]
[null,null,null,null,0,null,0,0,0]
[null,null,null,null,0,null,0,0,0]
[null,null,null,null,0,null,0,0,0]
[null,null,null,null,0,null,0,0,0]
[null,null,null,null,0,null,0,0,0]
[null,null,null,null,0,null,0,0,0]
[null,null,null,null,0,null,0,0,0]
[null,null,null,null,0,null,0,0,0]
[null,null,null,null,0,null,0,0,0]
[null,null,null,null,0,null,0,0,0]
[null,null,null,null,0,null,0,0,0]
[null,null,null,null,0,null,0,0,0]
[null,null,null,null,0,null,0,0,0]
[null,null,null,null,0,null,0,0,0]
[null,null,null,null,0,null,0,0,0]
[null,null,null,null,0,null,0,0,0]
[null,null,null,null,0,null,0,0,0]
[null,null,null,null,0,null,0,0,0]
[null,null,null,null,0,null,0,0,0]
[null,null,null,null,0,null,0,0,0]
[null,null,null,null,{"$f":"IF(C5530<D5530,ABS(C5530-D5530),0)","v":0},null,{"$f":"IF(E5530<F5530,0,E5530-F5530)","v":0},{"$f":"IFERROR(VLOOKUP(B5530,$A$17:$B$20,2,0),0)","v":0},{"$f":"G5530*H5530","v":0}]
[null,null,null,null,0,null,0,0,0]
[null,null,null,null,0,null,0,0,0]
[null,null,null,null,0,null,0,0,0]
[null,null,null,null,0,null,0,0,0]
[null,null,null,null,0,null,0,0,0]
[null,null,null,null,0,null,0,0,0]
[null,null,null,null,0,null,0,0,0]
[null,null,null,null,0,null,0,0,0]
[null,null,null,null,0,null,0,0,0]
[null,null,null,null,0,null,0,0,0]
[null,null,null,null,0,null,0,0,0]
[null,null,null,null,0,null,0,0,0]
[null,null,null,null,0,null,0,0,0]
[null,null,null,null,0,null,0,0,0]
[null,null,null,null,0,null,0,0,0]
[null,null,null,null,0,null,0,0,0]
[null,null,null,null,0,null,0,0,0]
[null,null,null,null,0,null,0,0,0]
[null,null,null,null,0,null,0,0,0]
[null,null,null,null,0,null,0,0,0]
[null,null,null,null,0,null,0,0,0]
[null,null,null,null,0,null,0,0,0]
[null,null,null,null,0,null,0,0,0]
[null,null,null,null,0,null,0,0,0]
[null,null,null,null,0,null,0,0,0]
[null,null,null,null,0,null,0,0,0]
[null,null,null,null,0,null,0,0,0]
[null,null,null,null,0,null,0,0,0]
[null,null,null,null,0,null,0,0,0]
[null,null,null,null,0,null,0,0,0]
[null,null,null,null,0,null,0,0,0]
[null,null,null,null,0,null,0,0,0]
[null,null,null,null,0,null,0,0,0]
[null,null,null,null,0,null,0,0,0]
[null,null,null,null,0,null,0,0,0]
[null,null,null,null,0,null,0,0,0]
[null,null,null,null,0,null,0,0,0]
[null,null,null,null,0,null,0,0,0]
[null,null,null,null,0,null,0,0,0]
[null,null,null,null,0,null,0,0,0]
[null,null,null,null,0,null,0,0,0]
[null,null,null,null,0,null,0,0,0]
[null,null,null,null,0,null,0,0,0]
[null,null,null,null,0,null,0,0,0]
[null,null,null,null,0,null,0,0,0]
[null,null,null,null,0,null,0,0,0]
[null,null,null,null,0,null,0,0,0]
[null,null,null,null,0,null,0,0,0]
[null,null,null,null,0,null,0,0,0]
[null,null,null,null,0,null,0,0,0]
[null,null,null,null,0,null,0,0,0]
[null,null,null,null,0,null,0,0,0]
[null,null,null,null,0,null,0,0,0]
[null,null,null,null,0,null,0,0,0]
[null,null,null,null,0,null,0,0,0]
[null,null,null,null,0,null,0,0,0]
[null,null,null,null,0,null,0,0,0]
[null,null,null,null,0,null,0,0,0]
[null,null,null,null,0,null,0,0,0]
[null,null,null,null,0,null,0,0,0]
[null,null,null,null,0,null,0,0,0]
[null,null,null,null,0,null,0,0,0]
[null,null,null,null,0,null,0,0,0]
[null,null,null,null,{"$f":"IF(C5594<D5594,ABS(C5594-D5594),0)","v":0},null,{"$f":"IF(E5594<F5594,0,E5594-F5594)","v":0},{"$f":"IFERROR(VLOOKUP(B5594,$A$17:$B$20,2,0),0)","v":0},{"$f":"G5594*H5594","v":0}]
[null,null,null,null,0,null,0,0,0]
[null,null,null,null,0,null,0,0,0]
[null,null,null,null,0,null,0,0,0]
[null,null,null,null,0,null,0,0,0]
[null,null,null,null,0,null,0,0,0]
[null,null,null,null,0,null,0,0,0]
[null,null,null,null,0,null,0,0,0]
[null,null,null,null,0,null,0,0,0]
[null,null,null,null,0,null,0,0,0]
[null,null,null,null,0,null,0,0,0]
[null,null,null,null,0,null,0,0,0]
[null,null,null,null,0,null,0,0,0]
[null,null,null,null,0,null,0,0,0]
[null,null,null,null,0,null,0,0,0]
[null,null,null,null,0,null,0,0,0]
[null,null,null,null,0,null,0,0,0]
[null,null,null,null,0,null,0,0,0]
[null,null,null,null,0,null,0,0,0]
[null,null,null,null,0,null,0,0,0]
[null,null,null,null,0,null,0,0,0]
[null,null,null,null,0,null,0,0,0]
[null,null,null,null,0,null,0,0,0]
[null,null,null,null,0,null,0,0,0]
[null,null,null,null,0,null,0,0,0]
[null,null,null,null,0,null,0,0,0]
[null,null,null,null,0,null,0,0,0]
[null,null,null,null,0,null,0,0,0]
[null,null,null,null,0,null,0,0,0]
[null,null,null,null,0,null,0,0,0]
[null,null,null,null,0,null,0,0,0]
[null,null,null,null,0,null,0,0,0]
[null,null,null,null,0,null,0,0,0]
[null,null,null,null,0,null,0,0,0]
[null,null,null,null,0,null,0,0,0]
[null,null,null,null,0,null,0,0,0]
[null,null,null,null,0,null,0,0,0]
[null,null,null,null,0,null,0,0,0]
[null,null,null,null,0,null,0,0,0]
[null,null,null,null,0,null,0,0,0]
[null,null,null,null,0,null,0,0,0]
[null,null,null,null,0,null,0,0,0]
[null,null,null,null,0,null,0,0,0]
[null,null,null,null,0,null,0,0,0]
[null,null,null,null,0,null,0,0,0]
[null,null,null,null,0,null,0,0,0]
[null,null,null,null,0,null,0,0,0]
[null,null,null,null,0,null,0,0,0]
[null,null,null,null,0,null,0,0,0]
[null,null,null,null,0,null,0,0,0]
[null,null,null,null,0,null,0,0,0]
[null,null,null,null,0,null,0,0,0]
[null,null,null,null,0,null,0,0,0]
[null,null,null,null,0,null,0,0,0]
[null,null,null,null,0,null,0,0,0]
[null,null,null,null,0,null,0,0,0]
[null,null,null,null,0,null,0,0,0]
[null,null,null,null,0,null,0,0,0]
[null,null,null,null,0,null,0,0,0]
[null,null,null,null,0,null,0,0,0]
[null,null,null,null,0,null,0,0,0]
[null,null,null,null,0,null,0,0,0]
[null,null,null,null,0,null,0,0,0]
[null,null,null,null,0,null,0,0,0]
[null,null,null,null,{"$f":"IF(C5658<D5658,ABS(C5658-D5658),0)","v":0},null,{"$f":"IF(E5658<F5658,0,E5658-F5658)","v":0},{"$f":"IFERROR(VLOOKUP(B5658,$A$17:$B$20,2,0),0)","v":0},{"$f":"G5658*H5658","v":0}]
[null,null,null,null,0,null,0,0,0]
[null,null,null,null,0,null,0,0,0]
[null,null,null,null,0,null,0,0,0]
[null,null,null,null,0,null,0,0,0]
[null,null,null,null,0,null,0,0,0]
[null,null,null,null,0,null,0,0,0]
[null,null,null,null,0,null,0,0,0]
[null,null,null,null,0,null,0,0,0]
[null,null,null,null,0,null,0,0,0]
[null,null,null,null,0,null,0,0,0]
[null,null,null,null,0,null,0,0,0]
[null,null,null,null,0,null,0,0,0]
[null,null,null,null,0,null,0,0,0]
[null,null,null,null,0,null,0,0,0]
[null,null,null,null,0,null,0,0,0]
[null,null,null,null,0,null,0,0,0]
[null,null,null,null,0,null,0,0,0]
[null,null,null,null,0,null,0,0,0]
[null,null,null,null,0,null,0,0,0]
[null,null,null,null,0,null,0,0,0]
[null,null,null,null,0,null,0,0,0]
[null,null,null,null,0,null,0,0,0]
[null,null,null,null,0,null,0,0,0]
[null,null,null,null,0,null,0,0,0]
[null,null,null,null,0,null,0,0,0]
[null,null,null,null,0,null,0,0,0]
[null,null,null,null,0,null,0,0,0]
[null,null,null,null,0,null,0,0,0]
[null,null,null,null,0,null,0,0,0]
[null,null,null,null,0,null,0,0,0]
[null,null,null,null,0,null,0,0,0]
[null,null,null,null,0,null,0,0,0]
[null,null,null,null,0,null,0,0,0]
[null,null,null,null,0,null,0,0,0]
[null,null,null,null,0,null,0,0,0]
[null,null,null,null,0,null,0,0,0]
[null,null,null,null,0,null,0,0,0]
[null,null,null,null,0,null,0,0,0]
[null,null,null,null,0,null,0,0,0]
[null,null,null,null,0,null,0,0,0]
[null,null,null,null,0,null,0,0,0]
[null,null,null,null,0,null,0,0,0]
[null,null,null,null,0,null,0,0,0]
[null,null,null,null,0,null,0,0,0]
[null,null,null,null,0,null,0,0,0]
[null,null,null,null,0,null,0,0,0]
[null,null,null,null,0,null,0,0,0]
[null,null,null,null,0,null,0,0,0]
[null,null,null,null,0,null,0,0,0]
[null,null,null,null,0,null,0,0,0]
[null,null,null,null,0,null,0,0,0]
[null,null,null,null,0,null,0,0,0]
[null,null,null,null,0,null,0,0,0]
[null,null,null,null,0,null,0,0,0]
[null,null,null,null,0,null,0,0,0]
[null,null,null,null,0,null,0,0,0]
[null,null,null,null,0,null,0,0,0]
[null,null,null,null,0,null,0,0,0]
[null,null,null,null,0,null,0,0,0]
[null,null,null,null,0,null,0,0,0]
[null,null,null,null,0,null,0,0,0]
[null,null,null,null,0,null,0,0,0]
[null,null,null,null,0,null,0,0,0]
[null,null,null,null,{"$f":"IF(C5722<D5722,ABS(C5722-D5722),0)","v":0},null,{"$f":"IF(E5722<F5722,0,E5722-F5722)","v":0},{"$f":"IFERROR(VLOOKUP(B5722,$A$17:$B$20,2,0),0)","v":0},{"$f":"G5722*H5722","v":0}]
[null,null,null,null,0,null,0,0,0]
[null,null,null,null,0,null,0,0,0]
[null,null,null,null,0,null,0,0,0]
[null,null,null,null,0,null,0,0,0]
[null,null,null,null,0,null,0,0,0]
[null,null,null,null,0,null,0,0,0]
[null,null,null,null,0,null,0,0,0]
[null,null,null,null,0,null,0,0,0]
[null,null,null,null,0,null,0,0,0]
[null,null,null,null,0,null,0,0,0]
[null,null,null,null,0,null,0,0,0]
[null,null,null,null,0,null,0,0,0]
[null,null,null,null,0,null,0,0,0]
[null,null,null,null,0,null,0,0,0]
[null,null,null,null,0,null,0,0,0]
[null,null,null,null,0,null,0,0,0]
[null,null,null,null,0,null,0,0,0]
[null,null,null,null,0,null,0,0,0]
[null,null,null,null,0,null,0,0,0]
[null,null,null,null,0,null,0,0,0]
[null,null,null,null,0,null,0,0,0]
[null,null,null,null,0,null,0,0,0]
[null,null,null,null,0,null,0,0,0]
[null,null,null,null,0,null,0,0,0]
[null,null,null,null,0,null,0,0,0]
[null,null,null,null,0,null,0,0,0]
[null,null,null,null,0,null,0,0,0]
[null,null,null,null,0,null,0,0,0]
[null,null,null,null,0,null,0,0,0]
[null,null,null,null,0,null,0,0,0]
[null,null,null,null,0,null,0,0,0]
[null,null,null,null,0,null,0,0,0]
[null,null,null,null,0,null,0,0,0]
[null,null,null,null,0,null,0,0,0]
[null,null,null,null,0,null,0,0,0]
[null,null,null,null,0,null,0,0,0]
[null,null,null,null,0,null,0,0,0]
[null,null,null,null,0,null,0,0,0]
[null,null,null,null,0,null,0,0,0]
[null,null,null,null,0,null,0,0,0]
[null,null,null,null,0,null,0,0,0]
[null,null,null,null,0,null,0,0,0]
[null,null,null,null,0,null,0,0,0]
[null,null,null,null,0,null,0,0,0]
[null,null,null,null,0,null,0,0,0]
[null,null,null,null,0,null,0,0,0]
[null,null,null,null,0,null,0,0,0]
[null,null,null,null,0,null,0,0,0]
[null,null,null,null,0,null,0,0,0]
[null,null,null,null,0,null,0,0,0]
[null,null,null,null,0,null,0,0,0]
[null,null,null,null,0,null,0,0,0]
[null,null,null,null,0,null,0,0,0]
[null,null,null,null,0,null,0,0,0]
[null,null,null,null,0,null,0,0,0]
[null,null,null,null,0,null,0,0,0]
[null,null,null,null,0,null,0,0,0]
[null,null,null,null,0,null,0,0,0]
[null,null,null,null,0,null,0,0,0]
[null,null,null,null,0,null,0,0,0]
[null,null,null,null,0,null,0,0,0]
[null,null,null,null,0,null,0,0,0]
[null,null,null,null,0,null,0,0,0]
[null,null,null,null,{"$f":"IF(C5786<D5786,ABS(C5786-D5786),0)","v":0},null,{"$f":"IF(E5786<F5786,0,E5786-F5786)","v":0},{"$f":"IFERROR(VLOOKUP(B5786,$A$17:$B$20,2,0),0)","v":0},{"$f":"G5786*H5786","v":0}]
[null,null,null,null,0,null,0,0,0]
[null,null,null,null,0,null,0,0,0]
[null,null,null,null,0,null,0,0,0]
[null,null,null,null,0,null,0,0,0]
[null,null,null,null,0,null,0,0,0]
[null,null,null,null,0,null,0,0,0]
[null,null,null,null,0,null,0,0,0]
[null,null,null,null,0,null,0,0,0]
[null,null,null,null,0,null,0,0,0]
[null,null,null,null,0,null,0,0,0]
[null,null,null,null,0,null,0,0,0]
[null,null,null,null,0,null,0,0,0]
[null,null,null,null,0,null,0,0,0]
[null,null,null,null,0,null,0,0,0]
[null,null,null,null,0,null,0,0,0]
[null,null,null,null,0,null,0,0,0]
[null,null,null,null,0,null,0,0,0]
[null,null,null,null,0,null,0,0,0]
[null,null,null,null,0,null,0,0,0]
[null,null,null,null,0,null,0,0,0]
[null,null,null,null,0,null,0,0,0]
[null,null,null,null,0,null,0,0,0]
[null,null,null,null,0,null,0,0,0]
[null,null,null,null,0,null,0,0,0]
[null,null,null,null,0,null,0,0,0]
[null,null,null,null,0,null,0,0,0]
[null,null,null,null,0,null,0,0,0]
[null,null,null,null,0,null,0,0,0]
[null,null,null,null,0,null,0,0,0]
[null,null,null,null,0,null,0,0,0]
[null,null,null,null,0,null,0,0,0]
[null,null,null,null,0,null,0,0,0]
[null,null,null,null,0,null,0,0,0]
[null,null,null,null,0,null,0,0,0]
[null,null,null,null,0,null,0,0,0]
[null,null,null,null,0,null,0,0,0]
[null,null,null,null,0,null,0,0,0]
[null,null,null,null,0,null,0,0,0]
[null,null,null,null,0,null,0,0,0]
[null,null,null,null,0,null,0,0,0]
[null,null,null,null,0,null,0,0,0]
[null,null,null,null,0,null,0,0,0]
[null,null,null,null,0,null,0,0,0]
[null,null,null,null,0,null,0,0,0]
[null,null,null,null,0,null,0,0,0]
[null,null,null,null,0,null,0,0,0]
[null,null,null,null,0,null,0,0,0]
[null,null,null,null,0,null,0,0,0]
[null,null,null,null,0,null,0,0,0]
[null,null,null,null,0,null,0,0,0]
[null,null,null,null,0,null,0,0,0]
[null,null,null,null,0,null,0,0,0]
[null,null,null,null,0,null,0,0,0]
[null,null,null,null,0,null,0,0,0]
[null,null,null,null,0,null,0,0,0]
[null,null,null,null,0,null,0,0,0]
[null,null,null,null,0,null,0,0,0]
[null,null,null,null,0,null,0,0,0]
[null,null,null,null,0,null,0,0,0]
[null,null,null,null,0,null,0,0,0]
[null,null,null,null,0,null,0,0,0]
[null,null,null,null,0,null,0,0,0]
[null,null,null,null,0,null,0,0,0]
[null,null,null,null,{"$f":"IF(C5850<D5850,ABS(C5850-D5850),0)","v":0},null,{"$f":"IF(E5850<F5850,0,E5850-F5850)","v":0},{"$f":"IFERROR(VLOOKUP(B5850,$A$17:$B$20,2,0),0)","v":0},{"$f":"G5850*H5850","v":0}]
[null,null,null,null,0,null,0,0,0]
[null,null,null,null,0,null,0,0,0]
[null,null,null,null,0,null,0,0,0]
[null,null,null,null,0,null,0,0,0]
[null,null,null,null,0,null,0,0,0]
[null,null,null,null,0,null,0,0,0]
[null,null,null,null,0,null,0,0,0]
[null,null,null,null,0,null,0,0,0]
[null,null,null,null,0,null,0,0,0]
[null,null,null,null,0,null,0,0,0]
[null,null,null,null,0,null,0,0,0]
[null,null,null,null,0,null,0,0,0]
[null,null,null,null,0,null,0,0,0]
[null,null,null,null,0,null,0,0,0]
[null,null,null,null,0,null,0,0,0]
[null,null,null,null,0,null,0,0,0]
[null,null,null,null,0,null,0,0,0]
[null,null,null,null,0,null,0,0,0]
[null,null,null,null,0,null,0,0,0]
[null,null,null,null,0,null,0,0,0]
[null,null,null,null,0,null,0,0,0]
[null,null,null,null,0,null,0,0,0]
[null,null,null,null,0,null,0,0,0]
[null,null,null,null,0,null,0,0,0]
[null,null,null,null,0,null,0,0,0]
[null,null,null,null,0,null,0,0,0]
[null,null,null,null,0,null,0,0,0]
[null,null,null,null,0,null,0,0,0]
[null,null,null,null,0,null,0,0,0]
[null,null,null,null,0,null,0,0,0]
[null,null,null,null,0,null,0,0,0]
[null,null,null,null,0,null,0,0,0]
[null,null,null,null,0,null,0,0,0]
[null,null,null,null,0,null,0,0,0]
[null,null,null,null,0,null,0,0,0]
[null,null,null,null,0,null,0,0,0]
[null,null,null,null,0,null,0,0,0]
[null,null,null,null,0,null,0,0,0]
[null,null,null,null,0,null,0,0,0]
[null,null,null,null,0,null,0,0,0]
[null,null,null,null,0,null,0,0,0]
[null,null,null,null,0,null,0,0,0]
[null,null,null,null,0,null,0,0,0]
[null,null,null,null,0,null,0,0,0]
[null,null,null,null,0,null,0,0,0]
[null,null,null,null,0,null,0,0,0]
[null,null,null,null,0,null,0,0,0]
[null,null,null,null,0,null,0,0,0]
[null,null,null,null,0,null,0,0,0]
[null,null,null,null,0,null,0,0,0]
[null,null,null,null,0,null,0,0,0]
[null,null,null,null,0,null,0,0,0]
[null,null,null,null,0,null,0,0,0]
[null,null,null,null,0,null,0,0,0]
[null,null,null,null,0,null,0,0,0]
[null,null,null,null,0,null,0,0,0]
[null,null,null,null,0,null,0,0,0]
[null,null,null,null,0,null,0,0,0]
[null,null,null,null,0,null,0,0,0]
[null,null,null,null,0,null,0,0,0]
[null,null,null,null,0,null,0,0,0]
[null,null,null,null,0,null,0,0,0]
[null,null,null,null,0,null,0,0,0]
[null,null,null,null,{"$f":"IF(C5914<D5914,ABS(C5914-D5914),0)","v":0},null,{"$f":"IF(E5914<F5914,0,E5914-F5914)","v":0},{"$f":"IFERROR(VLOOKUP(B5914,$A$17:$B$20,2,0),0)","v":0},{"$f":"G5914*H5914","v":0}]
[null,null,null,null,0,null,0,0,0]
[null,null,null,null,0,null,0,0,0]
[null,null,null,null,0,null,0,0,0]
[null,null,null,null,0,null,0,0,0]
[null,null,null,null,0,null,0,0,0]
[null,null,null,null,0,null,0,0,0]
[null,null,null,null,0,null,0,0,0]
[null,null,null,null,0,null,0,0,0]
[null,null,null,null,0,null,0,0,0]
[null,null,null,null,0,null,0,0,0]
[null,null,null,null,0,null,0,0,0]
[null,null,null,null,0,null,0,0,0]
[null,null,null,null,0,null,0,0,0]
[null,null,null,null,0,null,0,0,0]
[null,null,null,null,0,null,0,0,0]
[null,null,null,null,0,null,0,0,0]
[null,null,null,null,0,null,0,0,0]
[null,null,null,null,0,null,0,0,0]
[null,null,null,null,0,null,0,0,0]
[null,null,null,null,0,null,0,0,0]
[null,null,null,null,0,null,0,0,0]
[null,null,null,null,0,null,0,0,0]
[null,null,null,null,0,null,0,0,0]
[null,null,null,null,0,null,0,0,0]
[null,null,null,null,0,null,0,0,0]
[null,null,null,null,0,null,0,0,0]
[null,null,null,null,0,null,0,0,0]
[null,null,null,null,0,null,0,0,0]
[null,null,null,null,0,null,0,0,0]
[null,null,null,null,0,null,0,0,0]
[null,null,null,null,0,null,0,0,0]
[null,null,null,null,0,null,0,0,0]
[null,null,null,null,0,null,0,0,0]
[null,null,null,null,0,null,0,0,0]
[null,null,null,null,0,null,0,0,0]
[null,null,null,null,0,null,0,0,0]
[null,null,null,null,0,null,0,0,0]
[null,null,null,null,0,null,0,0,0]
[null,null,null,null,0,null,0,0,0]
[null,null,null,null,0,null,0,0,0]
[null,null,null,null,0,null,0,0,0]
[null,null,null,null,0,null,0,0,0]
[null,null,null,null,0,null,0,0,0]
[null,null,null,null,0,null,0,0,0]
[null,null,null,null,0,null,0,0,0]
[null,null,null,null,0,null,0,0,0]
[null,null,null,null,0,null,0,0,0]
[null,null,null,null,0,null,0,0,0]
[null,null,null,null,0,null,0,0,0]
[null,null,null,null,0,null,0,0,0]
[null,null,null,null,0,null,0,0,0]
[null,null,null,null,0,null,0,0,0]
[null,null,null,null,0,null,0,0,0]
[null,null,null,null,0,null,0,0,0]
[null,null,null,null,0,null,0,0,0]
[null,null,null,null,0,null,0,0,0]
[null,null,null,null,0,null,0,0,0]
[null,null,null,null,0,null,0,0,0]
[null,null,null,null,0,null,0,0,0]
[null,null,null,null,0,null,0,0,0]
[null,null,null,null,0,null,0,0,0]
[null,null,null,null,0,null,0,0,0]
[null,null,null,null,0,null,0,0,0]
[null,null,null,null,{"$f":"IF(C5978<D5978,ABS(C5978-D5978),0)","v":0},null,{"$f":"IF(E5978<F5978,0,E5978-F5978)","v":0},{"$f":"IFERROR(VLOOKUP(B5978,$A$17:$B$20,2,0),0)","v":0},{"$f":"G5978*H5978","v":0}]
[null,null,null,null,0,null,0,0,0]
[null,null,null,null,0,null,0,0,0]
[null,null,null,null,0,null,0,0,0]
[null,null,null,null,0,null,0,0,0]
[null,null,null,null,0,null,0,0,0]
[null,null,null,null,0,null,0,0,0]
[null,null,null,null,0,null,0,0,0]
[null,null,null,null,0,null,0,0,0]
[null,null,null,null,0,null,0,0,0]
[null,null,null,null,0,null,0,0,0]
[null,null,null,null,0,null,0,0,0]
[null,null,null,null,0,null,0,0,0]
[null,null,null,null,0,null,0,0,0]
[null,null,null,null,0,null,0,0,0]
[null,null,null,null,0,null,0,0,0]
[null,null,null,null,0,null,0,0,0]
[null,null,null,null,0,null,0,0,0]
[null,null,null,null,0,null,0,0,0]
[null,null,null,null,0,null,0,0,0]
[null,null,null,null,0,null,0,0,0]
[null,null,null,null,0,null,0,0,0]
[null,null,null,null,0,null,0,0,0]
[null,null,null,null,0,null,0,0,0]
[null,null,null,null,0,null,0,0,0]
[null,null,null,null,0,null,0,0,0]
[null,null,null,null,0,null,0,0,0]
[null,null,null,null,0,null,0,0,0]
[null,null,null,null,0,null,0,0,0]
[null,null,null,null,0,null,0,0,0]
[null,null,null,null,0,null,0,0,0]
[null,null,null,null,0,null,0,0,0]
[null,null,null,null,0,null,0,0,0]
[null,null,null,null,0,null,0,0,0]
[null,null,null,null,0,null,0,0,0]
[null,null,null,null,0,null,0,0,0]
[null,null,null,null,0,null,0,0,0]
[null,null,null,null,0,null,0,0,0]
[null,null,null,null,0,null,0,0,0]
[null,null,null,null,0,null,0,0,0]
[null,null,null,null,0,null,0,0,0]
[null,null,null,null,0,null,0,0,0]
[null,null,null,null,0,null,0,0,0]
[null,null,null,null,0,null,0,0,0]
[null,null,null,null,0,null,0,0,0]
[null,null,null,null,0,null,0,0,0]
[null,null,null,null,0,null,0,0,0]
[null,null,null,null,0,null,0,0,0]
[null,null,null,null,0,null,0,0,0]
[null,null,null,null,0,null,0,0,0]
[null,null,null,null,0,null,0,0,0]
[null,null,null,null,0,null,0,0,0]
[null,null,null,null,0,null,0,0,0]
[null,null,null,null,0,null,0,0,0]
[null,null,null,null,0,null,0,0,0]
[null,null,null,null,0,null,0,0,0]
[null,null,null,null,0,null,0,0,0]
[null,null,null,null,0,null,0,0,0]
[null,null,null,null,0,null,0,0,0]
[null,null,null,null,0,null,0,0,0]
[null,null,null,null,0,null,0,0,0]
[null,null,null,null,0,null,0,0,0]
[null,null,null,null,0,null,0,0,0]
[null,null,null,null,0,null,0,0,0]
[null,null,null,null,{"$f":"IF(C6042<D6042,ABS(C6042-D6042),0)","v":0},null,{"$f":"IF(E6042<F6042,0,E6042-F6042)","v":0},{"$f":"IFERROR(VLOOKUP(B6042,$A$17:$B$20,2,0),0)","v":0},{"$f":"G6042*H6042","v":0}]
[null,null,null,null,0,null,0,0,0]
[null,null,null,null,0,null,0,0,0]
[null,null,null,null,0,null,0,0,0]
[null,null,null,null,0,null,0,0,0]
[null,null,null,null,0,null,0,0,0]
[null,null,null,null,0,null,0,0,0]
[null,null,null,null,0,null,0,0,0]
[null,null,null,null,0,null,0,0,0]
[null,null,null,null,0,null,0,0,0]
[null,null,null,null,0,null,0,0,0]
[null,null,null,null,0,null,0,0,0]
[null,null,null,null,0,null,0,0,0]
[null,null,null,null,0,null,0,0,0]
[null,null,null,null,0,null,0,0,0]
[null,null,null,null,0,null,0,0,0]
[null,null,null,null,0,null,0,0,0]
[null,null,null,null,0,null,0,0,0]
[null,null,null,null,0,null,0,0,0]
[null,null,null,null,0,null,0,0,0]
[null,null,null,null,0,null,0,0,0]
[null,null,null,null,0,null,0,0,0]
[null,null,null,null,0,null,0,0,0]
[null,null,null,null,0,null,0,0,0]
[null,null,null,null,0,null,0,0,0]
[null,null,null,null,0,null,0,0,0]
[null,null,null,null,0,null,0,0,0]
[null,null,null,null,0,null,0,0,0]
[null,null,null,null,0,null,0,0,0]
[null,null,null,null,0,null,0,0,0]
[null,null,null,null,0,null,0,0,0]
[null,null,null,null,0,null,0,0,0]
[null,null,null,null,0,null,0,0,0]
[null,null,null,null,0,null,0,0,0]
[null,null,null,null,0,null,0,0,0]
[null,null,null,null,0,null,0,0,0]
[null,null,null,null,0,null,0,0,0]
[null,null,null,null,0,null,0,0,0]
[null,null,null,null,0,null,0,0,0]
[null,null,null,null,0,null,0,0,0]
[null,null,null,null,0,null,0,0,0]
[null,null,null,null,0,null,0,0,0]
[null,null,null,null,0,null,0,0,0]
[null,null,null,null,0,null,0,0,0]
[null,null,null,null,0,null,0,0,0]
[null,null,null,null,0,null,0,0,0]
[null,null,null,null,0,null,0,0,0]
[null,null,null,null,0,null,0,0,0]
[null,null,null,null,0,null,0,0,0]
[null,null,null,null,0,null,0,0,0]
[null,null,null,null,0,null,0,0,0]
[null,null,null,null,0,null,0,0,0]
[null,null,null,null,0,null,0,0,0]
[null,null,null,null,0,null,0,0,0]
[null,null,null,null,0,null,0,0,0]
[null,null,null,null,0,null,0,0,0]
[null,null,null,null,0,null,0,0,0]
[null,null,null,null,0,null,0,0,0]
[null,null,null,null,0,null,0,0,0]
[null,null,null,null,0,null,0,0,0]
[null,null,null,null,0,null,0,0,0]
[null,null,null,null,0,null,0,0,0]
[null,null,null,null,0,null,0,0,0]
[null,null,null,null,0,null,0,0,0]
[null,null,null,null,{"$f":"IF(C6106<D6106,ABS(C6106-D6106),0)","v":0},null,{"$f":"IF(E6106<F6106,0,E6106-F6106)","v":0},{"$f":"IFERROR(VLOOKUP(B6106,$A$17:$B$20,2,0),0)","v":0},{"$f":"G6106*H6106","v":0}]
[null,null,null,null,0,null,0,0,0]
[null,null,null,null,0,null,0,0,0]
[null,null,null,null,0,null,0,0,0]
[null,null,null,null,0,null,0,0,0]
[null,null,null,null,0,null,0,0,0]
[null,null,null,null,0,null,0,0,0]
[null,null,null,null,0,null,0,0,0]
[null,null,null,null,0,null,0,0,0]
[null,null,null,null,0,null,0,0,0]
[null,null,null,null,0,null,0,0,0]
[null,null,null,null,0,null,0,0,0]
[null,null,null,null,0,null,0,0,0]
[null,null,null,null,0,null,0,0,0]
[null,null,null,null,0,null,0,0,0]
[null,null,null,null,0,null,0,0,0]
[null,null,null,null,0,null,0,0,0]
[null,null,null,null,0,null,0,0,0]
[null,null,null,null,0,null,0,0,0]
[null,null,null,null,0,null,0,0,0]
[null,null,null,null,0,null,0,0,0]
[null,null,null,null,0,null,0,0,0]
[null,null,null,null,0,null,0,0,0]
[null,null,null,null,0,null,0,0,0]
[null,null,null,null,0,null,0,0,0]
[null,null,null,null,0,null,0,0,0]
[null,null,null,null,0,null,0,0,0]
[null,null,null,null,0,null,0,0,0]
[null,null,null,null,0,null,0,0,0]
[null,null,null,null,0,null,0,0,0]
[null,null,null,null,0,null,0,0,0]
[null,null,null,null,0,null,0,0,0]
[null,null,null,null,0,null,0,0,0]
[null,null,null,null,0,null,0,0,0]
[null,null,null,null,0,null,0,0,0]
[null,null,null,null,0,null,0,0,0]
[null,null,null,null,0,null,0,0,0]
[null,null,null,null,0,null,0,0,0]
[null,null,null,null,0,null,0,0,0]
[null,null,null,null,0,null,0,0,0]
[null,null,null,null,0,null,0,0,0]
[null,null,null,null,0,null,0,0,0]
[null,null,null,null,0,null,0,0,0]
[null,null,null,null,0,null,0,0,0]
[null,null,null,null,0,null,0,0,0]
[null,null,null,null,0,null,0,0,0]
[null,null,null,null,0,null,0,0,0]
[null,null,null,null,0,null,0,0,0]
[null,null,null,null,0,null,0,0,0]
[null,null,null,null,0,null,0,0,0]
[null,null,null,null,0,null,0,0,0]
[null,null,null,null,0,null,0,0,0]
[null,null,null,null,0,null,0,0,0]
[null,null,null,null,0,null,0,0,0]
[null,null,null,null,0,null,0,0,0]
[null,null,null,null,0,null,0,0,0]
[null,null,null,null,0,null,0,0,0]
[null,null,null,null,0,null,0,0,0]
[null,null,null,null,0,null,0,0,0]
[null,null,null,null,0,null,0,0,0]
[null,null,null,null,0,null,0,0,0]
[null,null,null,null,0,null,0,0,0]
[null,null,null,null,0,null,0,0,0]
[null,null,null,null,0,null,0,0,0]
[null,null,null,null,{"$f":"IF(C6170<D6170,ABS(C6170-D6170),0)","v":0},null,{"$f":"IF(E6170<F6170,0,E6170-F6170)","v":0},{"$f":"IFERROR(VLOOKUP(B6170,$A$17:$B$20,2,0),0)","v":0},{"$f":"G6170*H6170","v":0}]
[null,null,null,null,0,null,0,0,0]
[null,null,null,null,0,null,0,0,0]
[null,null,null,null,0,null,0,0,0]
[null,null,null,null,0,null,0,0,0]
[null,null,null,null,0,null,0,0,0]
[null,null,null,null,0,null,0,0,0]
[null,null,null,null,0,null,0,0,0]
[null,null,null,null,0,null,0,0,0]
[null,null,null,null,0,null,0,0,0]
[null,null,null,null,0,null,0,0,0]
[null,null,null,null,0,null,0,0,0]
[null,null,null,null,0,null,0,0,0]
[null,null,null,null,0,null,0,0,0]
[null,null,null,null,0,null,0,0,0]
[null,null,null,null,0,null,0,0,0]
[null,null,null,null,0,null,0,0,0]
[null,null,null,null,0,null,0,0,0]
[null,null,null,null,0,null,0,0,0]
[null,null,null,null,0,null,0,0,0]
[null,null,null,null,0,null,0,0,0]
[null,null,null,null,0,null,0,0,0]
[null,null,null,null,0,null,0,0,0]
[null,null,null,null,0,null,0,0,0]
[null,null,null,null,0,null,0,0,0]
[null,null,null,null,0,null,0,0,0]
[null,null,null,null,0,null,0,0,0]
[null,null,null,null,0,null,0,0,0]
[null,null,null,null,0,null,0,0,0]
[null,null,null,null,0,null,0,0,0]
[null,null,null,null,0,null,0,0,0]
[null,null,null,null,0,null,0,0,0]
[null,null,null,null,0,null,0,0,0]
[null,null,null,null,0,null,0,0,0]
[null,null,null,null,0,null,0,0,0]
[null,null,null,null,0,null,0,0,0]
[null,null,null,null,0,null,0,0,0]
[null,null,null,null,0,null,0,0,0]
[null,null,null,null,0,null,0,0,0]
[null,null,null,null,0,null,0,0,0]
[null,null,null,null,0,null,0,0,0]
[null,null,null,null,0,null,0,0,0]
[null,null,null,null,0,null,0,0,0]
[null,null,null,null,0,null,0,0,0]
[null,null,null,null,0,null,0,0,0]
[null,null,null,null,0,null,0,0,0]
[null,null,null,null,0,null,0,0,0]
[null,null,null,null,0,null,0,0,0]
[null,null,null,null,0,null,0,0,0]
[null,null,null,null,0,null,0,0,0]
[null,null,null,null,0,null,0,0,0]
[null,null,null,null,0,null,0,0,0]
[null,null,null,null,0,null,0,0,0]
[null,null,null,null,0,null,0,0,0]
[null,null,null,null,0,null,0,0,0]
[null,null,null,null,0,null,0,0,0]
[null,null,null,null,0,null,0,0,0]
[null,null,null,null,0,null,0,0,0]
[null,null,null,null,0,null,0,0,0]
[null,null,null,null,0,null,0,0,0]
[null,null,null,null,0,null,0,0,0]
[null,null,null,null,0,null,0,0,0]
[null,null,null,null,0,null,0,0,0]
[null,null,null,null,0,null,0,0,0]
[null,null,null,null,{"$f":"IF(C6234<D6234,ABS(C6234-D6234),0)","v":0},null,{"$f":"IF(E6234<F6234,0,E6234-F6234)","v":0},{"$f":"IFERROR(VLOOKUP(B6234,$A$17:$B$20,2,0),0)","v":0},{"$f":"G6234*H6234","v":0}]
[null,null,null,null,0,null,0,0,0]
[null,null,null,null,0,null,0,0,0]
[null,null,null,null,0,null,0,0,0]
[null,null,null,null,0,null,0,0,0]
[null,null,null,null,0,null,0,0,0]
[null,null,null,null,0,null,0,0,0]
[null,null,null,null,0,null,0,0,0]
[null,null,null,null,0,null,0,0,0]
[null,null,null,null,0,null,0,0,0]
[null,null,null,null,0,null,0,0,0]
[null,null,null,null,0,null,0,0,0]
[null,null,null,null,0,null,0,0,0]
[null,null,null,null,0,null,0,0,0]
[null,null,null,null,0,null,0,0,0]
[null,null,null,null,0,null,0,0,0]
[null,null,null,null,0,null,0,0,0]
[null,null,null,null,0,null,0,0,0]
[null,null,null,null,0,null,0,0,0]
[null,null,null,null,0,null,0,0,0]
[null,null,null,null,0,null,0,0,0]
[null,null,null,null,0,null,0,0,0]
[null,null,null,null,0,null,0,0,0]
[null,null,null,null,0,null,0,0,0]
[null,null,null,null,0,null,0,0,0]
[null,null,null,null,0,null,0,0,0]
[null,null,null,null,0,null,0,0,0]
[null,null,null,null,0,null,0,0,0]
[null,null,null,null,0,null,0,0,0]
[null,null,null,null,0,null,0,0,0]
[null,null,null,null,0,null,0,0,0]
[null,null,null,null,0,null,0,0,0]
[null,null,null,null,0,null,0,0,0]
[null,null,null,null,0,null,0,0,0]
[null,null,null,null,0,null,0,0,0]
[null,null,null,null,0,null,0,0,0]
[null,null,null,null,0,null,0,0,0]
[null,null,null,null,0,null,0,0,0]
[null,null,null,null,0,null,0,0,0]
[null,null,null,null,0,null,0,0,0]
[null,null,null,null,0,null,0,0,0]
[null,null,null,null,0,null,0,0,0]
[null,null,null,null,0,null,0,0,0]
[null,null,null,null,0,null,0,0,0]
[null,null,null,null,0,null,0,0,0]
[null,null,null,null,0,null,0,0,0]
[null,null,null,null,0,null,0,0,0]
[null,null,null,null,0,null,0,0,0]
[null,null,null,null,0,null,0,0,0]
[null,null,null,null,0,null,0,0,0]
[null,null,null,null,0,null,0,0,0]
[null,null,null,null,0,null,0,0,0]
[null,null,null,null,0,null,0,0,0]
[null,null,null,null,0,null,0,0,0]
[null,null,null,null,0,null,0,0,0]
[null,null,null,null,0,null,0,0,0]
[null,null,null,null,0,null,0,0,0]
[null,null,null,null,0,null,0,0,0]
[null,null,null,null,0,null,0,0,0]
[null,null,null,null,0,null,0,0,0]
[null,null,null,null,0,null,0,0,0]
[null,null,null,null,0,null,0,0,0]
[null,null,null,null,0,null,0,0,0]
[null,null,null,null,0,null,0,0,0]
[null,null,null,null,{"$f":"IF(C6298<D6298,ABS(C6298-D6298),0)","v":0},null,{"$f":"IF(E6298<F6298,0,E6298-F6298)","v":0},{"$f":"IFERROR(VLOOKUP(B6298,$A$17:$B$20,2,0),0)","v":0},{"$f":"G6298*H6298","v":0}]
[null,null,null,null,0,null,0,0,0]
[null,null,null,null,0,null,0,0,0]
[null,null,null,null,0,null,0,0,0]
[null,null,null,null,0,null,0,0,0]
[null,null,null,null,0,null,0,0,0]
[null,null,null,null,0,null,0,0,0]
[null,null,null,null,0,null,0,0,0]
[null,null,null,null,0,null,0,0,0]
[null,null,null,null,0,null,0,0,0]
[null,null,null,null,0,null,0,0,0]
[null,null,null,null,0,null,0,0,0]
[null,null,null,null,0,null,0,0,0]
[null,null,null,null,0,null,0,0,0]
[null,null,null,null,0,null,0,0,0]
[null,null,null,null,0,null,0,0,0]
[null,null,null,null,0,null,0,0,0]
[null,null,null,null,0,null,0,0,0]
[null,null,null,null,0,null,0,0,0]
[null,null,null,null,0,null,0,0,0]
[null,null,null,null,0,null,0,0,0]
[null,null,null,null,0,null,0,0,0]
[null,null,null,null,0,null,0,0,0]
[null,null,null,null,0,null,0,0,0]
[null,null,null,null,0,null,0,0,0]
[null,null,null,null,0,null,0,0,0]
[null,null,null,null,0,null,0,0,0]
[null,null,null,null,0,null,0,0,0]
[null,null,null,null,0,null,0,0,0]
[null,null,null,null,0,null,0,0,0]
[null,null,null,null,0,null,0,0,0]
[null,null,null,null,0,null,0,0,0]
[null,null,null,null,0,null,0,0,0]
[null,null,null,null,0,null,0,0,0]
[null,null,null,null,0,null,0,0,0]
[null,null,null,null,0,null,0,0,0]
[null,null,null,null,0,null,0,0,0]
[null,null,null,null,0,null,0,0,0]
[null,null,null,null,0,null,0,0,0]
[null,null,null,null,0,null,0,0,0]
[null,null,null,null,0,null,0,0,0]
[null,null,null,null,0,null,0,0,0]
[null,null,null,null,0,null,0,0,0]
[null,null,null,null,0,null,0,0,0]
[null,null,null,null,0,null,0,0,0]
[null,null,null,null,0,null,0,0,0]
[null,null,null,null,0,null,0,0,0]
[null,null,null,null,0,null,0,0,0]
[null,null,null,null,0,null,0,0,0]
[null,null,null,null,0,null,0,0,0]
[null,null,null,null,0,null,0,0,0]
[null,null,null,null,0,null,0,0,0]
[null,null,null,null,0,null,0,0,0]
[null,null,null,null,0,null,0,0,0]
[null,null,null,null,0,null,0,0,0]
[null,null,null,null,0,null,0,0,0]
[null,null,null,null,0,null,0,0,0]
[null,null,null,null,0,null,0,0,0]
[null,null,null,null,0,null,0,0,0]
[null,null,null,null,0,null,0,0,0]
[null,null,null,null,0,null,0,0,0]
[null,null,null,null,0,null,0,0,0]
[null,null,null,null,0,null,0,0,0]
[null,null,null,null,0,null,0,0,0]
[null,null,null,null,{"$f":"IF(C6362<D6362,ABS(C6362-D6362),0)","v":0},null,{"$f":"IF(E6362<F6362,0,E6362-F6362)","v":0},{"$f":"IFERROR(VLOOKUP(B6362,$A$17:$B$20,2,0),0)","v":0},{"$f":"G6362*H6362","v":0}]
[null,null,null,null,0,null,0,0,0]
[null,null,null,null,0,null,0,0,0]
[null,null,null,null,0,null,0,0,0]
[null,null,null,null,0,null,0,0,0]
[null,null,null,null,0,null,0,0,0]
[null,null,null,null,0,null,0,0,0]
[null,null,null,null,0,null,0,0,0]
[null,null,null,null,0,null,0,0,0]
[null,null,null,null,0,null,0,0,0]
[null,null,null,null,0,null,0,0,0]
[null,null,null,null,0,null,0,0,0]
[null,null,null,null,0,null,0,0,0]
[null,null,null,null,0,null,0,0,0]
[null,null,null,null,0,null,0,0,0]
[null,null,null,null,0,null,0,0,0]
[null,null,null,null,0,null,0,0,0]
[null,null,null,null,0,null,0,0,0]
[null,null,null,null,0,null,0,0,0]
[null,null,null,null,0,null,0,0,0]
[null,null,null,null,0,null,0,0,0]
[null,null,null,null,0,null,0,0,0]
[null,null,null,null,0,null,0,0,0]
[null,null,null,null,0,null,0,0,0]
[null,null,null,null,0,null,0,0,0]
[null,null,null,null,0,null,0,0,0]
[null,null,null,null,0,null,0,0,0]
[null,null,null,null,0,null,0,0,0]
[null,null,null,null,0,null,0,0,0]
[null,null,null,null,0,null,0,0,0]
[null,null,null,null,0,null,0,0,0]
[null,null,null,null,0,null,0,0,0]
[null,null,null,null,0,null,0,0,0]
[null,null,null,null,0,null,0,0,0]
[null,null,null,null,0,null,0,0,0]
[null,null,null,null,0,null,0,0,0]
[null,null,null,null,0,null,0,0,0]
[null,null,null,null,0,null,0,0,0]
[null,null,null,null,0,null,0,0,0]
[null,null,null,null,0,null,0,0,0]
[null,null,null,null,0,null,0,0,0]
[null,null,null,null,0,null,0,0,0]
[null,null,null,null,0,null,0,0,0]
[null,null,null,null,0,null,0,0,0]
[null,null,null,null,0,null,0,0,0]
[null,null,null,null,0,null,0,0,0]
[null,null,null,null,0,null,0,0,0]
[null,null,null,null,0,null,0,0,0]
[null,null,null,null,0,null,0,0,0]
[null,null,null,null,0,null,0,0,0]
[null,null,null,null,0,null,0,0,0]
[null,null,null,null,0,null,0,0,0]
[null,null,null,null,0,null,0,0,0]
[null,null,null,null,0,null,0,0,0]
[null,null,null,null,0,null,0,0,0]
[null,null,null,null,0,null,0,0,0]
[null,null,null,null,0,null,0,0,0]
[null,null,null,null,0,null,0,0,0]
[null,null,null,null,0,null,0,0,0]
[null,null,null,null,0,null,0,0,0]
[null,null,null,null,0,null,0,0,0]
[null,null,null,null,0,null,0,0,0]
[null,null,null,null,0,null,0,0,0]
[null,null,null,null,0,null,0,0,0]
[null,null,null,null,{"$f":"IF(C6426<D6426,ABS(C6426-D6426),0)","v":0},null,{"$f":"IF(E6426<F6426,0,E6426-F6426)","v":0},{"$f":"IFERROR(VLOOKUP(B6426,$A$17:$B$20,2,0),0)","v":0},{"$f":"G6426*H6426","v":0}]
[null,null,null,null,0,null,0,0,0]
[null,null,null,null,0,null,0,0,0]
[null,null,null,null,0,null,0,0,0]
[null,null,null,null,0,null,0,0,0]
[null,null,null,null,0,null,0,0,0]
[null,null,null,null,0,null,0,0,0]
[null,null,null,null,0,null,0,0,0]
[null,null,null,null,0,null,0,0,0]
[null,null,null,null,0,null,0,0,0]
[null,null,null,null,0,null,0,0,0]
[null,null,null,null,0,null,0,0,0]
[null,null,null,null,0,null,0,0,0]
[null,null,null,null,0,null,0,0,0]
[null,null,null,null,0,null,0,0,0]
[null,null,null,null,0,null,0,0,0]
[null,null,null,null,0,null,0,0,0]
[null,null,null,null,0,null,0,0,0]
[null,null,null,null,0,null,0,0,0]
[null,null,null,null,0,null,0,0,0]
[null,null,null,null,0,null,0,0,0]
[null,null,null,null,0,null,0,0,0]
[null,null,null,null,0,null,0,0,0]
[null,null,null,null,0,null,0,0,0]
[null,null,null,null,0,null,0,0,0]
[null,null,null,null,0,null,0,0,0]
[null,null,null,null,0,null,0,0,0]
[null,null,null,null,0,null,0,0,0]
[null,null,null,null,0,null,0,0,0]
[null,null,null,null,0,null,0,0,0]
[null,null,null,null,0,null,0,0,0]
[null,null,null,null,0,null,0,0,0]
[null,null,null,null,0,null,0,0,0]
[null,null,null,null,0,null,0,0,0]
[null,null,null,null,0,null,0,0,0]
[null,null,null,null,0,null,0,0,0]
[null,null,null,null,0,null,0,0,0]
[null,null,null,null,0,null,0,0,0]
[null,null,null,null,0,null,0,0,0]
[null,null,null,null,0,null,0,0,0]
[null,null,null,null,0,null,0,0,0]
[null,null,null,null,0,null,0,0,0]
[null,null,null,null,0,null,0,0,0]
[null,null,null,null,0,null,0,0,0]
[null,null,null,null,0,null,0,0,0]
[null,null,null,null,0,null,0,0,0]
[null,null,null,null,0,null,0,0,0]
[null,null,null,null,0,null,0,0,0]
[null,null,null,null,0,null,0,0,0]
[null,null,null,null,0,null,0,0,0]
[null,null,null,null,0,null,0,0,0]
[null,null,null,null,0,null,0,0,0]
[null,null,null,null,0,null,0,0,0]
[null,null,null,null,0,null,0,0,0]
[null,null,null,null,0,null,0,0,0]
[null,null,null,null,0,null,0,0,0]
[null,null,null,null,0,null,0,0,0]
[null,null,null,null,0,null,0,0,0]
[null,null,null,null,0,null,0,0,0]
[null,null,null,null,0,null,0,0,0]
[null,null,null,null,0,null,0,0,0]
[null,null,null,null,0,null,0,0,0]
[null,null,null,null,0,null,0,0,0]
[null,null,null,null,0,null,0,0,0]
[null,null,null,null,{"$f":"IF(C6490<D6490,ABS(C6490-D6490),0)","v":0},null,{"$f":"IF(E6490<F6490,0,E6490-F6490)","v":0},{"$f":"IFERROR(VLOOKUP(B6490,$A$17:$B$20,2,0),0)","v":0},{"$f":"G6490*H6490","v":0}]
[null,null,null,null,0,null,0,0,0]
[null,null,null,null,0,null,0,0,0]
[null,null,null,null,0,null,0,0,0]
[null,null,null,null,0,null,0,0,0]
[null,null,null,null,0,null,0,0,0]
[null,null,null,null,0,null,0,0,0]
[null,null,null,null,0,null,0,0,0]
[null,null,null,null,0,null,0,0,0]
[null,null,null,null,0,null,0,0,0]
[null,null,null,null,0,null,0,0,0]
[null,null,null,null,0,null,0,0,0]
[null,null,null,null,0,null,0,0,0]
[null,null,null,null,0,null,0,0,0]
[null,null,null,null,0,null,0,0,0]
[null,null,null,null,0,null,0,0,0]
[null,null,null,null,0,null,0,0,0]
[null,null,null,null,0,null,0,0,0]
[null,null,null,null,0,null,0,0,0]
[null,null,null,null,0,null,0,0,0]
[null,null,null,null,0,null,0,0,0]
[null,null,null,null,0,null,0,0,0]
[null,null,null,null,0,null,0,0,0]
[null,null,null,null,0,null,0,0,0]
[null,null,null,null,0,null,0,0,0]
[null,null,null,null,0,null,0,0,0]
[null,null,null,null,0,null,0,0,0]
[null,null,null,null,0,null,0,0,0]
[null,null,null,null,0,null,0,0,0]
[null,null,null,null,0,null,0,0,0]
[null,null,null,null,0,null,0,0,0]
[null,null,null,null,0,null,0,0,0]
[null,null,null,null,0,null,0,0,0]
[null,null,null,null,0,null,0,0,0]
[null,null,null,null,0,null,0,0,0]
[null,null,null,null,0,null,0,0,0]
[null,null,null,null,0,null,0,0,0]
[null,null,null,null,0,null,0,0,0]
[null,null,null,null,0,null,0,0,0]
[null,null,null,null,0,null,0,0,0]
[null,null,null,null,0,null,0,0,0]
[null,null,null,null,0,null,0,0,0]
[null,null,null,null,0,null,0,0,0]
[null,null,null,null,0,null,0,0,0]
[null,null,null,null,0,null,0,0,0]
[null,null,null,null,0,null,0,0,0]
[null,null,null,null,0,null,0,0,0]
[null,null,null,null,0,null,0,0,0]
[null,null,null,null,0,null,0,0,0]
[null,null,null,null,0,null,0,0,0]
[null,null,null,null,0,null,0,0,0]
[null,null,null,null,0,null,0,0,0]
[null,null,null,null,0,null,0,0,0]
[null,null,null,null,0,null,0,0,0]
[null,null,null,null,0,null,0,0,0]
[null,null,null,null,0,null,0,0,0]
[null,null,null,null,0,null,0,0,0]
[null,null,null,null,0,null,0,0,0]
[null,null,null,null,0,null,0,0,0]
[null,null,null,null,0,null,0,0,0]
[null,null,null,null,0,null,0,0,0]
[null,null,null,null,0,null,0,0,0]
[null,null,null,null,0,null,0,0,0]
[null,null,null,null,0,null,0,0,0]
[null,null,null,null,{"$f":"IF(C6554<D6554,ABS(C6554-D6554),0)","v":0},null,{"$f":"IF(E6554<F6554,0,E6554-F6554)","v":0},{"$f":"IFERROR(VLOOKUP(B6554,$A$17:$B$20,2,0),0)","v":0},{"$f":"G6554*H6554","v":0}]
[null,null,null,null,0,null,0,0,0]
[null,null,null,null,0,null,0,0,0]
[null,null,null,null,0,null,0,0,0]
[null,null,null,null,0,null,0,0,0]
[null,null,null,null,0,null,0,0,0]
[null,null,null,null,0,null,0,0,0]
[null,null,null,null,0,null,0,0,0]
[null,null,null,null,0,null,0,0,0]
[null,null,null,null,0,null,0,0,0]
[null,null,null,null,0,null,0,0,0]
[null,null,null,null,0,null,0,0,0]
[null,null,null,null,0,null,0,0,0]
[null,null,null,null,0,null,0,0,0]
[null,null,null,null,0,null,0,0,0]
[null,null,null,null,0,null,0,0,0]
[null,null,null,null,0,null,0,0,0]
[null,null,null,null,0,null,0,0,0]
[null,null,null,null,0,null,0,0,0]
[null,null,null,null,0,null,0,0,0]
[null,null,null,null,0,null,0,0,0]
[null,null,null,null,0,null,0,0,0]
[null,null,null,null,0,null,0,0,0]
[null,null,null,null,0,null,0,0,0]
[null,null,null,null,0,null,0,0,0]
[null,null,null,null,0,null,0,0,0]
[null,null,null,null,0,null,0,0,0]
[null,null,null,null,0,null,0,0,0]
[null,null,null,null,0,null,0,0,0]
[null,null,null,null,0,null,0,0,0]
[null,null,null,null,0,null,0,0,0]
[null,null,null,null,0,null,0,0,0]
[null,null,null,null,0,null,0,0,0]
[null,null,null,null,0,null,0,0,0]
[null,null,null,null,0,null,0,0,0]
[null,null,null,null,0,null,0,0,0]
[null,null,null,null,0,null,0,0,0]
[null,null,null,null,0,null,0,0,0]
[null,null,null,null,0,null,0,0,0]
[null,null,null,null,0,null,0,0,0]
[null,null,null,null,0,null,0,0,0]
[null,null,null,null,0,null,0,0,0]
[null,null,null,null,0,null,0,0,0]
[null,null,null,null,0,null,0,0,0]
[null,null,null,null,0,null,0,0,0]
[null,null,null,null,0,null,0,0,0]
[null,null,null,null,0,null,0,0,0]
[null,null,null,null,0,null,0,0,0]
[null,null,null,null,0,null,0,0,0]
[null,null,null,null,0,null,0,0,0]
[null,null,null,null,0,null,0,0,0]
[null,null,null,null,0,null,0,0,0]
[null,null,null,null,0,null,0,0,0]
[null,null,null,null,0,null,0,0,0]
[null,null,null,null,0,null,0,0,0]
[null,null,null,null,0,null,0,0,0]
[null,null,null,null,0,null,0,0,0]
[null,null,null,null,0,null,0,0,0]
[null,null,null,null,0,null,0,0,0]
[null,null,null,null,0,null,0,0,0]
[null,null,null,null,0,null,0,0,0]
[null,null,null,null,0,null,0,0,0]
[null,null,null,null,0,null,0,0,0]
[null,null,null,null,0,null,0,0,0]
[null,null,null,null,{"$f":"IF(C6618<D6618,ABS(C6618-D6618),0)","v":0},null,{"$f":"IF(E6618<F6618,0,E6618-F6618)","v":0},{"$f":"IFERROR(VLOOKUP(B6618,$A$17:$B$20,2,0),0)","v":0},{"$f":"G6618*H6618","v":0}]
[null,null,null,null,0,null,0,0,0]
[null,null,null,null,0,null,0,0,0]
[null,null,null,null,0,null,0,0,0]
[null,null,null,null,0,null,0,0,0]
[null,null,null,null,0,null,0,0,0]
[null,null,null,null,0,null,0,0,0]
[null,null,null,null,0,null,0,0,0]
[null,null,null,null,0,null,0,0,0]
[null,null,null,null,0,null,0,0,0]
[null,null,null,null,0,null,0,0,0]
[null,null,null,null,0,null,0,0,0]
[null,null,null,null,0,null,0,0,0]
[null,null,null,null,0,null,0,0,0]
[null,null,null,null,0,null,0,0,0]
[null,null,null,null,0,null,0,0,0]
[null,null,null,null,0,null,0,0,0]
[null,null,null,null,0,null,0,0,0]
[null,null,null,null,0,null,0,0,0]
[null,null,null,null,0,null,0,0,0]
[null,null,null,null,0,null,0,0,0]
[null,null,null,null,0,null,0,0,0]
[null,null,null,null,0,null,0,0,0]
[null,null,null,null,0,null,0,0,0]
[null,null,null,null,0,null,0,0,0]
[null,null,null,null,0,null,0,0,0]
[null,null,null,null,0,null,0,0,0]
[null,null,null,null,0,null,0,0,0]
[null,null,null,null,0,null,0,0,0]
[null,null,null,null,0,null,0,0,0]
[null,null,null,null,0,null,0,0,0]
[null,null,null,null,0,null,0,0,0]
[null,null,null,null,0,null,0,0,0]
[null,null,null,null,0,null,0,0,0]
[null,null,null,null,0,null,0,0,0]
[null,null,null,null,0,null,0,0,0]
[null,null,null,null,0,null,0,0,0]
[null,null,null,null,0,null,0,0,0]
[null,null,null,null,0,null,0,0,0]
[null,null,null,null,0,null,0,0,0]
[null,null,null,null,0,null,0,0,0]
[null,null,null,null,0,null,0,0,0]
[null,null,null,null,0,null,0,0,0]
[null,null,null,null,0,null,0,0,0]
[null,null,null,null,0,null,0,0,0]
[null,null,null,null,0,null,0,0,0]
[null,null,null,null,0,null,0,0,0]
[null,null,null,null,0,null,0,0,0]
[null,null,null,null,0,null,0,0,0]
[null,null,null,null,0,null,0,0,0]
[null,null,null,null,0,null,0,0,0]
[null,null,null,null,0,null,0,0,0]
[null,null,null,null,0,null,0,0,0]
[null,null,null,null,0,null,0,0,0]
[null,null,null,null,0,null,0,0,0]
[null,null,null,null,0,null,0,0,0]
[null,null,null,null,0,null,0,0,0]
[null,null,null,null,0,null,0,0,0]
[null,null,null,null,0,null,0,0,0]
[null,null,null,null,0,null,0,0,0]
[null,null,null,null,0,null,0,0,0]
[null,null,null,null,0,null,0,0,0]
[null,null,null,null,0,null,0,0,0]
[null,null,null,null,0,null,0,0,0]
[null,null,null,null,{"$f":"IF(C6682<D6682,ABS(C6682-D6682),0)","v":0},null,{"$f":"IF(E6682<F6682,0,E6682-F6682)","v":0},{"$f":"IFERROR(VLOOKUP(B6682,$A$17:$B$20,2,0),0)","v":0},{"$f":"G6682*H6682","v":0}]
[null,null,null,null,0,null,0,0,0]
[null,null,null,null,0,null,0,0,0]
[null,null,null,null,0,null,0,0,0]
[null,null,null,null,0,null,0,0,0]
[null,null,null,null,0,null,0,0,0]
[null,null,null,null,0,null,0,0,0]
[null,null,null,null,0,null,0,0,0]
[null,null,null,null,0,null,0,0,0]
[null,null,null,null,0,null,0,0,0]
[null,null,null,null,0,null,0,0,0]
[null,null,null,null,0,null,0,0,0]
[null,null,null,null,0,null,0,0,0]
[null,null,null,null,0,null,0,0,0]
[null,null,null,null,0,null,0,0,0]
[null,null,null,null,0,null,0,0,0]
[null,null,null,null,0,null,0,0,0]
[null,null,null,null,0,null,0,0,0]
[null,null,null,null,0,null,0,0,0]
[null,null,null,null,0,null,0,0,0]
[null,null,null,null,0,null,0,0,0]
[null,null,null,null,0,null,0,0,0]
[null,null,null,null,0,null,0,0,0]
[null,null,null,null,0,null,0,0,0]
[null,null,null,null,0,null,0,0,0]
[null,null,null,null,0,null,0,0,0]
[null,null,null,null,0,null,0,0,0]
[null,null,null,null,0,null,0,0,0]
[null,null,null,null,0,null,0,0,0]
[null,null,null,null,0,null,0,0,0]
[null,null,null,null,0,null,0,0,0]
[null,null,null,null,0,null,0,0,0]
[null,null,null,null,0,null,0,0,0]
[null,null,null,null,0,null,0,0,0]
[null,null,null,null,0,null,0,0,0]
[null,null,null,null,0,null,0,0,0]
[null,null,null,null,0,null,0,0,0]
[null,null,null,null,0,null,0,0,0]
[null,null,null,null,0,null,0,0,0]
[null,null,null,null,0,null,0,0,0]
[null,null,null,null,0,null,0,0,0]
[null,null,null,null,0,null,0,0,0]
[null,null,null,null,0,null,0,0,0]
[null,null,null,null,0,null,0,0,0]
[null,null,null,null,0,null,0,0,0]
[null,null,null,null,0,null,0,0,0]
[null,null,null,null,0,null,0,0,0]
[null,null,null,null,0,null,0,0,0]
[null,null,null,null,0,null,0,0,0]
[null,null,null,null,0,null,0,0,0]
[null,null,null,null,0,null,0,0,0]
[null,null,null,null,0,null,0,0,0]
[null,null,null,null,0,null,0,0,0]
[null,null,null,null,0,null,0,0,0]
[null,null,null,null,0,null,0,0,0]
[null,null,null,null,0,null,0,0,0]
[null,null,null,null,0,null,0,0,0]
[null,null,null,null,0,null,0,0,0]
[null,null,null,null,0,null,0,0,0]
[null,null,null,null,0,null,0,0,0]
[null,null,null,null,0,null,0,0,0]
[null,null,null,null,0,null,0,0,0]
[null,null,null,null,0,null,0,0,0]
[null,null,null,null,0,null,0,0,0]
[null,null,null,null,{"$f":"IF(C6746<D6746,ABS(C6746-D6746),0)","v":0},null,{"$f":"IF(E6746<F6746,0,E6746-F6746)","v":0},{"$f":"IFERROR(VLOOKUP(B6746,$A$17:$B$20,2,0),0)","v":0},{"$f":"G6746*H6746","v":0}]
[null,null,null,null,0,null,0,0,0]
[null,null,null,null,0,null,0,0,0]
[null,null,null,null,0,null,0,0,0]
[null,null,null,null,0,null,0,0,0]
[null,null,null,null,0,null,0,0,0]
[null,null,null,null,0,null,0,0,0]
[null,null,null,null,0,null,0,0,0]
[null,null,null,null,0,null,0,0,0]
[null,null,null,null,0,null,0,0,0]
[null,null,null,null,0,null,0,0,0]
[null,null,null,null,0,null,0,0,0]
[null,null,null,null,0,null,0,0,0]
[null,null,null,null,0,null,0,0,0]
[null,null,null,null,0,null,0,0,0]
[null,null,null,null,0,null,0,0,0]
[null,null,null,null,0,null,0,0,0]
[null,null,null,null,0,null,0,0,0]
[null,null,null,null,0,null,0,0,0]
[null,null,null,null,0,null,0,0,0]
[null,null,null,null,0,null,0,0,0]
[null,null,null,null,0,null,0,0,0]
[null,null,null,null,0,null,0,0,0]
[null,null,null,null,0,null,0,0,0]
[null,null,null,null,0,null,0,0,0]
[null,null,null,null,0,null,0,0,0]
[null,null,null,null,0,null,0,0,0]
[null,null,null,null,0,null,0,0,0]
[null,null,null,null,0,null,0,0,0]
[null,null,null,null,0,null,0,0,0]
[null,null,null,null,0,null,0,0,0]
[null,null,null,null,0,null,0,0,0]
[null,null,null,null,0,null,0,0,0]
[null,null,null,null,0,null,0,0,0]
[null,null,null,null,0,null,0,0,0]
[null,null,null,null,0,null,0,0,0]
[null,null,null,null,0,null,0,0,0]
[null,null,null,null,0,null,0,0,0]
[null,null,null,null,0,null,0,0,0]
[null,null,null,null,0,null,0,0,0]
[null,null,null,null,0,null,0,0,0]
[null,null,null,null,0,null,0,0,0]
[null,null,null,null,0,null,0,0,0]
[null,null,null,null,0,null,0,0,0]
[null,null,null,null,0,null,0,0,0]
[null,null,null,null,0,null,0,0,0]
[null,null,null,null,0,null,0,0,0]
[null,null,null,null,0,null,0,0,0]
[null,null,null,null,0,null,0,0,0]
[null,null,null,null,0,null,0,0,0]
[null,null,null,null,0,null,0,0,0]
[null,null,null,null,0,null,0,0,0]
[null,null,null,null,0,null,0,0,0]
[null,null,null,null,0,null,0,0,0]
[null,null,null,null,0,null,0,0,0]
[null,null,null,null,0,null,0,0,0]
[null,null,null,null,0,null,0,0,0]
[null,null,null,null,0,null,0,0,0]
[null,null,null,null,0,null,0,0,0]
[null,null,null,null,0,null,0,0,0]
[null,null,null,null,0,null,0,0,0]
[null,null,null,null,0,null,0,0,0]
[null,null,null,null,0,null,0,0,0]
[null,null,null,null,0,null,0,0,0]
[null,null,null,null,{"$f":"IF(C6810<D6810,ABS(C6810-D6810),0)","v":0},null,{"$f":"IF(E6810<F6810,0,E6810-F6810)","v":0},{"$f":"IFERROR(VLOOKUP(B6810,$A$17:$B$20,2,0),0)","v":0},{"$f":"G6810*H6810","v":0}]
[null,null,null,null,0,null,0,0,0]
[null,null,null,null,0,null,0,0,0]
[null,null,null,null,0,null,0,0,0]
[null,null,null,null,0,null,0,0,0]
[null,null,null,null,0,null,0,0,0]
[null,null,null,null,0,null,0,0,0]
[null,null,null,null,0,null,0,0,0]
[null,null,null,null,0,null,0,0,0]
[null,null,null,null,0,null,0,0,0]
[null,null,null,null,0,null,0,0,0]
[null,null,null,null,0,null,0,0,0]
[null,null,null,null,0,null,0,0,0]
[null,null,null,null,0,null,0,0,0]
[null,null,null,null,0,null,0,0,0]
[null,null,null,null,0,null,0,0,0]
[null,null,null,null,0,null,0,0,0]
[null,null,null,null,0,null,0,0,0]
[null,null,null,null,0,null,0,0,0]
[null,null,null,null,0,null,0,0,0]
[null,null,null,null,0,null,0,0,0]
[null,null,null,null,0,null,0,0,0]
[null,null,null,null,0,null,0,0,0]
[null,null,null,null,0,null,0,0,0]
[null,null,null,null,0,null,0,0,0]
[null,null,null,null,0,null,0,0,0]
[null,null,null,null,0,null,0,0,0]
[null,null,null,null,0,null,0,0,0]
[null,null,null,null,0,null,0,0,0]
[null,null,null,null,0,null,0,0,0]
[null,null,null,null,0,null,0,0,0]
[null,null,null,null,0,null,0,0,0]
[null,null,null,null,0,null,0,0,0]
[null,null,null,null,0,null,0,0,0]
[null,null,null,null,0,null,0,0,0]
[null,null,null,null,0,null,0,0,0]
[null,null,null,null,0,null,0,0,0]
[null,null,null,null,0,null,0,0,0]
[null,null,null,null,0,null,0,0,0]
[null,null,null,null,0,null,0,0,0]
[null,null,null,null,0,null,0,0,0]
[null,null,null,null,0,null,0,0,0]
[null,null,null,null,0,null,0,0,0]
[null,null,null,null,0,null,0,0,0]
[null,null,null,null,0,null,0,0,0]
[null,null,null,null,0,null,0,0,0]
[null,null,null,null,0,null,0,0,0]
[null,null,null,null,0,null,0,0,0]
[null,null,null,null,0,null,0,0,0]
[null,null,null,null,0,null,0,0,0]
[null,null,null,null,0,null,0,0,0]
[null,null,null,null,0,null,0,0,0]
[null,null,null,null,0,null,0,0,0]
[null,null,null,null,0,null,0,0,0]
[null,null,null,null,0,null,0,0,0]
[null,null,null,null,0,null,0,0,0]
[null,null,null,null,0,null,0,0,0]
[null,null,null,null,0,null,0,0,0]
[null,null,null,null,0,null,0,0,0]
[null,null,null,null,0,null,0,0,0]
[null,null,null,null,0,null,0,0,0]
[null,null,null,null,0,null,0,0,0]
[null,null,null,null,0,null,0,0,0]
[null,null,null,null,0,null,0,0,0]
[null,null,null,null,{"$f":"IF(C6874<D6874,ABS(C6874-D6874),0)","v":0},null,{"$f":"IF(E6874<F6874,0,E6874-F6874)","v":0},{"$f":"IFERROR(VLOOKUP(B6874,$A$17:$B$20,2,0),0)","v":0},{"$f":"G6874*H6874","v":0}]
[null,null,null,null,0,null,0,0,0]
[null,null,null,null,0,null,0,0,0]
[null,null,null,null,0,null,0,0,0]
[null,null,null,null,0,null,0,0,0]
[null,null,null,null,0,null,0,0,0]
[null,null,null,null,0,null,0,0,0]
[null,null,null,null,0,null,0,0,0]
[null,null,null,null,0,null,0,0,0]
[null,null,null,null,0,null,0,0,0]
[null,null,null,null,0,null,0,0,0]
[null,null,null,null,0,null,0,0,0]
[null,null,null,null,0,null,0,0,0]
[null,null,null,null,0,null,0,0,0]
[null,null,null,null,0,null,0,0,0]
[null,null,null,null,0,null,0,0,0]
[null,null,null,null,0,null,0,0,0]
[null,null,null,null,0,null,0,0,0]
[null,null,null,null,0,null,0,0,0]
[null,null,null,null,0,null,0,0,0]
[null,null,null,null,0,null,0,0,0]
[null,null,null,null,0,null,0,0,0]
[null,null,null,null,0,null,0,0,0]
[null,null,null,null,0,null,0,0,0]
[null,null,null,null,0,null,0,0,0]
[null,null,null,null,0,null,0,0,0]
[null,null,null,null,0,null,0,0,0]
[null,null,null,null,0,null,0,0,0]
[null,null,null,null,0,null,0,0,0]
[null,null,null,null,0,null,0,0,0]
[null,null,null,null,0,null,0,0,0]
[null,null,null,null,0,null,0,0,0]
[null,null,null,null,0,null,0,0,0]
[null,null,null,null,0,null,0,0,0]
[null,null,null,null,0,null,0,0,0]
[null,null,null,null,0,null,0,0,0]
[null,null,null,null,0,null,0,0,0]
[null,null,null,null,0,null,0,0,0]
[null,null,null,null,0,null,0,0,0]
[null,null,null,null,0,null,0,0,0]
[null,null,null,null,0,null,0,0,0]
[null,null,null,null,0,null,0,0,0]
[null,null,null,null,0,null,0,0,0]
[null,null,null,null,0,null,0,0,0]
[null,null,null,null,0,null,0,0,0]
[null,null,null,null,0,null,0,0,0]
[null,null,null,null,0,null,0,0,0]
[null,null,null,null,0,null,0,0,0]
[null,null,null,null,0,null,0,0,0]
[null,null,null,null,0,null,0,0,0]
[null,null,null,null,0,null,0,0,0]
[null,null,null,null,0,null,0,0,0]
[null,null,null,null,0,null,0,0,0]
[null,null,null,null,0,null,0,0,0]
[null,null,null,null,0,null,0,0,0]
[null,null,null,null,0,null,0,0,0]
[null,null,null,null,0,null,0,0,0]
[null,null,null,null,0,null,0,0,0]
[null,null,null,null,0,null,0,0,0]
[null,null,null,null,0,null,0,0,0]
[null,null,null,null,0,null,0,0,0]
[null,null,null,null,0,null,0,0,0]
[null,null,null,null,0,null,0,0,0]
[null,null,null,null,0,null,0,0,0]
[null,null,null,null,{"$f":"IF(C6938<D6938,ABS(C6938-D6938),0)","v":0},null,{"$f":"IF(E6938<F6938,0,E6938-F6938)","v":0},{"$f":"IFERROR(VLOOKUP(B6938,$A$17:$B$20,2,0),0)","v":0},{"$f":"G6938*H6938","v":0}]
[null,null,null,null,0,null,0,0,0]
[null,null,null,null,0,null,0,0,0]
[null,null,null,null,0,null,0,0,0]
[null,null,null,null,0,null,0,0,0]
[null,null,null,null,0,null,0,0,0]
[null,null,null,null,0,null,0,0,0]
[null,null,null,null,0,null,0,0,0]
[null,null,null,null,0,null,0,0,0]
[null,null,null,null,0,null,0,0,0]
[null,null,null,null,0,null,0,0,0]
[null,null,null,null,0,null,0,0,0]
[null,null,null,null,0,null,0,0,0]
[null,null,null,null,0,null,0,0,0]
[null,null,null,null,0,null,0,0,0]
[null,null,null,null,0,null,0,0,0]
[null,null,null,null,0,null,0,0,0]
[null,null,null,null,0,null,0,0,0]
[null,null,null,null,0,null,0,0,0]
[null,null,null,null,0,null,0,0,0]
[null,null,null,null,0,null,0,0,0]
[null,null,null,null,0,null,0,0,0]
[null,null,null,null,0,null,0,0,0]
[null,null,null,null,0,null,0,0,0]
[null,null,null,null,0,null,0,0,0]
[null,null,null,null,0,null,0,0,0]
[null,null,null,null,0,null,0,0,0]
[null,null,null,null,0,null,0,0,0]
[null,null,null,null,0,null,0,0,0]
[null,null,null,null,0,null,0,0,0]
[null,null,null,null,0,null,0,0,0]
[null,null,null,null,0,null,0,0,0]
[null,null,null,null,0,null,0,0,0]
[null,null,null,null,0,null,0,0,0]
[null,null,null,null,0,null,0,0,0]
[null,null,null,null,0,null,0,0,0]
[null,null,null,null,0,null,0,0,0]
[null,null,null,null,0,null,0,0,0]
[null,null,null,null,0,null,0,0,0]
[null,null,null,null,0,null,0,0,0]
[null,null,null,null,0,null,0,0,0]
[null,null,null,null,0,null,0,0,0]
[null,null,null,null,0,null,0,0,0]
[null,null,null,null,0,null,0,0,0]
[null,null,null,null,0,null,0,0,0]
[null,null,null,null,0,null,0,0,0]
[null,null,null,null,0,null,0,0,0]
[null,null,null,null,0,null,0,0,0]
[null,null,null,null,0,null,0,0,0]
[null,null,null,null,0,null,0,0,0]
[null,null,null,null,0,null,0,0,0]
[null,null,null,null,0,null,0,0,0]
[null,null,null,null,0,null,0,0,0]
[null,null,null,null,0,null,0,0,0]
[null,null,null,null,0,null,0,0,0]
[null,null,null,null,0,null,0,0,0]
[null,null,null,null,0,null,0,0,0]
[null,null,null,null,0,null,0,0,0]
[null,null,null,null,0,null,0,0,0]
[null,null,null,null,0,null,0,0,0]
[null,null,null,null,0,null,0,0,0]
[null,null,null,null,0,null,0,0,0]
[null,null,null,null,0,null,0,0,0]
[null,null,null,null,0,null,0,0,0]
[null,null,null,null,{"$f":"IF(C7002<D7002,ABS(C7002-D7002),0)","v":0},null,{"$f":"IF(E7002<F7002,0,E7002-F7002)","v":0},{"$f":"IFERROR(VLOOKUP(B7002,$A$17:$B$20,2,0),0)","v":0},{"$f":"G7002*H7002","v":0}]
[null,null,null,null,0,null,0,0,0]
[null,null,null,null,0,null,0,0,0]
[null,null,null,null,0,null,0,0,0]
[null,null,null,null,0,null,0,0,0]
[null,null,null,null,0,null,0,0,0]
[null,null,null,null,0,null,0,0,0]
[null,null,null,null,0,null,0,0,0]
[null,null,null,null,0,null,0,0,0]
[null,null,null,null,0,null,0,0,0]
[null,null,null,null,0,null,0,0,0]
[null,null,null,null,0,null,0,0,0]
[null,null,null,null,0,null,0,0,0]
[null,null,null,null,0,null,0,0,0]
[null,null,null,null,0,null,0,0,0]
[null,null,null,null,0,null,0,0,0]
[null,null,null,null,0,null,0,0,0]
[null,null,null,null,0,null,0,0,0]
[null,null,null,null,0,null,0,0,0]
[null,null,null,null,0,null,0,0,0]
[null,null,null,null,0,null,0,0,0]
[null,null,null,null,0,null,0,0,0]
[null,null,null,null,0,null,0,0,0]
[null,null,null,null,0,null,0,0,0]
[null,null,null,null,0,null,0,0,0]
[null,null,null,null,0,null,0,0,0]
[null,null,null,null,0,null,0,0,0]
[null,null,null,null,0,null,0,0,0]
[null,null,null,null,0,null,0,0,0]
[null,null,null,null,0,null,0,0,0]
[null,null,null,null,0,null,0,0,0]
[null,null,null,null,0,null,0,0,0]
[null,null,null,null,0,null,0,0,0]
[null,null,null,null,0,null,0,0,0]
[null,null,null,null,0,null,0,0,0]
[null,null,null,null,0,null,0,0,0]
[null,null,null,null,0,null,0,0,0]
[null,null,null,null,0,null,0,0,0]
[null,null,null,null,0,null,0,0,0]
[null,null,null,null,0,null,0,0,0]
[null,null,null,null,0,null,0,0,0]
[null,null,null,null,0,null,0,0,0]
[null,null,null,null,0,null,0,0,0]
[null,null,null,null,0,null,0,0,0]
[null,null,null,null,0,null,0,0,0]
[null,null,null,null,0,null,0,0,0]
[null,null,null,null,0,null,0,0,0]
[null,null,null,null,0,null,0,0,0]
[null,null,null,null,0,null,0,0,0]
[null,null,null,null,0,null,0,0,0]
[null,null,null,null,0,null,0,0,0]
[null,null,null,null,0,null,0,0,0]
[null,null,null,null,0,null,0,0,0]
[null,null,null,null,0,null,0,0,0]
[null,null,null,null,0,null,0,0,0]
[null,null,null,null,0,null,0,0,0]
[null,null,null,null,0,null,0,0,0]
[null,null,null,null,0,null,0,0,0]
[null,null,null,null,0,null,0,0,0]
[null,null,null,null,0,null,0,0,0]
[null,null,null,null,0,null,0,0,0]
[null,null,null,null,0,null,0,0,0]
[null,null,null,null,0,null,0,0,0]
[null,null,null,null,0,null,0,0,0]
[null,null,null,null,{"$f":"IF(C7066<D7066,ABS(C7066-D7066),0)","v":0},null,{"$f":"IF(E7066<F7066,0,E7066-F7066)","v":0},{"$f":"IFERROR(VLOOKUP(B7066,$A$17:$B$20,2,0),0)","v":0},{"$f":"G7066*H7066","v":0}]
[null,null,null,null,0,null,0,0,0]
[null,null,null,null,0,null,0,0,0]
[null,null,null,null,0,null,0,0,0]
[null,null,null,null,0,null,0,0,0]
[null,null,null,null,0,null,0,0,0]
[null,null,null,null,0,null,0,0,0]
[null,null,null,null,0,null,0,0,0]
[null,null,null,null,0,null,0,0,0]
[null,null,null,null,0,null,0,0,0]
[null,null,null,null,0,null,0,0,0]
[null,null,null,null,0,null,0,0,0]
[null,null,null,null,0,null,0,0,0]
[null,null,null,null,0,null,0,0,0]
[null,null,null,null,0,null,0,0,0]
[null,null,null,null,0,null,0,0,0]
[null,null,null,null,0,null,0,0,0]
[null,null,null,null,0,null,0,0,0]
[null,null,null,null,0,null,0,0,0]
[null,null,null,null,0,null,0,0,0]
[null,null,null,null,0,null,0,0,0]
[null,null,null,null,0,null,0,0,0]
[null,null,null,null,0,null,0,0,0]
[null,null,null,null,0,null,0,0,0]
[null,null,null,null,0,null,0,0,0]
[null,null,null,null,0,null,0,0,0]
[null,null,null,null,0,null,0,0,0]
[null,null,null,null,0,null,0,0,0]
[null,null,null,null,0,null,0,0,0]
[null,null,null,null,0,null,0,0,0]
[null,null,null,null,0,null,0,0,0]
[null,null,null,null,0,null,0,0,0]
[null,null,null,null,0,null,0,0,0]
[null,null,null,null,0,null,0,0,0]
[null,null,null,null,0,null,0,0,0]
[null,null,null,null,0,null,0,0,0]
[null,null,null,null,0,null,0,0,0]
[null,null,null,null,0,null,0,0,0]
[null,null,null,null,0,null,0,0,0]
[null,null,null,null,0,null,0,0,0]
[null,null,null,null,0,null,0,0,0]
[null,null,null,null,0,null,0,0,0]
[null,null,null,null,0,null,0,0,0]
[null,null,null,null,0,null,0,0,0]
[null,null,null,null,0,null,0,0,0]
[null,null,null,null,0,null,0,0,0]
[null,null,null,null,0,null,0,0,0]
[null,null,null,null,0,null,0,0,0]
[null,null,null,null,0,null,0,0,0]
[null,null,null,null,0,null,0,0,0]
[null,null,null,null,0,null,0,0,0]
[null,null,null,null,0,null,0,0,0]
[null,null,null,null,0,null,0,0,0]
[null,null,null,null,0,null,0,0,0]
[null,null,null,null,0,null,0,0,0]
[null,null,null,null,0,null,0,0,0]
[null,null,null,null,0,null,0,0,0]
[null,null,null,null,0,null,0,0,0]
[null,null,null,null,0,null,0,0,0]
[null,null,null,null,0,null,0,0,0]
[null,null,null,null,0,null,0,0,0]
[null,null,null,null,0,null,0,0,0]
[null,null,null,null,0,null,0,0,0]
[null,null,null,null,0,null,0,0,0]
[null,null,null,null,{"$f":"IF(C7130<D7130,ABS(C7130-D7130),0)","v":0},null,{"$f":"IF(E7130<F7130,0,E7130-F7130)","v":0},{"$f":"IFERROR(VLOOKUP(B7130,$A$17:$B$20,2,0),0)","v":0},{"$f":"G7130*H7130","v":0}]
[null,null,null,null,0,null,0,0,0]
[null,null,null,null,0,null,0,0,0]
[null,null,null,null,0,null,0,0,0]
[null,null,null,null,0,null,0,0,0]
[null,null,null,null,0,null,0,0,0]
[null,null,null,null,0,null,0,0,0]
[null,null,null,null,0,null,0,0,0]
[null,null,null,null,0,null,0,0,0]
[null,null,null,null,0,null,0,0,0]
[null,null,null,null,0,null,0,0,0]
[null,null,null,null,0,null,0,0,0]
[null,null,null,null,0,null,0,0,0]
[null,null,null,null,0,null,0,0,0]
[null,null,null,null,0,null,0,0,0]
[null,null,null,null,0,null,0,0,0]
[null,null,null,null,0,null,0,0,0]
[null,null,null,null,0,null,0,0,0]
[null,null,null,null,0,null,0,0,0]
[null,null,null,null,0,null,0,0,0]
[null,null,null,null,0,null,0,0,0]
[null,null,null,null,0,null,0,0,0]
[null,null,null,null,0,null,0,0,0]
[null,null,null,null,0,null,0,0,0]
[null,null,null,null,0,null,0,0,0]
[null,null,null,null,0,null,0,0,0]
[null,null,null,null,0,null,0,0,0]
[null,null,null,null,0,null,0,0,0]
[null,null,null,null,0,null,0,0,0]
[null,null,null,null,0,null,0,0,0]
[null,null,null,null,0,null,0,0,0]
[null,null,null,null,0,null,0,0,0]
[null,null,null,null,0,null,0,0,0]
[null,null,null,null,0,null,0,0,0]
[null,null,null,null,0,null,0,0,0]
[null,null,null,null,0,null,0,0,0]
[null,null,null,null,0,null,0,0,0]
[null,null,null,null,0,null,0,0,0]
[null,null,null,null,0,null,0,0,0]
[null,null,null,null,0,null,0,0,0]
[null,null,null,null,0,null,0,0,0]
[null,null,null,null,0,null,0,0,0]
[null,null,null,null,0,null,0,0,0]
[null,null,null,null,0,null,0,0,0]
[null,null,null,null,0,null,0,0,0]
[null,null,null,null,0,null,0,0,0]
[null,null,null,null,0,null,0,0,0]
[null,null,null,null,0,null,0,0,0]
[null,null,null,null,0,null,0,0,0]
[null,null,null,null,0,null,0,0,0]
[null,null,null,null,0,null,0,0,0]
[null,null,null,null,0,null,0,0,0]
[null,null,null,null,0,null,0,0,0]
[null,null,null,null,0,null,0,0,0]
[null,null,null,null,0,null,0,0,0]
[null,null,null,null,0,null,0,0,0]
[null,null,null,null,0,null,0,0,0]
[null,null,null,null,0,null,0,0,0]
[null,null,null,null,0,null,0,0,0]
[null,null,null,null,0,null,0,0,0]
[null,null,null,null,0,null,0,0,0]
[null,null,null,null,0,null,0,0,0]
[null,null,null,null,0,null,0,0,0]
[null,null,null,null,0,null,0,0,0]
[null,null,null,null,{"$f":"IF(C7194<D7194,ABS(C7194-D7194),0)","v":0},null,{"$f":"IF(E7194<F7194,0,E7194-F7194)","v":0},{"$f":"IFERROR(VLOOKUP(B7194,$A$17:$B$20,2,0),0)","v":0},{"$f":"G7194*H7194","v":0}]
[null,null,null,null,0,null,0,0,0]
[null,null,null,null,0,null,0,0,0]
[null,null,null,null,0,null,0,0,0]
[null,null,null,null,0,null,0,0,0]
[null,null,null,null,0,null,0,0,0]
[null,null,null,null,0,null,0,0,0]
[null,null,null,null,0,null,0,0,0]
[null,null,null,null,0,null,0,0,0]
[null,null,null,null,0,null,0,0,0]
[null,null,null,null,0,null,0,0,0]
[null,null,null,null,0,null,0,0,0]
[null,null,null,null,0,null,0,0,0]
[null,null,null,null,0,null,0,0,0]
[null,null,null,null,0,null,0,0,0]
[null,null,null,null,0,null,0,0,0]
[null,null,null,null,0,null,0,0,0]
[null,null,null,null,0,null,0,0,0]
[null,null,null,null,0,null,0,0,0]
[null,null,null,null,0,null,0,0,0]
[null,null,null,null,0,null,0,0,0]
[null,null,null,null,0,null,0,0,0]
[null,null,null,null,0,null,0,0,0]
[null,null,null,null,0,null,0,0,0]
[null,null,null,null,0,null,0,0,0]
[null,null,null,null,0,null,0,0,0]
[null,null,null,null,0,null,0,0,0]
[null,null,null,null,0,null,0,0,0]
[null,null,null,null,0,null,0,0,0]
[null,null,null,null,0,null,0,0,0]
[null,null,null,null,0,null,0,0,0]
[null,null,null,null,0,null,0,0,0]
[null,null,null,null,0,null,0,0,0]
[null,null,null,null,0,null,0,0,0]
[null,null,null,null,0,null,0,0,0]
[null,null,null,null,0,null,0,0,0]
[null,null,null,null,0,null,0,0,0]
[null,null,null,null,0,null,0,0,0]
[null,null,null,null,0,null,0,0,0]
[null,null,null,null,0,null,0,0,0]
[null,null,null,null,0,null,0,0,0]
[null,null,null,null,0,null,0,0,0]
[null,null,null,null,0,null,0,0,0]
[null,null,null,null,0,null,0,0,0]
[null,null,null,null,0,null,0,0,0]
[null,null,null,null,0,null,0,0,0]
[null,null,null,null,0,null,0,0,0]
[null,null,null,null,0,null,0,0,0]
[null,null,null,null,0,null,0,0,0]
[null,null,null,null,0,null,0,0,0]
[null,null,null,null,0,null,0,0,0]
[null,null,null,null,0,null,0,0,0]
[null,null,null,null,0,null,0,0,0]
[null,null,null,null,0,null,0,0,0]
[null,null,null,null,0,null,0,0,0]
[null,null,null,null,0,null,0,0,0]
[null,null,null,null,0,null,0,0,0]
[null,null,null,null,0,null,0,0,0]
[null,null,null,null,0,null,0,0,0]
[null,null,null,null,0,null,0,0,0]
[null,null,null,null,0,null,0,0,0]
[null,null,null,null,0,null,0,0,0]
[null,null,null,null,0,null,0,0,0]
[null,null,null,null,0,null,0,0,0]
[null,null,null,null,{"$f":"IF(C7258<D7258,ABS(C7258-D7258),0)","v":0},null,{"$f":"IF(E7258<F7258,0,E7258-F7258)","v":0},{"$f":"IFERROR(VLOOKUP(B7258,$A$17:$B$20,2,0),0)","v":0},{"$f":"G7258*H7258","v":0}]
[null,null,null,null,0,null,0,0,0]
[null,null,null,null,0,null,0,0,0]
[null,null,null,null,0,null,0,0,0]
[null,null,null,null,0,null,0,0,0]
[null,null,null,null,0,null,0,0,0]
[null,null,null,null,0,null,0,0,0]
[null,null,null,null,0,null,0,0,0]
[null,null,null,null,0,null,0,0,0]
[null,null,null,null,0,null,0,0,0]
[null,null,null,null,0,null,0,0,0]
[null,null,null,null,0,null,0,0,0]
[null,null,null,null,0,null,0,0,0]
[null,null,null,null,0,null,0,0,0]
[null,null,null,null,0,null,0,0,0]
[null,null,null,null,0,null,0,0,0]
[null,null,null,null,0,null,0,0,0]
[null,null,null,null,0,null,0,0,0]
[null,null,null,null,0,null,0,0,0]
[null,null,null,null,0,null,0,0,0]
[null,null,null,null,0,null,0,0,0]
[null,null,null,null,0,null,0,0,0]
[null,null,null,null,0,null,0,0,0]
[null,null,null,null,0,null,0,0,0]
[null,null,null,null,0,null,0,0,0]
[null,null,null,null,0,null,0,0,0]
[null,null,null,null,0,null,0,0,0]
[null,null,null,null,0,null,0,0,0]
[null,null,null,null,0,null,0,0,0]
[null,null,null,null,0,null,0,0,0]
[null,null,null,null,0,null,0,0,0]
[null,null,null,null,0,null,0,0,0]
[null,null,null,null,0,null,0,0,0]
[null,null,null,null,0,null,0,0,0]
[null,null,null,null,0,null,0,0,0]
[null,null,null,null,0,null,0,0,0]
[null,null,null,null,0,null,0,0,0]
[null,null,null,null,0,null,0,0,0]
[null,null,null,null,0,null,0,0,0]
[null,null,null,null,0,null,0,0,0]
[null,null,null,null,0,null,0,0,0]
[null,null,null,null,0,null,0,0,0]
[null,null,null,null,0,null,0,0,0]
[null,null,null,null,0,null,0,0,0]
[null,null,null,null,0,null,0,0,0]
[null,null,null,null,0,null,0,0,0]
[null,null,null,null,0,null,0,0,0]
[null,null,null,null,0,null,0,0,0]
[null,null,null,null,0,null,0,0,0]
[null,null,null,null,0,null,0,0,0]
[null,null,null,null,0,null,0,0,0]
[null,null,null,null,0,null,0,0,0]
[null,null,null,null,0,null,0,0,0]
[null,null,null,null,0,null,0,0,0]
[null,null,null,null,0,null,0,0,0]
[null,null,null,null,0,null,0,0,0]
[null,null,null,null,0,null,0,0,0]
[null,null,null,null,0,null,0,0,0]
[null,null,null,null,0,null,0,0,0]
[null,null,null,null,0,null,0,0,0]
[null,null,null,null,0,null,0,0,0]
[null,null,null,null,0,null,0,0,0]
[null,null,null,null,0,null,0,0,0]
[null,null,null,null,0,null,0,0,0]
[null,null,null,null,{"$f":"IF(C7322<D7322,ABS(C7322-D7322),0)","v":0},null,{"$f":"IF(E7322<F7322,0,E7322-F7322)","v":0},{"$f":"IFERROR(VLOOKUP(B7322,$A$17:$B$20,2,0),0)","v":0},{"$f":"G7322*H7322","v":0}]
[null,null,null,null,0,null,0,0,0]
[null,null,null,null,0,null,0,0,0]
[null,null,null,null,0,null,0,0,0]
[null,null,null,null,0,null,0,0,0]
[null,null,null,null,0,null,0,0,0]
[null,null,null,null,0,null,0,0,0]
[null,null,null,null,0,null,0,0,0]
[null,null,null,null,0,null,0,0,0]
[null,null,null,null,0,null,0,0,0]
[null,null,null,null,0,null,0,0,0]
[null,null,null,null,0,null,0,0,0]
[null,null,null,null,0,null,0,0,0]
[null,null,null,null,0,null,0,0,0]
[null,null,null,null,0,null,0,0,0]
[null,null,null,null,0,null,0,0,0]
[null,null,null,null,0,null,0,0,0]
[null,null,null,null,0,null,0,0,0]
[null,null,null,null,0,null,0,0,0]
[null,null,null,null,0,null,0,0,0]
[null,null,null,null,0,null,0,0,0]
[null,null,null,null,0,null,0,0,0]
[null,null,null,null,0,null,0,0,0]
[null,null,null,null,0,null,0,0,0]
[null,null,null,null,0,null,0,0,0]
[null,null,null,null,0,null,0,0,0]
[null,null,null,null,0,null,0,0,0]
[null,null,null,null,0,null,0,0,0]
[null,null,null,null,0,null,0,0,0]
[null,null,null,null,0,null,0,0,0]
[null,null,null,null,0,null,0,0,0]
[null,null,null,null,0,null,0,0,0]
[null,null,null,null,0,null,0,0,0]
[null,null,null,null,0,null,0,0,0]
[null,null,null,null,0,null,0,0,0]
[null,null,null,null,0,null,0,0,0]
[null,null,null,null,0,null,0,0,0]
[null,null,null,null,0,null,0,0,0]
[null,null,null,null,0,null,0,0,0]
[null,null,null,null,0,null,0,0,0]
[null,null,null,null,0,null,0,0,0]
[null,null,null,null,0,null,0,0,0]
[null,null,null,null,0,null,0,0,0]
[null,null,null,null,0,null,0,0,0]
[null,null,null,null,0,null,0,0,0]
[null,null,null,null,0,null,0,0,0]
[null,null,null,null,0,null,0,0,0]
[null,null,null,null,0,null,0,0,0]
[null,null,null,null,0,null,0,0,0]
[null,null,null,null,0,null,0,0,0]
[null,null,null,null,0,null,0,0,0]
[null,null,null,null,0,null,0,0,0]
[null,null,null,null,0,null,0,0,0]
[null,null,null,null,0,null,0,0,0]
[null,null,null,null,0,null,0,0,0]
[null,null,null,null,0,null,0,0,0]
[null,null,null,null,0,null,0,0,0]
[null,null,null,null,0,null,0,0,0]
[null,null,null,null,0,null,0,0,0]
[null,null,null,null,0,null,0,0,0]
[null,null,null,null,0,null,0,0,0]
[null,null,null,null,0,null,0,0,0]
[null,null,null,null,0,null,0,0,0]
[null,null,null,null,0,null,0,0,0]
[null,null,null,null,{"$f":"IF(C7386<D7386,ABS(C7386-D7386),0)","v":0},null,{"$f":"IF(E7386<F7386,0,E7386-F7386)","v":0},{"$f":"IFERROR(VLOOKUP(B7386,$A$17:$B$20,2,0),0)","v":0},{"$f":"G7386*H7386","v":0}]
[null,null,null,null,0,null,0,0,0]
[null,null,null,null,0,null,0,0,0]
[null,null,null,null,0,null,0,0,0]
[null,null,null,null,0,null,0,0,0]
[null,null,null,null,0,null,0,0,0]
[null,null,null,null,0,null,0,0,0]
[null,null,null,null,0,null,0,0,0]
[null,null,null,null,0,null,0,0,0]
[null,null,null,null,0,null,0,0,0]
[null,null,null,null,0,null,0,0,0]
[null,null,null,null,0,null,0,0,0]
[null,null,null,null,0,null,0,0,0]
[null,null,null,null,0,null,0,0,0]
[null,null,null,null,0,null,0,0,0]
[null,null,null,null,0,null,0,0,0]
[null,null,null,null,0,null,0,0,0]
[null,null,null,null,0,null,0,0,0]
[null,null,null,null,0,null,0,0,0]
[null,null,null,null,0,null,0,0,0]
[null,null,null,null,0,null,0,0,0]
[null,null,null,null,0,null,0,0,0]
[null,null,null,null,0,null,0,0,0]
[null,null,null,null,0,null,0,0,0]
[null,null,null,null,0,null,0,0,0]
[null,null,null,null,0,null,0,0,0]
[null,null,null,null,0,null,0,0,0]
[null,null,null,null,0,null,0,0,0]
[null,null,null,null,0,null,0,0,0]
[null,null,null,null,0,null,0,0,0]
[null,null,null,null,0,null,0,0,0]
[null,null,null,null,0,null,0,0,0]
[null,null,null,null,0,null,0,0,0]
[null,null,null,null,0,null,0,0,0]
[null,null,null,null,0,null,0,0,0]
[null,null,null,null,0,null,0,0,0]
[null,null,null,null,0,null,0,0,0]
[null,null,null,null,0,null,0,0,0]
[null,null,null,null,0,null,0,0,0]
[null,null,null,null,0,null,0,0,0]
[null,null,null,null,0,null,0,0,0]
[null,null,null,null,0,null,0,0,0]
[null,null,null,null,0,null,0,0,0]
[null,null,null,null,0,null,0,0,0]
[null,null,null,null,0,null,0,0,0]
[null,null,null,null,0,null,0,0,0]
[null,null,null,null,0,null,0,0,0]
[null,null,null,null,0,null,0,0,0]
[null,null,null,null,0,null,0,0,0]
[null,null,null,null,0,null,0,0,0]
[null,null,null,null,0,null,0,0,0]
[null,null,null,null,0,null,0,0,0]
[null,null,null,null,0,null,0,0,0]
[null,null,null,null,0,null,0,0,0]
[null,null,null,null,0,null,0,0,0]
[null,null,null,null,0,null,0,0,0]
[null,null,null,null,0,null,0,0,0]
[null,null,null,null,0,null,0,0,0]
[null,null,null,null,0,null,0,0,0]
[null,null,null,null,0,null,0,0,0]
[null,null,null,null,0,null,0,0,0]
[null,null,null,null,0,null,0,0,0]
[null,null,null,null,0,null,0,0,0]
[null,null,null,null,0,null,0,0,0]
[null,null,null,null,{"$f":"IF(C7450<D7450,ABS(C7450-D7450),0)","v":0},null,{"$f":"IF(E7450<F7450,0,E7450-F7450)","v":0},{"$f":"IFERROR(VLOOKUP(B7450,$A$17:$B$20,2,0),0)","v":0},{"$f":"G7450*H7450","v":0}]
[null,null,null,null,0,null,0,0,0]
[null,null,null,null,0,null,0,0,0]
[null,null,null,null,0,null,0,0,0]
[null,null,null,null,0,null,0,0,0]
[null,null,null,null,0,null,0,0,0]
[null,null,null,null,0,null,0,0,0]
[null,null,null,null,0,null,0,0,0]
[null,null,null,null,0,null,0,0,0]
[null,null,null,null,0,null,0,0,0]
[null,null,null,null,0,null,0,0,0]
[null,null,null,null,0,null,0,0,0]
[null,null,null,null,0,null,0,0,0]
[null,null,null,null,0,null,0,0,0]
[null,null,null,null,0,null,0,0,0]
[null,null,null,null,0,null,0,0,0]
[null,null,null,null,0,null,0,0,0]
[null,null,null,null,0,null,0,0,0]
[null,null,null,null,0,null,0,0,0]
[null,null,null,null,0,null,0,0,0]
[null,null,null,null,0,null,0,0,0]
[null,null,null,null,0,null,0,0,0]
[null,null,null,null,0,null,0,0,0]
[null,null,null,null,0,null,0,0,0]
[null,null,null,null,0,null,0,0,0]
[null,null,null,null,0,null,0,0,0]
[null,null,null,null,0,null,0,0,0]
[null,null,null,null,0,null,0,0,0]
[null,null,null,null,0,null,0,0,0]
[null,null,null,null,0,null,0,0,0]
[null,null,null,null,0,null,0,0,0]
[null,null,null,null,0,null,0,0,0]
[null,null,null,null,0,null,0,0,0]
[null,null,null,null,0,null,0,0,0]
[null,null,null,null,0,null,0,0,0]
[null,null,null,null,0,null,0,0,0]
[null,null,null,null,0,null,0,0,0]
[null,null,null,null,0,null,0,0,0]
[null,null,null,null,0,null,0,0,0]
[null,null,null,null,0,null,0,0,0]
[null,null,null,null,0,null,0,0,0]
[null,null,null,null,0,null,0,0,0]
[null,null,null,null,0,null,0,0,0]
[null,null,null,null,0,null,0,0,0]
[null,null,null,null,0,null,0,0,0]
[null,null,null,null,0,null,0,0,0]
[null,null,null,null,0,null,0,0,0]
[null,null,null,null,0,null,0,0,0]
[null,null,null,null,0,null,0,0,0]
[null,null,null,null,0,null,0,0,0]
[null,null,null,null,0,null,0,0,0]
[null,null,null,null,0,null,0,0,0]
[null,null,null,null,0,null,0,0,0]
[null,null,null,null,0,null,0,0,0]
[null,null,null,null,0,null,0,0,0]
[null,null,null,null,0,null,0,0,0]
[null,null,null,null,0,null,0,0,0]
[null,null,null,null,0,null,0,0,0]
[null,null,null,null,0,null,0,0,0]
[null,null,null,null,0,null,0,0,0]
[null,null,null,null,0,null,0,0,0]
[null,null,null,null,0,null,0,0,0]
[null,null,null,null,0,null,0,0,0]
[null,null,null,null,0,null,0,0,0]
[null,null,null,null,{"$f":"IF(C7514<D7514,ABS(C7514-D7514),0)","v":0},null,{"$f":"IF(E7514<F7514,0,E7514-F7514)","v":0},{"$f":"IFERROR(VLOOKUP(B7514,$A$17:$B$20,2,0),0)","v":0},{"$f":"G7514*H7514","v":0}]
[null,null,null,null,0,null,0,0,0]
[null,null,null,null,0,null,0,0,0]
[null,null,null,null,0,null,0,0,0]
[null,null,null,null,0,null,0,0,0]
[null,null,null,null,0,null,0,0,0]
[null,null,null,null,0,null,0,0,0]
[null,null,null,null,0,null,0,0,0]
[null,null,null,null,0,null,0,0,0]
[null,null,null,null,0,null,0,0,0]
[null,null,null,null,0,null,0,0,0]
[null,null,null,null,0,null,0,0,0]
[null,null,null,null,0,null,0,0,0]
[null,null,null,null,0,null,0,0,0]
[null,null,null,null,0,null,0,0,0]
[null,null,null,null,0,null,0,0,0]
[null,null,null,null,0,null,0,0,0]
[null,null,null,null,0,null,0,0,0]
[null,null,null,null,0,null,0,0,0]
[null,null,null,null,0,null,0,0,0]
[null,null,null,null,0,null,0,0,0]
[null,null,null,null,0,null,0,0,0]
[null,null,null,null,0,null,0,0,0]
[null,null,null,null,0,null,0,0,0]
[null,null,null,null,0,null,0,0,0]
[null,null,null,null,0,null,0,0,0]
[null,null,null,null,0,null,0,0,0]
[null,null,null,null,0,null,0,0,0]
[null,null,null,null,0,null,0,0,0]
[null,null,null,null,0,null,0,0,0]
[null,null,null,null,0,null,0,0,0]
[null,null,null,null,0,null,0,0,0]
[null,null,null,null,0,null,0,0,0]
[null,null,null,null,0,null,0,0,0]
[null,null,null,null,0,null,0,0,0]
[null,null,null,null,0,null,0,0,0]
[null,null,null,null,0,null,0,0,0]
[null,null,null,null,0,null,0,0,0]
[null,null,null,null,0,null,0,0,0]
[null,null,null,null,0,null,0,0,0]
[null,null,null,null,0,null,0,0,0]
[null,null,null,null,0,null,0,0,0]
[null,null,null,null,0,null,0,0,0]
[null,null,null,null,0,null,0,0,0]
[null,null,null,null,0,null,0,0,0]
[null,null,null,null,0,null,0,0,0]
[null,null,null,null,0,null,0,0,0]
[null,null,null,null,0,null,0,0,0]
[null,null,null,null,0,null,0,0,0]
[null,null,null,null,0,null,0,0,0]
[null,null,null,null,0,null,0,0,0]
[null,null,null,null,0,null,0,0,0]
[null,null,null,null,0,null,0,0,0]
[null,null,null,null,0,null,0,0,0]
[null,null,null,null,0,null,0,0,0]
[null,null,null,null,0,null,0,0,0]
[null,null,null,null,0,null,0,0,0]
[null,null,null,null,0,null,0,0,0]
[null,null,null,null,0,null,0,0,0]
[null,null,null,null,0,null,0,0,0]
[null,null,null,null,0,null,0,0,0]
[null,null,null,null,0,null,0,0,0]
[null,null,null,null,0,null,0,0,0]
[null,null,null,null,0,null,0,0,0]
[null,null,null,null,{"$f":"IF(C7578<D7578,ABS(C7578-D7578),0)","v":0},null,{"$f":"IF(E7578<F7578,0,E7578-F7578)","v":0},{"$f":"IFERROR(VLOOKUP(B7578,$A$17:$B$20,2,0),0)","v":0},{"$f":"G7578*H7578","v":0}]
[null,null,null,null,0,null,0,0,0]
[null,null,null,null,0,null,0,0,0]
[null,null,null,null,0,null,0,0,0]
[null,null,null,null,0,null,0,0,0]
[null,null,null,null,0,null,0,0,0]
[null,null,null,null,0,null,0,0,0]
[null,null,null,null,0,null,0,0,0]
[null,null,null,null,0,null,0,0,0]
[null,null,null,null,0,null,0,0,0]
[null,null,null,null,0,null,0,0,0]
[null,null,null,null,0,null,0,0,0]
[null,null,null,null,0,null,0,0,0]
[null,null,null,null,0,null,0,0,0]
[null,null,null,null,0,null,0,0,0]
[null,null,null,null,0,null,0,0,0]
[null,null,null,null,0,null,0,0,0]
[null,null,null,null,0,null,0,0,0]
[null,null,null,null,0,null,0,0,0]
[null,null,null,null,0,null,0,0,0]
[null,null,null,null,0,null,0,0,0]
[null,null,null,null,0,null,0,0,0]
[null,null,null,null,0,null,0,0,0]
[null,null,null,null,0,null,0,0,0]
[null,null,null,null,0,null,0,0,0]
[null,null,null,null,0,null,0,0,0]
[null,null,null,null,0,null,0,0,0]
[null,null,null,null,0,null,0,0,0]
[null,null,null,null,0,null,0,0,0]
[null,null,null,null,0,null,0,0,0]
[null,null,null,null,0,null,0,0,0]
[null,null,null,null,0,null,0,0,0]
[null,null,null,null,0,null,0,0,0]
[null,null,null,null,0,null,0,0,0]
[null,null,null,null,0,null,0,0,0]
[null,null,null,null,0,null,0,0,0]
[null,null,null,null,0,null,0,0,0]
[null,null,null,null,0,null,0,0,0]
[null,null,null,null,0,null,0,0,0]
[null,null,null,null,0,null,0,0,0]
[null,null,null,null,0,null,0,0,0]
[null,null,null,null,0,null,0,0,0]
[null,null,null,null,0,null,0,0,0]
[null,null,null,null,0,null,0,0,0]
[null,null,null,null,0,null,0,0,0]
[null,null,null,null,0,null,0,0,0]
[null,null,null,null,0,null,0,0,0]
[null,null,null,null,0,null,0,0,0]
[null,null,null,null,0,null,0,0,0]
[null,null,null,null,0,null,0,0,0]
[null,null,null,null,0,null,0,0,0]
[null,null,null,null,0,null,0,0,0]
[null,null,null,null,0,null,0,0,0]
[null,null,null,null,0,null,0,0,0]
[null,null,null,null,0,null,0,0,0]
[null,null,null,null,0,null,0,0,0]
[null,null,null,null,0,null,0,0,0]
[null,null,null,null,0,null,0,0,0]
[null,null,null,null,0,null,0,0,0]
[null,null,null,null,0,null,0,0,0]
[null,null,null,null,0,null,0,0,0]
[null,null,null,null,0,null,0,0,0]
[null,null,null,null,0,null,0,0,0]
[null,null,null,null,0,null,0,0,0]
[null,null,null,null,{"$f":"IF(C7642<D7642,ABS(C7642-D7642),0)","v":0},null,{"$f":"IF(E7642<F7642,0,E7642-F7642)","v":0},{"$f":"IFERROR(VLOOKUP(B7642,$A$17:$B$20,2,0),0)","v":0},{"$f":"G7642*H7642","v":0}]
[null,null,null,null,0,null,0,0,0]
[null,null,null,null,0,null,0,0,0]
[null,null,null,null,0,null,0,0,0]
[null,null,null,null,0,null,0,0,0]
[null,null,null,null,0,null,0,0,0]
[null,null,null,null,0,null,0,0,0]
[null,null,null,null,0,null,0,0,0]
[null,null,null,null,0,null,0,0,0]
[null,null,null,null,0,null,0,0,0]
[null,null,null,null,0,null,0,0,0]
[null,null,null,null,0,null,0,0,0]
[null,null,null,null,0,null,0,0,0]
[null,null,null,null,0,null,0,0,0]
[null,null,null,null,0,null,0,0,0]
[null,null,null,null,0,null,0,0,0]
[null,null,null,null,0,null,0,0,0]
[null,null,null,null,0,null,0,0,0]
[null,null,null,null,0,null,0,0,0]
[null,null,null,null,0,null,0,0,0]
[null,null,null,null,0,null,0,0,0]
[null,null,null,null,0,null,0,0,0]
[null,null,null,null,0,null,0,0,0]
[null,null,null,null,0,null,0,0,0]
[null,null,null,null,0,null,0,0,0]
[null,null,null,null,0,null,0,0,0]
[null,null,null,null,0,null,0,0,0]
[null,null,null,null,0,null,0,0,0]
[null,null,null,null,0,null,0,0,0]
[null,null,null,null,0,null,0,0,0]
[null,null,null,null,0,null,0,0,0]
[null,null,null,null,0,null,0,0,0]
[null,null,null,null,0,null,0,0,0]
[null,null,null,null,0,null,0,0,0]
[null,null,null,null,0,null,0,0,0]
[null,null,null,null,0,null,0,0,0]
[null,null,null,null,0,null,0,0,0]
[null,null,null,null,0,null,0,0,0]
[null,null,null,null,0,null,0,0,0]
[null,null,null,null,0,null,0,0,0]
[null,null,null,null,0,null,0,0,0]
[null,null,null,null,0,null,0,0,0]
[null,null,null,null,0,null,0,0,0]
[null,null,null,null,0,null,0,0,0]
[null,null,null,null,0,null,0,0,0]
[null,null,null,null,0,null,0,0,0]
[null,null,null,null,0,null,0,0,0]
[null,null,null,null,0,null,0,0,0]
[null,null,null,null,0,null,0,0,0]
[null,null,null,null,0,null,0,0,0]
[null,null,null,null,0,null,0,0,0]
[null,null,null,null,0,null,0,0,0]
[null,null,null,null,0,null,0,0,0]
[null,null,null,null,0,null,0,0,0]
[null,null,null,null,0,null,0,0,0]
[null,null,null,null,0,null,0,0,0]
[null,null,null,null,0,null,0,0,0]
[null,null,null,null,0,null,0,0,0]
[null,null,null,null,0,null,0,0,0]
[null,null,null,null,0,null,0,0,0]
[null,null,null,null,0,null,0,0,0]
[null,null,null,null,0,null,0,0,0]
[null,null,null,null,0,null,0,0,0]
[null,null,null,null,0,null,0,0,0]
[null,null,null,null,{"$f":"IF(C7706<D7706,ABS(C7706-D7706),0)","v":0},null,{"$f":"IF(E7706<F7706,0,E7706-F7706)","v":0},{"$f":"IFERROR(VLOOKUP(B7706,$A$17:$B$20,2,0),0)","v":0},{"$f":"G7706*H7706","v":0}]
[null,null,null,null,0,null,0,0,0]
[null,null,null,null,0,null,0,0,0]
[null,null,null,null,0,null,0,0,0]
[null,null,null,null,0,null,0,0,0]
[null,null,null,null,0,null,0,0,0]
[null,null,null,null,0,null,0,0,0]
[null,null,null,null,0,null,0,0,0]
[null,null,null,null,0,null,0,0,0]
[null,null,null,null,0,null,0,0,0]
[null,null,null,null,0,null,0,0,0]
[null,null,null,null,0,null,0,0,0]
[null,null,null,null,0,null,0,0,0]
[null,null,null,null,0,null,0,0,0]
[null,null,null,null,0,null,0,0,0]
[null,null,null,null,0,null,0,0,0]
[null,null,null,null,0,null,0,0,0]
[null,null,null,null,0,null,0,0,0]
[null,null,null,null,0,null,0,0,0]
[null,null,null,null,0,null,0,0,0]
[null,null,null,null,0,null,0,0,0]
[null,null,null,null,0,null,0,0,0]
[null,null,null,null,0,null,0,0,0]
[null,null,null,null,0,null,0,0,0]
[null,null,null,null,0,null,0,0,0]
[null,null,null,null,0,null,0,0,0]
[null,null,null,null,0,null,0,0,0]
[null,null,null,null,0,null,0,0,0]
[null,null,null,null,0,null,0,0,0]
[null,null,null,null,0,null,0,0,0]
[null,null,null,null,0,null,0,0,0]
[null,null,null,null,0,null,0,0,0]
[null,null,null,null,0,null,0,0,0]
[null,null,null,null,0,null,0,0,0]
[null,null,null,null,0,null,0,0,0]
[null,null,null,null,0,null,0,0,0]
[null,null,null,null,0,null,0,0,0]
[null,null,null,null,0,null,0,0,0]
[null,null,null,null,0,null,0,0,0]
[null,null,null,null,0,null,0,0,0]
[null,null,null,null,0,null,0,0,0]
[null,null,null,null,0,null,0,0,0]
[null,null,null,null,0,null,0,0,0]
[null,null,null,null,0,null,0,0,0]
[null,null,null,null,0,null,0,0,0]
[null,null,null,null,0,null,0,0,0]
[null,null,null,null,0,null,0,0,0]
[null,null,null,null,0,null,0,0,0]
[null,null,null,null,0,null,0,0,0]
[null,null,null,null,0,null,0,0,0]
[null,null,null,null,0,null,0,0,0]
[null,null,null,null,0,null,0,0,0]
[null,null,null,null,0,null,0,0,0]
[null,null,null,null,0,null,0,0,0]
[null,null,null,null,0,null,0,0,0]
[null,null,null,null,0,null,0,0,0]
[null,null,null,null,0,null,0,0,0]
[null,null,null,null,0,null,0,0,0]
[null,null,null,null,0,null,0,0,0]
[null,null,null,null,0,null,0,0,0]
[null,null,null,null,0,null,0,0,0]
[null,null,null,null,0,null,0,0,0]
[null,null,null,null,0,null,0,0,0]
[null,null,null,null,0,null,0,0,0]
[null,null,null,null,{"$f":"IF(C7770<D7770,ABS(C7770-D7770),0)","v":0},null,{"$f":"IF(E7770<F7770,0,E7770-F7770)","v":0},{"$f":"IFERROR(VLOOKUP(B7770,$A$17:$B$20,2,0),0)","v":0},{"$f":"G7770*H7770","v":0}]
[null,null,null,null,0,null,0,0,0]
[null,null,null,null,0,null,0,0,0]
[null,null,null,null,0,null,0,0,0]
[null,null,null,null,0,null,0,0,0]
[null,null,null,null,0,null,0,0,0]
[null,null,null,null,0,null,0,0,0]
[null,null,null,null,0,null,0,0,0]
[null,null,null,null,0,null,0,0,0]
[null,null,null,null,0,null,0,0,0]
[null,null,null,null,0,null,0,0,0]
[null,null,null,null,0,null,0,0,0]
[null,null,null,null,0,null,0,0,0]
[null,null,null,null,0,null,0,0,0]
[null,null,null,null,0,null,0,0,0]
[null,null,null,null,0,null,0,0,0]
[null,null,null,null,0,null,0,0,0]
[null,null,null,null,0,null,0,0,0]
[null,null,null,null,0,null,0,0,0]
[null,null,null,null,0,null,0,0,0]
[null,null,null,null,0,null,0,0,0]
[null,null,null,null,0,null,0,0,0]
[null,null,null,null,0,null,0,0,0]
[null,null,null,null,0,null,0,0,0]
[null,null,null,null,0,null,0,0,0]
[null,null,null,null,0,null,0,0,0]
[null,null,null,null,0,null,0,0,0]
[null,null,null,null,0,null,0,0,0]
[null,null,null,null,0,null,0,0,0]
[null,null,null,null,0,null,0,0,0]
[null,null,null,null,0,null,0,0,0]
[null,null,null,null,0,null,0,0,0]
[null,null,null,null,0,null,0,0,0]
[null,null,null,null,0,null,0,0,0]
[null,null,null,null,0,null,0,0,0]
[null,null,null,null,0,null,0,0,0]
[null,null,null,null,0,null,0,0,0]
[null,null,null,null,0,null,0,0,0]
[null,null,null,null,0,null,0,0,0]
[null,null,null,null,0,null,0,0,0]
[null,null,null,null,0,null,0,0,0]
[null,null,null,null,0,null,0,0,0]
[null,null,null,null,0,null,0,0,0]
[null,null,null,null,0,null,0,0,0]
[null,null,null,null,0,null,0,0,0]
[null,null,null,null,0,null,0,0,0]
[null,null,null,null,0,null,0,0,0]
[null,null,null,null,0,null,0,0,0]
[null,null,null,null,0,null,0,0,0]
[null,null,null,null,0,null,0,0,0]
[null,null,null,null,0,null,0,0,0]
[null,null,null,null,0,null,0,0,0]
[null,null,null,null,0,null,0,0,0]
[null,null,null,null,0,null,0,0,0]
[null,null,null,null,0,null,0,0,0]
[null,null,null,null,0,null,0,0,0]
[null,null,null,null,0,null,0,0,0]
[null,null,null,null,0,null,0,0,0]
[null,null,null,null,0,null,0,0,0]
[null,null,null,null,0,null,0,0,0]
[null,null,null,null,0,null,0,0,0]
[null,null,null,null,0,null,0,0,0]
[null,null,null,null,0,null,0,0,0]
[null,null,null,null,0,null,0,0,0]
[null,null,null,null,{"$f":"IF(C7834<D7834,ABS(C7834-D7834),0)","v":0},null,{"$f":"IF(E7834<F7834,0,E7834-F7834)","v":0},{"$f":"IFERROR(VLOOKUP(B7834,$A$17:$B$20,2,0),0)","v":0},{"$f":"G7834*H7834","v":0}]
[null,null,null,null,0,null,0,0,0]
[null,null,null,null,0,null,0,0,0]
[null,null,null,null,0,null,0,0,0]
[null,null,null,null,0,null,0,0,0]
[null,null,null,null,0,null,0,0,0]
[null,null,null,null,0,null,0,0,0]
[null,null,null,null,0,null,0,0,0]
[null,null,null,null,0,null,0,0,0]
[null,null,null,null,0,null,0,0,0]
[null,null,null,null,0,null,0,0,0]
[null,null,null,null,0,null,0,0,0]
[null,null,null,null,0,null,0,0,0]
[null,null,null,null,0,null,0,0,0]
[null,null,null,null,0,null,0,0,0]
[null,null,null,null,0,null,0,0,0]
[null,null,null,null,0,null,0,0,0]
[null,null,null,null,0,null,0,0,0]
[null,null,null,null,0,null,0,0,0]
[null,null,null,null,0,null,0,0,0]
[null,null,null,null,0,null,0,0,0]
[null,null,null,null,0,null,0,0,0]
[null,null,null,null,0,null,0,0,0]
[null,null,null,null,0,null,0,0,0]
[null,null,null,null,0,null,0,0,0]
[null,null,null,null,0,null,0,0,0]
[null,null,null,null,0,null,0,0,0]
[null,null,null,null,0,null,0,0,0]
[null,null,null,null,0,null,0,0,0]
[null,null,null,null,0,null,0,0,0]
[null,null,null,null,0,null,0,0,0]
[null,null,null,null,0,null,0,0,0]
[null,null,null,null,0,null,0,0,0]
[null,null,null,null,0,null,0,0,0]
[null,null,null,null,0,null,0,0,0]
[null,null,null,null,0,null,0,0,0]
[null,null,null,null,0,null,0,0,0]
[null,null,null,null,0,null,0,0,0]
[null,null,null,null,0,null,0,0,0]
[null,null,null,null,0,null,0,0,0]
[null,null,null,null,0,null,0,0,0]
[null,null,null,null,0,null,0,0,0]
[null,null,null,null,0,null,0,0,0]
[null,null,null,null,0,null,0,0,0]
[null,null,null,null,0,null,0,0,0]
[null,null,null,null,0,null,0,0,0]
[null,null,null,null,0,null,0,0,0]
[null,null,null,null,0,null,0,0,0]
[null,null,null,null,0,null,0,0,0]
[null,null,null,null,0,null,0,0,0]
[null,null,null,null,0,null,0,0,0]
[null,null,null,null,0,null,0,0,0]
[null,null,null,null,0,null,0,0,0]
[null,null,null,null,0,null,0,0,0]
[null,null,null,null,0,null,0,0,0]
[null,null,null,null,0,null,0,0,0]
[null,null,null,null,0,null,0,0,0]
[null,null,null,null,0,null,0,0,0]
[null,null,null,null,0,null,0,0,0]
[null,null,null,null,0,null,0,0,0]
[null,null,null,null,0,null,0,0,0]
[null,null,null,null,0,null,0,0,0]
[null,null,null,null,0,null,0,0,0]
[null,null,null,null,0,null,0,0,0]
[null,null,null,null,{"$f":"IF(C7898<D7898,ABS(C7898-D7898),0)","v":0},null,{"$f":"IF(E7898<F7898,0,E7898-F7898)","v":0},{"$f":"IFERROR(VLOOKUP(B7898,$A$17:$B$20,2,0),0)","v":0},{"$f":"G7898*H7898","v":0}]
[null,null,null,null,0,null,0,0,0]
[null,null,null,null,0,null,0,0,0]
[null,null,null,null,0,null,0,0,0]
[null,null,null,null,0,null,0,0,0]
[null,null,null,null,0,null,0,0,0]
[null,null,null,null,0,null,0,0,0]
[null,null,null,null,0,null,0,0,0]
[null,null,null,null,0,null,0,0,0]
[null,null,null,null,0,null,0,0,0]
[null,null,null,null,0,null,0,0,0]
[null,null,null,null,0,null,0,0,0]
[null,null,null,null,0,null,0,0,0]
[null,null,null,null,0,null,0,0,0]
[null,null,null,null,0,null,0,0,0]
[null,null,null,null,0,null,0,0,0]
[null,null,null,null,0,null,0,0,0]
[null,null,null,null,0,null,0,0,0]
[null,null,null,null,0,null,0,0,0]
[null,null,null,null,0,null,0,0,0]
[null,null,null,null,0,null,0,0,0]
[null,null,null,null,0,null,0,0,0]
[null,null,null,null,0,null,0,0,0]
[null,null,null,null,0,null,0,0,0]
[null,null,null,null,0,null,0,0,0]
[null,null,null,null,0,null,0,0,0]
[null,null,null,null,0,null,0,0,0]
[null,null,null,null,0,null,0,0,0]
[null,null,null,null,0,null,0,0,0]
[null,null,null,null,0,null,0,0,0]
[null,null,null,null,0,null,0,0,0]
[null,null,null,null,0,null,0,0,0]
[null,null,null,null,0,null,0,0,0]
[null,null,null,null,0,null,0,0,0]
[null,null,null,null,0,null,0,0,0]
[null,null,null,null,0,null,0,0,0]
[null,null,null,null,0,null,0,0,0]
[null,null,null,null,0,null,0,0,0]
[null,null,null,null,0,null,0,0,0]
[null,null,null,null,0,null,0,0,0]
[null,null,null,null,0,null,0,0,0]
[null,null,null,null,0,null,0,0,0]
[null,null,null,null,0,null,0,0,0]
[null,null,null,null,0,null,0,0,0]
[null,null,null,null,0,null,0,0,0]
[null,null,null,null,0,null,0,0,0]
[null,null,null,null,0,null,0,0,0]
[null,null,null,null,0,null,0,0,0]
[null,null,null,null,0,null,0,0,0]
[null,null,null,null,0,null,0,0,0]
[null,null,null,null,0,null,0,0,0]
[null,null,null,null,0,null,0,0,0]
[null,null,null,null,0,null,0,0,0]
[null,null,null,null,0,null,0,0,0]
[null,null,null,null,0,null,0,0,0]
[null,null,null,null,0,null,0,0,0]
[null,null,null,null,0,null,0,0,0]
[null,null,null,null,0,null,0,0,0]
[null,null,null,null,0,null,0,0,0]
[null,null,null,null,0,null,0,0,0]
[null,null,null,null,0,null,0,0,0]
[null,null,null,null,0,null,0,0,0]
[null,null,null,null,0,null,0,0,0]
[null,null,null,null,0,null,0,0,0]
[null,null,null,null,{"$f":"IF(C7962<D7962,ABS(C7962-D7962),0)","v":0},null,{"$f":"IF(E7962<F7962,0,E7962-F7962)","v":0},{"$f":"IFERROR(VLOOKUP(B7962,$A$17:$B$20,2,0),0)","v":0},{"$f":"G7962*H7962","v":0}]
[null,null,null,null,0,null,0,0,0]
[null,null,null,null,0,null,0,0,0]
[null,null,null,null,0,null,0,0,0]
[null,null,null,null,0,null,0,0,0]
[null,null,null,null,0,null,0,0,0]
[null,null,null,null,0,null,0,0,0]
[null,null,null,null,0,null,0,0,0]
[null,null,null,null,0,null,0,0,0]
[null,null,null,null,0,null,0,0,0]
[null,null,null,null,0,null,0,0,0]
[null,null,null,null,0,null,0,0,0]
[null,null,null,null,0,null,0,0,0]
[null,null,null,null,0,null,0,0,0]
[null,null,null,null,0,null,0,0,0]
[null,null,null,null,0,null,0,0,0]
[null,null,null,null,0,null,0,0,0]
[null,null,null,null,0,null,0,0,0]
[null,null,null,null,0,null,0,0,0]
[null,null,null,null,0,null,0,0,0]
[null,null,null,null,0,null,0,0,0]
[null,null,null,null,0,null,0,0,0]
[null,null,null,null,0,null,0,0,0]
[null,null,null,null,0,null,0,0,0]
[null,null,null,null,0,null,0,0,0]
[null,null,null,null,0,null,0,0,0]
[null,null,null,null,0,null,0,0,0]
[null,null,null,null,0,null,0,0,0]
[null,null,null,null,0,null,0,0,0]
[null,null,null,null,0,null,0,0,0]
[null,null,null,null,0,null,0,0,0]
[null,null,null,null,0,null,0,0,0]
[null,null,null,null,0,null,0,0,0]
[null,null,null,null,0,null,0,0,0]
[null,null,null,null,0,null,0,0,0]
[null,null,null,null,0,null,0,0,0]
[null,null,null,null,0,null,0,0,0]
[null,null,null,null,0,null,0,0,0]
[null,null,null,null,0,null,0,0,0]
[null,null,null,null,0,null,0,0,0]
[null,null,null,null,0,null,0,0,0]
[null,null,null,null,0,null,0,0,0]
[null,null,null,null,0,null,0,0,0]
[null,null,null,null,0,null,0,0,0]
[null,null,null,null,0,null,0,0,0]
[null,null,null,null,0,null,0,0,0]
[null,null,null,null,0,null,0,0,0]
[null,null,null,null,0,null,0,0,0]
[null,null,null,null,0,null,0,0,0]
[null,null,null,null,0,null,0,0,0]
[null,null,null,null,0,null,0,0,0]
[null,null,null,null,0,null,0,0,0]
[null,null,null,null,0,null,0,0,0]
[null,null,null,null,0,null,0,0,0]
[null,null,null,null,0,null,0,0,0]
[null,null,null,null,0,null,0,0,0]
[null,null,null,null,0,null,0,0,0]
[null,null,null,null,0,null,0,0,0]
[null,null,null,null,0,null,0,0,0]
[null,null,null,null,0,null,0,0,0]
[null,null,null,null,0,null,0,0,0]
[null,null,null,null,0,null,0,0,0]
[null,null,null,null,0,null,0,0,0]
[null,null,null,null,0,null,0,0,0]
[null,null,null,null,{"$f":"IF(C8026<D8026,ABS(C8026-D8026),0)","v":0},null,{"$f":"IF(E8026<F8026,0,E8026-F8026)","v":0},{"$f":"IFERROR(VLOOKUP(B8026,$A$17:$B$20,2,0),0)","v":0},{"$f":"G8026*H8026","v":0}]
[null,null,null,null,0,null,0,0,0]
[null,null,null,null,0,null,0,0,0]
[null,null,null,null,0,null,0,0,0]
[null,null,null,null,0,null,0,0,0]
[null,null,null,null,0,null,0,0,0]
[null,null,null,null,0,null,0,0,0]
[null,null,null,null,0,null,0,0,0]
[null,null,null,null,0,null,0,0,0]
[null,null,null,null,0,null,0,0,0]
[null,null,null,null,0,null,0,0,0]
[null,null,null,null,0,null,0,0,0]
[null,null,null,null,0,null,0,0,0]
[null,null,null,null,0,null,0,0,0]
[null,null,null,null,0,null,0,0,0]
[null,null,null,null,0,null,0,0,0]
[null,null,null,null,0,null,0,0,0]
[null,null,null,null,0,null,0,0,0]
[null,null,null,null,0,null,0,0,0]
[null,null,null,null,0,null,0,0,0]
[null,null,null,null,0,null,0,0,0]
[null,null,null,null,0,null,0,0,0]
[null,null,null,null,0,null,0,0,0]
[null,null,null,null,0,null,0,0,0]
[null,null,null,null,0,null,0,0,0]
[null,null,null,null,0,null,0,0,0]
[null,null,null,null,0,null,0,0,0]
[null,null,null,null,0,null,0,0,0]
[null,null,null,null,0,null,0,0,0]
[null,null,null,null,0,null,0,0,0]
[null,null,null,null,0,null,0,0,0]
[null,null,null,null,0,null,0,0,0]
[null,null,null,null,0,null,0,0,0]
[null,null,null,null,0,null,0,0,0]
[null,null,null,null,0,null,0,0,0]
[null,null,null,null,0,null,0,0,0]
[null,null,null,null,0,null,0,0,0]
[null,null,null,null,0,null,0,0,0]
[null,null,null,null,0,null,0,0,0]
[null,null,null,null,0,null,0,0,0]
[null,null,null,null,0,null,0,0,0]
[null,null,null,null,0,null,0,0,0]
[null,null,null,null,0,null,0,0,0]
[null,null,null,null,0,null,0,0,0]
[null,null,null,null,0,null,0,0,0]
[null,null,null,null,0,null,0,0,0]
[null,null,null,null,0,null,0,0,0]
[null,null,null,null,0,null,0,0,0]
[null,null,null,null,0,null,0,0,0]
[null,null,null,null,0,null,0,0,0]
[null,null,null,null,0,null,0,0,0]
[null,null,null,null,0,null,0,0,0]
[null,null,null,null,0,null,0,0,0]
[null,null,null,null,0,null,0,0,0]
[null,null,null,null,0,null,0,0,0]
[null,null,null,null,0,null,0,0,0]
[null,null,null,null,0,null,0,0,0]
[null,null,null,null,0,null,0,0,0]
[null,null,null,null,0,null,0,0,0]
[null,null,null,null,0,null,0,0,0]
[null,null,null,null,0,null,0,0,0]
[null,null,null,null,0,null,0,0,0]
[null,null,null,null,0,null,0,0,0]
[null,null,null,null,0,null,0,0,0]
[null,null,null,null,{"$f":"IF(C8090<D8090,ABS(C8090-D8090),0)","v":0},null,{"$f":"IF(E8090<F8090,0,E8090-F8090)","v":0},{"$f":"IFERROR(VLOOKUP(B8090,$A$17:$B$20,2,0),0)","v":0},{"$f":"G8090*H8090","v":0}]
[null,null,null,null,0,null,0,0,0]
[null,null,null,null,0,null,0,0,0]
[null,null,null,null,0,null,0,0,0]
[null,null,null,null,0,null,0,0,0]
[null,null,null,null,0,null,0,0,0]
[null,null,null,null,0,null,0,0,0]
[null,null,null,null,0,null,0,0,0]
[null,null,null,null,0,null,0,0,0]
[null,null,null,null,0,null,0,0,0]
[null,null,null,null,0,null,0,0,0]
[null,null,null,null,0,null,0,0,0]
[null,null,null,null,0,null,0,0,0]
[null,null,null,null,0,null,0,0,0]
[null,null,null,null,0,null,0,0,0]
[null,null,null,null,0,null,0,0,0]
[null,null,null,null,0,null,0,0,0]
[null,null,null,null,0,null,0,0,0]
[null,null,null,null,0,null,0,0,0]
[null,null,null,null,0,null,0,0,0]
[null,null,null,null,0,null,0,0,0]
[null,null,null,null,0,null,0,0,0]
[null,null,null,null,0,null,0,0,0]
[null,null,null,null,0,null,0,0,0]
[null,null,null,null,0,null,0,0,0]
[null,null,null,null,0,null,0,0,0]
[null,null,null,null,0,null,0,0,0]
[null,null,null,null,0,null,0,0,0]
[null,null,null,null,0,null,0,0,0]
[null,null,null,null,0,null,0,0,0]
[null,null,null,null,0,null,0,0,0]
[null,null,null,null,0,null,0,0,0]
[null,null,null,null,0,null,0,0,0]
[null,null,null,null,0,null,0,0,0]
[null,null,null,null,0,null,0,0,0]
[null,null,null,null,0,null,0,0,0]
[null,null,null,null,0,null,0,0,0]
[null,null,null,null,0,null,0,0,0]
[null,null,null,null,0,null,0,0,0]
[null,null,null,null,0,null,0,0,0]
[null,null,null,null,0,null,0,0,0]
[null,null,null,null,0,null,0,0,0]
[null,null,null,null,0,null,0,0,0]
[null,null,null,null,0,null,0,0,0]
[null,null,null,null,0,null,0,0,0]
[null,null,null,null,0,null,0,0,0]
[null,null,null,null,0,null,0,0,0]
[null,null,null,null,0,null,0,0,0]
[null,null,null,null,0,null,0,0,0]
[null,null,null,null,0,null,0,0,0]
[null,null,null,null,0,null,0,0,0]
[null,null,null,null,0,null,0,0,0]
[null,null,null,null,0,null,0,0,0]
[null,null,null,null,0,null,0,0,0]
[null,null,null,null,0,null,0,0,0]
[null,null,null,null,0,null,0,0,0]
[null,null,null,null,0,null,0,0,0]
[null,null,null,null,0,null,0,0,0]
[null,null,null,null,0,null,0,0,0]
[null,null,null,null,0,null,0,0,0]
[null,null,null,null,0,null,0,0,0]
[null,null,null,null,0,null,0,0,0]
[null,null,null,null,0,null,0,0,0]
[null,null,null,null,0,null,0,0,0]
[null,null,null,null,{"$f":"IF(C8154<D8154,ABS(C8154-D8154),0)","v":0},null,{"$f":"IF(E8154<F8154,0,E8154-F8154)","v":0},{"$f":"IFERROR(VLOOKUP(B8154,$A$17:$B$20,2,0),0)","v":0},{"$f":"G8154*H8154","v":0}]
[null,null,null,null,0,null,0,0,0]
[null,null,null,null,0,null,0,0,0]
[null,null,null,null,0,null,0,0,0]
[null,null,null,null,0,null,0,0,0]
[null,null,null,null,0,null,0,0,0]
[null,null,null,null,0,null,0,0,0]
[null,null,null,null,0,null,0,0,0]
[null,null,null,null,0,null,0,0,0]
[null,null,null,null,0,null,0,0,0]
[null,null,null,null,0,null,0,0,0]
[null,null,null,null,0,null,0,0,0]
[null,null,null,null,0,null,0,0,0]
[null,null,null,null,0,null,0,0,0]
[null,null,null,null,0,null,0,0,0]
[null,null,null,null,0,null,0,0,0]
[null,null,null,null,0,null,0,0,0]
[null,null,null,null,0,null,0,0,0]
[null,null,null,null,0,null,0,0,0]
[null,null,null,null,0,null,0,0,0]
[null,null,null,null,0,null,0,0,0]
[null,null,null,null,0,null,0,0,0]
[null,null,null,null,0,null,0,0,0]
[null,null,null,null,0,null,0,0,0]
[null,null,null,null,0,null,0,0,0]
[null,null,null,null,0,null,0,0,0]
[null,null,null,null,0,null,0,0,0]
[null,null,null,null,0,null,0,0,0]
[null,null,null,null,0,null,0,0,0]
[null,null,null,null,0,null,0,0,0]
[null,null,null,null,0,null,0,0,0]
[null,null,null,null,0,null,0,0,0]
[null,null,null,null,0,null,0,0,0]
[null,null,null,null,0,null,0,0,0]
[null,null,null,null,0,null,0,0,0]
[null,null,null,null,0,null,0,0,0]
[null,null,null,null,0,null,0,0,0]
[null,null,null,null,0,null,0,0,0]
[null,null,null,null,0,null,0,0,0]
[null,null,null,null,0,null,0,0,0]
[null,null,null,null,0,null,0,0,0]
[null,null,null,null,0,null,0,0,0]
[null,null,null,null,0,null,0,0,0]
[null,null,null,null,0,null,0,0,0]
[null,null,null,null,0,null,0,0,0]
[null,null,null,null,0,null,0,0,0]
[null,null,null,null,0,null,0,0,0]
[null,null,null,null,0,null,0,0,0]
[null,null,null,null,0,null,0,0,0]
[null,null,null,null,0,null,0,0,0]
[null,null,null,null,0,null,0,0,0]
[null,null,null,null,0,null,0,0,0]
[null,null,null,null,0,null,0,0,0]
[null,null,null,null,0,null,0,0,0]
[null,null,null,null,0,null,0,0,0]
[null,null,null,null,0,null,0,0,0]
[null,null,null,null,0,null,0,0,0]
[null,null,null,null,0,null,0,0,0]
[null,null,null,null,0,null,0,0,0]
[null,null,null,null,0,null,0,0,0]
[null,null,null,null,0,null,0,0,0]
[null,null,null,null,0,null,0,0,0]
[null,null,null,null,0,null,0,0,0]
[null,null,null,null,0,null,0,0,0]
[null,null,null,null,{"$f":"IF(C8218<D8218,ABS(C8218-D8218),0)","v":0},null,{"$f":"IF(E8218<F8218,0,E8218-F8218)","v":0},{"$f":"IFERROR(VLOOKUP(B8218,$A$17:$B$20,2,0),0)","v":0},{"$f":"G8218*H8218","v":0}]
[null,null,null,null,0,null,0,0,0]
[null,null,null,null,0,null,0,0,0]
[null,null,null,null,0,null,0,0,0]
[null,null,null,null,0,null,0,0,0]
[null,null,null,null,0,null,0,0,0]
[null,null,null,null,0,null,0,0,0]
[null,null,null,null,0,null,0,0,0]
[null,null,null,null,0,null,0,0,0]
[null,null,null,null,0,null,0,0,0]
[null,null,null,null,0,null,0,0,0]
[null,null,null,null,0,null,0,0,0]
[null,null,null,null,0,null,0,0,0]
[null,null,null,null,0,null,0,0,0]
[null,null,null,null,0,null,0,0,0]
[null,null,null,null,0,null,0,0,0]
[null,null,null,null,0,null,0,0,0]
[null,null,null,null,0,null,0,0,0]
[null,null,null,null,0,null,0,0,0]
[null,null,null,null,0,null,0,0,0]
[null,null,null,null,0,null,0,0,0]
[null,null,null,null,0,null,0,0,0]
[null,null,null,null,0,null,0,0,0]
[null,null,null,null,0,null,0,0,0]
[null,null,null,null,0,null,0,0,0]
[null,null,null,null,0,null,0,0,0]
[null,null,null,null,0,null,0,0,0]
[null,null,null,null,0,null,0,0,0]
[null,null,null,null,0,null,0,0,0]
[null,null,null,null,0,null,0,0,0]
[null,null,null,null,0,null,0,0,0]
[null,null,null,null,0,null,0,0,0]
[null,null,null,null,0,null,0,0,0]
[null,null,null,null,0,null,0,0,0]
[null,null,null,null,0,null,0,0,0]
[null,null,null,null,0,null,0,0,0]
[null,null,null,null,0,null,0,0,0]
[null,null,null,null,0,null,0,0,0]
[null,null,null,null,0,null,0,0,0]
[null,null,null,null,0,null,0,0,0]
[null,null,null,null,0,null,0,0,0]
[null,null,null,null,0,null,0,0,0]
[null,null,null,null,0,null,0,0,0]
[null,null,null,null,0,null,0,0,0]
[null,null,null,null,0,null,0,0,0]
[null,null,null,null,0,null,0,0,0]
[null,null,null,null,0,null,0,0,0]
[null,null,null,null,0,null,0,0,0]
[null,null,null,null,0,null,0,0,0]
[null,null,null,null,0,null,0,0,0]
[null,null,null,null,0,null,0,0,0]
[null,null,null,null,0,null,0,0,0]
[null,null,null,null,0,null,0,0,0]
[null,null,null,null,0,null,0,0,0]
[null,null,null,null,0,null,0,0,0]
[null,null,null,null,0,null,0,0,0]
[null,null,null,null,0,null,0,0,0]
[null,null,null,null,0,null,0,0,0]
[null,null,null,null,0,null,0,0,0]
[null,null,null,null,0,null,0,0,0]
[null,null,null,null,0,null,0,0,0]
[null,null,null,null,0,null,0,0,0]
[null,null,null,null,0,null,0,0,0]
[null,null,null,null,0,null,0,0,0]
[null,null,null,null,{"$f":"IF(C8282<D8282,ABS(C8282-D8282),0)","v":0},null,{"$f":"IF(E8282<F8282,0,E8282-F8282)","v":0},{"$f":"IFERROR(VLOOKUP(B8282,$A$17:$B$20,2,0),0)","v":0},{"$f":"G8282*H8282","v":0}]
[null,null,null,null,0,null,0,0,0]
[null,null,null,null,0,null,0,0,0]
[null,null,null,null,0,null,0,0,0]
[null,null,null,null,0,null,0,0,0]
[null,null,null,null,0,null,0,0,0]
[null,null,null,null,0,null,0,0,0]
[null,null,null,null,0,null,0,0,0]
[null,null,null,null,0,null,0,0,0]
[null,null,null,null,0,null,0,0,0]
[null,null,null,null,0,null,0,0,0]
[null,null,null,null,0,null,0,0,0]
[null,null,null,null,0,null,0,0,0]
[null,null,null,null,0,null,0,0,0]
[null,null,null,null,0,null,0,0,0]
[null,null,null,null,0,null,0,0,0]
[null,null,null,null,0,null,0,0,0]
[null,null,null,null,0,null,0,0,0]
[null,null,null,null,0,null,0,0,0]
[null,null,null,null,0,null,0,0,0]
[null,null,null,null,0,null,0,0,0]
[null,null,null,null,0,null,0,0,0]
[null,null,null,null,0,null,0,0,0]
[null,null,null,null,0,null,0,0,0]
[null,null,null,null,0,null,0,0,0]
[null,null,null,null,0,null,0,0,0]
[null,null,null,null,0,null,0,0,0]
[null,null,null,null,0,null,0,0,0]
[null,null,null,null,0,null,0,0,0]
[null,null,null,null,0,null,0,0,0]
[null,null,null,null,0,null,0,0,0]
[null,null,null,null,0,null,0,0,0]
[null,null,null,null,0,null,0,0,0]
[null,null,null,null,0,null,0,0,0]
[null,null,null,null,0,null,0,0,0]
[null,null,null,null,0,null,0,0,0]
[null,null,null,null,0,null,0,0,0]
[null,null,null,null,0,null,0,0,0]
[null,null,null,null,0,null,0,0,0]
[null,null,null,null,0,null,0,0,0]
[null,null,null,null,0,null,0,0,0]
[null,null,null,null,0,null,0,0,0]
[null,null,null,null,0,null,0,0,0]
[null,null,null,null,0,null,0,0,0]
[null,null,null,null,0,null,0,0,0]
[null,null,null,null,0,null,0,0,0]
[null,null,null,null,0,null,0,0,0]
[null,null,null,null,0,null,0,0,0]
[null,null,null,null,0,null,0,0,0]
[null,null,null,null,0,null,0,0,0]
[null,null,null,null,0,null,0,0,0]
[null,null,null,null,0,null,0,0,0]
[null,null,null,null,0,null,0,0,0]
[null,null,null,null,0,null,0,0,0]
[null,null,null,null,0,null,0,0,0]
[null,null,null,null,0,null,0,0,0]
[null,null,null,null,0,null,0,0,0]
[null,null,null,null,0,null,0,0,0]
[null,null,null,null,0,null,0,0,0]
[null,null,null,null,0,null,0,0,0]
[null,null,null,null,0,null,0,0,0]
[null,null,null,null,0,null,0,0,0]
[null,null,null,null,0,null,0,0,0]
[null,null,null,null,0,null,0,0,0]
[null,null,null,null,{"$f":"IF(C8346<D8346,ABS(C8346-D8346),0)","v":0},null,{"$f":"IF(E8346<F8346,0,E8346-F8346)","v":0},{"$f":"IFERROR(VLOOKUP(B8346,$A$17:$B$20,2,0),0)","v":0},{"$f":"G8346*H8346","v":0}]
[null,null,null,null,0,null,0,0,0]
[null,null,null,null,0,null,0,0,0]
[null,null,null,null,0,null,0,0,0]
[null,null,null,null,0,null,0,0,0]
[null,null,null,null,0,null,0,0,0]
[null,null,null,null,0,null,0,0,0]
[null,null,null,null,0,null,0,0,0]
[null,null,null,null,0,null,0,0,0]
[null,null,null,null,0,null,0,0,0]
[null,null,null,null,0,null,0,0,0]
[null,null,null,null,0,null,0,0,0]
[null,null,null,null,0,null,0,0,0]
[null,null,null,null,0,null,0,0,0]
[null,null,null,null,0,null,0,0,0]
[null,null,null,null,0,null,0,0,0]
[null,null,null,null,0,null,0,0,0]
[null,null,null,null,0,null,0,0,0]
[null,null,null,null,0,null,0,0,0]
[null,null,null,null,0,null,0,0,0]
[null,null,null,null,0,null,0,0,0]
[null,null,null,null,0,null,0,0,0]
[null,null,null,null,0,null,0,0,0]
[null,null,null,null,0,null,0,0,0]
[null,null,null,null,0,null,0,0,0]
[null,null,null,null,0,null,0,0,0]
[null,null,null,null,0,null,0,0,0]
[null,null,null,null,0,null,0,0,0]
[null,null,null,null,0,null,0,0,0]
[null,null,null,null,0,null,0,0,0]
[null,null,null,null,0,null,0,0,0]
[null,null,null,null,0,null,0,0,0]
[null,null,null,null,0,null,0,0,0]
[null,null,null,null,0,null,0,0,0]
[null,null,null,null,0,null,0,0,0]
[null,null,null,null,0,null,0,0,0]
[null,null,null,null,0,null,0,0,0]
[null,null,null,null,0,null,0,0,0]
[null,null,null,null,0,null,0,0,0]
[null,null,null,null,0,null,0,0,0]
[null,null,null,null,0,null,0,0,0]
[null,null,null,null,0,null,0,0,0]
[null,null,null,null,0,null,0,0,0]
[null,null,null,null,0,null,0,0,0]
[null,null,null,null,0,null,0,0,0]
[null,null,null,null,0,null,0,0,0]
[null,null,null,null,0,null,0,0,0]
[null,null,null,null,0,null,0,0,0]
[null,null,null,null,0,null,0,0,0]
[null,null,null,null,0,null,0,0,0]
[null,null,null,null,0,null,0,0,0]
[null,null,null,null,0,null,0,0,0]
[null,null,null,null,0,null,0,0,0]
[null,null,null,null,0,null,0,0,0]
[null,null,null,null,0,null,0,0,0]
[null,null,null,null,0,null,0,0,0]
[null,null,null,null,0,null,0,0,0]
[null,null,null,null,0,null,0,0,0]
[null,null,null,null,0,null,0,0,0]
[null,null,null,null,0,null,0,0,0]
[null,null,null,null,0,null,0,0,0]
[null,null,null,null,0,null,0,0,0]
[null,null,null,null,0,null,0,0,0]
[null,null,null,null,0,null,0,0,0]
[null,null,null,null,{"$f":"IF(C8410<D8410,ABS(C8410-D8410),0)","v":0},null,{"$f":"IF(E8410<F8410,0,E8410-F8410)","v":0},{"$f":"IFERROR(VLOOKUP(B8410,$A$17:$B$20,2,0),0)","v":0},{"$f":"G8410*H8410","v":0}]
[null,null,null,null,0,null,0,0,0]
[null,null,null,null,0,null,0,0,0]
[null,null,null,null,0,null,0,0,0]
[null,null,null,null,0,null,0,0,0]
[null,null,null,null,0,null,0,0,0]
[null,null,null,null,0,null,0,0,0]
[null,null,null,null,0,null,0,0,0]
[null,null,null,null,0,null,0,0,0]
[null,null,null,null,0,null,0,0,0]
[null,null,null,null,0,null,0,0,0]
[null,null,null,null,0,null,0,0,0]
[null,null,null,null,0,null,0,0,0]
[null,null,null,null,0,null,0,0,0]
[null,null,null,null,0,null,0,0,0]
[null,null,null,null,0,null,0,0,0]
[null,null,null,null,0,null,0,0,0]
[null,null,null,null,0,null,0,0,0]
[null,null,null,null,0,null,0,0,0]
[null,null,null,null,0,null,0,0,0]
[null,null,null,null,0,null,0,0,0]
[null,null,null,null,0,null,0,0,0]
[null,null,null,null,0,null,0,0,0]
[null,null,null,null,0,null,0,0,0]
[null,null,null,null,0,null,0,0,0]
[null,null,null,null,0,null,0,0,0]
[null,null,null,null,0,null,0,0,0]
[null,null,null,null,0,null,0,0,0]
[null,null,null,null,0,null,0,0,0]
[null,null,null,null,0,null,0,0,0]
[null,null,null,null,0,null,0,0,0]
[null,null,null,null,0,null,0,0,0]
[null,null,null,null,0,null,0,0,0]
[null,null,null,null,0,null,0,0,0]
[null,null,null,null,0,null,0,0,0]
[null,null,null,null,0,null,0,0,0]
[null,null,null,null,0,null,0,0,0]
[null,null,null,null,0,null,0,0,0]
[null,null,null,null,0,null,0,0,0]
[null,null,null,null,0,null,0,0,0]
[null,null,null,null,0,null,0,0,0]
[null,null,null,null,0,null,0,0,0]
[null,null,null,null,0,null,0,0,0]
[null,null,null,null,0,null,0,0,0]
[null,null,null,null,0,null,0,0,0]
[null,null,null,null,0,null,0,0,0]
[null,null,null,null,0,null,0,0,0]
[null,null,null,null,0,null,0,0,0]
[null,null,null,null,0,null,0,0,0]
[null,null,null,null,0,null,0,0,0]
[null,null,null,null,0,null,0,0,0]
[null,null,null,null,0,null,0,0,0]
[null,null,null,null,0,null,0,0,0]
[null,null,null,null,0,null,0,0,0]
[null,null,null,null,0,null,0,0,0]
[null,null,null,null,0,null,0,0,0]
[null,null,null,null,0,null,0,0,0]
[null,null,null,null,0,null,0,0,0]
[null,null,null,null,0,null,0,0,0]
[null,null,null,null,0,null,0,0,0]
[null,null,null,null,0,null,0,0,0]
[null,null,null,null,0,null,0,0,0]
[null,null,null,null,0,null,0,0,0]
[null,null,null,null,0,null,0,0,0]
[null,null,null,null,{"$f":"IF(C8474<D8474,ABS(C8474-D8474),0)","v":0},null,{"$f":"IF(E8474<F8474,0,E8474-F8474)","v":0},{"$f":"IFERROR(VLOOKUP(B8474,$A$17:$B$20,2,0),0)","v":0},{"$f":"G8474*H8474","v":0}]
[null,null,null,null,0,null,0,0,0]
[null,null,null,null,0,null,0,0,0]
[null,null,null,null,0,null,0,0,0]
[null,null,null,null,0,null,0,0,0]
[null,null,null,null,0,null,0,0,0]
[null,null,null,null,0,null,0,0,0]
[null,null,null,null,0,null,0,0,0]
[null,null,null,null,0,null,0,0,0]
[null,null,null,null,0,null,0,0,0]
[null,null,null,null,0,null,0,0,0]
[null,null,null,null,0,null,0,0,0]
[null,null,null,null,0,null,0,0,0]
[null,null,null,null,0,null,0,0,0]
[null,null,null,null,0,null,0,0,0]
[null,null,null,null,0,null,0,0,0]
[null,null,null,null,0,null,0,0,0]
[null,null,null,null,0,null,0,0,0]
[null,null,null,null,0,null,0,0,0]
[null,null,null,null,0,null,0,0,0]
[null,null,null,null,0,null,0,0,0]
[null,null,null,null,0,null,0,0,0]
[null,null,null,null,0,null,0,0,0]
[null,null,null,null,0,null,0,0,0]
[null,null,null,null,0,null,0,0,0]
[null,null,null,null,0,null,0,0,0]
[null,null,null,null,0,null,0,0,0]
[null,null,null,null,0,null,0,0,0]
[null,null,null,null,0,null,0,0,0]
[null,null,null,null,0,null,0,0,0]
[null,null,null,null,0,null,0,0,0]
[null,null,null,null,0,null,0,0,0]
[null,null,null,null,0,null,0,0,0]
[null,null,null,null,0,null,0,0,0]
[null,null,null,null,0,null,0,0,0]
[null,null,null,null,0,null,0,0,0]
[null,null,null,null,0,null,0,0,0]
[null,null,null,null,0,null,0,0,0]
[null,null,null,null,0,null,0,0,0]
[null,null,null,null,0,null,0,0,0]
[null,null,null,null,0,null,0,0,0]
[null,null,null,null,0,null,0,0,0]
[null,null,null,null,0,null,0,0,0]
[null,null,null,null,0,null,0,0,0]
[null,null,null,null,0,null,0,0,0]
[null,null,null,null,0,null,0,0,0]
[null,null,null,null,0,null,0,0,0]
[null,null,null,null,0,null,0,0,0]
[null,null,null,null,0,null,0,0,0]
[null,null,null,null,0,null,0,0,0]
[null,null,null,null,0,null,0,0,0]
[null,null,null,null,0,null,0,0,0]
[null,null,null,null,0,null,0,0,0]
[null,null,null,null,0,null,0,0,0]
[null,null,null,null,0,null,0,0,0]
[null,null,null,null,0,null,0,0,0]
[null,null,null,null,0,null,0,0,0]
[null,null,null,null,0,null,0,0,0]
[null,null,null,null,0,null,0,0,0]
[null,null,null,null,0,null,0,0,0]
[null,null,null,null,0,null,0,0,0]
[null,null,null,null,0,null,0,0,0]
[null,null,null,null,0,null,0,0,0]
[null,null,null,null,0,null,0,0,0]
[null,null,null,null,{"$f":"IF(C8538<D8538,ABS(C8538-D8538),0)","v":0},null,{"$f":"IF(E8538<F8538,0,E8538-F8538)","v":0},{"$f":"IFERROR(VLOOKUP(B8538,$A$17:$B$20,2,0),0)","v":0},{"$f":"G8538*H8538","v":0}]
[null,null,null,null,0,null,0,0,0]
[null,null,null,null,0,null,0,0,0]
[null,null,null,null,0,null,0,0,0]
[null,null,null,null,0,null,0,0,0]
[null,null,null,null,0,null,0,0,0]
[null,null,null,null,0,null,0,0,0]
[null,null,null,null,0,null,0,0,0]
[null,null,null,null,0,null,0,0,0]
[null,null,null,null,0,null,0,0,0]
[null,null,null,null,0,null,0,0,0]
[null,null,null,null,0,null,0,0,0]
[null,null,null,null,0,null,0,0,0]
[null,null,null,null,0,null,0,0,0]
[null,null,null,null,0,null,0,0,0]
[null,null,null,null,0,null,0,0,0]
[null,null,null,null,0,null,0,0,0]
[null,null,null,null,0,null,0,0,0]
[null,null,null,null,0,null,0,0,0]
[null,null,null,null,0,null,0,0,0]
[null,null,null,null,0,null,0,0,0]
[null,null,null,null,0,null,0,0,0]
[null,null,null,null,0,null,0,0,0]
[null,null,null,null,0,null,0,0,0]
[null,null,null,null,0,null,0,0,0]
[null,null,null,null,0,null,0,0,0]
[null,null,null,null,0,null,0,0,0]
[null,null,null,null,0,null,0,0,0]
[null,null,null,null,0,null,0,0,0]
[null,null,null,null,0,null,0,0,0]
[null,null,null,null,0,null,0,0,0]
[null,null,null,null,0,null,0,0,0]
[null,null,null,null,0,null,0,0,0]
[null,null,null,null,0,null,0,0,0]
[null,null,null,null,0,null,0,0,0]
[null,null,null,null,0,null,0,0,0]
[null,null,null,null,0,null,0,0,0]
[null,null,null,null,0,null,0,0,0]
[null,null,null,null,0,null,0,0,0]
[null,null,null,null,0,null,0,0,0]
[null,null,null,null,0,null,0,0,0]
[null,null,null,null,0,null,0,0,0]
[null,null,null,null,0,null,0,0,0]
[null,null,null,null,0,null,0,0,0]
[null,null,null,null,0,null,0,0,0]
[null,null,null,null,0,null,0,0,0]
[null,null,null,null,0,null,0,0,0]
[null,null,null,null,0,null,0,0,0]
[null,null,null,null,0,null,0,0,0]
[null,null,null,null,0,null,0,0,0]
[null,null,null,null,0,null,0,0,0]
[null,null,null,null,0,null,0,0,0]
[null,null,null,null,0,null,0,0,0]
[null,null,null,null,0,null,0,0,0]
[null,null,null,null,0,null,0,0,0]
[null,null,null,null,0,null,0,0,0]
[null,null,null,null,0,null,0,0,0]
[null,null,null,null,0,null,0,0,0]
[null,null,null,null,0,null,0,0,0]
[null,null,null,null,0,null,0,0,0]
[null,null,null,null,0,null,0,0,0]
[null,null,null,null,0,null,0,0,0]
[null,null,null,null,0,null,0,0,0]
[null,null,null,null,0,null,0,0,0]
[null,null,null,null,{"$f":"IF(C8602<D8602,ABS(C8602-D8602),0)","v":0},null,{"$f":"IF(E8602<F8602,0,E8602-F8602)","v":0},{"$f":"IFERROR(VLOOKUP(B8602,$A$17:$B$20,2,0),0)","v":0},{"$f":"G8602*H8602","v":0}]
[null,null,null,null,0,null,0,0,0]
[null,null,null,null,0,null,0,0,0]
[null,null,null,null,0,null,0,0,0]
[null,null,null,null,0,null,0,0,0]
[null,null,null,null,0,null,0,0,0]
[null,null,null,null,0,null,0,0,0]
[null,null,null,null,0,null,0,0,0]
[null,null,null,null,0,null,0,0,0]
[null,null,null,null,0,null,0,0,0]
[null,null,null,null,0,null,0,0,0]
[null,null,null,null,0,null,0,0,0]
[null,null,null,null,0,null,0,0,0]
[null,null,null,null,0,null,0,0,0]
[null,null,null,null,0,null,0,0,0]
[null,null,null,null,0,null,0,0,0]
[null,null,null,null,0,null,0,0,0]
[null,null,null,null,0,null,0,0,0]
[null,null,null,null,0,null,0,0,0]
[null,null,null,null,0,null,0,0,0]
[null,null,null,null,0,null,0,0,0]
[null,null,null,null,0,null,0,0,0]
[null,null,null,null,0,null,0,0,0]
[null,null,null,null,0,null,0,0,0]
[null,null,null,null,0,null,0,0,0]
[null,null,null,null,0,null,0,0,0]
[null,null,null,null,0,null,0,0,0]
[null,null,null,null,0,null,0,0,0]
[null,null,null,null,0,null,0,0,0]
[null,null,null,null,0,null,0,0,0]
[null,null,null,null,0,null,0,0,0]
[null,null,null,null,0,null,0,0,0]
[null,null,null,null,0,null,0,0,0]
[null,null,null,null,0,null,0,0,0]
[null,null,null,null,0,null,0,0,0]
[null,null,null,null,0,null,0,0,0]
[null,null,null,null,0,null,0,0,0]
[null,null,null,null,0,null,0,0,0]
[null,null,null,null,0,null,0,0,0]
[null,null,null,null,0,null,0,0,0]
[null,null,null,null,0,null,0,0,0]
[null,null,null,null,0,null,0,0,0]
[null,null,null,null,0,null,0,0,0]
[null,null,null,null,0,null,0,0,0]
[null,null,null,null,0,null,0,0,0]
[null,null,null,null,0,null,0,0,0]
[null,null,null,null,0,null,0,0,0]
[null,null,null,null,0,null,0,0,0]
[null,null,null,null,0,null,0,0,0]
[null,null,null,null,0,null,0,0,0]
[null,null,null,null,0,null,0,0,0]
[null,null,null,null,0,null,0,0,0]
[null,null,null,null,0,null,0,0,0]
[null,null,null,null,0,null,0,0,0]
[null,null,null,null,0,null,0,0,0]
[null,null,null,null,0,null,0,0,0]
[null,null,null,null,0,null,0,0,0]
[null,null,null,null,0,null,0,0,0]
[null,null,null,null,0,null,0,0,0]
[null,null,null,null,0,null,0,0,0]
[null,null,null,null,0,null,0,0,0]
[null,null,null,null,0,null,0,0,0]
[null,null,null,null,0,null,0,0,0]
[null,null,null,null,0,null,0,0,0]
[null,null,null,null,{"$f":"IF(C8666<D8666,ABS(C8666-D8666),0)","v":0},null,{"$f":"IF(E8666<F8666,0,E8666-F8666)","v":0},{"$f":"IFERROR(VLOOKUP(B8666,$A$17:$B$20,2,0),0)","v":0},{"$f":"G8666*H8666","v":0}]
[null,null,null,null,0,null,0,0,0]
[null,null,null,null,0,null,0,0,0]
[null,null,null,null,0,null,0,0,0]
[null,null,null,null,0,null,0,0,0]
[null,null,null,null,0,null,0,0,0]
[null,null,null,null,0,null,0,0,0]
[null,null,null,null,0,null,0,0,0]
[null,null,null,null,0,null,0,0,0]
[null,null,null,null,0,null,0,0,0]
[null,null,null,null,0,null,0,0,0]
[null,null,null,null,0,null,0,0,0]
[null,null,null,null,0,null,0,0,0]
[null,null,null,null,0,null,0,0,0]
[null,null,null,null,0,null,0,0,0]
[null,null,null,null,0,null,0,0,0]
[null,null,null,null,0,null,0,0,0]
[null,null,null,null,0,null,0,0,0]
[null,null,null,null,0,null,0,0,0]
[null,null,null,null,0,null,0,0,0]
[null,null,null,null,0,null,0,0,0]
[null,null,null,null,0,null,0,0,0]
[null,null,null,null,0,null,0,0,0]
[null,null,null,null,0,null,0,0,0]
[null,null,null,null,0,null,0,0,0]
[null,null,null,null,0,null,0,0,0]
[null,null,null,null,0,null,0,0,0]
[null,null,null,null,0,null,0,0,0]
[null,null,null,null,0,null,0,0,0]
[null,null,null,null,0,null,0,0,0]
[null,null,null,null,0,null,0,0,0]
[null,null,null,null,0,null,0,0,0]
[null,null,null,null,0,null,0,0,0]
[null,null,null,null,0,null,0,0,0]
[null,null,null,null,0,null,0,0,0]
[null,null,null,null,0,null,0,0,0]
[null,null,null,null,0,null,0,0,0]
[null,null,null,null,0,null,0,0,0]
[null,null,null,null,0,null,0,0,0]
[null,null,null,null,0,null,0,0,0]
[null,null,null,null,0,null,0,0,0]
[null,null,null,null,0,null,0,0,0]
[null,null,null,null,0,null,0,0,0]
[null,null,null,null,0,null,0,0,0]
[null,null,null,null,0,null,0,0,0]
[null,null,null,null,0,null,0,0,0]
[null,null,null,null,0,null,0,0,0]
[null,null,null,null,0,null,0,0,0]
[null,null,null,null,0,null,0,0,0]
[null,null,null,null,0,null,0,0,0]
[null,null,null,null,0,null,0,0,0]
[null,null,null,null,0,null,0,0,0]
[null,null,null,null,0,null,0,0,0]
[null,null,null,null,0,null,0,0,0]
[null,null,null,null,0,null,0,0,0]
[null,null,null,null,0,null,0,0,0]
[null,null,null,null,0,null,0,0,0]
[null,null,null,null,0,null,0,0,0]
[null,null,null,null,0,null,0,0,0]
[null,null,null,null,0,null,0,0,0]
[null,null,null,null,0,null,0,0,0]
[null,null,null,null,0,null,0,0,0]
[null,null,null,null,0,null,0,0,0]
[null,null,null,null,0,null,0,0,0]
[null,null,null,null,{"$f":"IF(C8730<D8730,ABS(C8730-D8730),0)","v":0},null,{"$f":"IF(E8730<F8730,0,E8730-F8730)","v":0},{"$f":"IFERROR(VLOOKUP(B8730,$A$17:$B$20,2,0),0)","v":0},{"$f":"G8730*H8730","v":0}]
[null,null,null,null,0,null,0,0,0]
[null,null,null,null,0,null,0,0,0]
[null,null,null,null,0,null,0,0,0]
[null,null,null,null,0,null,0,0,0]
[null,null,null,null,0,null,0,0,0]
[null,null,null,null,0,null,0,0,0]
[null,null,null,null,0,null,0,0,0]
[null,null,null,null,0,null,0,0,0]
[null,null,null,null,0,null,0,0,0]
[null,null,null,null,0,null,0,0,0]
[null,null,null,null,0,null,0,0,0]
[null,null,null,null,0,null,0,0,0]
[null,null,null,null,0,null,0,0,0]
[null,null,null,null,0,null,0,0,0]
[null,null,null,null,0,null,0,0,0]
[null,null,null,null,0,null,0,0,0]
[null,null,null,null,0,null,0,0,0]
[null,null,null,null,0,null,0,0,0]
[null,null,null,null,0,null,0,0,0]
[null,null,null,null,0,null,0,0,0]
[null,null,null,null,0,null,0,0,0]
[null,null,null,null,0,null,0,0,0]
[null,null,null,null,0,null,0,0,0]
[null,null,null,null,0,null,0,0,0]
[null,null,null,null,0,null,0,0,0]
[null,null,null,null,0,null,0,0,0]
[null,null,null,null,0,null,0,0,0]
[null,null,null,null,0,null,0,0,0]
[null,null,null,null,0,null,0,0,0]
[null,null,null,null,0,null,0,0,0]
[null,null,null,null,0,null,0,0,0]
[null,null,null,null,0,null,0,0,0]
[null,null,null,null,0,null,0,0,0]
[null,null,null,null,0,null,0,0,0]
[null,null,null,null,0,null,0,0,0]
[null,null,null,null,0,null,0,0,0]
[null,null,null,null,0,null,0,0,0]
[null,null,null,null,0,null,0,0,0]
[null,null,null,null,0,null,0,0,0]
[null,null,null,null,0,null,0,0,0]
[null,null,null,null,0,null,0,0,0]
[null,null,null,null,0,null,0,0,0]
[null,null,null,null,0,null,0,0,0]
[null,null,null,null,0,null,0,0,0]
[null,null,null,null,0,null,0,0,0]
[null,null,null,null,0,null,0,0,0]
[null,null,null,null,0,null,0,0,0]
[null,null,null,null,0,null,0,0,0]
[null,null,null,null,0,null,0,0,0]
[null,null,null,null,0,null,0,0,0]
[null,null,null,null,0,null,0,0,0]
[null,null,null,null,0,null,0,0,0]
[null,null,null,null,0,null,0,0,0]
[null,null,null,null,0,null,0,0,0]
[null,null,null,null,0,null,0,0,0]
[null,null,null,null,0,null,0,0,0]
[null,null,null,null,0,null,0,0,0]
[null,null,null,null,0,null,0,0,0]
[null,null,null,null,0,null,0,0,0]
[null,null,null,null,0,null,0,0,0]
[null,null,null,null,0,null,0,0,0]
[null,null,null,null,0,null,0,0,0]
[null,null,null,null,0,null,0,0,0]
[null,null,null,null,{"$f":"IF(C8794<D8794,ABS(C8794-D8794),0)","v":0},null,{"$f":"IF(E8794<F8794,0,E8794-F8794)","v":0},{"$f":"IFERROR(VLOOKUP(B8794,$A$17:$B$20,2,0),0)","v":0},{"$f":"G8794*H8794","v":0}]
[null,null,null,null,0,null,0,0,0]
[null,null,null,null,0,null,0,0,0]
[null,null,null,null,0,null,0,0,0]
[null,null,null,null,0,null,0,0,0]
[null,null,null,null,0,null,0,0,0]
[null,null,null,null,0,null,0,0,0]
[null,null,null,null,0,null,0,0,0]
[null,null,null,null,0,null,0,0,0]
[null,null,null,null,0,null,0,0,0]
[null,null,null,null,0,null,0,0,0]
[null,null,null,null,0,null,0,0,0]
[null,null,null,null,0,null,0,0,0]
[null,null,null,null,0,null,0,0,0]
[null,null,null,null,0,null,0,0,0]
[null,null,null,null,0,null,0,0,0]
[null,null,null,null,0,null,0,0,0]
[null,null,null,null,0,null,0,0,0]
[null,null,null,null,0,null,0,0,0]
[null,null,null,null,0,null,0,0,0]
[null,null,null,null,0,null,0,0,0]
[null,null,null,null,0,null,0,0,0]
[null,null,null,null,0,null,0,0,0]
[null,null,null,null,0,null,0,0,0]
[null,null,null,null,0,null,0,0,0]
[null,null,null,null,0,null,0,0,0]
[null,null,null,null,0,null,0,0,0]
[null,null,null,null,0,null,0,0,0]
[null,null,null,null,0,null,0,0,0]
[null,null,null,null,0,null,0,0,0]
[null,null,null,null,0,null,0,0,0]
[null,null,null,null,0,null,0,0,0]
[null,null,null,null,0,null,0,0,0]
[null,null,null,null,0,null,0,0,0]
[null,null,null,null,0,null,0,0,0]
[null,null,null,null,0,null,0,0,0]
[null,null,null,null,0,null,0,0,0]
[null,null,null,null,0,null,0,0,0]
[null,null,null,null,0,null,0,0,0]
[null,null,null,null,0,null,0,0,0]
[null,null,null,null,0,null,0,0,0]
[null,null,null,null,0,null,0,0,0]
[null,null,null,null,0,null,0,0,0]
[null,null,null,null,0,null,0,0,0]
[null,null,null,null,0,null,0,0,0]
[null,null,null,null,0,null,0,0,0]
[null,null,null,null,0,null,0,0,0]
[null,null,null,null,0,null,0,0,0]
[null,null,null,null,0,null,0,0,0]
[null,null,null,null,0,null,0,0,0]
[null,null,null,null,0,null,0,0,0]
[null,null,null,null,0,null,0,0,0]
[null,null,null,null,0,null,0,0,0]
[null,null,null,null,0,null,0,0,0]
[null,null,null,null,0,null,0,0,0]
[null,null,null,null,0,null,0,0,0]
[null,null,null,null,0,null,0,0,0]
[null,null,null,null,0,null,0,0,0]
[null,null,null,null,0,null,0,0,0]
[null,null,null,null,0,null,0,0,0]
[null,null,null,null,0,null,0,0,0]
[null,null,null,null,0,null,0,0,0]
[null,null,null,null,0,null,0,0,0]
[null,null,null,null,0,null,0,0,0]
[null,null,null,null,{"$f":"IF(C8858<D8858,ABS(C8858-D8858),0)","v":0},null,{"$f":"IF(E8858<F8858,0,E8858-F8858)","v":0},{"$f":"IFERROR(VLOOKUP(B8858,$A$17:$B$20,2,0),0)","v":0},{"$f":"G8858*H8858","v":0}]
[null,null,null,null,0,null,0,0,0]
[null,null,null,null,0,null,0,0,0]
[null,null,null,null,0,null,0,0,0]
[null,null,null,null,0,null,0,0,0]
[null,null,null,null,0,null,0,0,0]
[null,null,null,null,0,null,0,0,0]
[null,null,null,null,0,null,0,0,0]
[null,null,null,null,0,null,0,0,0]
[null,null,null,null,0,null,0,0,0]
[null,null,null,null,0,null,0,0,0]
[null,null,null,null,0,null,0,0,0]
[null,null,null,null,0,null,0,0,0]
[null,null,null,null,0,null,0,0,0]
[null,null,null,null,0,null,0,0,0]
[null,null,null,null,0,null,0,0,0]
[null,null,null,null,0,null,0,0,0]
[null,null,null,null,0,null,0,0,0]
[null,null,null,null,0,null,0,0,0]
[null,null,null,null,0,null,0,0,0]
[null,null,null,null,0,null,0,0,0]
[null,null,null,null,0,null,0,0,0]
[null,null,null,null,0,null,0,0,0]
[null,null,null,null,0,null,0,0,0]
[null,null,null,null,0,null,0,0,0]
[null,null,null,null,0,null,0,0,0]
[null,null,null,null,0,null,0,0,0]
[null,null,null,null,0,null,0,0,0]
[null,null,null,null,0,null,0,0,0]
[null,null,null,null,0,null,0,0,0]
[null,null,null,null,0,null,0,0,0]
[null,null,null,null,0,null,0,0,0]
[null,null,null,null,0,null,0,0,0]
[null,null,null,null,0,null,0,0,0]
[null,null,null,null,0,null,0,0,0]
[null,null,null,null,0,null,0,0,0]
[null,null,null,null,0,null,0,0,0]
[null,null,null,null,0,null,0,0,0]
[null,null,null,null,0,null,0,0,0]
[null,null,null,null,0,null,0,0,0]
[null,null,null,null,0,null,0,0,0]
[null,null,null,null,0,null,0,0,0]
[null,null,null,null,0,null,0,0,0]
[null,null,null,null,0,null,0,0,0]
[null,null,null,null,0,null,0,0,0]
[null,null,null,null,0,null,0,0,0]
[null,null,null,null,0,null,0,0,0]
[null,null,null,null,0,null,0,0,0]
[null,null,null,null,0,null,0,0,0]
[null,null,null,null,0,null,0,0,0]
[null,null,null,null,0,null,0,0,0]
[null,null,null,null,0,null,0,0,0]
[null,null,null,null,0,null,0,0,0]
[null,null,null,null,0,null,0,0,0]
[null,null,null,null,0,null,0,0,0]
[null,null,null,null,0,null,0,0,0]
[null,null,null,null,0,null,0,0,0]
[null,null,null,null,0,null,0,0,0]
[null,null,null,null,0,null,0,0,0]
[null,null,null,null,0,null,0,0,0]
[null,null,null,null,0,null,0,0,0]
[null,null,null,null,0,null,0,0,0]
[null,null,null,null,0,null,0,0,0]
[null,null,null,null,0,null,0,0,0]
[null,null,null,null,{"$f":"IF(C8922<D8922,ABS(C8922-D8922),0)","v":0},null,{"$f":"IF(E8922<F8922,0,E8922-F8922)","v":0},{"$f":"IFERROR(VLOOKUP(B8922,$A$17:$B$20,2,0),0)","v":0},{"$f":"G8922*H8922","v":0}]
[null,null,null,null,0,null,0,0,0]
[null,null,null,null,0,null,0,0,0]
[null,null,null,null,0,null,0,0,0]
[null,null,null,null,0,null,0,0,0]
[null,null,null,null,0,null,0,0,0]
[null,null,null,null,0,null,0,0,0]
[null,null,null,null,0,null,0,0,0]
[null,null,null,null,0,null,0,0,0]
[null,null,null,null,0,null,0,0,0]
[null,null,null,null,0,null,0,0,0]
[null,null,null,null,0,null,0,0,0]
[null,null,null,null,0,null,0,0,0]
[null,null,null,null,0,null,0,0,0]
[null,null,null,null,0,null,0,0,0]
[null,null,null,null,0,null,0,0,0]
[null,null,null,null,0,null,0,0,0]
[null,null,null,null,0,null,0,0,0]
[null,null,null,null,0,null,0,0,0]
[null,null,null,null,0,null,0,0,0]
[null,null,null,null,0,null,0,0,0]
[null,null,null,null,0,null,0,0,0]
[null,null,null,null,0,null,0,0,0]
[null,null,null,null,0,null,0,0,0]
[null,null,null,null,0,null,0,0,0]
[null,null,null,null,0,null,0,0,0]
[null,null,null,null,0,null,0,0,0]
[null,null,null,null,0,null,0,0,0]
[null,null,null,null,0,null,0,0,0]
[null,null,null,null,0,null,0,0,0]
[null,null,null,null,0,null,0,0,0]
[null,null,null,null,0,null,0,0,0]
[null,null,null,null,0,null,0,0,0]
[null,null,null,null,0,null,0,0,0]
[null,null,null,null,0,null,0,0,0]
[null,null,null,null,0,null,0,0,0]
[null,null,null,null,0,null,0,0,0]
[null,null,null,null,0,null,0,0,0]
[null,null,null,null,0,null,0,0,0]
[null,null,null,null,0,null,0,0,0]
[null,null,null,null,0,null,0,0,0]
[null,null,null,null,0,null,0,0,0]
[null,null,null,null,0,null,0,0,0]
[null,null,null,null,0,null,0,0,0]
[null,null,null,null,0,null,0,0,0]
[null,null,null,null,0,null,0,0,0]
[null,null,null,null,0,null,0,0,0]
[null,null,null,null,0,null,0,0,0]
[null,null,null,null,0,null,0,0,0]
[null,null,null,null,0,null,0,0,0]
[null,null,null,null,0,null,0,0,0]
[null,null,null,null,0,null,0,0,0]
[null,null,null,null,0,null,0,0,0]
[null,null,null,null,0,null,0,0,0]
[null,null,null,null,0,null,0,0,0]
[null,null,null,null,0,null,0,0,0]
[null,null,null,null,0,null,0,0,0]
[null,null,null,null,0,null,0,0,0]
[null,null,null,null,0,null,0,0,0]
[null,null,null,null,0,null,0,0,0]
[null,null,null,null,0,null,0,0,0]
[null,null,null,null,0,null,0,0,0]
[null,null,null,null,0,null,0,0,0]
[null,null,null,null,0,null,0,0,0]
[null,null,null,null,{"$f":"IF(C8986<D8986,ABS(C8986-D8986),0)","v":0},null,{"$f":"IF(E8986<F8986,0,E8986-F8986)","v":0},{"$f":"IFERROR(VLOOKUP(B8986,$A$17:$B$20,2,0),0)","v":0},{"$f":"G8986*H8986","v":0}]
[null,null,null,null,0,null,0,0,0]
[null,null,null,null,0,null,0,0,0]
[null,null,null,null,0,null,0,0,0]
[null,null,null,null,0,null,0,0,0]
[null,null,null,null,0,null,0,0,0]
[null,null,null,null,0,null,0,0,0]
[null,null,null,null,0,null,0,0,0]
[null,null,null,null,0,null,0,0,0]
[null,null,null,null,0,null,0,0,0]
[null,null,null,null,0,null,0,0,0]
[null,null,null,null,0,null,0,0,0]
[null,null,null,null,0,null,0,0,0]
[null,null,null,null,0,null,0,0,0]
[null,null,null,null,0,null,0,0,0]
[null,null,null,null,0,null,0,0,0]
[null,null,null,null,0,null,0,0,0]
[null,null,null,null,0,null,0,0,0]
[null,null,null,null,0,null,0,0,0]
[null,null,null,null,0,null,0,0,0]
[null,null,null,null,0,null,0,0,0]
[null,null,null,null,0,null,0,0,0]
[null,null,null,null,0,null,0,0,0]
[null,null,null,null,0,null,0,0,0]
[null,null,null,null,0,null,0,0,0]
[null,null,null,null,0,null,0,0,0]
[null,null,null,null,0,null,0,0,0]
[null,null,null,null,0,null,0,0,0]
[null,null,null,null,0,null,0,0,0]
[null,null,null,null,0,null,0,0,0]
[null,null,null,null,0,null,0,0,0]
[null,null,null,null,0,null,0,0,0]
[null,null,null,null,0,null,0,0,0]
[null,null,null,null,0,null,0,0,0]
[null,null,null,null,0,null,0,0,0]
[null,null,null,null,0,null,0,0,0]
[null,null,null,null,0,null,0,0,0]
[null,null,null,null,0,null,0,0,0]
[null,null,null,null,0,null,0,0,0]
[null,null,null,null,0,null,0,0,0]
[null,null,null,null,0,null,0,0,0]
[null,null,null,null,0,null,0,0,0]
[null,null,null,null,0,null,0,0,0]
[null,null,null,null,0,null,0,0,0]
[null,null,null,null,0,null,0,0,0]
[null,null,null,null,0,null,0,0,0]
[null,null,null,null,0,null,0,0,0]
[null,null,null,null,0,null,0,0,0]
[null,null,null,null,0,null,0,0,0]
[null,null,null,null,0,null,0,0,0]
[null,null,null,null,0,null,0,0,0]
[null,null,null,null,0,null,0,0,0]
[null,null,null,null,0,null,0,0,0]
[null,null,null,null,0,null,0,0,0]
[null,null,null,null,0,null,0,0,0]
[null,null,null,null,0,null,0,0,0]
[null,null,null,null,0,null,0,0,0]
[null,null,null,null,0,null,0,0,0]
[null,null,null,null,0,null,0,0,0]
[null,null,null,null,0,null,0,0,0]
[null,null,null,null,0,null,0,0,0]
[null,null,null,null,0,null,0,0,0]
[null,null,null,null,0,null,0,0,0]
[null,null,null,null,0,null,0,0,0]
[null,null,null,null,{"$f":"IF(C9050<D9050,ABS(C9050-D9050),0)","v":0},null,{"$f":"IF(E9050<F9050,0,E9050-F9050)","v":0},{"$f":"IFERROR(VLOOKUP(B9050,$A$17:$B$20,2,0),0)","v":0},{"$f":"G9050*H9050","v":0}]
[null,null,null,null,0,null,0,0,0]
[null,null,null,null,0,null,0,0,0]
[null,null,null,null,0,null,0,0,0]
[null,null,null,null,0,null,0,0,0]
[null,null,null,null,0,null,0,0,0]
[null,null,null,null,0,null,0,0,0]
[null,null,null,null,0,null,0,0,0]
[null,null,null,null,0,null,0,0,0]
[null,null,null,null,0,null,0,0,0]
[null,null,null,null,0,null,0,0,0]
[null,null,null,null,0,null,0,0,0]
[null,null,null,null,0,null,0,0,0]
[null,null,null,null,0,null,0,0,0]
[null,null,null,null,0,null,0,0,0]
[null,null,null,null,0,null,0,0,0]
[null,null,null,null,0,null,0,0,0]
[null,null,null,null,0,null,0,0,0]
[null,null,null,null,0,null,0,0,0]
[null,null,null,null,0,null,0,0,0]
[null,null,null,null,0,null,0,0,0]
[null,null,null,null,0,null,0,0,0]
[null,null,null,null,0,null,0,0,0]
[null,null,null,null,0,null,0,0,0]
[null,null,null,null,0,null,0,0,0]
[null,null,null,null,0,null,0,0,0]
[null,null,null,null,0,null,0,0,0]
[null,null,null,null,0,null,0,0,0]
[null,null,null,null,0,null,0,0,0]
[null,null,null,null,0,null,0,0,0]
[null,null,null,null,0,null,0,0,0]
[null,null,null,null,0,null,0,0,0]
[null,null,null,null,0,null,0,0,0]
[null,null,null,null,0,null,0,0,0]
[null,null,null,null,0,null,0,0,0]
[null,null,null,null,0,null,0,0,0]
[null,null,null,null,0,null,0,0,0]
[null,null,null,null,0,null,0,0,0]
[null,null,null,null,0,null,0,0,0]
[null,null,null,null,0,null,0,0,0]
[null,null,null,null,0,null,0,0,0]
[null,null,null,null,0,null,0,0,0]
[null,null,null,null,0,null,0,0,0]
[null,null,null,null,0,null,0,0,0]
[null,null,null,null,0,null,0,0,0]
[null,null,null,null,0,null,0,0,0]
[null,null,null,null,0,null,0,0,0]
[null,null,null,null,0,null,0,0,0]
[null,null,null,null,0,null,0,0,0]
[null,null,null,null,0,null,0,0,0]
[null,null,null,null,0,null,0,0,0]
[null,null,null,null,0,null,0,0,0]
[null,null,null,null,0,null,0,0,0]
[null,null,null,null,0,null,0,0,0]
[null,null,null,null,0,null,0,0,0]
[null,null,null,null,0,null,0,0,0]
[null,null,null,null,0,null,0,0,0]
[null,null,null,null,0,null,0,0,0]
[null,null,null,null,0,null,0,0,0]
[null,null,null,null,0,null,0,0,0]
[null,null,null,null,0,null,0,0,0]
[null,null,null,null,0,null,0,0,0]
[null,null,null,null,0,null,0,0,0]
[null,null,null,null,0,null,0,0,0]
[null,null,null,null,{"$f":"IF(C9114<D9114,ABS(C9114-D9114),0)","v":0},null,{"$f":"IF(E9114<F9114,0,E9114-F9114)","v":0},{"$f":"IFERROR(VLOOKUP(B9114,$A$17:$B$20,2,0),0)","v":0},{"$f":"G9114*H9114","v":0}]
[null,null,null,null,0,null,0,0,0]
[null,null,null,null,0,null,0,0,0]
[null,null,null,null,0,null,0,0,0]
[null,null,null,null,0,null,0,0,0]
[null,null,null,null,0,null,0,0,0]
[null,null,null,null,0,null,0,0,0]
[null,null,null,null,0,null,0,0,0]
[null,null,null,null,0,null,0,0,0]
[null,null,null,null,0,null,0,0,0]
[null,null,null,null,0,null,0,0,0]
[null,null,null,null,0,null,0,0,0]
[null,null,null,null,0,null,0,0,0]
[null,null,null,null,0,null,0,0,0]
[null,null,null,null,0,null,0,0,0]
[null,null,null,null,0,null,0,0,0]
[null,null,null,null,0,null,0,0,0]
[null,null,null,null,0,null,0,0,0]
[null,null,null,null,0,null,0,0,0]
[null,null,null,null,0,null,0,0,0]
[null,null,null,null,0,null,0,0,0]
[null,null,null,null,0,null,0,0,0]
[null,null,null,null,0,null,0,0,0]
[null,null,null,null,0,null,0,0,0]
[null,null,null,null,0,null,0,0,0]
[null,null,null,null,0,null,0,0,0]
[null,null,null,null,0,null,0,0,0]
[null,null,null,null,0,null,0,0,0]
[null,null,null,null,0,null,0,0,0]
[null,null,null,null,0,null,0,0,0]
[null,null,null,null,0,null,0,0,0]
[null,null,null,null,0,null,0,0,0]
[null,null,null,null,0,null,0,0,0]
[null,null,null,null,0,null,0,0,0]
[null,null,null,null,0,null,0,0,0]
[null,null,null,null,0,null,0,0,0]
[null,null,null,null,0,null,0,0,0]
[null,null,null,null,0,null,0,0,0]
[null,null,null,null,0,null,0,0,0]
[null,null,null,null,0,null,0,0,0]
[null,null,null,null,0,null,0,0,0]
[null,null,null,null,0,null,0,0,0]
[null,null,null,null,0,null,0,0,0]
[null,null,null,null,0,null,0,0,0]
[null,null,null,null,0,null,0,0,0]
[null,null,null,null,0,null,0,0,0]
[null,null,null,null,0,null,0,0,0]
[null,null,null,null,0,null,0,0,0]
[null,null,null,null,0,null,0,0,0]
[null,null,null,null,0,null,0,0,0]
[null,null,null,null,0,null,0,0,0]
[null,null,null,null,0,null,0,0,0]
[null,null,null,null,0,null,0,0,0]
[null,null,null,null,0,null,0,0,0]
[null,null,null,null,0,null,0,0,0]
[null,null,null,null,0,null,0,0,0]
[null,null,null,null,0,null,0,0,0]
[null,null,null,null,0,null,0,0,0]
[null,null,null,null,0,null,0,0,0]
[null,null,null,null,0,null,0,0,0]
[null,null,null,null,0,null,0,0,0]
[null,null,null,null,0,null,0,0,0]
[null,null,null,null,0,null,0,0,0]
[null,null,null,null,0,null,0,0,0]
[null,null,null,null,{"$f":"IF(C9178<D9178,ABS(C9178-D9178),0)","v":0},null,{"$f":"IF(E9178<F9178,0,E9178-F9178)","v":0},{"$f":"IFERROR(VLOOKUP(B9178,$A$17:$B$20,2,0),0)","v":0},{"$f":"G9178*H9178","v":0}]
[null,null,null,null,0,null,0,0,0]
[null,null,null,null,0,null,0,0,0]
[null,null,null,null,0,null,0,0,0]
[null,null,null,null,0,null,0,0,0]
[null,null,null,null,0,null,0,0,0]
[null,null,null,null,0,null,0,0,0]
[null,null,null,null,0,null,0,0,0]
[null,null,null,null,0,null,0,0,0]
[null,null,null,null,0,null,0,0,0]
[null,null,null,null,0,null,0,0,0]
[null,null,null,null,0,null,0,0,0]
[null,null,null,null,0,null,0,0,0]
[null,null,null,null,0,null,0,0,0]
[null,null,null,null,0,null,0,0,0]
[null,null,null,null,0,null,0,0,0]
[null,null,null,null,0,null,0,0,0]
[null,null,null,null,0,null,0,0,0]
[null,null,null,null,0,null,0,0,0]
[null,null,null,null,0,null,0,0,0]
[null,null,null,null,0,null,0,0,0]
[null,null,null,null,0,null,0,0,0]
[null,null,null,null,0,null,0,0,0]
[null,null,null,null,0,null,0,0,0]
[null,null,null,null,0,null,0,0,0]
[null,null,null,null,0,null,0,0,0]
[null,null,null,null,0,null,0,0,0]
[null,null,null,null,0,null,0,0,0]
[null,null,null,null,0,null,0,0,0]
[null,null,null,null,0,null,0,0,0]
[null,null,null,null,0,null,0,0,0]
[null,null,null,null,0,null,0,0,0]
[null,null,null,null,0,null,0,0,0]
[null,null,null,null,0,null,0,0,0]
[null,null,null,null,0,null,0,0,0]
[null,null,null,null,0,null,0,0,0]
[null,null,null,null,0,null,0,0,0]
[null,null,null,null,0,null,0,0,0]
[null,null,null,null,0,null,0,0,0]
[null,null,null,null,0,null,0,0,0]
[null,null,null,null,0,null,0,0,0]
[null,null,null,null,0,null,0,0,0]
[null,null,null,null,0,null,0,0,0]
[null,null,null,null,0,null,0,0,0]
[null,null,null,null,0,null,0,0,0]
[null,null,null,null,0,null,0,0,0]
[null,null,null,null,0,null,0,0,0]
[null,null,null,null,0,null,0,0,0]
[null,null,null,null,0,null,0,0,0]
[null,null,null,null,0,null,0,0,0]
[null,null,null,null,0,null,0,0,0]
[null,null,null,null,0,null,0,0,0]
[null,null,null,null,0,null,0,0,0]
[null,null,null,null,0,null,0,0,0]
[null,null,null,null,0,null,0,0,0]
[null,null,null,null,0,null,0,0,0]
[null,null,null,null,0,null,0,0,0]
[null,null,null,null,0,null,0,0,0]
[null,null,null,null,0,null,0,0,0]
[null,null,null,null,0,null,0,0,0]
[null,null,null,null,0,null,0,0,0]
[null,null,null,null,0,null,0,0,0]
[null,null,null,null,0,null,0,0,0]
[null,null,null,null,0,null,0,0,0]
[null,null,null,null,{"$f":"IF(C9242<D9242,ABS(C9242-D9242),0)","v":0},null,{"$f":"IF(E9242<F9242,0,E9242-F9242)","v":0},{"$f":"IFERROR(VLOOKUP(B9242,$A$17:$B$20,2,0),0)","v":0},{"$f":"G9242*H9242","v":0}]
[null,null,null,null,0,null,0,0,0]
[null,null,null,null,0,null,0,0,0]
[null,null,null,null,0,null,0,0,0]
[null,null,null,null,0,null,0,0,0]
[null,null,null,null,0,null,0,0,0]
[null,null,null,null,0,null,0,0,0]
[null,null,null,null,0,null,0,0,0]
[null,null,null,null,0,null,0,0,0]
[null,null,null,null,0,null,0,0,0]
[null,null,null,null,0,null,0,0,0]
[null,null,null,null,0,null,0,0,0]
[null,null,null,null,0,null,0,0,0]
[null,null,null,null,0,null,0,0,0]
[null,null,null,null,0,null,0,0,0]
[null,null,null,null,0,null,0,0,0]
[null,null,null,null,0,null,0,0,0]
[null,null,null,null,0,null,0,0,0]
[null,null,null,null,0,null,0,0,0]
[null,null,null,null,0,null,0,0,0]
[null,null,null,null,0,null,0,0,0]
[null,null,null,null,0,null,0,0,0]
[null,null,null,null,0,null,0,0,0]
[null,null,null,null,0,null,0,0,0]
[null,null,null,null,0,null,0,0,0]
[null,null,null,null,0,null,0,0,0]
[null,null,null,null,0,null,0,0,0]
[null,null,null,null,0,null,0,0,0]
[null,null,null,null,0,null,0,0,0]
[null,null,null,null,0,null,0,0,0]
[null,null,null,null,0,null,0,0,0]
[null,null,null,null,0,null,0,0,0]
[null,null,null,null,0,null,0,0,0]
[null,null,null,null,0,null,0,0,0]
[null,null,null,null,0,null,0,0,0]
[null,null,null,null,0,null,0,0,0]
[null,null,null,null,0,null,0,0,0]
[null,null,null,null,0,null,0,0,0]
[null,null,null,null,0,null,0,0,0]
[null,null,null,null,0,null,0,0,0]
[null,null,null,null,0,null,0,0,0]
[null,null,null,null,0,null,0,0,0]
[null,null,null,null,0,null,0,0,0]
[null,null,null,null,0,null,0,0,0]
[null,null,null,null,0,null,0,0,0]
[null,null,null,null,0,null,0,0,0]
[null,null,null,null,0,null,0,0,0]
[null,null,null,null,0,null,0,0,0]
[null,null,null,null,0,null,0,0,0]
[null,null,null,null,0,null,0,0,0]
[null,null,null,null,0,null,0,0,0]
[null,null,null,null,0,null,0,0,0]
[null,null,null,null,0,null,0,0,0]
[null,null,null,null,0,null,0,0,0]
[null,null,null,null,0,null,0,0,0]
[null,null,null,null,0,null,0,0,0]
[null,null,null,null,0,null,0,0,0]
[null,null,null,null,0,null,0,0,0]
[null,null,null,null,0,null,0,0,0]
[null,null,null,null,0,null,0,0,0]
[null,null,null,null,0,null,0,0,0]
[null,null,null,null,0,null,0,0,0]
[null,null,null,null,0,null,0,0,0]
[null,null,null,null,0,null,0,0,0]
[null,null,null,null,{"$f":"IF(C9306<D9306,ABS(C9306-D9306),0)","v":0},null,{"$f":"IF(E9306<F9306,0,E9306-F9306)","v":0},{"$f":"IFERROR(VLOOKUP(B9306,$A$17:$B$20,2,0),0)","v":0},{"$f":"G9306*H9306","v":0}]
[null,null,null,null,0,null,0,0,0]
[null,null,null,null,0,null,0,0,0]
[null,null,null,null,0,null,0,0,0]
[null,null,null,null,0,null,0,0,0]
[null,null,null,null,0,null,0,0,0]
[null,null,null,null,0,null,0,0,0]
[null,null,null,null,0,null,0,0,0]
[null,null,null,null,0,null,0,0,0]
[null,null,null,null,0,null,0,0,0]
[null,null,null,null,0,null,0,0,0]
[null,null,null,null,0,null,0,0,0]
[null,null,null,null,0,null,0,0,0]
[null,null,null,null,0,null,0,0,0]
[null,null,null,null,0,null,0,0,0]
[null,null,null,null,0,null,0,0,0]
[null,null,null,null,0,null,0,0,0]
[null,null,null,null,0,null,0,0,0]
[null,null,null,null,0,null,0,0,0]
[null,null,null,null,0,null,0,0,0]
[null,null,null,null,0,null,0,0,0]
[null,null,null,null,0,null,0,0,0]
[null,null,null,null,0,null,0,0,0]
[null,null,null,null,0,null,0,0,0]
[null,null,null,null,0,null,0,0,0]
[null,null,null,null,0,null,0,0,0]
[null,null,null,null,0,null,0,0,0]
[null,null,null,null,0,null,0,0,0]
[null,null,null,null,0,null,0,0,0]
[null,null,null,null,0,null,0,0,0]
[null,null,null,null,0,null,0,0,0]
[null,null,null,null,0,null,0,0,0]
[null,null,null,null,0,null,0,0,0]
[null,null,null,null,0,null,0,0,0]
[null,null,null,null,0,null,0,0,0]
[null,null,null,null,0,null,0,0,0]
[null,null,null,null,0,null,0,0,0]
[null,null,null,null,0,null,0,0,0]
[null,null,null,null,0,null,0,0,0]
[null,null,null,null,0,null,0,0,0]
[null,null,null,null,0,null,0,0,0]
[null,null,null,null,0,null,0,0,0]
[null,null,null,null,0,null,0,0,0]
[null,null,null,null,0,null,0,0,0]
[null,null,null,null,0,null,0,0,0]
[null,null,null,null,0,null,0,0,0]
[null,null,null,null,0,null,0,0,0]
[null,null,null,null,0,null,0,0,0]
[null,null,null,null,0,null,0,0,0]
[null,null,null,null,0,null,0,0,0]
[null,null,null,null,0,null,0,0,0]
[null,null,null,null,0,null,0,0,0]
[null,null,null,null,0,null,0,0,0]
[null,null,null,null,0,null,0,0,0]
[null,null,null,null,0,null,0,0,0]
[null,null,null,null,0,null,0,0,0]
[null,null,null,null,0,null,0,0,0]
[null,null,null,null,0,null,0,0,0]
[null,null,null,null,0,null,0,0,0]
[null,null,null,null,0,null,0,0,0]
[null,null,null,null,0,null,0,0,0]
[null,null,null,null,0,null,0,0,0]
[null,null,null,null,0,null,0,0,0]
[null,null,null,null,0,null,0,0,0]
[null,null,null,null,{"$f":"IF(C9370<D9370,ABS(C9370-D9370),0)","v":0},null,{"$f":"IF(E9370<F9370,0,E9370-F9370)","v":0},{"$f":"IFERROR(VLOOKUP(B9370,$A$17:$B$20,2,0),0)","v":0},{"$f":"G9370*H9370","v":0}]
[null,null,null,null,0,null,0,0,0]
[null,null,null,null,0,null,0,0,0]
[null,null,null,null,0,null,0,0,0]
[null,null,null,null,0,null,0,0,0]
[null,null,null,null,0,null,0,0,0]
[null,null,null,null,0,null,0,0,0]
[null,null,null,null,0,null,0,0,0]
[null,null,null,null,0,null,0,0,0]
[null,null,null,null,0,null,0,0,0]
[null,null,null,null,0,null,0,0,0]
[null,null,null,null,0,null,0,0,0]
[null,null,null,null,0,null,0,0,0]
[null,null,null,null,0,null,0,0,0]
[null,null,null,null,0,null,0,0,0]
[null,null,null,null,0,null,0,0,0]
[null,null,null,null,0,null,0,0,0]
[null,null,null,null,0,null,0,0,0]
[null,null,null,null,0,null,0,0,0]
[null,null,null,null,0,null,0,0,0]
[null,null,null,null,0,null,0,0,0]
[null,null,null,null,0,null,0,0,0]
[null,null,null,null,0,null,0,0,0]
[null,null,null,null,0,null,0,0,0]
[null,null,null,null,0,null,0,0,0]
[null,null,null,null,0,null,0,0,0]
[null,null,null,null,0,null,0,0,0]
[null,null,null,null,0,null,0,0,0]
[null,null,null,null,0,null,0,0,0]
[null,null,null,null,0,null,0,0,0]
[null,null,null,null,0,null,0,0,0]
[null,null,null,null,0,null,0,0,0]
[null,null,null,null,0,null,0,0,0]
[null,null,null,null,0,null,0,0,0]
[null,null,null,null,0,null,0,0,0]
[null,null,null,null,0,null,0,0,0]
[null,null,null,null,0,null,0,0,0]
[null,null,null,null,0,null,0,0,0]
[null,null,null,null,0,null,0,0,0]
[null,null,null,null,0,null,0,0,0]
[null,null,null,null,0,null,0,0,0]
[null,null,null,null,0,null,0,0,0]
[null,null,null,null,0,null,0,0,0]
[null,null,null,null,0,null,0,0,0]
[null,null,null,null,0,null,0,0,0]
[null,null,null,null,0,null,0,0,0]
[null,null,null,null,0,null,0,0,0]
[null,null,null,null,0,null,0,0,0]
[null,null,null,null,0,null,0,0,0]
[null,null,null,null,0,null,0,0,0]
[null,null,null,null,0,null,0,0,0]
[null,null,null,null,0,null,0,0,0]
[null,null,null,null,0,null,0,0,0]
[null,null,null,null,0,null,0,0,0]
[null,null,null,null,0,null,0,0,0]
[null,null,null,null,0,null,0,0,0]
[null,null,null,null,0,null,0,0,0]
[null,null,null,null,0,null,0,0,0]
[null,null,null,null,0,null,0,0,0]
[null,null,null,null,0,null,0,0,0]
[null,null,null,null,0,null,0,0,0]
[null,null,null,null,0,null,0,0,0]
[null,null,null,null,0,null,0,0,0]
[null,null,null,null,0,null,0,0,0]
[null,null,null,null,{"$f":"IF(C9434<D9434,ABS(C9434-D9434),0)","v":0},null,{"$f":"IF(E9434<F9434,0,E9434-F9434)","v":0},{"$f":"IFERROR(VLOOKUP(B9434,$A$17:$B$20,2,0),0)","v":0},{"$f":"G9434*H9434","v":0}]
[null,null,null,null,0,null,0,0,0]
[null,null,null,null,0,null,0,0,0]
[null,null,null,null,0,null,0,0,0]
[null,null,null,null,0,null,0,0,0]
[null,null,null,null,0,null,0,0,0]
[null,null,null,null,0,null,0,0,0]
[null,null,null,null,0,null,0,0,0]
[null,null,null,null,0,null,0,0,0]
[null,null,null,null,0,null,0,0,0]
[null,null,null,null,0,null,0,0,0]
[null,null,null,null,0,null,0,0,0]
[null,null,null,null,0,null,0,0,0]
[null,null,null,null,0,null,0,0,0]
[null,null,null,null,0,null,0,0,0]
[null,null,null,null,0,null,0,0,0]
[null,null,null,null,0,null,0,0,0]
[null,null,null,null,0,null,0,0,0]
[null,null,null,null,0,null,0,0,0]
[null,null,null,null,0,null,0,0,0]
[null,null,null,null,0,null,0,0,0]
[null,null,null,null,0,null,0,0,0]
[null,null,null,null,0,null,0,0,0]
[null,null,null,null,0,null,0,0,0]
[null,null,null,null,0,null,0,0,0]
[null,null,null,null,0,null,0,0,0]
[null,null,null,null,0,null,0,0,0]
[null,null,null,null,0,null,0,0,0]
[null,null,null,null,0,null,0,0,0]
[null,null,null,null,0,null,0,0,0]
[null,null,null,null,0,null,0,0,0]
[null,null,null,null,0,null,0,0,0]
[null,null,null,null,0,null,0,0,0]
[null,null,null,null,0,null,0,0,0]
[null,null,null,null,0,null,0,0,0]
[null,null,null,null,0,null,0,0,0]
[null,null,null,null,0,null,0,0,0]
[null,null,null,null,0,null,0,0,0]
[null,null,null,null,0,null,0,0,0]
[null,null,null,null,0,null,0,0,0]
[null,null,null,null,0,null,0,0,0]
[null,null,null,null,0,null,0,0,0]
[null,null,null,null,0,null,0,0,0]
[null,null,null,null,0,null,0,0,0]
[null,null,null,null,0,null,0,0,0]
[null,null,null,null,0,null,0,0,0]
[null,null,null,null,0,null,0,0,0]
[null,null,null,null,0,null,0,0,0]
[null,null,null,null,0,null,0,0,0]
[null,null,null,null,0,null,0,0,0]
[null,null,null,null,0,null,0,0,0]
[null,null,null,null,0,null,0,0,0]
[null,null,null,null,0,null,0,0,0]
[null,null,null,null,0,null,0,0,0]
[null,null,null,null,0,null,0,0,0]
[null,null,null,null,0,null,0,0,0]
[null,null,null,null,0,null,0,0,0]
[null,null,null,null,0,null,0,0,0]
[null,null,null,null,0,null,0,0,0]
[null,null,null,null,0,null,0,0,0]
[null,null,null,null,0,null,0,0,0]
[null,null,null,null,0,null,0,0,0]
[null,null,null,null,0,null,0,0,0]
[null,null,null,null,0,null,0,0,0]
[null,null,null,null,{"$f":"IF(C9498<D9498,ABS(C9498-D9498),0)","v":0},null,{"$f":"IF(E9498<F9498,0,E9498-F9498)","v":0},{"$f":"IFERROR(VLOOKUP(B9498,$A$17:$B$20,2,0),0)","v":0},{"$f":"G9498*H9498","v":0}]
[null,null,null,null,0,null,0,0,0]
[null,null,null,null,0,null,0,0,0]
[null,null,null,null,0,null,0,0,0]
[null,null,null,null,0,null,0,0,0]
[null,null,null,null,0,null,0,0,0]
[null,null,null,null,0,null,0,0,0]
[null,null,null,null,0,null,0,0,0]
[null,null,null,null,0,null,0,0,0]
[null,null,null,null,0,null,0,0,0]
[null,null,null,null,0,null,0,0,0]
[null,null,null,null,0,null,0,0,0]
[null,null,null,null,0,null,0,0,0]
[null,null,null,null,0,null,0,0,0]
[null,null,null,null,0,null,0,0,0]
[null,null,null,null,0,null,0,0,0]
[null,null,null,null,0,null,0,0,0]
[null,null,null,null,0,null,0,0,0]
[null,null,null,null,0,null,0,0,0]
[null,null,null,null,0,null,0,0,0]
[null,null,null,null,0,null,0,0,0]
[null,null,null,null,0,null,0,0,0]
[null,null,null,null,0,null,0,0,0]
[null,null,null,null,0,null,0,0,0]
[null,null,null,null,0,null,0,0,0]
[null,null,null,null,0,null,0,0,0]
[null,null,null,null,0,null,0,0,0]
[null,null,null,null,0,null,0,0,0]
[null,null,null,null,0,null,0,0,0]
[null,null,null,null,0,null,0,0,0]
[null,null,null,null,0,null,0,0,0]
[null,null,null,null,0,null,0,0,0]
[null,null,null,null,0,null,0,0,0]
[null,null,null,null,0,null,0,0,0]
[null,null,null,null,0,null,0,0,0]
[null,null,null,null,0,null,0,0,0]
[null,null,null,null,0,null,0,0,0]
[null,null,null,null,0,null,0,0,0]
[null,null,null,null,0,null,0,0,0]
[null,null,null,null,0,null,0,0,0]
[null,null,null,null,0,null,0,0,0]
[null,null,null,null,0,null,0,0,0]
[null,null,null,null,0,null,0,0,0]
[null,null,null,null,0,null,0,0,0]
[null,null,null,null,0,null,0,0,0]
[null,null,null,null,0,null,0,0,0]
[null,null,null,null,0,null,0,0,0]
[null,null,null,null,0,null,0,0,0]
[null,null,null,null,0,null,0,0,0]
[null,null,null,null,0,null,0,0,0]
[null,null,null,null,0,null,0,0,0]
[null,null,null,null,0,null,0,0,0]
[null,null,null,null,0,null,0,0,0]
[null,null,null,null,0,null,0,0,0]
[null,null,null,null,0,null,0,0,0]
[null,null,null,null,0,null,0,0,0]
[null,null,null,null,0,null,0,0,0]
[null,null,null,null,0,null,0,0,0]
[null,null,null,null,0,null,0,0,0]
[null,null,null,null,0,null,0,0,0]
[null,null,null,null,0,null,0,0,0]
[null,null,null,null,0,null,0,0,0]
[null,null,null,null,0,null,0,0,0]
[null,null,null,null,0,null,0,0,0]
[null,null,null,null,{"$f":"IF(C9562<D9562,ABS(C9562-D9562),0)","v":0},null,{"$f":"IF(E9562<F9562,0,E9562-F9562)","v":0},{"$f":"IFERROR(VLOOKUP(B9562,$A$17:$B$20,2,0),0)","v":0},{"$f":"G9562*H9562","v":0}]
[null,null,null,null,0,null,0,0,0]
[null,null,null,null,0,null,0,0,0]
[null,null,null,null,0,null,0,0,0]
[null,null,null,null,0,null,0,0,0]
[null,null,null,null,0,null,0,0,0]
[null,null,null,null,0,null,0,0,0]
[null,null,null,null,0,null,0,0,0]
[null,null,null,null,0,null,0,0,0]
[null,null,null,null,0,null,0,0,0]
[null,null,null,null,0,null,0,0,0]
[null,null,null,null,0,null,0,0,0]
[null,null,null,null,0,null,0,0,0]
[null,null,null,null,0,null,0,0,0]
[null,null,null,null,0,null,0,0,0]
[null,null,null,null,0,null,0,0,0]
[null,null,null,null,0,null,0,0,0]
[null,null,null,null,0,null,0,0,0]
[null,null,null,null,0,null,0,0,0]
[null,null,null,null,0,null,0,0,0]
[null,null,null,null,0,null,0,0,0]
[null,null,null,null,0,null,0,0,0]
[null,null,null,null,0,null,0,0,0]
[null,null,null,null,0,null,0,0,0]
[null,null,null,null,0,null,0,0,0]
[null,null,null,null,0,null,0,0,0]
[null,null,null,null,0,null,0,0,0]
[null,null,null,null,0,null,0,0,0]
[null,null,null,null,0,null,0,0,0]
[null,null,null,null,0,null,0,0,0]
[null,null,null,null,0,null,0,0,0]
[null,null,null,null,0,null,0,0,0]
[null,null,null,null,0,null,0,0,0]
[null,null,null,null,0,null,0,0,0]
[null,null,null,null,0,null,0,0,0]
[null,null,null,null,0,null,0,0,0]
[null,null,null,null,0,null,0,0,0]
[null,null,null,null,0,null,0,0,0]
[null,null,null,null,0,null,0,0,0]
[null,null,null,null,0,null,0,0,0]
[null,null,null,null,0,null,0,0,0]
[null,null,null,null,0,null,0,0,0]
[null,null,null,null,0,null,0,0,0]
[null,null,null,null,0,null,0,0,0]
[null,null,null,null,0,null,0,0,0]
[null,null,null,null,0,null,0,0,0]
[null,null,null,null,0,null,0,0,0]
[null,null,null,null,0,null,0,0,0]
[null,null,null,null,0,null,0,0,0]
[null,null,null,null,0,null,0,0,0]
[null,null,null,null,0,null,0,0,0]
[null,null,null,null,0,null,0,0,0]
[null,null,null,null,0,null,0,0,0]
[null,null,null,null,0,null,0,0,0]
[null,null,null,null,0,null,0,0,0]
[null,null,null,null,0,null,0,0,0]
[null,null,null,null,0,null,0,0,0]
[null,null,null,null,0,null,0,0,0]
[null,null,null,null,0,null,0,0,0]
[null,null,null,null,0,null,0,0,0]
[null,null,null,null,0,null,0,0,0]
[null,null,null,null,0,null,0,0,0]
[null,null,null,null,0,null,0,0,0]
[null,null,null,null,0,null,0,0,0]
[null,null,null,null,{"$f":"IF(C9626<D9626,ABS(C9626-D9626),0)","v":0},null,{"$f":"IF(E9626<F9626,0,E9626-F9626)","v":0},{"$f":"IFERROR(VLOOKUP(B9626,$A$17:$B$20,2,0),0)","v":0},{"$f":"G9626*H9626","v":0}]
[null,null,null,null,0,null,0,0,0]
[null,null,null,null,0,null,0,0,0]
[null,null,null,null,0,null,0,0,0]
[null,null,null,null,0,null,0,0,0]
[null,null,null,null,0,null,0,0,0]
[null,null,null,null,0,null,0,0,0]
[null,null,null,null,0,null,0,0,0]
[null,null,null,null,0,null,0,0,0]
[null,null,null,null,0,null,0,0,0]
[null,null,null,null,0,null,0,0,0]
[null,null,null,null,0,null,0,0,0]
[null,null,null,null,0,null,0,0,0]
[null,null,null,null,0,null,0,0,0]
[null,null,null,null,0,null,0,0,0]
[null,null,null,null,0,null,0,0,0]
[null,null,null,null,0,null,0,0,0]
[null,null,null,null,0,null,0,0,0]
[null,null,null,null,0,null,0,0,0]
[null,null,null,null,0,null,0,0,0]
[null,null,null,null,0,null,0,0,0]
[null,null,null,null,0,null,0,0,0]
[null,null,null,null,0,null,0,0,0]
[null,null,null,null,0,null,0,0,0]
[null,null,null,null,0,null,0,0,0]
[null,null,null,null,0,null,0,0,0]
[null,null,null,null,0,null,0,0,0]
[null,null,null,null,0,null,0,0,0]
[null,null,null,null,0,null,0,0,0]
[null,null,null,null,0,null,0,0,0]
[null,null,null,null,0,null,0,0,0]
[null,null,null,null,0,null,0,0,0]
[null,null,null,null,0,null,0,0,0]
[null,null,null,null,0,null,0,0,0]
[null,null,null,null,0,null,0,0,0]
[null,null,null,null,0,null,0,0,0]
[null,null,null,null,0,null,0,0,0]
[null,null,null,null,0,null,0,0,0]
[null,null,null,null,0,null,0,0,0]
[null,null,null,null,0,null,0,0,0]
[null,null,null,null,0,null,0,0,0]
[null,null,null,null,0,null,0,0,0]
[null,null,null,null,0,null,0,0,0]
[null,null,null,null,0,null,0,0,0]
[null,null,null,null,0,null,0,0,0]
[null,null,null,null,0,null,0,0,0]
[null,null,null,null,0,null,0,0,0]
[null,null,null,null,0,null,0,0,0]
[null,null,null,null,0,null,0,0,0]
[null,null,null,null,0,null,0,0,0]
[null,null,null,null,0,null,0,0,0]
[null,null,null,null,0,null,0,0,0]
[null,null,null,null,0,null,0,0,0]
[null,null,null,null,0,null,0,0,0]
[null,null,null,null,0,null,0,0,0]
[null,null,null,null,0,null,0,0,0]
[null,null,null,null,0,null,0,0,0]
[null,null,null,null,0,null,0,0,0]
[null,null,null,null,0,null,0,0,0]
[null,null,null,null,0,null,0,0,0]
[null,null,null,null,0,null,0,0,0]
[null,null,null,null,0,null,0,0,0]
[null,null,null,null,0,null,0,0,0]
[null,null,null,null,0,null,0,0,0]
[null,null,null,null,{"$f":"IF(C9690<D9690,ABS(C9690-D9690),0)","v":0},null,{"$f":"IF(E9690<F9690,0,E9690-F9690)","v":0},{"$f":"IFERROR(VLOOKUP(B9690,$A$17:$B$20,2,0),0)","v":0},{"$f":"G9690*H9690","v":0}]
[null,null,null,null,0,null,0,0,0]
[null,null,null,null,0,null,0,0,0]
[null,null,null,null,0,null,0,0,0]
[null,null,null,null,0,null,0,0,0]
[null,null,null,null,0,null,0,0,0]
[null,null,null,null,0,null,0,0,0]
[null,null,null,null,0,null,0,0,0]
[null,null,null,null,0,null,0,0,0]
[null,null,null,null,0,null,0,0,0]
[null,null,null,null,0,null,0,0,0]
[null,null,null,null,0,null,0,0,0]
[null,null,null,null,0,null,0,0,0]
[null,null,null,null,0,null,0,0,0]
[null,null,null,null,0,null,0,0,0]
[null,null,null,null,0,null,0,0,0]
[null,null,null,null,0,null,0,0,0]
[null,null,null,null,0,null,0,0,0]
[null,null,null,null,0,null,0,0,0]
[null,null,null,null,0,null,0,0,0]
[null,null,null,null,0,null,0,0,0]
[null,null,null,null,0,null,0,0,0]
[null,null,null,null,0,null,0,0,0]
[null,null,null,null,0,null,0,0,0]
[null,null,null,null,0,null,0,0,0]
[null,null,null,null,0,null,0,0,0]
[null,null,null,null,0,null,0,0,0]
[null,null,null,null,0,null,0,0,0]
[null,null,null,null,0,null,0,0,0]
[null,null,null,null,0,null,0,0,0]
[null,null,null,null,0,null,0,0,0]
[null,null,null,null,0,null,0,0,0]
[null,null,null,null,0,null,0,0,0]
[null,null,null,null,0,null,0,0,0]
[null,null,null,null,0,null,0,0,0]
[null,null,null,null,0,null,0,0,0]
[null,null,null,null,0,null,0,0,0]
[null,null,null,null,0,null,0,0,0]
[null,null,null,null,0,null,0,0,0]
[null,null,null,null,0,null,0,0,0]
[null,null,null,null,0,null,0,0,0]
[null,null,null,null,0,null,0,0,0]
[null,null,null,null,0,null,0,0,0]
[null,null,null,null,0,null,0,0,0]
[null,null,null,null,0,null,0,0,0]
[null,null,null,null,0,null,0,0,0]
[null,null,null,null,0,null,0,0,0]
[null,null,null,null,0,null,0,0,0]
[null,null,null,null,0,null,0,0,0]
[null,null,null,null,0,null,0,0,0]
[null,null,null,null,0,null,0,0,0]
[null,null,null,null,0,null,0,0,0]
[null,null,null,null,0,null,0,0,0]
[null,null,null,null,0,null,0,0,0]
[null,null,null,null,0,null,0,0,0]
[null,null,null,null,0,null,0,0,0]
[null,null,null,null,0,null,0,0,0]
[null,null,null,null,0,null,0,0,0]
[null,null,null,null,0,null,0,0,0]
[null,null,null,null,0,null,0,0,0]
[null,null,null,null,0,null,0,0,0]
[null,null,null,null,0,null,0,0,0]
[null,null,null,null,0,null,0,0,0]
[null,null,null,null,0,null,0,0,0]
[null,null,null,null,{"$f":"IF(C9754<D9754,ABS(C9754-D9754),0)","v":0},null,{"$f":"IF(E9754<F9754,0,E9754-F9754)","v":0},{"$f":"IFERROR(VLOOKUP(B9754,$A$17:$B$20,2,0),0)","v":0},{"$f":"G9754*H9754","v":0}]
[null,null,null,null,0,null,0,0,0]
[null,null,null,null,0,null,0,0,0]
[null,null,null,null,0,null,0,0,0]
[null,null,null,null,0,null,0,0,0]
[null,null,null,null,0,null,0,0,0]
[null,null,null,null,0,null,0,0,0]
[null,null,null,null,0,null,0,0,0]
[null,null,null,null,0,null,0,0,0]
[null,null,null,null,0,null,0,0,0]
[null,null,null,null,0,null,0,0,0]
[null,null,null,null,0,null,0,0,0]
[null,null,null,null,0,null,0,0,0]
[null,null,null,null,0,null,0,0,0]
[null,null,null,null,0,null,0,0,0]
[null,null,null,null,0,null,0,0,0]
[null,null,null,null,0,null,0,0,0]
[null,null,null,null,0,null,0,0,0]
[null,null,null,null,0,null,0,0,0]
[null,null,null,null,0,null,0,0,0]
[null,null,null,null,0,null,0,0,0]
[null,null,null,null,0,null,0,0,0]
[null,null,null,null,0,null,0,0,0]
[null,null,null,null,0,null,0,0,0]
[null,null,null,null,0,null,0,0,0]
[null,null,null,null,0,null,0,0,0]
[null,null,null,null,0,null,0,0,0]
[null,null,null,null,0,null,0,0,0]
[null,null,null,null,0,null,0,0,0]
[null,null,null,null,0,null,0,0,0]
[null,null,null,null,0,null,0,0,0]
[null,null,null,null,0,null,0,0,0]
[null,null,null,null,0,null,0,0,0]
[null,null,null,null,0,null,0,0,0]
[null,null,null,null,0,null,0,0,0]
[null,null,null,null,0,null,0,0,0]
[null,null,null,null,0,null,0,0,0]
[null,null,null,null,0,null,0,0,0]
[null,null,null,null,0,null,0,0,0]
[null,null,null,null,0,null,0,0,0]
[null,null,null,null,0,null,0,0,0]
[null,null,null,null,0,null,0,0,0]
[null,null,null,null,0,null,0,0,0]
[null,null,null,null,0,null,0,0,0]
[null,null,null,null,0,null,0,0,0]
[null,null,null,null,0,null,0,0,0]
[null,null,null,null,0,null,0,0,0]
[null,null,null,null,0,null,0,0,0]
[null,null,null,null,0,null,0,0,0]
[null,null,null,null,0,null,0,0,0]
[null,null,null,null,0,null,0,0,0]
[null,null,null,null,0,null,0,0,0]
[null,null,null,null,0,null,0,0,0]
[null,null,null,null,0,null,0,0,0]
[null,null,null,null,0,null,0,0,0]
[null,null,null,null,0,null,0,0,0]
[null,null,null,null,0,null,0,0,0]
[null,null,null,null,0,null,0,0,0]
[null,null,null,null,0,null,0,0,0]
[null,null,null,null,0,null,0,0,0]
[null,null,null,null,0,null,0,0,0]
[null,null,null,null,0,null,0,0,0]
[null,null,null,null,0,null,0,0,0]
[null,null,null,null,0,null,0,0,0]
[null,null,null,null,{"$f":"IF(C9818<D9818,ABS(C9818-D9818),0)","v":0},null,{"$f":"IF(E9818<F9818,0,E9818-F9818)","v":0},{"$f":"IFERROR(VLOOKUP(B9818,$A$17:$B$20,2,0),0)","v":0},{"$f":"G9818*H9818","v":0}]
[null,null,null,null,0,null,0,0,0]
[null,null,null,null,0,null,0,0,0]
[null,null,null,null,0,null,0,0,0]
[null,null,null,null,0,null,0,0,0]
[null,null,null,null,0,null,0,0,0]
[null,null,null,null,0,null,0,0,0]
[null,null,null,null,0,null,0,0,0]
[null,null,null,null,0,null,0,0,0]
[null,null,null,null,0,null,0,0,0]
[null,null,null,null,0,null,0,0,0]
[null,null,null,null,0,null,0,0,0]
[null,null,null,null,0,null,0,0,0]
[null,null,null,null,0,null,0,0,0]
[null,null,null,null,0,null,0,0,0]
[null,null,null,null,0,null,0,0,0]
[null,null,null,null,0,null,0,0,0]
[null,null,null,null,0,null,0,0,0]
[null,null,null,null,0,null,0,0,0]
[null,null,null,null,0,null,0,0,0]
[null,null,null,null,0,null,0,0,0]
[null,null,null,null,0,null,0,0,0]
[null,null,null,null,0,null,0,0,0]
[null,null,null,null,0,null,0,0,0]
[null,null,null,null,0,null,0,0,0]
[null,null,null,null,0,null,0,0,0]
[null,null,null,null,0,null,0,0,0]
[null,null,null,null,0,null,0,0,0]
[null,null,null,null,0,null,0,0,0]
[null,null,null,null,0,null,0,0,0]
[null,null,null,null,0,null,0,0,0]
[null,null,null,null,0,null,0,0,0]
[null,null,null,null,0,null,0,0,0]
[null,null,null,null,0,null,0,0,0]
[null,null,null,null,0,null,0,0,0]
[null,null,null,null,0,null,0,0,0]
[null,null,null,null,0,null,0,0,0]
[null,null,null,null,0,null,0,0,0]
[null,null,null,null,0,null,0,0,0]
[null,null,null,null,0,null,0,0,0]
[null,null,null,null,0,null,0,0,0]
[null,null,null,null,0,null,0,0,0]
[null,null,null,null,0,null,0,0,0]
[null,null,null,null,0,null,0,0,0]
[null,null,null,null,0,null,0,0,0]
[null,null,null,null,0,null,0,0,0]
[null,null,null,null,0,null,0,0,0]
[null,null,null,null,0,null,0,0,0]
[null,null,null,null,0,null,0,0,0]
[null,null,null,null,0,null,0,0,0]
[null,null,null,null,0,null,0,0,0]
[null,null,null,null,0,null,0,0,0]
[null,null,null,null,0,null,0,0,0]
[null,null,null,null,0,null,0,0,0]
[null,null,null,null,0,null,0,0,0]
[null,null,null,null,0,null,0,0,0]
[null,null,null,null,0,null,0,0,0]
[null,null,null,null,0,null,0,0,0]
[null,null,null,null,0,null,0,0,0]
[null,null,null,null,0,null,0,0,0]
[null,null,null,null,0,null,0,0,0]
[null,null,null,null,0,null,0,0,0]
[null,null,null,null,0,null,0,0,0]
[null,null,null,null,0,null,0,0,0]
[null,null,null,null,{"$f":"IF(C9882<D9882,ABS(C9882-D9882),0)","v":0},null,{"$f":"IF(E9882<F9882,0,E9882-F9882)","v":0},{"$f":"IFERROR(VLOOKUP(B9882,$A$17:$B$20,2,0),0)","v":0},{"$f":"G9882*H9882","v":0}]
[null,null,null,null,0,null,0,0,0]
[null,null,null,null,0,null,0,0,0]
[null,null,null,null,0,null,0,0,0]
[null,null,null,null,0,null,0,0,0]
[null,null,null,null,0,null,0,0,0]
[null,null,null,null,0,null,0,0,0]
[null,null,null,null,0,null,0,0,0]
[null,null,null,null,0,null,0,0,0]
[null,null,null,null,0,null,0,0,0]
[null,null,null,null,0,null,0,0,0]
[null,null,null,null,0,null,0,0,0]
[null,null,null,null,0,null,0,0,0]
[null,null,null,null,0,null,0,0,0]
[null,null,null,null,0,null,0,0,0]
[null,null,null,null,0,null,0,0,0]
[null,null,null,null,0,null,0,0,0]
[null,null,null,null,0,null,0,0,0]
[null,null,null,null,0,null,0,0,0]
[null,null,null,null,0,null,0,0,0]
[null,null,null,null,0,null,0,0,0]
[null,null,null,null,0,null,0,0,0]
[null,null,null,null,0,null,0,0,0]
[null,null,null,null,0,null,0,0,0]
[null,null,null,null,0,null,0,0,0]
[null,null,null,null,0,null,0,0,0]
[null,null,null,null,0,null,0,0,0]
[null,null,null,null,0,null,0,0,0]
[null,null,null,null,0,null,0,0,0]
[null,null,null,null,0,null,0,0,0]
[null,null,null,null,0,null,0,0,0]
[null,null,null,null,0,null,0,0,0]
[null,null,null,null,0,null,0,0,0]
[null,null,null,null,0,null,0,0,0]
[null,null,null,null,0,null,0,0,0]
[null,null,null,null,0,null,0,0,0]
[null,null,null,null,0,null,0,0,0]
[null,null,null,null,0,null,0,0,0]
[null,null,null,null,0,null,0,0,0]
[null,null,null,null,0,null,0,0,0]
[null,null,null,null,0,null,0,0,0]
[null,null,null,null,0,null,0,0,0]
[null,null,null,null,0,null,0,0,0]
[null,null,null,null,0,null,0,0,0]
[null,null,null,null,0,null,0,0,0]
[null,null,null,null,0,null,0,0,0]
[null,null,null,null,0,null,0,0,0]
[null,null,null,null,0,null,0,0,0]
[null,null,null,null,0,null,0,0,0]
[null,null,null,null,0,null,0,0,0]
[null,null,null,null,0,null,0,0,0]
[null,null,null,null,0,null,0,0,0]
[null,null,null,null,0,null,0,0,0]
[null,null,null,null,0,null,0,0,0]
[null,null,null,null,0,null,0,0,0]
[null,null,null,null,0,null,0,0,0]
[null,null,null,null,0,null,0,0,0]
[null,null,null,null,0,null,0,0,0]
[null,null,null,null,0,null,0,0,0]
[null,null,null,null,0,null,0,0,0]
[null,null,null,null,0,null,0,0,0]
[null,null,null,null,0,null,0,0,0]
[null,null,null,null,0,null,0,0,0]
[null,null,null,null,0,null,0,0,0]
[null,null,null,null,{"$f":"IF(C9946<D9946,ABS(C9946-D9946),0)","v":0},null,{"$f":"IF(E9946<F9946,0,E9946-F9946)","v":0},{"$f":"IFERROR(VLOOKUP(B9946,$A$17:$B$20,2,0),0)","v":0},{"$f":"G9946*H9946","v":0}]
[null,null,null,null,0,null,0,0,0]
[null,null,null,null,0,null,0,0,0]
[null,null,null,null,0,null,0,0,0]
[null,null,null,null,0,null,0,0,0]
[null,null,null,null,0,null,0,0,0]
[null,null,null,null,0,null,0,0,0]
[null,null,null,null,0,null,0,0,0]
[null,null,null,null,0,null,0,0,0]
[null,null,null,null,0,null,0,0,0]
[null,null,null,null,0,null,0,0,0]
[null,null,null,null,0,null,0,0,0]
[null,null,null,null,0,null,0,0,0]
[null,null,null,null,0,null,0,0,0]
[null,null,null,null,0,null,0,0,0]
[null,null,null,null,0,null,0,0,0]
[null,null,null,null,0,null,0,0,0]
[null,null,null,null,0,null,0,0,0]
[null,null,null,null,0,null,0,0,0]
[null,null,null,null,0,null,0,0,0]
[null,null,null,null,0,null,0,0,0]
[null,null,null,null,0,null,0,0,0]
[null,null,null,null,0,null,0,0,0]
[null,null,null,null,0,null,0,0,0]
[null,null,null,null,0,null,0,0,0]
[null,null,null,null,0,null,0,0,0]
[null,null,null,null,0,null,0,0,0]
[null,null,null,null,0,null,0,0,0]
[null,null,null,null,0,null,0,0,0]
[null,null,null,null,0,null,0,0,0]
[null,null,null,null,0,null,0,0,0]
[null,null,null,null,0,null,0,0,0]
[null,null,null,null,0,null,0,0,0]
[null,null,null,null,0,null,0,0,0]
[null,null,null,null,0,null,0,0,0]
[null,null,null,null,0,null,0,0,0]
[null,null,null,null,0,null,0,0,0]
[null,null,null,null,0,null,0,0,0]
[null,null,null,null,0,null,0,0,0]
[null,null,null,null,0,null,0,0,0]
[null,null,null,null,0,null,0,0,0]
[null,null,null,null,0,null,0,0,0]
[null,null,null,null,0,null,0,0,0]
[null,null,null,null,0,null,0,0,0]
[null,null,null,null,0,null,0,0,0]
[null,null,null,null,0,null,0,0,0]
[null,null,null,null,0,null,0,0,0]
[null,null,null,null,0,null,0,0,0]
[null,null,null,null,0,null,0,0,0]
[null,null,null,null,0,null,0,0,0]
[null,null,null,null,0,null,0,0,0]
[null,null,null,null,0,null,0,0,0]
[null,null,null,null,0,null,0,0,0]
[null,null,null,null,0,null,0,0,0]

{"sheet":"clasificación internacional","index":8,"n_rows":202,"n_cols":12,"rows_kept":202,"cut":false,"hidden":false,"merged":[[11,5,13,5],[14,0,16,0],[14,5,16,5],[0,0,0,5],[1,0,1,5],[3,0,13,0],[5,1,7,1],[5,5,7,5],[8,1,10,1],[8,5,10,5],[11,1,13,1]]}
["Superintendencia del Mercado de Valores"]
["Clasificación Internacional"]
[]
["Grado de Inversión","Nivel","Standard and Poor","Moody´s","Fitch","Explicación",null,"AAA","calificacion","calificadora",null,"Monedas"]
[null,1,"AAA","Aaa","AAA","La más alta calidad",null,"AA+","AAA","Standard and Poor",null,"EUR"]
[null,2,"AA+","Aa1","AA+","Alta calidad",null,"AA","AA+","Moody´s",null,"USD"]
[null,null,"AA","Aa2","AA",null,null,"AA-","AA","Fitch",null,"GBP"]
[null,null,"AA-","Aa3","AA-",null,null,"A+","AA-",null,null,"CAD"]
[null,3,"A+","A1","A+","Gran capacidad de pago",null,"A","A+",null,null,"AUD"]
[null,null,"A","A2","A",null,null,"A-","A",null,null,"ADF"]
[null,null,"A-","A3","A-",null,null,"BBB+","A-",null,null,"ADP"]
[null,4,"BBB+","Baa1","BBB+","Capacidad de pago adecuada",null,"BBB","BBB+",null,null,"AED"]
[null,null,"BBB","Baa2","BBB",null,null,"BBB-","BBB",null,null,"AFA"]
[null,null,"BBB-","Baa3","BBB-",null,null,"BB+","BBB-",null,null,"AFN"]
["Riesgo Moderado",1,"BB+","Ba1","BB+","Probable cumplimiento de obligaciones; incertidumbre cotidiana",null,"BB","BB+",null,null,"ALL"]
[null,2,"BB","Ba2","BB",null,null,"BB-","BB",null,null,"AMD"]
[null,3,"BB-","Ba3","BB-",null,null,"Aaa","BB-",null,null,"ANG"]
[null,null,null,null,null,null,null,"Aa1","Aaa",null,null,"AOA"]
[null,null,null,null,null,null,null,"Aa2","Aa1",null,null,"AON"]
[null,null,null,null,null,null,null,"Aa3","Aa2",null,null,"ARS"]
[null,null,null,null,null,null,null,"A1","Aa3",null,null,"ATS"]
[null,null,null,null,null,null,null,"A2","A1",null,null,"AWG"]
[null,null,null,null,null,null,null,"A3","A2",null,null,"AZM"]
[null,null,null,null,null,null,null,"Baa1","A3",null,null,"AZN"]
[null,null,null,null,null,null,null,"Baa2","Baa1",null,null,"BAM"]
[null,null,null,null,null,null,null,"Baa3","Baa2",null,null,"BBD"]
[null,null,null,null,null,null,null,"Ba1","Baa3",null,null,"BDT"]
[null,null,null,null,null,null,null,"Ba2","Ba1",null,null,"BEF"]
[null,null,null,null,null,null,null,"Ba3","Ba2",null,null,"BGL"]
[null,null,null,null,null,null,null,null,"Ba3",null,null,"BGN"]
[null,null,null,null,null,null,null,null,null,null,null,"BHD"]
[null,null,null,null,null,null,null,null,null,null,null,"BIF"]
[null,null,null,null,null,null,null,null,null,null,null,"BMD"]
[null,null,null,null,null,null,null,null,null,null,null,"BND"]
[null,null,null,null,null,null,null,null,null,null,null,"BOB"]
[null,null,null,null,null,null,null,null,null,null,null,"BRL"]
[null,null,null,null,null,null,null,null,null,null,null,"BSD"]
[null,null,null,null,null,null,null,null,null,null,null,"BTC"]
[null,null,null,null,null,null,null,null,null,null,null,"BTN"]
[null,null,null,null,null,null,null,null,null,null,null,"BWP"]
[null,null,null,null,null,null,null,null,null,null,null,"BYR"]
[null,null,null,null,null,null,null,null,null,null,null,"BZD"]
[null,null,null,null,null,null,null,null,null,null,null,"CDF"]
[null,null,null,null,null,null,null,null,null,null,null,"CHF"]
[null,null,null,null,null,null,null,null,null,null,null,"CLP"]
[null,null,null,null,null,null,null,null,null,null,null,"CNY"]
[null,null,null,null,null,null,null,null,null,null,null,"COP"]
[null,null,null,null,null,null,null,null,null,null,null,"CRC"]
[null,null,null,null,null,null,null,null,null,null,null,"CUC"]
[null,null,null,null,null,null,null,null,null,null,null,"CUP"]
[null,null,null,null,null,null,null,null,null,null,null,"CVE"]
[null,null,null,null,null,null,null,null,null,null,null,"CYP"]
[null,null,null,null,null,null,null,null,null,null,null,"CZK"]
[null,null,null,null,null,null,null,null,null,null,null,"DEM"]
[null,null,null,null,null,null,null,null,null,null,null,"DJF"]
[null,null,null,null,null,null,null,null,null,null,null,"DKK"]
[null,null,null,null,null,null,null,null,null,null,null,"DOP"]
[null,null,null,null,null,null,null,null,null,null,null,"DZD"]
[null,null,null,null,null,null,null,null,null,null,null,"ECS"]
[null,null,null,null,null,null,null,null,null,null,null,"EEK"]
[null,null,null,null,null,null,null,null,null,null,null,"EGP"]
[null,null,null,null,null,null,null,null,null,null,null,"ERN"]
[null,null,null,null,null,null,null,null,null,null,null,"ESP"]
[null,null,null,null,null,null,null,null,null,null,null,"ETB"]
[null,null,null,null,null,null,null,null,null,null,null,"FIM"]
[null,null,null,null,null,null,null,null,null,null,null,"FJD"]
[null,null,null,null,null,null,null,null,null,null,null,"FKP"]
[null,null,null,null,null,null,null,null,null,null,null,"FRF"]
[null,null,null,null,null,null,null,null,null,null,null,"GEL"]
[null,null,null,null,null,null,null,null,null,null,null,"GHC"]
[null,null,null,null,null,null,null,null,null,null,null,"GHS"]
[null,null,null,null,null,null,null,null,null,null,null,"GIP"]
[null,null,null,null,null,null,null,null,null,null,null,"GMD"]
[null,null,null,null,null,null,null,null,null,null,null,"GNF"]
[null,null,null,null,null,null,null,null,null,null,null,"GRD"]
[null,null,null,null,null,null,null,null,null,null,null,"GTQ"]
[null,null,null,null,null,null,null,null,null,null,null,"GYD"]
[null,null,null,null,null,null,null,null,null,null,null,"HKD"]
[null,null,null,null,null,null,null,null,null,null,null,"HNL"]
[null,null,null,null,null,null,null,null,null,null,null,"HRK"]
[null,null,null,null,null,null,null,null,null,null,null,"HTG"]
[null,null,null,null,null,null,null,null,null,null,null,"HUF"]
[null,null,null,null,null,null,null,null,null,null,null,"IEP"]
[null,null,null,null,null,null,null,null,null,null,null,"ILS"]
[null,null,null,null,null,null,null,null,null,null,null,"INR"]
[null,null,null,null,null,null,null,null,null,null,null,"IQD"]
[null,null,null,null,null,null,null,null,null,null,null,"IRR"]
[null,null,null,null,null,null,null,null,null,null,null,"ISK"]
[null,null,null,null,null,null,null,null,null,null,null,"ITL"]
[null,null,null,null,null,null,null,null,null,null,null,"JMD"]
[null,null,null,null,null,null,null,null,null,null,null,"JOD"]
[null,null,null,null,null,null,null,null,null,null,null,"JPY"]
[null,null,null,null,null,null,null,null,null,null,null,"KES"]
[null,null,null,null,null,null,null,null,null,null,null,"KGS"]
[null,null,null,null,null,null,null,null,null,null,null,"KHR"]
[null,null,null,null,null,null,null,null,null,null,null,"KMF"]
[null,null,null,null,null,null,null,null,null,null,null,"KPW"]
[null,null,null,null,null,null,null,null,null,null,null,"KRW"]
[null,null,null,null,null,null,null,null,null,null,null,"KWD"]
[null,null,null,null,null,null,null,null,null,null,null,"KYD"]
[null,null,null,null,null,null,null,null,null,null,null,"KZT"]
[null,null,null,null,null,null,null,null,null,null,null,"LAK"]
[null,null,null,null,null,null,null,null,null,null,null,"LBP"]
[null,null,null,null,null,null,null,null,null,null,null,"LKR"]
[null,null,null,null,null,null,null,null,null,null,null,"LRD"]
[null,null,null,null,null,null,null,null,null,null,null,"LSL"]
[null,null,null,null,null,null,null,null,null,null,null,"LTL"]
[null,null,null,null,null,null,null,null,null,null,null,"LUF"]
[null,null,null,null,null,null,null,null,null,null,null,"LVL"]
[null,null,null,null,null,null,null,null,null,null,null,"LYD"]
[null,null,null,null,null,null,null,null,null,null,null,"MAD"]
[null,null,null,null,null,null,null,null,null,null,null,"MDL"]
[null,null,null,null,null,null,null,null,null,null,null,"MGA"]
[null,null,null,null,null,null,null,null,null,null,null,"MGF"]
[null,null,null,null,null,null,null,null,null,null,null,"MKD"]
[null,null,null,null,null,null,null,null,null,null,null,"MMK"]
[null,null,null,null,null,null,null,null,null,null,null,"MNT"]
[null,null,null,null,null,null,null,null,null,null,null,"MOP"]
[null,null,null,null,null,null,null,null,null,null,null,"MRO"]
[null,null,null,null,null,null,null,null,null,null,null,"MTL"]
[null,null,null,null,null,null,null,null,null,null,null,"MUR"]
[null,null,null,null,null,null,null,null,null,null,null,"MVR"]
[null,null,null,null,null,null,null,null,null,null,null,"MWK"]
[null,null,null,null,null,null,null,null,null,null,null,"MXN"]
[null,null,null,null,null,null,null,null,null,null,null,"MYR"]
[null,null,null,null,null,null,null,null,null,null,null,"MZM"]
[null,null,null,null,null,null,null,null,null,null,null,"MZN"]
[null,null,null,null,null,null,null,null,null,null,null,"NAD"]
[null,null,null,null,null,null,null,null,null,null,null,"NGN"]
[null,null,null,null,null,null,null,null,null,null,null,"NIO"]
[null,null,null,null,null,null,null,null,null,null,null,"NLG"]
[null,null,null,null,null,null,null,null,null,null,null,"NOK"]
[null,null,null,null,null,null,null,null,null,null,null,"NPR"]
[null,null,null,null,null,null,null,null,null,null,null,"NZD"]
[null,null,null,null,null,null,null,null,null,null,null,"OMR"]
[null,null,null,null,null,null,null,null,null,null,null,"PAB"]
[null,null,null,null,null,null,null,null,null,null,null,"PEN"]
[null,null,null,null,null,null,null,null,null,null,null,"PGK"]
[null,null,null,null,null,null,null,null,null,null,null,"PHP"]
[null,null,null,null,null,null,null,null,null,null,null,"PKR"]
[null,null,null,null,null,null,null,null,null,null,null,"PLN"]
[null,null,null,null,null,null,null,null,null,null,null,"PTE"]
[null,null,null,null,null,null,null,null,null,null,null,"PYG"]
[null,null,null,null,null,null,null,null,null,null,null,"QAR"]
[null,null,null,null,null,null,null,null,null,null,null,"ROL"]
[null,null,null,null,null,null,null,null,null,null,null,"RON"]
[null,null,null,null,null,null,null,null,null,null,null,"RSD"]
[null,null,null,null,null,null,null,null,null,null,null,"RUB"]
[null,null,null,null,null,null,null,null,null,null,null,"RWF"]
[null,null,null,null,null,null,null,null,null,null,null,"SAR"]
[null,null,null,null,null,null,null,null,null,null,null,"SBD"]
[null,null,null,null,null,null,null,null,null,null,null,"SCR"]
[null,null,null,null,null,null,null,null,null,null,null,"SDD"]
[null,null,null,null,null,null,null,null,null,null,null,"SDG"]
[null,null,null,null,null,null,null,null,null,null,null,"SDP"]
[null,null,null,null,null,null,null,null,null,null,null,"SEK"]
[null,null,null,null,null,null,null,null,null,null,null,"SGD"]
[null,null,null,null,null,null,null,null,null,null,null,"SHP"]
[null,null,null,null,null,null,null,null,null,null,null,"SIT"]
[null,null,null,null,null,null,null,null,null,null,null,"SKK"]
[null,null,null,null,null,null,null,null,null,null,null,"SLL"]
[null,null,null,null,null,null,null,null,null,null,null,"SOS"]
[null,null,null,null,null,null,null,null,null,null,null,"SRD"]
[null,null,null,null,null,null,null,null,null,null,null,"SRG"]
[null,null,null,null,null,null,null,null,null,null,null,"STD"]
[null,null,null,null,null,null,null,null,null,null,null,"SVC"]
[null,null,null,null,null,null,null,null,null,null,null,"SYP"]
[null,null,null,null,null,null,null,null,null,null,null,"SZL"]
[null,null,null,null,null,null,null,null,null,null,null,"THD"]
[null,null,null,null,null,null,null,null,null,null,null,"TJS"]
[null,null,null,null,null,null,null,null,null,null,null,"TMM"]
[null,null,null,null,null,null,null,null,null,null,null,"TMT"]
[null,null,null,null,null,null,null,null,null,null,null,"TND"]
[null,null,null,null,null,null,null,null,null,null,null,"TOP"]
[null,null,null,null,null,null,null,null,null,null,null,"TRL"]
[null,null,null,null,null,null,null,null,null,null,null,"TRY"]
[null,null,null,null,null,null,null,null,null,null,null,"TTD"]
[null,null,null,null,null,null,null,null,null,null,null,"TWD"]
[null,null,null,null,null,null,null,null,null,null,null,"TZS"]
[null,null,null,null,null,null,null,null,null,null,null,"UAH"]
[null,null,null,null,null,null,null,null,null,null,null,"UGX"]
[null,null,null,null,null,null,null,null,null,null,null,"UYU"]
[null,null,null,null,null,null,null,null,null,null,null,"UZS"]
[null,null,null,null,null,null,null,null,null,null,null,"VEB"]
[null,null,null,null,null,null,null,null,null,null,null,"VEF"]
[null,null,null,null,null,null,null,null,null,null,null,"VND"]
[null,null,null,null,null,null,null,null,null,null,null,"VUV"]
[null,null,null,null,null,null,null,null,null,null,null,"WST"]
[null,null,null,null,null,null,null,null,null,null,null,"XAG"]
[null,null,null,null,null,null,null,null,null,null,null,"XAU"]
[null,null,null,null,null,null,null,null,null,null,null,"XCD"]
[null,null,null,null,null,null,null,null,null,null,null,"XEU"]
[null,null,null,null,null,null,null,null,null,null,null,"XOF"]
[null,null,null,null,null,null,null,null,null,null,null,"XPD"]
[null,null,null,null,null,null,null,null,null,null,null,"XPF"]
[null,null,null,null,null,null,null,null,null,null,null,"XPT"]
[null,null,null,null,null,null,null,null,null,null,null,"YEAR"]
[null,null,null,null,null,null,null,null,null,null,null,"YUN"]
[null,null,null,null,null,null,null,null,null,null,null,"ZAR"]
[null,null,null,null,null,null,null,null,null,null,null,"ZMK"]
[null,null,null,null,null,null,null,null,null,null,null,"ZMW"]
[null,null,null,null,null,null,null,null,null,null,null,"ZWD"]